{"text_format":"1","workbook":"xlsx","n_sheets":20,"sheets":["Definition","Sheet1","Home","Camp_List","Definition_TCL","Camp List_print","CampAnalysis","Rakhine_CCCM_D","Shelter Tracking","Shelter_Progress","ShelterAgency","Rakhine_Shelter_D","Rakhine","Sheet2","NFI_Tracking","Pipeline Stock Tracking","NFIAnalysis","NFISummary","analysis","list"],"not_rendered":{"charts":15,"images":14,"macros":1,"external_links":0,"defined_names":86,"comments":0,"pivot_tables":19},"unopened":[],"bounds":{"document_bytes":16777216,"sheet_cells":100000,"rows_first":2000,"rows_last":500,"rows_between":2000,"halvings":0,"cell_chars":16384,"cell_head_chars":4096},"cells_cut":0,"cells_raw":0,"read":"whole","date_system":"1900"}

{"sheet":"Definition","index":0,"n_rows":19,"n_cols":6,"rows_kept":19,"cut":false,"hidden":false,"merged":[]}
["Label","Distribution","Stock","Pipeline","Expiration (month)","NB"]
["Blanket","NFI_Blanket_Track","NFI_Blanket_Stock","NFI_Blanket_Pipeline",12,2]
["Complementary Kit","NFI_Complementary_Track","NFI_Complementary_Stock","NFI_Complementary_Pipeline",12,1]
["Hygiene Kit","NFI_Hygiene_Track","NFI_Hygiene_Stock","NFI_Hygiene_Pipeline",12,1]
["Kitchen Set","NFI_Kitchen_Track","NFI_Kitchen_Stock","NFI_Kitchen_Pipeline",12,1]
["Mosquito net","NFI_Mosquito_Track","NFI_Mosquito_Stock","NFI_Mosquito_Pipeline",12,2]
["NFI Core Kit","NFI_Core_Track","NFI_Core_Stock","NFI_Core_Pipeline",12,1]
["Sanitary Kit","NFI_Sanitary_Track","NFI_Sanitary_Stock","NFI_Sanitary_Pipeline",12,1]
["Tarpaulin","NFI_Tarpaulin_Track","NFI_Tarpaulin_Stock","NFI_Tarpaulin_Pipeline",12,1]
["Plastic Bucket","NFI_Plastic_Bucket_Track","NFI_Plastic_Bucket_Stock","NFI_Plastic_Bucket_Pipeline",12,1]
["Plastic Mat","NFI_Plastic_Mat_Track","NFI_Plastic_Mat_Stock","NFI_Plastic_Mat_Pipeline",12,2]
[]
[]
[]
[]
[]
[]
[]
["2013-12-01"]

{"sheet":"Sheet1","index":1,"n_rows":69,"n_cols":20,"rows_kept":69,"cut":false,"hidden":false,"merged":[]}
["Camp_P_Code","Type of accomodation","Type Population","Household","Male ","Female","Total","0 to 4","5 to 11","12 to 17","18 to 59","60 +"]
["MMR012CMP001","Individual accommodation ","Muslim",16,67,55,122,null,null,null,null,null,{"$f":"IF(H2,H2/$G2,\"\")","v":""},{"$f":"IF(I2,I2/$G2,\"\")","v":""},{"$f":"IF(J2,J2/$G2,\"\")","v":""},{"$f":"IF(K2,K2/$G2,\"\")","v":""},{"$f":"IF(L2,L2/$G2,\"\")","v":""},null,{"$f":"IF(E2,E2/$G2,\"\")","v":0.54918032786885251},{"$f":"IF(F2,F2/$G2,\"\")","v":0.45081967213114754}]
["MMR012CMP002","Individual accommodation ","Muslim",203,null,null,1008,null,null,null,null,null,{"$f":"IF(H3,H3/$G3,\"\")","v":""},{"$f":"IF(I3,I3/$G3,\"\")","v":""},{"$f":"IF(J3,J3/$G3,\"\")","v":""},{"$f":"IF(K3,K3/$G3,\"\")","v":""},{"$f":"IF(L3,L3/$G3,\"\")","v":""},null,{"$f":"IF(E3,E3/$G3,\"\")","v":""},{"$f":"IF(F3,F3/$G3,\"\")","v":""}]
["MMR012CMP003","Individual accommodation ","Muslim",125,null,null,483,null,null,null,null,null,"","","","","",null,"",""]
["MMR012CMP005","Individual accommodation ","Muslim",296,null,null,1585,null,null,null,null,null,"","","","","",null,"",""]
["MMR012CMP006","Individual accommodation ","Muslim",86,null,null,586,null,null,null,null,null,"","","","","",null,"",""]
["MMR012CMP008","Individual accommodation ","Muslim",225,null,null,1341,null,null,null,null,null,"","","","","",null,"",""]
["MMR012CMP009","Planned Camp","Muslim",240,null,null,1228,null,null,null,null,null,"","","","","",null,"",""]
["MMR012CMP010","Individual accommodation ","Muslim",398,1295,1318,2613,null,null,null,null,null,"","","","","",null,0.49559892843474934,0.50440107156525071]
["MMR012CMP012","Planned Camp","Maramargyi",11,null,null,64,null,null,null,null,null,"","","","","",null,"",""]
["MMR012CMP013","Planned Camp","Rakhine",44,136,133,269,null,null,null,null,null,"","","","","",null,0.50557620817843862,0.49442379182156132]
["MMR012CMP014","Planned Camp","Muslim",752,1748,1633,3381,null,null,null,null,null,"","","","","",null,0.51700680272108845,0.48299319727891155]
["MMR012CMP015","Planned Camp","Rakhine",21,null,null,97,null,null,null,null,null,"","","","","",null,"",""]
["MMR012CMP016","Planned Camp","Muslim",880,null,null,4285,null,null,null,null,null,"","","","","",null,"",""]
["MMR012CMP017","Planned Camp","Muslim",1176,2929,2960,5889,null,null,null,null,null,"","","","","",null,0.49736797418916623,0.50263202581083377]
["MMR012CMP018","Planned Camp","Muslim",1045,2261,2337,4598,null,null,null,null,null,"","","","","",null,0.49173553719008267,0.50826446280991733]
["MMR012CMP019","Planned Camp","Muslim",748,1223,1423,2646,null,null,null,null,null,"","","","","",null,0.46220710506424795,0.53779289493575211]
["MMR012CMP020","Individual accommodation ","Muslim",18,null,null,157,null,null,null,null,null,"","","","","",null,"",""]
["MMR012CMP021","Individual accommodation ","Muslim",64,null,null,512,null,null,null,null,null,"","","","","",null,"",""]
["MMR012CMP022","Individual accommodation ","Muslim",17,null,null,136,null,null,null,null,null,"","","","","",null,"",""]
["MMR012CMP023","Planned Camp","Muslim",85,null,null,531,null,null,null,null,null,"","","","","",null,"",""]
["MMR012CMP024","Individual accommodation ","Muslim",133,null,null,806,null,null,null,null,null,"","","","","",null,"",""]
["MMR012CMP025","Individual accommodation ","Muslim",14,null,null,84,null,null,null,null,null,"","","","","",null,"",""]
["MMR012CMP026","Individual accommodation ","Muslim",230,null,null,1382,null,null,null,null,null,"","","","","",null,"",""]
["MMR012CMP027","Individual accommodation ","Muslim",116,null,null,709,null,null,null,null,null,"","","","","",null,"",""]
["MMR012CMP028","Individual accommodation ","Muslim",138,null,null,780,null,null,null,null,null,"","","","","",null,"",""]
["MMR012CMP029","Individual accommodation ","Muslim",174,null,null,944,null,null,null,null,null,"","","","","",null,"",""]
["MMR012CMP030","Individual accommodation ","Muslim",99,null,null,590,null,null,null,null,null,"","","","","",null,"",""]
["MMR012CMP031","Planned Camp","Muslim",62,195,225,420,null,null,null,null,null,"","","","","",null,0.4642857142857143,0.5357142857142857]
["MMR012CMP032","Planned Camp","Muslim",57,127,169,296,null,null,null,null,null,"","","","","",null,0.42905405405405406,0.57094594594594594]
["MMR012CMP033","Planned Camp","Muslim",217,562,654,1216,null,null,null,null,null,"","","","","",null,0.46217105263157893,0.53782894736842102]
["MMR012CMP034","Individual accommodation ","Muslim",250,609,622,1231,null,null,null,null,null,"","","","","",null,0.49471974004874086,0.50528025995125914]
["MMR012CMP035","Planned Camp","Muslim",427,721,814,1535,null,null,null,null,null,"","","","","",null,0.46970684039087945,0.53029315960912049]
["MMR012CMP036","Planned Camp","Rakhine",65,149,172,321,null,null,null,null,null,"","","","","",null,0.46417445482866043,0.53582554517133951]
["MMR012CMP037","Planned Camp","Muslim",57,81,104,185,null,null,null,null,null,"","","","","",null,0.43783783783783786,0.56216216216216219]
["MMR012CMP038","Individual accommodation ","Rakhine",18,25,45,70,null,null,null,null,null,"","","","","",null,0.35714285714285715,0.6428571428571429]
["MMR012CMP039","Planned Camp","Muslim",413,910,968,1878,379,269,264,910,56,0.20181043663471779,0.14323748668796593,0.14057507987220447,0.48455804046858358,2.9818956336528223E-2,null,0.48455804046858358,0.51544195953141636]
["MMR012CMP041","Planned Camp","Muslim",1776,5149,5499,10648,1621,2388,1748,4563,328,0.15223516153268218,0.22426746806912096,0.16416228399699473,0.42853117956423742,3.0803906836964687E-2,null,0.48356498873027798,0.51643501126972202]
["MMR012CMP042","Planned Camp","Muslim",791,1887,2031,3918,839,650,502,1815,112,0.2141398672792241,0.16590096988259315,0.1281265952016335,0.46324655436447165,2.858601327207759E-2,null,0.48162327718223585,0.51837672281776415]
["MMR012CMP045","Planned Camp","Muslim",2554,6678,7069,13747,3225,3073,2106,4971,372,0.23459663926674912,0.22353968138502947,0.15319706117698406,0.36160616861860767,2.7060449552629665E-2,null,0.48577871535607769,0.51422128464392236]
["MMR012CMP046","Planned Camp","Muslim",981,2709,2743,5452,1052,1030,761,2553,56,0.1929567131327953,0.18892149669845928,0.13958180484225971,0.46826852531181218,1.0271460014673514E-2,null,0.49688187820983126,0.50311812179016879]
["MMR012CMP048","Planned Camp","Muslim",913,2078,2754,4832,622,974,795,2285,156,0.12872516556291391,0.20157284768211919,0.16452814569536423,0.47288907284768211,3.2284768211920528E-2,null,0.43004966887417218,0.56995033112582782]
["MMR012CMP056","Planned Camp","Maramargyi",74,214,222,436,40,null,null,null,null,9.1743119266055051E-2,"","","","",null,0.49082568807339449,0.50917431192660545]
["MMR012CMP058","Individual accommodation ","Rakhine",7,null,null,30,null,null,null,null,null,"","","","","",null,"",""]
["MMR012CMP082","Individual accommodation ","Muslim",4,10,10,20,null,null,null,null,null,"","","","","",null,0.5,0.5]
["MMR012CMP083","Individual accommodation ","Muslim",80,294,291,585,null,null,null,null,null,"","","","","",null,0.50256410256410255,0.49743589743589745]
["MMR012CMP084","Individual accommodation ","Muslim",10,60,46,106,null,null,null,null,null,"","","","","",null,0.56603773584905659,0.43396226415094341]
["MMR012CMP085","Individual accommodation ","Muslim",8,21,41,62,null,null,null,null,null,"","","","","",null,0.33870967741935482,0.66129032258064513]
["MMR012CMP086","Individual accommodation ","Muslim",15,28,41,69,null,null,null,null,null,"","","","","",null,0.40579710144927539,0.59420289855072461]
["MMR012CMP088","Individual accommodation ","Muslim",45,143,148,291,null,null,null,null,null,"","","","","",null,0.49140893470790376,0.50859106529209619]
["MMR012CMP091","Individual accommodation ","Muslim",420,1174,1284,2458,177,null,null,null,null,7.2009764035801463E-2,"","","","",null,0.47762408462164363,0.52237591537835637]
["MMR012CMP092","Planned Camp","Muslim",667,1699,1880,3579,684,634,649,1303,309,0.19111483654652137,0.17714445375803298,0.1813355685945795,0.36406817546800785,8.6336965632858337E-2,null,0.474713607152836,0.52528639284716405]
["MMR012CMP093","Planned Camp","Rakhine",176,384,395,779,113,null,null,null,null,0.14505776636713735,"","","","",null,0.49293966623876767,0.50706033376123238]
["MMR012CMP094","Individual accommodation ","Muslim",8,28,25,53,null,null,null,null,null,"","","","","",null,0.52830188679245282,0.47169811320754718]
["MMR012CMP095","Individual accommodation ","Muslim",52,167,202,369,null,null,null,null,null,"","","","","",null,0.45257452574525747,0.54742547425474253]
["MMR012CMP097","Individual accommodation ","Muslim",518,1457,1494,2951,369,551,463,1448,120,0.12504235852253473,0.18671636733310742,0.1568959674686547,0.4906811250423585,4.0664181633344627E-2,null,0.49373093866485934,0.5062690613351406]
["MMR012CMP098","Planned Camp","Muslim",627,1532,1469,3001,710,705,415,1056,115,0.23658780406531157,0.23492169276907698,0.13828723758747083,0.35188270576474506,3.8320559813395536E-2,null,0.51049650116627787,0.48950349883372207]
["MMR012CMP101","Individual accommodation ","Muslim",1025,2659,2783,5442,821,1012,910,2634,65,0.15086365306872473,0.18596104373392136,0.16721793458287396,0.48401323042998895,1.1944138184490995E-2,null,0.48860712973171627,0.51139287026828373]
["MMR012CMP103","Individual accommodation ","Muslim",41,103,123,226,null,null,null,null,null,"","","","","",null,0.45575221238938052,0.54424778761061943]
["MMR012CMP104","Individual accommodation ","Rakhine",17,null,null,72,null,null,null,null,null,"","","","","",null,"",""]
["MMR012CMP109","Individual accommodation ","Muslim",60,160,196,356,null,null,null,null,null,"","","","","",null,0.449438202247191,0.550561797752809]
["MMR012CMP110","Planned Camp","Muslim",196,431,482,913,null,null,null,null,null,"","","","","",null,0.4720700985761227,0.5279299014238773]
["MMR012CMP111","Planned Camp","Rakhine",631,1470,1532,3002,279,427,467,1648,181,9.2938041305796137E-2,0.14223850766155896,0.15556295802798134,0.54896735509660222,6.0293137908061289E-2,null,0.48967355096602266,0.51032644903397739]
["MMR012CMP112","Planned Camp","Rakhine",null,null,null,null,null,null,null,null,null,"","","","","",null,"",""]
["MMR012CMP113","Planned Camp","Muslim",901,2104,2200,4314,680,898,588,2066,108,0.15762633286972647,0.20815948076031526,0.13630041724617525,0.47890588780713955,2.5034770514603615E-2,null,0.48771441817338895,0.5099675475197033]
["MMR012CMP114","Planned Camp","Muslim",1234,3210,3300,6513,1136,1407,888,2939,142,0.17442038998925227,0.2160294795025334,0.13634269921695072,0.45125134346691231,2.1802548748656534E-2,null,0.49286043298019344,0.50667894979272221]
["MMR012CMP115","Planned Camp","Muslim",1490,3991,4195,8186,1731,1812,1159,3197,287,{"$f":"IF(H67,H67/$G67,\"\")","v":0.2114585878328854},0.22135353041778646,0.14158319081358417,0.39054483264109457,3.5059858294649401E-2,null,{"$f":"IF(E67,E67/$G67,\"\")","v":0.48753970193012458},0.51246029806987536]
["MMR012CMP116","Planned Camp","Muslim",2276,6086,6229,12315,2438,2784,1922,4940,231,0.19796995533901746,0.22606577344701584,0.1560698335363378,0.40113682501015024,1.8757612667478683E-2,null,0.49419407226958995,0.50580592773041011]
["MMR012CMP117","Planned Camp","Rakhine",31,null,null,130,null,null,null,null,null,"","","","","",null,"",""]

{"sheet":"Home","index":2,"n_rows":23,"n_cols":22,"rows_kept":23,"cut":false,"hidden":false,"merged":[]}
[]
[null,null,"CLUSTER REPORT"]
[]
[]
[null,null,{"$f":"Report_Date","v":"2013-12-01"}]
[]
[null,null,"CCCM",null,null,"Report & Analysis",null,null,null,null,null,"Dashboards",null,null,null,"3W",null,null,null,"Contact List"]
[]
[null,null,null,null,null,null,null,null,null,null,null,"Rakhine","Kachin","Myanmar",null,"Rakhine","Kachin","Myanmar",null,"Rakhine","Kachin","Myanmar"]
[]
[]
[]
[]
[null,null,"Shelter"]
[]
[null,null,null,null,null,null,null,null,null,null,null,"Rakhine","Kachin","Myanmar",null,"Rakhine","Kachin","Myanmar",null,"Rakhine","Kachin","Myanmar"]
[]
[]
[]
[]
[null,null,"NFI"]
[null,null,null,null,null,null,null,null,null,null,null,"Rakhine","Kachin"]
[null,null,null,null,null,null,null,null,null,null,null,"Rakhine","Kachin","Myanmar",null,"Rakhine","Kachin","Myanmar",null,"Rakhine","Kachin","Myanmar"]

{"sheet":"Camp_List","index":3,"n_rows":121,"n_cols":32,"rows_kept":121,"cut":false,"hidden":false,"merged":[]}
[]
["DETAILED CAMP LIST"]
[{"$f":"Report_Date","v":"2013-12-01"}]
["Status","State","State_Pcode","District","District_Pcode","TOWNSHIP_NAME","Township_Pcode","VillageTracKTown_Name","VillageTrackTown_Pcode","VillageWard_Name","VillageWard_Pcode","Camp Name","P_Code","Longitude","Latitude","Altitude","HH","Total","Avg","Accessibility2","Type of Accomodation","Type of Location","Opening Date","Type Population","CM/FP","Responsible Agency","Source","Method","Update Date","Comment","Comment2","Status2"]
["Close","Rakhine","MMR012",null,null,"Minbya","MMR012005","Shwe Ta Mar","MMR012005018","Na Ga Yar Pyin",197063,"Nagara Pauktaw","MMR012CMP004"," 93.258476°"," 20.554084°",null,null,null,{"$f":"IF(AND(Table_CampList[[#This Row],[HH]]<>\"\",Table_CampList[[#This Row],[HH]]>0),Table_CampList[[#This Row],[Total]]/Table_CampList[[#This Row],[HH]],0)","v":0},"Accessible by All","Privately Hosted",null,null,null,null,null,"Camp/Community Leader","Estimate","2013-09-03",null,null,{"$f":"A5","v":"Close"}]
["Close","Rakhine","MMR012",null,null,"Minbya","MMR012005","San Bar Lay","MMR012005009","Thay Kan",197021,"Thay Kan","MMR012CMP007"," 93.321957°"," 20.403736°",null,null,null,{"$f":"IF(AND(Table_CampList[[#This Row],[HH]]<>\"\",Table_CampList[[#This Row],[HH]]>0),Table_CampList[[#This Row],[Total]]/Table_CampList[[#This Row],[HH]],0)","v":0},"Accessible by All","Individual (non hosted)",null,null,null,null,null,"Camp/Community Leader","Estimate","2013-09-03",null,null,"Close"]
["Close","Rakhine","MMR012","Sittwe","MMR012D001","Mrauk_U","MMR012003","Urban","MMR012003701",null,null,"Myat Buddha Mandine Monastery","MMR012CMP011"," 93.187996°"," 20.589569°",null,null,null,{"$f":"IF(AND(Table_CampList[[#This Row],[HH]]<>\"\",Table_CampList[[#This Row],[HH]]>0),Table_CampList[[#This Row],[Total]]/Table_CampList[[#This Row],[HH]],0)","v":0},"Accessible by All","Collective Centre",null,null,null,null,null,"Camp/Community Leader","Estimate","2013-10-01","Ward Name not available","Ward Name not available","Close"]
["Close","Rakhine","MMR012","Sittwe","MMR012D001","Sittwe","MMR012001","Khaung Doke Kar","MMR012001025","Baw Du Hpa",196192,"Baw Du Pha","MMR012CMP040"," 92.807419°"," 20.181238°",null,null,null,{"$f":"IF(AND(Table_CampList[[#This Row],[HH]]<>\"\",Table_CampList[[#This Row],[HH]]>0),Table_CampList[[#This Row],[Total]]/Table_CampList[[#This Row],[HH]],0)","v":0},"Accessible by All","Planned Camp",null,null,null,null,null,"Camp/Community Leader","Estimate","2013-10-01",null,null,"Close"]
["Close","Rakhine","MMR012","Sittwe","MMR012D001","Sittwe","MMR012001","Khaung Doke Kar","MMR012001025","Baw Du Hpa",196192,"Ohn Taw Gyi 1","MMR012CMP043"," 92.798677°"," 20.187751°",null,null,null,{"$f":"IF(AND(Table_CampList[[#This Row],[HH]]<>\"\",Table_CampList[[#This Row],[HH]]>0),Table_CampList[[#This Row],[Total]]/Table_CampList[[#This Row],[HH]],0)","v":0},"Accessible by All","Planned Camp",null,null,null,null,null,"Camp/Community Leader","Estimate","2013-10-01",null,null,"Close"]
["Close","Rakhine","MMR012","Sittwe","MMR012D001","Sittwe","MMR012001","Aung Daing","MMR012001005","Hpwe Ywar Kone",196157,"Phwe Yar Kone","MMR012CMP044"," 92.788177°"," 20.207285°",null,null,null,{"$f":"IF(AND(Table_CampList[[#This Row],[HH]]<>\"\",Table_CampList[[#This Row],[HH]]>0),Table_CampList[[#This Row],[Total]]/Table_CampList[[#This Row],[HH]],0)","v":0},"Accessible by All","Planned Camp",null,null,null,null,null,"Camp/Community Leader","Estimate","2013-10-01",null,null,"Close"]
["close","Rakhine","MMR012","Sittwe","MMR012D001","Sittwe","MMR012001","Bu May","MMR012001027","Thea Chaung Ku Lar",196211,"Thae Chaung (Kyaukphyu)","MMR012CMP047"," 92.837577°"," 20.156842°",null,null,null,{"$f":"IF(AND(Table_CampList[[#This Row],[HH]]<>\"\",Table_CampList[[#This Row],[HH]]>0),Table_CampList[[#This Row],[Total]]/Table_CampList[[#This Row],[HH]],0)","v":0},"Accessible by All","Individual (non hosted)",null,null,null,null,null,"Camp/Community Leader","Estimate","2013-11-01",null,"Counted within Thae Chaung","close"]
["Close","Rakhine","MMR012","Sittwe","MMR012D001","Sittwe","MMR012001","Bu May","MMR012001027","Hman Zi",196207,"Hmanzi Junction","MMR012CMP049"," 92.826407°"," 20.175169°",null,null,null,{"$f":"IF(AND(Table_CampList[[#This Row],[HH]]<>\"\",Table_CampList[[#This Row],[HH]]>0),Table_CampList[[#This Row],[Total]]/Table_CampList[[#This Row],[HH]],0)","v":0},"Accessible by All","Planned Camp",null,null,null,null,null,"Camp/Community Leader","Estimate","2013-09-03",null,null,"Close"]
["Close","Rakhine","MMR012","Sittwe","MMR012D001","Sittwe","MMR012001","Say Tha Mar","MMR012001010","Say Tha Mar Gyi",196154,"Pa Lin Pyin Ywar Thit","MMR012CMP050"," 92.792959°"," 20.205295°",null,null,null,{"$f":"IF(AND(Table_CampList[[#This Row],[HH]]<>\"\",Table_CampList[[#This Row],[HH]]>0),Table_CampList[[#This Row],[Total]]/Table_CampList[[#This Row],[HH]],0)","v":0},"Accessible by All","Self-Settled Camp",null,null,null,null,null,"Camp/Community Leader","Estimate","2013-09-03",null,null,"Close"]
["Close","Rakhine","MMR012","Sittwe","MMR012D001","Sittwe","MMR012001","Bu May","MMR012001027","Thea Chaung Let Tha Mar Kone",196209,"Bu May Ohn Taw","MMR012CMP051"," 92.847967°"," 20.147108°",null,null,null,{"$f":"IF(AND(Table_CampList[[#This Row],[HH]]<>\"\",Table_CampList[[#This Row],[HH]]>0),Table_CampList[[#This Row],[Total]]/Table_CampList[[#This Row],[HH]],0)","v":0},"Accessible by All","Self-Settled Camp",null,null,null,null,null,"Camp/Community Leader","Estimate","2013-09-03",null,null,"Close"]
["Close","Rakhine","MMR012","Sittwe","MMR012D001","Sittwe","MMR012001","Bu May","MMR012001027","Tin Bi",196216,"Bu May Ohn Taw Shore","MMR012CMP052"," 92.848348°"," 20.133385°",null,null,null,{"$f":"IF(AND(Table_CampList[[#This Row],[HH]]<>\"\",Table_CampList[[#This Row],[HH]]>0),Table_CampList[[#This Row],[Total]]/Table_CampList[[#This Row],[HH]],0)","v":0},"Accessible by All","Self-Settled Camp",null,null,null,null,null,"Camp/Community Leader","Estimate","2013-09-03",null,null,"Close"]
["Close","Rakhine","MMR012","Sittwe","MMR012D001","Sittwe","MMR012001","Ye New Su Ward","MMR012001701",null,"MMR012001701523","Ma Gyi Myaing","MMR012CMP053"," 92.886890°"," 20.132695°",null,null,null,{"$f":"IF(AND(Table_CampList[[#This Row],[HH]]<>\"\",Table_CampList[[#This Row],[HH]]>0),Table_CampList[[#This Row],[Total]]/Table_CampList[[#This Row],[HH]],0)","v":0},"Accessible by All","Planned Camp",null,null,null,null,null,"Camp/Community Leader","Estimate","2013-09-03",null,null,"Close"]
["Close","Rakhine","MMR012","Sittwe","MMR012D001","Sittwe","MMR012001","Min Gan Ward","MMR012001701",null,"MMR012001701532","Mingan","MMR012CMP054"," 92.860599°"," 20.154343°",null,null,null,{"$f":"IF(AND(Table_CampList[[#This Row],[HH]]<>\"\",Table_CampList[[#This Row],[HH]]>0),Table_CampList[[#This Row],[Total]]/Table_CampList[[#This Row],[HH]],0)","v":0},"Accessible by All","Planned Camp",null,null,null,null,null,"Camp/Community Leader","Estimate","2013-09-03",null,null,"Close"]
["Close","Rakhine","MMR012","Sittwe","MMR012D001","Sittwe","MMR012001","Baw Lone Kwin Ward","MMR012001701",null,"MMR012001701528","Danyawaddy Baw Lone Kwin","MMR012CMP055"," 92.889384°"," 20.135474°",null,null,null,{"$f":"IF(AND(Table_CampList[[#This Row],[HH]]<>\"\",Table_CampList[[#This Row],[HH]]>0),Table_CampList[[#This Row],[Total]]/Table_CampList[[#This Row],[HH]],0)","v":0},"Accessible by All","Planned Camp",null,null,null,null,null,"Camp/Community Leader","Estimate","2013-09-03",null,null,"Close"]
["Close","Rakhine","MMR012","Sittwe","MMR012D001","Sittwe","MMR012001","Ywar Gyi (North) Ward","MMR012001701",null,"MMR012001701515","Dohn Taik Kwin","MMR012CMP057"," 92.897178°"," 20.153129°",null,null,null,{"$f":"IF(AND(Table_CampList[[#This Row],[HH]]<>\"\",Table_CampList[[#This Row],[HH]]>0),Table_CampList[[#This Row],[Total]]/Table_CampList[[#This Row],[HH]],0)","v":0},"Accessible by All","Planned Camp",null,null,null,null,null,"Camp/Community Leader","Estimate","2013-09-03",null,null,"Close"]
["Close","Rakhine","MMR012","Sittwe","MMR012D001","Sittwe","MMR012001","Kyaung Tet Lan Ward","MMR012001701",null,"MMR012001701519","Dak Kaung Monastery","MMR012CMP059"," 92.894568°"," 20.145585°",null,null,null,{"$f":"IF(AND(Table_CampList[[#This Row],[HH]]<>\"\",Table_CampList[[#This Row],[HH]]>0),Table_CampList[[#This Row],[Total]]/Table_CampList[[#This Row],[HH]],0)","v":0},"Accessible by All","Collective Centre",null,null,null,null,null,"Camp/Community Leader","Estimate","2013-09-03",null,null,"Close"]
["Close","Rakhine","MMR012","Sittwe","MMR012D001","Sittwe","MMR012001","Bauk Thee Su Ward","MMR012001701",null,"MMR012001701518","Dama Set Kyar Monastery","MMR012CMP060"," 92.898398°"," 20.152559°",null,null,null,{"$f":"IF(AND(Table_CampList[[#This Row],[HH]]<>\"\",Table_CampList[[#This Row],[HH]]>0),Table_CampList[[#This Row],[Total]]/Table_CampList[[#This Row],[HH]],0)","v":0},"Accessible by All","Collective Centre",null,null,null,null,null,"Camp/Community Leader","Estimate","2013-09-03",null,null,"Close"]
["Close","Rakhine","MMR012","Sittwe","MMR012D001","Sittwe","MMR012001","Ywar Gyi (North) Ward","MMR012001701",null,"MMR012001701515","Gyit Chay Monastery","MMR012CMP061"," 92.896409°"," 20.153754°",null,null,null,{"$f":"IF(AND(Table_CampList[[#This Row],[HH]]<>\"\",Table_CampList[[#This Row],[HH]]>0),Table_CampList[[#This Row],[Total]]/Table_CampList[[#This Row],[HH]],0)","v":0},"Accessible by All","Collective Centre",null,null,null,null,null,"Camp/Community Leader","Estimate","2013-09-03",null,null,"Close"]
["Close","Rakhine","MMR012","Sittwe","MMR012D001","Sittwe","MMR012001","Sin Ku Lan Ward","MMR012001701",null,"MMR012001701512","Layaungwin Monastery","MMR012CMP062"," 92.896006°"," 20.154331°",null,null,null,{"$f":"IF(AND(Table_CampList[[#This Row],[HH]]<>\"\",Table_CampList[[#This Row],[HH]]>0),Table_CampList[[#This Row],[Total]]/Table_CampList[[#This Row],[HH]],0)","v":0},"Accessible by All","Collective Centre",null,null,null,null,null,"Camp/Community Leader","Estimate","2013-09-03",null,null,"Close"]
["Close","Rakhine","MMR012","Sittwe","MMR012D001","Sittwe","MMR012001"," Bauk Thee Su Ward","MMR012001701",null,"MMR012001701518","Myo Ma Monastery","MMR012CMP063"," 92.897783°"," 20.151050°",null,null,null,{"$f":"IF(AND(Table_CampList[[#This Row],[HH]]<>\"\",Table_CampList[[#This Row],[HH]]>0),Table_CampList[[#This Row],[Total]]/Table_CampList[[#This Row],[HH]],0)","v":0},"Accessible by All","Collective Centre",null,null,null,null,null,"Camp/Community Leader","Estimate","2013-09-03",null,null,"Close"]
["Close","Rakhine","MMR012","Sittwe","MMR012D001","Sittwe","MMR012001","Baung Dut Ward","MMR012001701",null,"MMR012001701517","Pyin Nyar Mandine Monastery","MMR012CMP064"," 92.896944°"," 20.150892°",null,null,null,{"$f":"IF(AND(Table_CampList[[#This Row],[HH]]<>\"\",Table_CampList[[#This Row],[HH]]>0),Table_CampList[[#This Row],[Total]]/Table_CampList[[#This Row],[HH]],0)","v":0},"Accessible by All","Collective Centre",null,null,null,null,null,"Camp/Community Leader","Estimate","2013-09-03",null,null,"Close"]
["Close","Rakhine","MMR012","Sittwe","MMR012D001","Sittwe","MMR012001","Ywar Gyi (North) Ward","MMR012001701",null,"MMR012001701515","Shwe Zay Ti Monastery","MMR012CMP065"," 92.894500°"," 20.146200°",null,null,null,{"$f":"IF(AND(Table_CampList[[#This Row],[HH]]<>\"\",Table_CampList[[#This Row],[HH]]>0),Table_CampList[[#This Row],[Total]]/Table_CampList[[#This Row],[HH]],0)","v":0},"Accessible by All","Collective Centre",null,null,null,null,null,"Camp/Community Leader","Estimate","2013-09-03",null,null,"Close"]
["Close","Rakhine","MMR012","Sittwe","MMR012D001","Sittwe","MMR012001","Pyi Taw Thar Ward","MMR012001701",null,"MMR012001701520","Su Taung Pyae Monastery","MMR012CMP066"," 92.888950°"," 20.125033°",null,null,null,{"$f":"IF(AND(Table_CampList[[#This Row],[HH]]<>\"\",Table_CampList[[#This Row],[HH]]>0),Table_CampList[[#This Row],[Total]]/Table_CampList[[#This Row],[HH]],0)","v":0},"Accessible by All","Collective Centre",null,null,null,null,null,"Camp/Community Leader","Estimate","2013-09-03",null,null,"Close"]
["Close","Rakhine","MMR012","Sittwe","MMR012D001","Sittwe","MMR012001","Ywar Gyi (North) Ward","MMR012001701",null,"MMR012001701515","Theit Di Kar Yone Monastery","MMR012CMP067"," 92.896418°"," 20.152895°",null,null,null,{"$f":"IF(AND(Table_CampList[[#This Row],[HH]]<>\"\",Table_CampList[[#This Row],[HH]]>0),Table_CampList[[#This Row],[Total]]/Table_CampList[[#This Row],[HH]],0)","v":0},"Accessible by All","Collective Centre",null,null,null,null,null,"Camp/Community Leader","Estimate","2013-09-03",null,null,"Close"]
["Close","Rakhine","MMR012","Sittwe","MMR012D001","Sittwe","MMR012001","Sin Ku Lan Ward","MMR012001701",null,"MMR012001701512","Sin Ku Lann Monastery","MMR012CMP068"," 92.897933°"," 20.155850°",null,null,null,{"$f":"IF(AND(Table_CampList[[#This Row],[HH]]<>\"\",Table_CampList[[#This Row],[HH]]>0),Table_CampList[[#This Row],[Total]]/Table_CampList[[#This Row],[HH]],0)","v":0},"Accessible by All","Collective Centre",null,null,null,null,null,"Camp/Community Leader","Estimate","2013-09-03",null,null,"Close"]
["Close","Rakhine","MMR012","Sittwe","MMR012D001","Sittwe","MMR012001","Ywar Gyi (North) Ward","MMR012001701",null,"MMR012001701515","Ar Thaw Ka Yone Monastery","MMR012CMP069"," 92.895900°"," 20.153800°",null,null,null,{"$f":"IF(AND(Table_CampList[[#This Row],[HH]]<>\"\",Table_CampList[[#This Row],[HH]]>0),Table_CampList[[#This Row],[Total]]/Table_CampList[[#This Row],[HH]],0)","v":0},"Accessible by All","Collective Centre",null,null,null,null,null,"Camp/Community Leader","Estimate","2013-09-03",null,null,"Close"]
["Close","Rakhine","MMR012","Sittwe","MMR012D001","Sittwe","MMR012001","Ywar Gyi (South) Ward","MMR012001701",null,"MMR012001701516","Thangga Yarzar Monastery","MMR012CMP070"," 92.892432°"," 20.146041°",null,null,null,{"$f":"IF(AND(Table_CampList[[#This Row],[HH]]<>\"\",Table_CampList[[#This Row],[HH]]>0),Table_CampList[[#This Row],[Total]]/Table_CampList[[#This Row],[HH]],0)","v":0},"Accessible by All","Collective Centre",null,null,null,null,null,"Camp/Community Leader","Estimate","2013-09-03",null,null,"Close"]
["Close","Rakhine","MMR012","Sittwe","MMR012D001","Sittwe","MMR012001","Ywar Gyi (South) Ward","MMR012001701",null,"MMR012001701516","Kha Maung Taw Monastery","MMR012CMP071"," 92.894450°"," 20.147100°",null,null,null,{"$f":"IF(AND(Table_CampList[[#This Row],[HH]]<>\"\",Table_CampList[[#This Row],[HH]]>0),Table_CampList[[#This Row],[Total]]/Table_CampList[[#This Row],[HH]],0)","v":0},"Accessible by All","Collective Centre",null,null,null,null,null,"Camp/Community Leader","Estimate","2013-09-03",null,null,"Close"]
["Close","Rakhine","MMR012","Sittwe","MMR012D001","Sittwe","MMR012001",null,null,null,null,"Ma Ni Yadanar Monastery","MMR012CMP072"," 92.893904°"," 20.146673°",null,null,null,{"$f":"IF(AND(Table_CampList[[#This Row],[HH]]<>\"\",Table_CampList[[#This Row],[HH]]>0),Table_CampList[[#This Row],[Total]]/Table_CampList[[#This Row],[HH]],0)","v":0},"Accessible by All","Collective Centre",null,null,null,null,null,"Camp/Community Leader","Estimate","2013-09-03",null,null,"Close"]
["Close","Rakhine","MMR012","Sittwe","MMR012D001","Sittwe","MMR012001","Kyaung Tet Lan Ward","MMR012001701",null,"MMR012001701519","Gyit Bak Monastery","MMR012CMP073"," 92.895600°"," 20.146917°",null,null,null,{"$f":"IF(AND(Table_CampList[[#This Row],[HH]]<>\"\",Table_CampList[[#This Row],[HH]]>0),Table_CampList[[#This Row],[Total]]/Table_CampList[[#This Row],[HH]],0)","v":0},"Accessible by All","Collective Centre",null,null,null,null,null,"Camp/Community Leader","Estimate","2013-09-03",null,null,"Close"]
["Close","Rakhine","MMR012","Sittwe","MMR012D001","Sittwe","MMR012001","Ywar Gyi (South) Ward","MMR012001701",null,"MMR012001701516","Ya Tayar Monastery","MMR012CMP074"," 92.893333°"," 20.146117°",null,null,null,{"$f":"IF(AND(Table_CampList[[#This Row],[HH]]<>\"\",Table_CampList[[#This Row],[HH]]>0),Table_CampList[[#This Row],[Total]]/Table_CampList[[#This Row],[HH]],0)","v":0},"Accessible by All","Collective Centre",null,null,null,null,null,"Camp/Community Leader","Estimate","2013-09-03",null,null,"Close"]
["Close","Rakhine","MMR012","Sittwe","MMR012D001","Sittwe","MMR012001","Sin Ku Lan Ward","MMR012001701",null,"MMR012001701512","Weikzar Thaikdi Monastery","MMR012CMP075"," 92.896533°"," 20.154650°",null,null,null,{"$f":"IF(AND(Table_CampList[[#This Row],[HH]]<>\"\",Table_CampList[[#This Row],[HH]]>0),Table_CampList[[#This Row],[Total]]/Table_CampList[[#This Row],[HH]],0)","v":0},"Accessible by All","Collective Centre",null,null,null,null,null,"Camp/Community Leader","Estimate","2013-09-03",null,null,"Close"]
["Close","Rakhine","MMR012","Maungdaw","MMR012D002","Maungdaw","MMR012009","NA","NA","NA","NA","Maw Ya Waddy","MMR012CMP076","NA","NA",null,null,null,{"$f":"IF(AND(Table_CampList[[#This Row],[HH]]<>\"\",Table_CampList[[#This Row],[HH]]>0),Table_CampList[[#This Row],[Total]]/Table_CampList[[#This Row],[HH]],0)","v":0},"Accessible by All","Planned Camp",null,null,null,null,null,"Camp/Community Leader","Estimate","2013-09-03",null,null,{"$f":"A37","v":"Close"}]
["Close","Rakhine","MMR012","Maungdaw","MMR012D002","Maungdaw","MMR012009","Tha Yae Kone Tan","MMR012009080","Tha Ray Kon Baung",198016,"Tha Yay Kone Baung","MMR012CMP077"," 92.429600°"," 20.729867°",null,null,null,{"$f":"IF(AND(Table_CampList[[#This Row],[HH]]<>\"\",Table_CampList[[#This Row],[HH]]>0),Table_CampList[[#This Row],[Total]]/Table_CampList[[#This Row],[HH]],0)","v":0},"Accessible by All","Planned Camp",null,null,null,null,null,"Camp/Community Leader","Estimate","2013-09-03",null,null,"Close"]
["Close","Rakhine","MMR012","Maungdaw","MMR012D002","Maungdaw","MMR012009","NA","NA","NA","NA","Kyaing Gyi","MMR012CMP078","NA","NA",null,null,null,{"$f":"IF(AND(Table_CampList[[#This Row],[HH]]<>\"\",Table_CampList[[#This Row],[HH]]>0),Table_CampList[[#This Row],[Total]]/Table_CampList[[#This Row],[HH]],0)","v":0},"Accessible by All","Planned Camp",null,null,null,null,null,"Camp/Community Leader","Estimate","2013-09-03",null,null,"Close"]
["Close","Rakhine","MMR012","Maungdaw","MMR012D002","Maungdaw","MMR012009","Ba Gone Nar","MMR012009066","Baw Di Kone(No standard name yet",217897,"Baw Di Gone","MMR012CMP079"," 92.416264°"," 20.796128°",null,null,null,{"$f":"IF(AND(Table_CampList[[#This Row],[HH]]<>\"\",Table_CampList[[#This Row],[HH]]>0),Table_CampList[[#This Row],[Total]]/Table_CampList[[#This Row],[HH]],0)","v":0},"Accessible by All","Planned Camp",null,null,null,null,null,"Camp/Community Leader","Estimate","2013-09-03",null,null,"Close"]
["Close","Rakhine","MMR012","Maungdaw","MMR012D002","Maungdaw","MMR012009","(Du) Chee Yar Tan","MMR012009069","King Chaung(No standard name yet)",217898,"Kin Chaung","MMR012CMP080"," 92.424139°"," 20.762731°",null,null,null,{"$f":"IF(AND(Table_CampList[[#This Row],[HH]]<>\"\",Table_CampList[[#This Row],[HH]]>0),Table_CampList[[#This Row],[Total]]/Table_CampList[[#This Row],[HH]],0)","v":0},"Accessible by All","Planned Camp",null,null,null,null,null,"Camp/Community Leader","Estimate","2013-09-03",null,null,"Close"]
["Close","Rakhine","MMR012","Maungdaw","MMR012D002","Maungdaw","MMR012009","Ba Gone Nar","MMR012009066","Kan Thar Yar(No standard name yet)",217895,"Kan Thar Yar","MMR012CMP081"," 92.423364°"," 20.801544°",null,null,null,{"$f":"IF(AND(Table_CampList[[#This Row],[HH]]<>\"\",Table_CampList[[#This Row],[HH]]>0),Table_CampList[[#This Row],[Total]]/Table_CampList[[#This Row],[HH]],0)","v":0},"Accessible by All","Planned Camp",null,null,null,null,null,"Camp/Community Leader","Estimate","2013-09-03",null,null,"Close"]
["Close","Rakhine","MMR012","Maungdaw","MMR012D002","Maungdaw","MMR012009","Zaw Ma Tet","MMR012009078","Zaw Ma Tet",198045,"Lamber Gone Nah","MMR012CMP087"," 92.426886°"," 20.717331°",null,null,null,{"$f":"IF(AND(Table_CampList[[#This Row],[HH]]<>\"\",Table_CampList[[#This Row],[HH]]>0),Table_CampList[[#This Row],[Total]]/Table_CampList[[#This Row],[HH]],0)","v":0},"Accessible by All","Individual (non hosted)",null,null,null,null,null,"Camp/Community Leader","Estimate","2013-09-03",null,null,"Close"]
["Close","Rakhine","MMR012","Maungdaw","MMR012D002","Maungdaw","MMR012009","Zaw Ma Tet","MMR012009078","Hin Thar Ya",198049,"Alima Fara","MMR012CMP089"," 92.435075°"," 20.714533°",null,null,null,{"$f":"IF(AND(Table_CampList[[#This Row],[HH]]<>\"\",Table_CampList[[#This Row],[HH]]>0),Table_CampList[[#This Row],[Total]]/Table_CampList[[#This Row],[HH]],0)","v":0},"Accessible by All","Privately Hosted",null,null,null,null,null,"Camp/Community Leader","Estimate","2013-09-03",null,null,"Close"]
["Close","Rakhine","MMR012","Sittwe","MMR012D001","Sittwe","MMR012001","Khaung Doke Kar","MMR012001025","Baw Du Hpa",196192,"Ohn Taw Gyi 3","MMR012CMP090","92.800694°","20.190056°",null,null,null,{"$f":"IF(AND(Table_CampList[[#This Row],[HH]]<>\"\",Table_CampList[[#This Row],[HH]]>0),Table_CampList[[#This Row],[Total]]/Table_CampList[[#This Row],[HH]],0)","v":0},"Accessible by All","Planned Camp",null,null,null,null,null,"Camp/Community Leader","Estimate","2013-10-01",null,null,"Close"]
["Close","Rakhine","MMR012","Sittwe","MMR012D001","Pauktaw","MMR012007","Sin Tet Maw","MMR012007051","Sin Tet Maw (Ku Lar)",197548,"Sin Tet Maw (from Nget Chaung)","MMR012CMP096"," 92.993759°"," 20.064226°",null,null,null,{"$f":"IF(AND(Table_CampList[[#This Row],[HH]]<>\"\",Table_CampList[[#This Row],[HH]]>0),Table_CampList[[#This Row],[Total]]/Table_CampList[[#This Row],[HH]],0)","v":0},"Accessible by All","Individual (non hosted)",null,null,null,null,null,"Camp/Community Leader","Estimate","2013-11-01",null,"No Reliable figures available","Close"]
["Close","Rakhine","MMR012","Sittwe","MMR012D001","Sittwe","MMR012001","Khaung Doke Kar","MMR012001025","Baw Du Hpa",196192,"Ohn Taw Gyi 4","MMR012CMP099","92.800528°","20.185583°",null,null,null,{"$f":"IF(AND(Table_CampList[[#This Row],[HH]]<>\"\",Table_CampList[[#This Row],[HH]]>0),Table_CampList[[#This Row],[Total]]/Table_CampList[[#This Row],[HH]],0)","v":0},"Accessible by All","Planned Camp",null,null,null,null,null,"Camp/Community Leader","Estimate","2013-10-01","This HH and Total population is for Both camps Ohn Taw Gyi 4 and 5 because information is only possible to get combine information for 2 camps.","This HH and Total population is for Both camps Ohn Taw Gyi 4 and 5 because information is only possible to get combine information for 2 camps.","Close"]
["Close","Rakhine","MMR012","Sittwe","MMR012D001","Sittwe","MMR012001","Khaung Doke Kar","MMR012001025","Baw Du Hpa",196192,"Ohn Taw Gyi 5","MMR012CMP100","92.799861°","20.185194°",null,null,null,{"$f":"IF(AND(Table_CampList[[#This Row],[HH]]<>\"\",Table_CampList[[#This Row],[HH]]>0),Table_CampList[[#This Row],[Total]]/Table_CampList[[#This Row],[HH]],0)","v":0},"Accessible by All","Planned Camp",null,null,null,null,null,"Camp/Community Leader","Estimate","2013-10-01",null,null,"Close"]
["Close","Rakhine","MMR012","Sittwe","MMR012D001","Sittwe","MMR012001","Khaung Doke Kar","MMR012001025",null,null,"Hmanzi ","MMR012CMP102"," 92.816639°",20.180194,null,null,null,{"$f":"IF(AND(Table_CampList[[#This Row],[HH]]<>\"\",Table_CampList[[#This Row],[HH]]>0),Table_CampList[[#This Row],[Total]]/Table_CampList[[#This Row],[HH]],0)","v":0},"Accessible by All","Planned Camp",null,null,null,null,null,"Camp/Community Leader","Estimate","2013-10-01",null,null,"Close"]
["Close","Rakhine","MMR012","Sittwe","MMR012D001","Sittwe","MMR012001","Urban","MMR012001701","Sut Yoe Kya Ward","MMR012001701531","Sat Roe Kya","MMR012CMP105"," 92.887278°","20.151472°",null,null,null,{"$f":"IF(AND(Table_CampList[[#This Row],[HH]]<>\"\",Table_CampList[[#This Row],[HH]]>0),Table_CampList[[#This Row],[Total]]/Table_CampList[[#This Row],[HH]],0)","v":0},"Accessible by All","Individual (non hosted)",null,null,null,null,null,"Camp/Community Leader","Estimate","2013-10-01",null,null,"Close"]
["Close","Rakhine","MMR013","Maungdaw","MMR012D002","Maungdaw","MMR012009","Urban","MMR012009701",null,null,"Bomu Ywa 2","MMR012CMP106"," 92.365619°"," 20.820317°",null,null,null,{"$f":"IF(AND(Table_CampList[[#This Row],[HH]]<>\"\",Table_CampList[[#This Row],[HH]]>0),Table_CampList[[#This Row],[Total]]/Table_CampList[[#This Row],[HH]],0)","v":0},"Accessible by All","Planned Camp",null,null,null,null,null,"Camp/Community Leader","Estimate","2013-10-01",null,null,"Close"]
["Close","Rakhine","MMR014","Maungdaw","MMR012D002","Maungdaw","MMR012009","Urban","MMR012009701",null,null,"Ywa thit Kay 2","MMR012CMP107"," 92.367536°"," 20.825500°",null,null,null,{"$f":"IF(AND(Table_CampList[[#This Row],[HH]]<>\"\",Table_CampList[[#This Row],[HH]]>0),Table_CampList[[#This Row],[Total]]/Table_CampList[[#This Row],[HH]],0)","v":0},"Accessible by All","Planned Camp",null,null,null,null,null,"Camp/Community Leader","Estimate","2013-10-01",null,null,"Close"]
["Close","Rakhine","MMR015","Maungdaw","MMR012D002","Maungdaw","MMR012009","Urban","MMR012009701",null,null,"Ywa thit Kay 3","MMR012CMP108"," 92.367933°"," 20.825417°",null,null,null,{"$f":"IF(AND(Table_CampList[[#This Row],[HH]]<>\"\",Table_CampList[[#This Row],[HH]]>0),Table_CampList[[#This Row],[Total]]/Table_CampList[[#This Row],[HH]],0)","v":0},"Accessible by All","Individual (non hosted)",null,null,null,null,null,"Camp/Community Leader","Estimate","2013-10-01",null,null,"Close"]
["Open","Rakhine","MMR012","Sittwe","MMR012D001","Minbya","MMR012005","Kin Seik","MMR012005001","Kin Seik",196984,"Paik Thay","MMR012CMP001"," 93.271642°"," 20.377523°",null,16,122,{"$f":"IF(AND(Table_CampList[[#This Row],[HH]]<>\"\",Table_CampList[[#This Row],[HH]]>0),Table_CampList[[#This Row],[Total]]/Table_CampList[[#This Row],[HH]],0)","v":7.625},"Accessible by All","Individual accommodation ",null,null,"Muslim","Focal Point","UNHCR","Camp/Community Leader","Estimate","2013-10-01",null,null,"Open"]
["Open","Rakhine","MMR012","Sittwe","MMR012D001","Minbya","MMR012005","Kin Seik","MMR012005001","Thar Dar",196997,"Tha Dar","MMR012CMP002"," 93.257272°"," 20.392138°",null,203,1008,{"$f":"IF(AND(Table_CampList[[#This Row],[HH]]<>\"\",Table_CampList[[#This Row],[HH]]>0),Table_CampList[[#This Row],[Total]]/Table_CampList[[#This Row],[HH]],0)","v":4.9655172413793105},"Accessible by All","Individual accommodation ",null,null,"Muslim","Focal Point","UNHCR","Camp/Community Leader","Estimate","2013-10-01",null,null,"Open"]
["Open","Rakhine","MMR012","Sittwe","MMR012D001","Minbya","MMR012005","Chaik Taung","MMR012005003","San Htoe Tan",196995,"San Htoe Tan","MMR012CMP003"," 93.249670°"," 20.399020°",null,125,483,{"$f":"IF(AND(Table_CampList[[#This Row],[HH]]<>\"\",Table_CampList[[#This Row],[HH]]>0),Table_CampList[[#This Row],[Total]]/Table_CampList[[#This Row],[HH]],0)","v":3.8639999999999999},"Accessible by All","Individual accommodation ",null,null,"Muslim","Focal Point","UNHCR","Camp/Community Leader","Estimate","2013-10-01",null,null,"Open"]
["Open","Rakhine","MMR012","Sittwe","MMR012D001","Minbya","MMR012005","Tha Yet Oke","MMR012005017","Tha Yet Oke",197062,"Tha Yet Oak","MMR012CMP005"," 93.258574°"," 20.587142°",null,296,1585,{"$f":"IF(AND(Table_CampList[[#This Row],[HH]]<>\"\",Table_CampList[[#This Row],[HH]]>0),Table_CampList[[#This Row],[Total]]/Table_CampList[[#This Row],[HH]],0)","v":5.3547297297297298},"Accessible by All","Individual accommodation ",null,null,"Muslim","Focal Point","UNHCR","Camp/Community Leader","Estimate","2013-10-01",null,null,"Open"]
["Open","Rakhine","MMR012","Sittwe","MMR012D001","Minbya","MMR012005","Sa Par Htar","MMR012005032","Aung Taing",197150,"Aung Taing","MMR012CMP006"," 93.299485°"," 20.480898°",null,86,586,{"$f":"IF(AND(Table_CampList[[#This Row],[HH]]<>\"\",Table_CampList[[#This Row],[HH]]>0),Table_CampList[[#This Row],[Total]]/Table_CampList[[#This Row],[HH]],0)","v":6.8139534883720927},"Accessible by All","Individual accommodation ",null,null,"Muslim","Focal Point","UNHCR","Camp/Community Leader","Estimate","2013-10-01",null,null,"Open"]
["Open","Rakhine","MMR012","Sittwe","MMR012D001","Minbya","MMR012005","San Bar Lay","MMR012005009","Zi War",197025,"Sam Ba Le","MMR012CMP008"," 93.313628°"," 20.407971°",null,225,1341,{"$f":"IF(AND(Table_CampList[[#This Row],[HH]]<>\"\",Table_CampList[[#This Row],[HH]]>0),Table_CampList[[#This Row],[Total]]/Table_CampList[[#This Row],[HH]],0)","v":5.96},"Accessible by All","Individual accommodation ",null,null,"Muslim","Focal Point","UNHCR","Camp/Community Leader","Estimate","2013-10-01",null,null,"Open"]
["Open","Rakhine","MMR012","Sittwe","MMR012D001","Mrauk_U","MMR012003","Pu Rein","MMR012003004","Pu Rein",196428,"Pa Rein","MMR012CMP009"," 93.245551°"," 20.576577°",null,240,1228,{"$f":"IF(AND(Table_CampList[[#This Row],[HH]]<>\"\",Table_CampList[[#This Row],[HH]]>0),Table_CampList[[#This Row],[Total]]/Table_CampList[[#This Row],[HH]],0)","v":5.1166666666666663},"Accessible by All","Planned Camp",null,null,"Muslim","Focal Point","UNHCR","Camp/Community Leader","Estimate","2013-10-01",null,null,"Open"]
["Open","Rakhine","MMR012","Sittwe","MMR012D001","Mrauk_U","MMR012003","Yin Thei","MMR012003026","Yin Thei",196507,"Yai Thei-Muslim","MMR012CMP010"," 93.217040°"," 20.501758°",null,398,2613,{"$f":"IF(AND(Table_CampList[[#This Row],[HH]]<>\"\",Table_CampList[[#This Row],[HH]]>0),Table_CampList[[#This Row],[Total]]/Table_CampList[[#This Row],[HH]],0)","v":6.5653266331658289},"Accessible by All","Individual accommodation ",null,null,"Muslim","Focal Point","UNHCR","Camp/Community Leader","Estimate","2013-10-01",null,null,"Open"]
["Open","Rakhine","MMR012","Sittwe","MMR012D001","Mrauk_U","MMR012003","Sin Oe","MMR012003006","Raw Ma Ni",196441,"Raw Ma Ni Sin Oe","MMR012CMP012"," 93.239520°"," 20.616920°",null,11,64,{"$f":"IF(AND(Table_CampList[[#This Row],[HH]]<>\"\",Table_CampList[[#This Row],[HH]]>0),Table_CampList[[#This Row],[Total]]/Table_CampList[[#This Row],[HH]],0)","v":5.8181818181818183},"Accessible by All","Planned Camp",null,null,"Maramargyi","Focal Point","UNHCR","Camp/Community Leader","Estimate","2013-10-01",null,null,"Open"]
["Open","Rakhine","MMR012","Sittwe","MMR012D001","Meybon","MMR012006","Urban","MMR012006701","Kan Thar Htwet Wa Ward","MMR012006701502","Kan Thar Htwat Wa","MMR012CMP013"," 93.373951°"," 20.041981°",null,44,269,{"$f":"IF(AND(Table_CampList[[#This Row],[HH]]<>\"\",Table_CampList[[#This Row],[HH]]>0),Table_CampList[[#This Row],[Total]]/Table_CampList[[#This Row],[HH]],0)","v":6.1136363636363633},"Accessible by All","Planned Camp",null,null,"Rakhine","Focal Point","Relief International","Camp/Community Leader","Estimate","2013-10-01",null,null,"Open"]
["Open","Rakhine","MMR012","Sittwe","MMR012D001","Meybon","MMR012006","Ah Ngu","MMR012006001","Pyin Taw Che",217973,"Taung Paw ","MMR012CMP014"," 93.370038°"," 20.037655°",null,752,3381,{"$f":"IF(AND(Table_CampList[[#This Row],[HH]]<>\"\",Table_CampList[[#This Row],[HH]]>0),Table_CampList[[#This Row],[Total]]/Table_CampList[[#This Row],[HH]],0)","v":4.4960106382978724},"Accessible by All","Planned Camp",null,null,"Muslim","Focal Point","Relief International","Camp/Community Leader","Estimate","2013-10-01",null,null,"Open"]
["Open","Rakhine","MMR012","Sittwe","MMR012D001","Pauktaw","MMR012007","Urban","MMR012007701","Ba Wan Chaung Wa Su Ward","MMR012007701504","Ba Wan Chaung Wa Su","MMR012CMP015"," 93.067891°"," 20.173468°",null,21,97,{"$f":"IF(AND(Table_CampList[[#This Row],[HH]]<>\"\",Table_CampList[[#This Row],[HH]]>0),Table_CampList[[#This Row],[Total]]/Table_CampList[[#This Row],[HH]],0)","v":4.6190476190476186},"Accessible by All","Planned Camp",null,null,"Rakhine","Focal Point","UNHCR","Camp/Community Leader","Estimate","2013-10-01",null,null,"Open"]
["Open","Rakhine","MMR012","Sittwe","MMR012D001","Pauktaw","MMR012007","Pein Hne Chaung","MMR012007049","Kyauk Pyin Seik",197537,"Ah Nauk Ywe","MMR012CMP016"," 92.985095°"," 20.108102°",null,880,4285,{"$f":"IF(AND(Table_CampList[[#This Row],[HH]]<>\"\",Table_CampList[[#This Row],[HH]]>0),Table_CampList[[#This Row],[Total]]/Table_CampList[[#This Row],[HH]],0)","v":4.8693181818181817},"Accessible by All","Planned Camp",null,null,"Muslim","Focal Point","Solidarites International","Camp/Community Leader","Estimate","2013-10-01",null,null,"Open"]
["Open","Rakhine","MMR012","Sittwe","MMR012D001","Pauktaw","MMR012007","Pon Nar Gyi","MMR012007012","Cha Eik",197414,"Nget Chaung","MMR012CMP017"," 93.154552°"," 20.073438°",null,1176,5889,{"$f":"IF(AND(Table_CampList[[#This Row],[HH]]<>\"\",Table_CampList[[#This Row],[HH]]>0),Table_CampList[[#This Row],[Total]]/Table_CampList[[#This Row],[HH]],0)","v":5.0076530612244898},"Accessible by All","Planned Camp",null,null,"Muslim","Focal Point","Solidarites International","Camp/Community Leader","Estimate","2013-10-01",null,null,"Open"]
["Open","Rakhine","MMR012","Sittwe","MMR012D001","Pauktaw","MMR012007","Pein Hne Chaung","MMR012007049","Kyein Ni Pyin",197533,"Kyein Ni Pyin","MMR012CMP018"," 93.010369°"," 20.090183°",null,1045,4598,{"$f":"IF(AND(Table_CampList[[#This Row],[HH]]<>\"\",Table_CampList[[#This Row],[HH]]>0),Table_CampList[[#This Row],[Total]]/Table_CampList[[#This Row],[HH]],0)","v":4.4000000000000004},"Accessible by All","Planned Camp",null,null,"Muslim","Camp Management","Save the Children","Camp/Community Leader","Estimate","2013-10-01",null,null,"Open"]
["Open","Rakhine","MMR012","Sittwe","MMR012D001","Pauktaw","MMR012007","Sin Tet Maw","MMR012007051","Sin Tet Maw (Ku Lar)",197548,"Sin Tet Maw","MMR012CMP019"," 92.993759°"," 20.064226°",null,748,2646,{"$f":"IF(AND(Table_CampList[[#This Row],[HH]]<>\"\",Table_CampList[[#This Row],[HH]]>0),Table_CampList[[#This Row],[Total]]/Table_CampList[[#This Row],[HH]],0)","v":3.5374331550802141},"Accessible by All","Planned Camp",null,null,"Muslim","Camp Management","Save the Children","Camp/Community Leader","Estimate","2013-10-01",null,null,{"$f":"A69","v":"Open"}]
["Open","Rakhine","MMR012","Sittwe","MMR012D001","Kyauktaw","MMR012004","Hpa Yar Paung","MMR012004046","Taung Pauk",196873,"Let Saung Kauk","MMR012CMP020"," 92.982676°"," 20.805734°",null,18,157,{"$f":"IF(AND(Table_CampList[[#This Row],[HH]]<>\"\",Table_CampList[[#This Row],[HH]]>0),Table_CampList[[#This Row],[Total]]/Table_CampList[[#This Row],[HH]],0)","v":8.7222222222222214},"Accessible by All","Individual accommodation ",null,null,"Muslim","Focal Point","UNHCR","Camp/Community Leader","Estimate","2013-10-01",null,null,"Open"]
["Open","Rakhine","MMR012","Sittwe","MMR012D001","Kyauktaw","MMR012004","Ya Da Nar Pon","MMR012004019","Ku Lar Taung Bway",196789,"Taung Bwe","MMR012CMP021"," 93.000815°"," 20.929649°",null,64,512,{"$f":"IF(AND(Table_CampList[[#This Row],[HH]]<>\"\",Table_CampList[[#This Row],[HH]]>0),Table_CampList[[#This Row],[Total]]/Table_CampList[[#This Row],[HH]],0)","v":8},"Accessible by All","Individual accommodation ",null,null,"Muslim","Focal Point","UNHCR","Camp/Community Leader","Estimate","2013-10-01",null,null,"Open"]
["Open","Rakhine","MMR012","Sittwe","MMR012D001","Kyauktaw","MMR012004","Ya Da Nar Pon","MMR012004019","Ah Lel",196786,"Ah Lel","MMR012CMP022"," 93.003205°"," 20.921425°",null,17,136,{"$f":"IF(AND(Table_CampList[[#This Row],[HH]]<>\"\",Table_CampList[[#This Row],[HH]]>0),Table_CampList[[#This Row],[Total]]/Table_CampList[[#This Row],[HH]],0)","v":8},"Accessible by All","Individual accommodation ",null,null,"Muslim","Focal Point","UNHCR","Camp/Community Leader","Estimate","2013-10-01",null,null,"Open"]
["Open","Rakhine","MMR012","Sittwe","MMR012D001","Kyauktaw","MMR012004","Wa Kin","MMR012004028","Ni Din",196829,"Nidin","MMR012CMP023"," 92.965981°"," 20.865687°",null,85,531,{"$f":"IF(AND(Table_CampList[[#This Row],[HH]]<>\"\",Table_CampList[[#This Row],[HH]]>0),Table_CampList[[#This Row],[Total]]/Table_CampList[[#This Row],[HH]],0)","v":6.2470588235294118},"Accessible by All","Planned Camp",null,null,"Muslim","Focal Point","UNHCR","Camp/Community Leader","Estimate","2013-10-01",null,null,"Open"]
["Open","Rakhine","MMR012","Sittwe","MMR012D001","Kyauktaw","MMR012004","Ah Pauk Wa","MMR012004064","Ah Pauk Wa",196946,"Ah Pauk Wa ","MMR012CMP024"," 92.961841°"," 20.720213°",null,133,806,{"$f":"IF(AND(Table_CampList[[#This Row],[HH]]<>\"\",Table_CampList[[#This Row],[HH]]>0),Table_CampList[[#This Row],[Total]]/Table_CampList[[#This Row],[HH]],0)","v":6.0601503759398501},"Accessible by All","Individual accommodation ",null,null,"Muslim","Focal Point","UNHCR","Camp/Community Leader","Estimate","2013-10-01",null,null,"Open"]
["Open","Rakhine","MMR012","Sittwe","MMR012D001","Kyauktaw","MMR012004","Ah Lel Kyun","MMR012004031","Ah Lel Kyun Ku Lar",196842,"Ah Lel Kyun","MMR012CMP025"," 93.014350°"," 20.896740°",null,14,84,{"$f":"IF(AND(Table_CampList[[#This Row],[HH]]<>\"\",Table_CampList[[#This Row],[HH]]>0),Table_CampList[[#This Row],[Total]]/Table_CampList[[#This Row],[HH]],0)","v":6},"Accessible by All","Individual accommodation ",null,null,"Muslim","Focal Point","UNHCR","Camp/Community Leader","Estimate","2013-10-01",null,null,"Open"]
["Open","Rakhine","MMR012","Sittwe","MMR012D001","Kyauktaw","MMR012004","Doke Kan Chaung","MMR012004063","In Bar Yi",196945,"In Bar Yi","MMR012CMP026"," 93.009900°"," 20.696820°",null,230,1382,{"$f":"IF(AND(Table_CampList[[#This Row],[HH]]<>\"\",Table_CampList[[#This Row],[HH]]>0),Table_CampList[[#This Row],[Total]]/Table_CampList[[#This Row],[HH]],0)","v":6.0086956521739134},"Accessible by All","Individual accommodation ",null,null,"Muslim","Focal Point","UNHCR","Camp/Community Leader","Estimate","2013-10-01",null,null,"Open"]
["Open","Rakhine","MMR012","Sittwe","MMR012D001","Kyauktaw","MMR012004","Goke Pi Htaunt","MMR012004074","Goke Pi Htaunt (Ku Lar)",196972,"Goke Pi Htaunt","MMR012CMP027"," 93.014090°"," 20.713260°",null,116,709,{"$f":"IF(AND(Table_CampList[[#This Row],[HH]]<>\"\",Table_CampList[[#This Row],[HH]]>0),Table_CampList[[#This Row],[Total]]/Table_CampList[[#This Row],[HH]],0)","v":6.1120689655172411},"Accessible by All","Individual accommodation ",null,null,"Muslim","Focal Point","UNHCR","Camp/Community Leader","Estimate","2013-10-01",null,null,"Open"]
["Open","Rakhine","MMR012","Sittwe","MMR012D001","Kyauktaw","MMR012004","Ah Pauk Wa","MMR012004064","Yun Nyar",196952,"Yun Nyar","MMR012CMP028"," 92.969350°"," 20.727590°",null,138,780,{"$f":"IF(AND(Table_CampList[[#This Row],[HH]]<>\"\",Table_CampList[[#This Row],[HH]]>0),Table_CampList[[#This Row],[Total]]/Table_CampList[[#This Row],[HH]],0)","v":5.6521739130434785},"Accessible by All","Individual accommodation ",null,null,"Muslim","Focal Point","UNHCR","Camp/Community Leader","Estimate","2013-10-01",null,null,"Open"]
["Open","Rakhine","MMR012","Sittwe","MMR012D001","Kyauktaw","MMR012004","Sin Oe Chaing","MMR012004069","Shwe Hlaing Ku Lar",196868,"Shwe Hlaing","MMR012CMP029"," 92.987400°"," 20.783320°",null,174,944,{"$f":"IF(AND(Table_CampList[[#This Row],[HH]]<>\"\",Table_CampList[[#This Row],[HH]]>0),Table_CampList[[#This Row],[Total]]/Table_CampList[[#This Row],[HH]],0)","v":5.4252873563218387},"Accessible by All","Individual accommodation ",null,null,"Muslim","Focal Point","UNHCR","Camp/Community Leader","Estimate","2013-10-01",null,null,"Open"]
["Open","Rakhine","MMR012","Sittwe","MMR012D001","Kyauktaw","MMR012004","Khaung Toke","MMR012004030","Khaung Toke (Ku Lar)",196838,"Khaung Htoke","MMR012CMP030"," 93.006498°"," 20.886998°",null,99,590,{"$f":"IF(AND(Table_CampList[[#This Row],[HH]]<>\"\",Table_CampList[[#This Row],[HH]]>0),Table_CampList[[#This Row],[Total]]/Table_CampList[[#This Row],[HH]],0)","v":5.9595959595959593},"Accessible by All","Individual accommodation ",null,null,"Muslim","Focal Point","UNHCR","Camp/Community Leader","Estimate","2013-10-01",null,null,"Open"]
["Open","Rakhine","MMR012","Sittwe","MMR012D001","Rathedaung","MMR012008","Nyaung Pin Gyi","MMR012008082","Nyaung Pin Gyi (Ku Lar)",197780,"Nyaung Pin Gyi","MMR012CMP031"," 92.785706°"," 20.335864°",null,62,420,{"$f":"IF(AND(Table_CampList[[#This Row],[HH]]<>\"\",Table_CampList[[#This Row],[HH]]>0),Table_CampList[[#This Row],[Total]]/Table_CampList[[#This Row],[HH]],0)","v":6.774193548387097},"Accessible by All","Planned Camp",null,null,"Muslim","Focal Point","UNHCR","Camp/Community Leader","Estimate","2013-10-01",null,"Individual Accomodation to Planned Camp (Gov't constructed Long Houses)","Open"]
["Open","Rakhine","MMR012","Sittwe","MMR012D001","Rathedaung","MMR012008","Ah Nauk Pyin","MMR012008072","Ah Nauk Pyin",197763,"Ah Nauk Pyin","MMR012CMP032"," 92.781294°"," 20.399269°",null,57,296,{"$f":"IF(AND(Table_CampList[[#This Row],[HH]]<>\"\",Table_CampList[[#This Row],[HH]]>0),Table_CampList[[#This Row],[Total]]/Table_CampList[[#This Row],[HH]],0)","v":5.192982456140351},"Accessible by All","Planned Camp",null,null,"Muslim","Focal Point","UNHCR","Camp/Community Leader","Estimate","2013-10-01",null,"Individual Accomodation to Planned Camp (Gov't constructed Long Houses)","Open"]
["Open","Rakhine","MMR012","Sittwe","MMR012D001","Rathedaung","MMR012008","Koe Tan Kauk","MMR012008031","Chein Khar Li (Ku Lar)",197651,"Chein Khar Li","MMR012CMP033"," 92.660361°"," 20.408453°",null,217,1216,{"$f":"IF(AND(Table_CampList[[#This Row],[HH]]<>\"\",Table_CampList[[#This Row],[HH]]>0),Table_CampList[[#This Row],[Total]]/Table_CampList[[#This Row],[HH]],0)","v":5.6036866359447002},"Accessible by All","Planned Camp",null,null,"Muslim","Focal Point","UNHCR","Camp/Community Leader","Estimate","2013-10-01",null,null,"Open"]
["Open","Rakhine","MMR012","Sittwe","MMR012D001","Rathedaung","MMR012008","Chut Pyin","MMR012008006","Chut Pyin",197590,"Ah Htet Nan Yar","MMR012CMP034"," 92.640022°"," 20.569219°",null,250,1231,{"$f":"IF(AND(Table_CampList[[#This Row],[HH]]<>\"\",Table_CampList[[#This Row],[HH]]>0),Table_CampList[[#This Row],[Total]]/Table_CampList[[#This Row],[HH]],0)","v":4.9240000000000004},"Accessible by All","Individual accommodation ",null,null,"Muslim","Focal Point","UNHCR","Camp/Community Leader","Estimate","2013-10-01",null,null,"Open"]
["Open","Rakhine","MMR012","Kyaukpyu","MMR012D003","Kyauk_Phyu","MMR012011","Gone Chein","MMR012011006","Say Poke Kay",198486,"Kyauk Ta Lone","MMR012CMP035"," 93.512326°"," 19.424577°",null,427,1535,{"$f":"IF(AND(Table_CampList[[#This Row],[HH]]<>\"\",Table_CampList[[#This Row],[HH]]>0),Table_CampList[[#This Row],[Total]]/Table_CampList[[#This Row],[HH]],0)","v":3.5948477751756442},"Accessible by All","Planned Camp",null,null,"Muslim","Focal Point","Oxfam","Camp/Community Leader","Estimate","2013-10-01",null,null,"Open"]
["Open","Rakhine","MMR012","Kyaukpyu","MMR012D003","Kyauk_Phyu","MMR012011","Taung Yin","MMR012011002","Ka Nyin Taw",198469,"Pha Yar Gyi Kwin","MMR012CMP036"," 93.552452°"," 19.421102°",null,65,321,{"$f":"IF(AND(Table_CampList[[#This Row],[HH]]<>\"\",Table_CampList[[#This Row],[HH]]>0),Table_CampList[[#This Row],[Total]]/Table_CampList[[#This Row],[HH]],0)","v":4.9384615384615387},"Accessible by All","Planned Camp",null,null,"Rakhine","Focal Point","Oxfam","Camp/Community Leader","Estimate","2013-10-01",null,null,"Open"]
["Open","Rakhine","MMR012","Kyaukpyu","MMR012D003","Ramree","MMR012013","Kha Maung Chi Taing","MMR012013020",null,null,"Ramree Ward 6","MMR012CMP037"," 93.857593°"," 19.088283°",null,57,185,{"$f":"IF(AND(Table_CampList[[#This Row],[HH]]<>\"\",Table_CampList[[#This Row],[HH]]>0),Table_CampList[[#This Row],[Total]]/Table_CampList[[#This Row],[HH]],0)","v":3.2456140350877192},"Accessible by All","Planned Camp",null,null,"Muslim","Focal Point","Oxfam","Camp/Community Leader","Estimate","2013-10-01","Urban","Urban","Open"]
["Open","Rakhine","MMR012","Kyaukpyu","MMR012D003","Ramree","MMR012013","Kha Maung Chi Taing","MMR012013020",null,null,"Ramree Town","MMR012CMP038"," 93.865170°"," 19.091054°",null,18,70,{"$f":"IF(AND(Table_CampList[[#This Row],[HH]]<>\"\",Table_CampList[[#This Row],[HH]]>0),Table_CampList[[#This Row],[Total]]/Table_CampList[[#This Row],[HH]],0)","v":3.8888888888888888},"Accessible by All","Individual accommodation ",null,null,"Rakhine","Focal Point","Oxfam","Camp/Community Leader","Estimate","2013-10-01","Urban","Urban","Open"]
["Open","Rakhine","MMR012","Sittwe","MMR012D001","Sittwe","MMR012001","San Pya Ward","MMR012002701",null,"MMR012002701501","Basare","MMR012CMP039"," 92.875814°"," 20.128489°",null,413,1878,{"$f":"IF(AND(Table_CampList[[#This Row],[HH]]<>\"\",Table_CampList[[#This Row],[HH]]>0),Table_CampList[[#This Row],[Total]]/Table_CampList[[#This Row],[HH]],0)","v":4.5472154963680387},"Accessible by All","Planned Camp",null,null,"Muslim","Camp Management","Luteran World Federation","Camp/Community Leader","Estimate","2013-10-01",null,null,"Open"]
["Open","Rakhine","MMR012","Sittwe","MMR012D001","Sittwe","MMR012001","Bu May","MMR012001027","Dar Paing Ywar Thit",196206,"Dar Pai","MMR012CMP041"," 92.827427°"," 20.168460°",null,1776,10648,{"$f":"IF(AND(Table_CampList[[#This Row],[HH]]<>\"\",Table_CampList[[#This Row],[HH]]>0),Table_CampList[[#This Row],[Total]]/Table_CampList[[#This Row],[HH]],0)","v":5.9954954954954953},"Accessible by All","Planned Camp",null,null,"Muslim","Camp Management","Danish Refugee Council","Camp/Community Leader","Estimate","2013-10-01",null,null,"Open"]
["Open","Rakhine","MMR012","Sittwe","MMR012D001","Sittwe","MMR012001","Khaung Doke Kar","MMR012001025","Khaung Doke Kar",196191,"Khaung Doke Khar ","MMR012CMP042"," 92.823167°"," 20.181778°",null,791,3918,{"$f":"IF(AND(Table_CampList[[#This Row],[HH]]<>\"\",Table_CampList[[#This Row],[HH]]>0),Table_CampList[[#This Row],[Total]]/Table_CampList[[#This Row],[HH]],0)","v":4.9532237673830597},"Accessible by All","Planned Camp",null,null,"Muslim","Camp Management","Luteran World Federation","Camp/Community Leader","Estimate","2013-10-01",null,"Merged with Hmanzi ","Open"]
["Open","Rakhine","MMR012","Sittwe","MMR012D001","Sittwe","MMR012001","Say Tha Mar","MMR012001010","Say Tha Mar Gyi",196154,"Say Tha Mar Gyi","MMR012CMP045"," 92.792480°"," 20.202525°",null,2554,13747,{"$f":"IF(AND(Table_CampList[[#This Row],[HH]]<>\"\",Table_CampList[[#This Row],[HH]]>0),Table_CampList[[#This Row],[Total]]/Table_CampList[[#This Row],[HH]],0)","v":5.3825371965544244},"Accessible by All","Planned Camp",null,null,"Muslim","Camp Management","Danish Refugee Council","Camp/Community Leader","Estimate","2013-10-01",null,"Merged with Phwe Yar Kone","Open"]
["Open","Rakhine","MMR012","Sittwe","MMR012D001","Sittwe","MMR012001","Bu May","MMR012001027","Thea Chaung Ku Lar",196211,"Thae Chaung","MMR012CMP046"," 92.839417°"," 20.158500° ",null,981,5452,{"$f":"IF(AND(Table_CampList[[#This Row],[HH]]<>\"\",Table_CampList[[#This Row],[HH]]>0),Table_CampList[[#This Row],[Total]]/Table_CampList[[#This Row],[HH]],0)","v":5.557594291539246},"Accessible by All","Planned Camp",null,null,"Muslim","Focal Point","Solidarites International","Camp/Community Leader","Estimate","2013-10-01",null,null,"Open"]
["Open","Rakhine","MMR012","Sittwe","MMR012D001","Sittwe","MMR012001","Bu May","MMR012001027","Kha War De Ywar Haung",196186,"Thet Kae Pyin ","MMR012CMP048"," 92.831879°"," 20.179940°",null,913,4832,{"$f":"IF(AND(Table_CampList[[#This Row],[HH]]<>\"\",Table_CampList[[#This Row],[HH]]>0),Table_CampList[[#This Row],[Total]]/Table_CampList[[#This Row],[HH]],0)","v":5.2924424972617743},"Accessible by All","Planned Camp",null,null,"Muslim","Camp Management","Save the Children","Camp/Community Leader","Estimate","2013-10-01",null,null,"Open"]
["Open","Rakhine","MMR012","Sittwe","MMR012D001","Sittwe","MMR012001","Set Yon Su Ward","MMR012001701",null,"MMR012001701526","Set Yone Su","MMR012CMP056"," 92.880320°"," 20.148584°",null,74,436,{"$f":"IF(AND(Table_CampList[[#This Row],[HH]]<>\"\",Table_CampList[[#This Row],[HH]]>0),Table_CampList[[#This Row],[Total]]/Table_CampList[[#This Row],[HH]],0)","v":5.8918918918918921},"Accessible by All","Planned Camp",null,null,"Maramargyi","Focal Point","UNHCR","Camp/Community Leader","Estimate","2013-10-01",null,null,"Open"]
["Open","Rakhine","MMR012","Sittwe","MMR012D001","Sittwe","MMR012001","Thin Pone Tan","MMR012001002","Thin Pone Tan",196129,"Thin Pone Tan","MMR012CMP058"," 92.836861°"," 20.226865°",null,7,30,{"$f":"IF(AND(Table_CampList[[#This Row],[HH]]<>\"\",Table_CampList[[#This Row],[HH]]>0),Table_CampList[[#This Row],[Total]]/Table_CampList[[#This Row],[HH]],0)","v":4.2857142857142856},"Accessible by All","Individual accommodation ",null,null,"Rakhine","Focal Point","UNHCR","Camp/Community Leader","Estimate","2013-10-01",null,null,"Open"]
["Open","Rakhine","MMR012","Maungdaw","MMR012D002","Maungdaw","MMR012009","Urban","MMR012009701",null,null,"Nyaung Pin Hla","MMR012CMP082"," 92.362197°"," 20.824778°",null,4,20,{"$f":"IF(AND(Table_CampList[[#This Row],[HH]]<>\"\",Table_CampList[[#This Row],[HH]]>0),Table_CampList[[#This Row],[Total]]/Table_CampList[[#This Row],[HH]],0)","v":5},"Accessible by All","Individual accommodation ",null,null,"Muslim","Focal Point","UNHCR","Camp/Community Leader","Estimate","2013-10-01","Ward Name not available","Ward Name not available","Open"]
["Open","Rakhine","MMR012","Maungdaw","MMR012D002","Maungdaw","MMR012009","Myo Ma (North) Ward","MMR012009701",null,"MMR012009701503","Myoma Myauk","MMR012CMP083"," 92.362933°"," 20.827044°",null,80,585,{"$f":"IF(AND(Table_CampList[[#This Row],[HH]]<>\"\",Table_CampList[[#This Row],[HH]]>0),Table_CampList[[#This Row],[Total]]/Table_CampList[[#This Row],[HH]],0)","v":7.3125},"Accessible by All","Individual accommodation ",null,null,"Muslim","Focal Point","UNHCR","Camp/Community Leader","Estimate","2013-10-01",null,null,"Open"]
["Open","Rakhine","MMR012","Maungdaw","MMR012D002","Maungdaw","MMR012009","Myo Ma (North) Ward","MMR012009701",null,"MMR012009701503","Bomu Ywa","MMR012CMP084"," 92.365794°"," 20.819958°",null,10,106,{"$f":"IF(AND(Table_CampList[[#This Row],[HH]]<>\"\",Table_CampList[[#This Row],[HH]]>0),Table_CampList[[#This Row],[Total]]/Table_CampList[[#This Row],[HH]],0)","v":10.6},"Accessible by All","Individual accommodation ",null,null,"Muslim","Focal Point","UNHCR","Camp/Community Leader","Estimate","2013-10-01",null,null,"Open"]
["Open","Rakhine","MMR012","Maungdaw","MMR012D002","Maungdaw","MMR012009","Ywar Thit Kay Ward","MMR012009701",null,"MMR012009701505","Ywa thit Kay","MMR012CMP085"," 92.367853°"," 20.825306°",null,8,62,{"$f":"IF(AND(Table_CampList[[#This Row],[HH]]<>\"\",Table_CampList[[#This Row],[HH]]>0),Table_CampList[[#This Row],[Total]]/Table_CampList[[#This Row],[HH]],0)","v":7.75},"Accessible by All","Individual accommodation ",null,null,"Muslim","Focal Point","UNHCR","Camp/Community Leader","Estimate","2013-10-01",null,null,"Open"]
["Open","Rakhine","MMR012","Maungdaw","MMR012D002","Maungdaw","MMR012009","Myo Thu Gyi","MMR012009063","Ywar Haung",197990,"Thaung Paing Nyar","MMR012CMP086"," 92.401294°"," 20.824517°",null,15,69,{"$f":"IF(AND(Table_CampList[[#This Row],[HH]]<>\"\",Table_CampList[[#This Row],[HH]]>0),Table_CampList[[#This Row],[Total]]/Table_CampList[[#This Row],[HH]],0)","v":4.5999999999999996},"Accessible by All","Individual accommodation ",null,null,"Muslim","Focal Point","UNHCR","Camp/Community Leader","Estimate","2013-10-01",null,null,{"$f":"A101","v":"Open"}]
["Open","Rakhine","MMR012","Maungdaw","MMR012D002","Maungdaw","MMR012009","Than Dar","MMR012009075","Myo Thu Gyi (Yar Zar Bi)",197988,"Du Than Dar","MMR012CMP088"," 92.443428°"," 20.714847°",null,45,291,{"$f":"IF(AND(Table_CampList[[#This Row],[HH]]<>\"\",Table_CampList[[#This Row],[HH]]>0),Table_CampList[[#This Row],[Total]]/Table_CampList[[#This Row],[HH]],0)","v":6.4666666666666668},"Accessible by All","Individual accommodation ",null,null,"Muslim","Focal Point","UNHCR","Camp/Community Leader","Estimate","2013-10-01",null,null,"Open"]
["Open","Rakhine","MMR012","Sittwe","MMR012D001","Sittwe","MMR012001","Bu May","MMR012001027","Kha War De Ywar Haung",196186,"Thet Kae Pyin (IDPs in host family)","MMR012CMP091"," 92.842230°"," 20.181742°",null,420,2458,{"$f":"IF(AND(Table_CampList[[#This Row],[HH]]<>\"\",Table_CampList[[#This Row],[HH]]>0),Table_CampList[[#This Row],[Total]]/Table_CampList[[#This Row],[HH]],0)","v":5.852380952380952},"Accessible by All","Individual accommodation ",null,null,"Muslim","Focal Point","Save the Children","Camp/Community Leader","Estimate","2013-10-01",null,null,"Open"]
["Open","Rakhine","MMR012","Sittwe","MMR012D001","Sittwe","MMR012001","Bu May","MMR012001027","Bu May",196200,"Maw Ti Ngar","MMR012CMP092"," 92.831000°"," 20.185917°",null,667,3579,{"$f":"IF(AND(Table_CampList[[#This Row],[HH]]<>\"\",Table_CampList[[#This Row],[HH]]>0),Table_CampList[[#This Row],[Total]]/Table_CampList[[#This Row],[HH]],0)","v":5.3658170914542724},"Accessible by All","Planned Camp",null,null,"Muslim","Camp Management","Save the Children","Camp/Community Leader","Estimate","2013-10-01",null,null,"Open"]
["Open","Rakhine","MMR012","Sittwe","MMR012D001","Sittwe","MMR012001","Set Yon Su Ward","MMR012001701",null,"MMR012001701526","Set Yone Su 3","MMR012CMP093"," 92.879139°","20.155806°",null,176,779,{"$f":"IF(AND(Table_CampList[[#This Row],[HH]]<>\"\",Table_CampList[[#This Row],[HH]]>0),Table_CampList[[#This Row],[Total]]/Table_CampList[[#This Row],[HH]],0)","v":4.4261363636363633},"Accessible by All","Planned Camp",null,null,"Rakhine","Focal Point","UNHCR","Camp/Community Leader","Estimate","2013-10-01",null,null,"Open"]
["Open","Rakhine","MMR012","Maungdaw","MMR012D002","Maungdaw","MMR012009","Laung Don","MMR012009025","Laung Done Zay Di Pyin",197868,"Sin Thay Pyin","MMR012CMP094"," 92.338031°"," 21.066664°",null,8,53,{"$f":"IF(AND(Table_CampList[[#This Row],[HH]]<>\"\",Table_CampList[[#This Row],[HH]]>0),Table_CampList[[#This Row],[Total]]/Table_CampList[[#This Row],[HH]],0)","v":6.625},"Accessible by All","Individual accommodation ",null,null,"Muslim","Focal Point","UNHCR","Camp/Community Leader","Estimate","2013-10-01",null,null,"Open"]
["Open","Rakhine","MMR012","Maungdaw","MMR012D002","Maungdaw","MMR012009","Myo Thu Gyi","MMR012009063",null,null,"Ward-6","MMR012CMP095"," 92.416683°"," 20.833831°",null,52,369,{"$f":"IF(AND(Table_CampList[[#This Row],[HH]]<>\"\",Table_CampList[[#This Row],[HH]]>0),Table_CampList[[#This Row],[Total]]/Table_CampList[[#This Row],[HH]],0)","v":7.0961538461538458},"Accessible by All","Individual accommodation ",null,null,"Muslim","Focal Point","UNHCR","Camp/Community Leader","Estimate","2013-10-01",null,null,"Open"]
["Open","Rakhine","MMR012","Sittwe","MMR012D001","Sittwe","MMR012001","Bu May","MMR012001027","Dar Paing Ywar Thit",196206,"Dar Pai (IDP in host families)","MMR012CMP097"," 92.830075°"," 20.167422°",null,518,2951,{"$f":"IF(AND(Table_CampList[[#This Row],[HH]]<>\"\",Table_CampList[[#This Row],[HH]]>0),Table_CampList[[#This Row],[Total]]/Table_CampList[[#This Row],[HH]],0)","v":5.6969111969111967},"Accessible by All","Individual accommodation ",null,null,"Muslim","Focal Point","Solidarites International","Camp/Community Leader","Estimate","2013-10-01",null,null,"Open"]
["Open","Rakhine","MMR012","Sittwe","MMR012D001","Sittwe","MMR012001","Say Tha Mar","MMR012001010","Ohn Taw Shey",196158,"Ohn Taw Chay","MMR012CMP098"," 92.774194°"," 20.206778°",null,627,3001,{"$f":"IF(AND(Table_CampList[[#This Row],[HH]]<>\"\",Table_CampList[[#This Row],[HH]]>0),Table_CampList[[#This Row],[Total]]/Table_CampList[[#This Row],[HH]],0)","v":4.7862838915470496},"Accessible by All","Planned Camp",null,null,"Muslim","Camp Management","Danish Refugee Council","Camp/Community Leader","Estimate","2013-10-01",null,"Former OTG 2 ","Open"]
["Open","Rakhine","MMR012","Sittwe","MMR012D001","Sittwe","MMR012001","Bu May","MMR012001027","Thea Chaung Ku Lar",196211,"Thae Chaung (IDP in host families)","MMR012CMP101"," 92.839166°"," 20.157311°",null,1025,5442,{"$f":"IF(AND(Table_CampList[[#This Row],[HH]]<>\"\",Table_CampList[[#This Row],[HH]]>0),Table_CampList[[#This Row],[Total]]/Table_CampList[[#This Row],[HH]],0)","v":5.3092682926829271},"Accessible by All","Individual accommodation ",null,null,"Muslim","Focal Point","Solidarites International","Camp/Community Leader","Estimate","2013-10-01",null,"It includes the group from Kyaukphyu","Open"]
["Open","Rakhine","MMR012","Sittwe","MMR012D001","Sittwe","MMR012001","Khaung Doke Kar","MMR012001025","Baw Du Hpa",196192,"Baw Du Pha (IDP in host families)","MMR012CMP103"," 92.804803°"," 20.182987°",null,41,226,{"$f":"IF(AND(Table_CampList[[#This Row],[HH]]<>\"\",Table_CampList[[#This Row],[HH]]>0),Table_CampList[[#This Row],[Total]]/Table_CampList[[#This Row],[HH]],0)","v":5.5121951219512191},"Accessible by All","Individual accommodation ",null,null,"Muslim","Focal Point","Solidarites International","Camp/Community Leader","Estimate","2013-10-01",null,null,"Open"]
["Open","Rakhine","MMR012","Sittwe","MMR012D001","Minbya","MMR012005","Na Yan","MMR012005010","Sat Yon Maw (Ku Lar)",197023,"Set Yone Maw","MMR012CMP104"," 93.314695°"," 20.409645°",null,17,72,{"$f":"IF(AND(Table_CampList[[#This Row],[HH]]<>\"\",Table_CampList[[#This Row],[HH]]>0),Table_CampList[[#This Row],[Total]]/Table_CampList[[#This Row],[HH]],0)","v":4.2352941176470589},"Accessible by All","Individual accommodation ",null,null,"Rakhine","Focal Point","UNHCR","Camp/Community Leader","Estimate","2013-10-01",null,null,"Open"]
["Open","Rakhine","MMR016","Maungdaw","MMR012D002","Maungdaw","MMR012009","Zaw Ma Tet","MMR012009078","Hin Thar Ya",198049,"Honsara (Zaw Ma Tat)","MMR012CMP109"," 92.435378°"," 20.713883°",null,60,356,{"$f":"IF(AND(Table_CampList[[#This Row],[HH]]<>\"\",Table_CampList[[#This Row],[HH]]>0),Table_CampList[[#This Row],[Total]]/Table_CampList[[#This Row],[HH]],0)","v":5.9333333333333336},"Accessible by All","Individual accommodation ",null,null,"Muslim","Focal Point","UNHCR","Camp/Community Leader","Estimate","2013-10-01",null,null,"Open"]
["Open","Rakhine","MMR012","Sittwe","MMR012D001","Rathedaung","MMR012008","Koe Tan Kauk","MMR012008031","Koe Tan Kauk Ywar Ma",197652,"Koe Tan Kauk","MMR012CMP110"," 92.639589°"," 20.447261°",null,196,913,{"$f":"IF(AND(Table_CampList[[#This Row],[HH]]<>\"\",Table_CampList[[#This Row],[HH]]>0),Table_CampList[[#This Row],[Total]]/Table_CampList[[#This Row],[HH]],0)","v":4.658163265306122},"Accessible by All","Planned Camp",null,null,"Muslim","Focal Point","UNHCR","Camp/Community Leader","Estimate","2013-10-01",null,null,"Open"]
["Open","Rakhine","MMR012","Sittwe","MMR012D001","Sittwe","MMR012001","Urban","MMR012001701","Sut Yoe Kya Ward","MMR012001701531","Sat Roe Kya 1","MMR012CMP111"," 92.887278°"," 20.151472°",null,631,3002,{"$f":"IF(AND(Table_CampList[[#This Row],[HH]]<>\"\",Table_CampList[[#This Row],[HH]]>0),Table_CampList[[#This Row],[Total]]/Table_CampList[[#This Row],[HH]],0)","v":4.7575277337559427},"Accessible by All","Planned Camp",null,null,"Rakhine","Camp Management","Save the Children","Camp/Community Leader","Estimate","2013-10-01","We only have data for Sat Roe Kya 1 and 2 as combination ","We only have data for Sat Roe Kya 1 and 2 as combination ","Open"]
["Open","Rakhine","MMR012","Sittwe","MMR012D001","Sittwe","MMR012001","Urban","MMR012001701","Sut Yoe Kya Ward","MMR012001701531","Sat Roe Kya 2","MMR012CMP112"," 92.887278°"," 20.151472°",null,0,0,{"$f":"IF(AND(Table_CampList[[#This Row],[HH]]<>\"\",Table_CampList[[#This Row],[HH]]>0),Table_CampList[[#This Row],[Total]]/Table_CampList[[#This Row],[HH]],0)","v":0},"Accessible by All","Planned Camp",null,null,"Rakhine","Focal Point",null,"Camp/Community Leader","Estimate","2013-10-01","We only have data for Sat Roe Kya 1 and 2 as combination ","We only have data for Sat Roe Kya 1 and 2 as combination ","Open"]
["Open","Rakhine","MMR012","Sittwe","MMR012D001","Sittwe","MMR012001","Khaung Doke Kar","MMR012001025","Baw Du Hpa",196192,"Baw Du Pha 1","MMR012CMP113"," 92.813028°"," 20.179417°",null,901,4314,{"$f":"IF(AND(Table_CampList[[#This Row],[HH]]<>\"\",Table_CampList[[#This Row],[HH]]>0),Table_CampList[[#This Row],[Total]]/Table_CampList[[#This Row],[HH]],0)","v":4.7880133185349614},"Accessible by All","Planned Camp",null,null,"Muslim","Camp Management","Danish Refugee Council","Camp/Community Leader","Estimate","2013-10-01","We only have data forBaw Du Pha  1 and 2 as combination ","We only have data forBaw Du Pha  1 and 2 as combination ","Open"]
["Open","Rakhine","MMR012","Sittwe","MMR012D001","Sittwe","MMR012001","Khaung Doke Kar","MMR012001025","Baw Du Hpa",196192,"Baw Du Pha 2","MMR012CMP114"," 92.807552°"," 20.181406°",null,1234,6513,{"$f":"IF(AND(Table_CampList[[#This Row],[HH]]<>\"\",Table_CampList[[#This Row],[HH]]>0),Table_CampList[[#This Row],[Total]]/Table_CampList[[#This Row],[HH]],0)","v":5.2779578606158832},"Accessible by All","Planned Camp",null,null,"Muslim","Camp Management","Danish Refugee Council","Camp/Community Leader","Estimate","2013-10-01","We only have data forBaw Du Pha  1 and 2 as combination ","We only have data forBaw Du Pha  1 and 2 as combination ","Open"]
["Open","Rakhine","MMR012","Sittwe","MMR012D001","Sittwe","MMR012001","Khaung Doke Kar","MMR012001025","Baw Du Hpa",196192,"Ohn Taw Gyi (North)","MMR012CMP115"," 92.798881°"," 20.189940°",null,1490,8186,{"$f":"IF(AND(Table_CampList[[#This Row],[HH]]<>\"\",Table_CampList[[#This Row],[HH]]>0),Table_CampList[[#This Row],[Total]]/Table_CampList[[#This Row],[HH]],0)","v":5.4939597315436242},"Accessible by All","Planned Camp",null,null,"Muslim","Camp Management","Danish Refugee Council","LWF","Estimate","2013-10-01",null,"Former OTG 1  - 115 shelters inland side, OTG 3, OTG 6, BDP (60)","Open"]
["Open","Rakhine","MMR012","Sittwe","MMR012D001","Sittwe","MMR012001","Khaung Doke Kar","MMR012001025","Baw Du Hpa",196192,"Ohn Taw Gyi (South)","MMR012CMP116"," 92.802296°"," 20.185092°",null,2276,12315,{"$f":"IF(AND(Table_CampList[[#This Row],[HH]]<>\"\",Table_CampList[[#This Row],[HH]]>0),Table_CampList[[#This Row],[Total]]/Table_CampList[[#This Row],[HH]],0)","v":5.4108084358523723},"Accessible by All","Planned Camp",null,null,"Muslim","Camp Management","Luteran World Federation","DRC","Estimate","2013-10-01",null,"Former OTG 1 - 35 shelters seaside, OTG 4, OTG 5, BDP (20)","Open"]
["Open","Rakhine","MMR012","Sittwe","MMR012D001","Mrauk_U","MMR012003","Oke Kar Kyaw","MMR012003024","Thi Kyar",196501,"Thi Kyar","MMR012CMP117"," 93.246863°"," 20.495086°",null,31,130,{"$f":"IF(AND(Table_CampList[[#This Row],[HH]]<>\"\",Table_CampList[[#This Row],[HH]]>0),Table_CampList[[#This Row],[Total]]/Table_CampList[[#This Row],[HH]],0)","v":4.193548387096774},"Accessible by All","Planned Camp",null,null,"Rakhine","Focal Point","UNHCR","Camp/Community Leader","Estimate","2013-10-01","People are from Myat Buddha Mandine Monastery","People are from Myat Buddha Mandine Monastery","Open"]

{"sheet":"Definition_TCL","index":4,"n_rows":120,"n_cols":10,"rows_kept":120,"cut":false,"hidden":true,"merged":[]}
["Status","(All)"]
[]
["TOWNSHIP_NAME","Camp Name","Count of Township_Pcode",null,null,null,"Camp Name","P_Code","Status","Sum of HH"]
["Kyauk_Phyu","Kyauk Ta Lone",1,null,null,null,"Ah Htet Nan Yar","MMR012CMP034","Open",250]
["Kyauk_Phyu","Pha Yar Gyi Kwin",1,null,null,null,"Ah Lel","MMR012CMP022","Open",17]
["Kyauktaw","Ah Lel",1,null,null,null,"Ah Lel Kyun","MMR012CMP025","Open",14]
["Kyauktaw","Ah Lel Kyun",1,null,null,null,"Ah Nauk Pyin","MMR012CMP032","Open",57]
["Kyauktaw","Ah Pauk Wa ",1,null,null,null,"Ah Nauk Ywe","MMR012CMP016","Open",880]
["Kyauktaw","Goke Pi Htaunt",1,null,null,null,"Ah Pauk Wa ","MMR012CMP024","Open",133]
["Kyauktaw","In Bar Yi",1,null,null,null,"Alima Fara","MMR012CMP089","Close"]
["Kyauktaw","Khaung Htoke",1,null,null,null,"Ar Thaw Ka Yone Monastery","MMR012CMP069","Close"]
["Kyauktaw","Let Saung Kauk",1,null,null,null,"Aung Taing","MMR012CMP006","Open",86]
["Kyauktaw","Nidin",1,null,null,null,"Ba Wan Chaung Wa Su","MMR012CMP015","Open",21]
["Kyauktaw","Shwe Hlaing",1,null,null,null,"Basare","MMR012CMP039","Open",413]
["Kyauktaw","Taung Bwe",1,null,null,null,"Baw Di Gone","MMR012CMP079","Close"]
["Kyauktaw","Yun Nyar",1,null,null,null,"Baw Du Pha","MMR012CMP040","Close"]
["Maungdaw","Alima Fara",1,null,null,null,"Baw Du Pha (IDP in host families)","MMR012CMP103","Open",41]
["Maungdaw","Baw Di Gone",1,null,null,null,"Baw Du Pha 1","MMR012CMP113","Open",901]
["Maungdaw","Bomu Ywa",1,null,null,null,"Baw Du Pha 2","MMR012CMP114","Open",1234]
["Maungdaw","Bomu Ywa 2",1,null,null,null,"Bomu Ywa","MMR012CMP084","Open",10]
["Maungdaw","Du Than Dar",1,null,null,null,"Bomu Ywa 2","MMR012CMP106","Close"]
["Maungdaw","Honsara (Zaw Ma Tat)",1,null,null,null,"Bu May Ohn Taw","MMR012CMP051","Close"]
["Maungdaw","Kan Thar Yar",1,null,null,null,"Bu May Ohn Taw Shore","MMR012CMP052","Close"]
["Maungdaw","Kin Chaung",1,null,null,null,"Chein Khar Li","MMR012CMP033","Open",217]
["Maungdaw","Kyaing Gyi",1,null,null,null,"Dak Kaung Monastery","MMR012CMP059","Close"]
["Maungdaw","Lamber Gone Nah",1,null,null,null,"Dama Set Kyar Monastery","MMR012CMP060","Close"]
["Maungdaw","Maw Ya Waddy",1,null,null,null,"Danyawaddy Baw Lone Kwin","MMR012CMP055","Close"]
["Maungdaw","Myoma Myauk",1,null,null,null,"Dar Pai","MMR012CMP041","Open",1776]
["Maungdaw","Nyaung Pin Hla",1,null,null,null,"Dar Pai (IDP in host families)","MMR012CMP097","Open",518]
["Maungdaw","Sin Thay Pyin",1,null,null,null,"Dohn Taik Kwin","MMR012CMP057","Close"]
["Maungdaw","Tha Yay Kone Baung",1,null,null,null,"Du Than Dar","MMR012CMP088","Open",45]
["Maungdaw","Thaung Paing Nyar",1,null,null,null,"Goke Pi Htaunt","MMR012CMP027","Open",116]
["Maungdaw","Ward-6",1,null,null,null,"Gyit Bak Monastery","MMR012CMP073","Close"]
["Maungdaw","Ywa thit Kay",1,null,null,null,"Gyit Chay Monastery","MMR012CMP061","Close"]
["Maungdaw","Ywa thit Kay 2",1,null,null,null,"Hmanzi ","MMR012CMP102","Close"]
["Maungdaw","Ywa thit Kay 3",1,null,null,null,"Hmanzi Junction","MMR012CMP049","Close"]
["Meybon","Kan Thar Htwat Wa",1,null,null,null,"Honsara (Zaw Ma Tat)","MMR012CMP109","Open",60]
["Meybon","Taung Paw ",1,null,null,null,"In Bar Yi","MMR012CMP026","Open",230]
["Minbya","Aung Taing",1,null,null,null,"Kan Thar Htwat Wa","MMR012CMP013","Open",44]
["Minbya","Nagara Pauktaw",1,null,null,null,"Kan Thar Yar","MMR012CMP081","Close"]
["Minbya","Paik Thay",1,null,null,null,"Kha Maung Taw Monastery","MMR012CMP071","Close"]
["Minbya","Sam Ba Le",1,null,null,null,"Khaung Doke Khar ","MMR012CMP042","Open",791]
["Minbya","San Htoe Tan",1,null,null,null,"Khaung Htoke","MMR012CMP030","Open",99]
["Minbya","Set Yone Maw",1,null,null,null,"Kin Chaung","MMR012CMP080","Close"]
["Minbya","Tha Dar",1,null,null,null,"Koe Tan Kauk","MMR012CMP110","Open",196]
["Minbya","Tha Yet Oak",1,null,null,null,"Kyaing Gyi","MMR012CMP078","Close"]
["Minbya","Thay Kan",1,null,null,null,"Kyauk Ta Lone","MMR012CMP035","Open",427]
["Mrauk_U","Myat Buddha Mandine Monastery",1,null,null,null,"Kyein Ni Pyin","MMR012CMP018","Open",1045]
["Mrauk_U","Pa Rein",1,null,null,null,"Lamber Gone Nah","MMR012CMP087","Close"]
["Mrauk_U","Raw Ma Ni Sin Oe",1,null,null,null,"Layaungwin Monastery","MMR012CMP062","Close"]
["Mrauk_U","Thi Kyar",1,null,null,null,"Let Saung Kauk","MMR012CMP020","Open",18]
["Mrauk_U","Yai Thei-Muslim",1,null,null,null,"Ma Gyi Myaing","MMR012CMP053","Close"]
["Pauktaw","Ah Nauk Ywe",1,null,null,null,"Ma Ni Yadanar Monastery","MMR012CMP072","Close"]
["Pauktaw","Ba Wan Chaung Wa Su",1,null,null,null,"Maw Ti Ngar","MMR012CMP092","Open",667]
["Pauktaw","Kyein Ni Pyin",1,null,null,null,"Maw Ya Waddy","MMR012CMP076","Close"]
["Pauktaw","Nget Chaung",1,null,null,null,"Mingan","MMR012CMP054","Close"]
["Pauktaw","Sin Tet Maw",1,null,null,null,"Myat Buddha Mandine Monastery","MMR012CMP011","Close"]
["Pauktaw","Sin Tet Maw (from Nget Chaung)",1,null,null,null,"Myo Ma Monastery","MMR012CMP063","Close"]
["Ramree","Ramree Town",1,null,null,null,"Myoma Myauk","MMR012CMP083","Open",80]
["Ramree","Ramree Ward 6",1,null,null,null,"Nagara Pauktaw","MMR012CMP004","Close"]
["Rathedaung","Ah Htet Nan Yar",1,null,null,null,"Nget Chaung","MMR012CMP017","Open",1176]
["Rathedaung","Ah Nauk Pyin",1,null,null,null,"Nidin","MMR012CMP023","Open",85]
["Rathedaung","Chein Khar Li",1,null,null,null,"Nyaung Pin Gyi","MMR012CMP031","Open",62]
["Rathedaung","Koe Tan Kauk",1,null,null,null,"Nyaung Pin Hla","MMR012CMP082","Open",4]
["Rathedaung","Nyaung Pin Gyi",1,null,null,null,"Ohn Taw Chay","MMR012CMP098","Open",627]
["Sittwe","Ar Thaw Ka Yone Monastery",1,null,null,null,"Ohn Taw Gyi (North)","MMR012CMP115","Open",1490]
["Sittwe","Basare",1,null,null,null,"Ohn Taw Gyi (South)","MMR012CMP116","Open",2276]
["Sittwe","Baw Du Pha",1,null,null,null,"Ohn Taw Gyi 1","MMR012CMP043","Close"]
["Sittwe","Baw Du Pha (IDP in host families)",1,null,null,null,"Ohn Taw Gyi 3","MMR012CMP090","Close"]
["Sittwe","Baw Du Pha 1",1,null,null,null,"Ohn Taw Gyi 4","MMR012CMP099","Close"]
["Sittwe","Baw Du Pha 2",1,null,null,null,"Ohn Taw Gyi 5","MMR012CMP100","Close"]
["Sittwe","Bu May Ohn Taw",1,null,null,null,"Pa Lin Pyin Ywar Thit","MMR012CMP050","Close"]
["Sittwe","Bu May Ohn Taw Shore",1,null,null,null,"Pa Rein","MMR012CMP009","Open",240]
["Sittwe","Dak Kaung Monastery",1,null,null,null,"Paik Thay","MMR012CMP001","Open",16]
["Sittwe","Dama Set Kyar Monastery",1,null,null,null,"Pha Yar Gyi Kwin","MMR012CMP036","Open",65]
["Sittwe","Danyawaddy Baw Lone Kwin",1,null,null,null,"Phwe Yar Kone","MMR012CMP044","Close"]
["Sittwe","Dar Pai",1,null,null,null,"Pyin Nyar Mandine Monastery","MMR012CMP064","Close"]
["Sittwe","Dar Pai (IDP in host families)",1,null,null,null,"Ramree Town","MMR012CMP038","Open",18]
["Sittwe","Dohn Taik Kwin",1,null,null,null,"Ramree Ward 6","MMR012CMP037","Open",57]
["Sittwe","Gyit Bak Monastery",1,null,null,null,"Raw Ma Ni Sin Oe","MMR012CMP012","Open",11]
["Sittwe","Gyit Chay Monastery",1,null,null,null,"Sam Ba Le","MMR012CMP008","Open",225]
["Sittwe","Hmanzi ",1,null,null,null,"San Htoe Tan","MMR012CMP003","Open",125]
["Sittwe","Hmanzi Junction",1,null,null,null,"Sat Roe Kya","MMR012CMP105","Close"]
["Sittwe","Kha Maung Taw Monastery",1,null,null,null,"Sat Roe Kya 1","MMR012CMP111","Open",631]
["Sittwe","Khaung Doke Khar ",1,null,null,null,"Sat Roe Kya 2","MMR012CMP112","Open",0]
["Sittwe","Layaungwin Monastery",1,null,null,null,"Say Tha Mar Gyi","MMR012CMP045","Open",2554]
["Sittwe","Ma Gyi Myaing",1,null,null,null,"Set Yone Maw","MMR012CMP104","Open",17]
["Sittwe","Ma Ni Yadanar Monastery",1,null,null,null,"Set Yone Su","MMR012CMP056","Open",74]
["Sittwe","Maw Ti Ngar",1,null,null,null,"Set Yone Su 3","MMR012CMP093","Open",176]
["Sittwe","Mingan",1,null,null,null,"Shwe Hlaing","MMR012CMP029","Open",174]
["Sittwe","Myo Ma Monastery",1,null,null,null,"Shwe Zay Ti Monastery","MMR012CMP065","Close"]
["Sittwe","Ohn Taw Chay",1,null,null,null,"Sin Ku Lann Monastery","MMR012CMP068","Close"]
["Sittwe","Ohn Taw Gyi (North)",1,null,null,null,"Sin Tet Maw","MMR012CMP019","Open",748]
["Sittwe","Ohn Taw Gyi (South)",1,null,null,null,"Sin Tet Maw (from Nget Chaung)","MMR012CMP096","Close"]
["Sittwe","Ohn Taw Gyi 1",1,null,null,null,"Sin Thay Pyin","MMR012CMP094","Open",8]
["Sittwe","Ohn Taw Gyi 3",1,null,null,null,"Su Taung Pyae Monastery","MMR012CMP066","Close"]
["Sittwe","Ohn Taw Gyi 4",1,null,null,null,"Taung Bwe","MMR012CMP021","Open",64]
["Sittwe","Ohn Taw Gyi 5",1,null,null,null,"Taung Paw ","MMR012CMP014","Open",752]
["Sittwe","Pa Lin Pyin Ywar Thit",1,null,null,null,"Tha Dar","MMR012CMP002","Open",203]
["Sittwe","Phwe Yar Kone",1,null,null,null,"Tha Yay Kone Baung","MMR012CMP077","Close"]
["Sittwe","Pyin Nyar Mandine Monastery",1,null,null,null,"Tha Yet Oak","MMR012CMP005","Open",296]
["Sittwe","Sat Roe Kya",1,null,null,null,"Thae Chaung","MMR012CMP046","Open",981]
["Sittwe","Sat Roe Kya 1",1,null,null,null,"Thae Chaung (IDP in host families)","MMR012CMP101","Open",1025]
["Sittwe","Sat Roe Kya 2",1,null,null,null,"Thae Chaung (Kyaukphyu)","MMR012CMP047","Close"]
["Sittwe","Say Tha Mar Gyi",1,null,null,null,"Thangga Yarzar Monastery","MMR012CMP070","Close"]
["Sittwe","Set Yone Su",1,null,null,null,"Thaung Paing Nyar","MMR012CMP086","Open",15]
["Sittwe","Set Yone Su 3",1,null,null,null,"Thay Kan","MMR012CMP007","Close"]
["Sittwe","Shwe Zay Ti Monastery",1,null,null,null,"Theit Di Kar Yone Monastery","MMR012CMP067","Close"]
["Sittwe","Sin Ku Lann Monastery",1,null,null,null,"Thet Kae Pyin ","MMR012CMP048","Open",913]
["Sittwe","Su Taung Pyae Monastery",1,null,null,null,"Thet Kae Pyin (IDPs in host family)","MMR012CMP091","Open",420]
["Sittwe","Thae Chaung",1,null,null,null,"Thi Kyar","MMR012CMP117","Open",31]
["Sittwe","Thae Chaung (IDP in host families)",1,null,null,null,"Thin Pone Tan","MMR012CMP058","Open",7]
["Sittwe","Thae Chaung (Kyaukphyu)",1,null,null,null,"Ward-6","MMR012CMP095","Open",52]
["Sittwe","Thangga Yarzar Monastery",1,null,null,null,"Weikzar Thaikdi Monastery","MMR012CMP075","Close"]
["Sittwe","Theit Di Kar Yone Monastery",1,null,null,null,"Ya Tayar Monastery","MMR012CMP074","Close"]
["Sittwe","Thet Kae Pyin ",1,null,null,null,"Yai Thei-Muslim","MMR012CMP010","Open",398]
["Sittwe","Thet Kae Pyin (IDPs in host family)",1,null,null,null,"Yun Nyar","MMR012CMP028","Open",138]
["Sittwe","Thin Pone Tan",1,null,null,null,"Ywa thit Kay","MMR012CMP085","Open",8]
["Sittwe","Weikzar Thaikdi Monastery",1,null,null,null,"Ywa thit Kay 2","MMR012CMP107","Close"]
["Sittwe","Ya Tayar Monastery",1,null,null,null,"Ywa thit Kay 3","MMR012CMP108","Close"]

{"sheet":"Camp List_print","index":5,"n_rows":87,"n_cols":8,"rows_kept":87,"cut":false,"hidden":false,"merged":[[1,0,1,2],[2,0,2,2]]}
[]
["Rakhine - IDPs CAMP LIST"]
[{"$f":"Report_Date","v":"2013-12-01"}]
[]
[]
["Status","Open"]
[]
["TOWNSHIP_NAME","Camp Name","Type of Accomodation","P_Code","Longitude","Latitude","HH ","Ind "]
["Kyauk_Phyu","Kyauk Ta Lone","Planned Camp","MMR012CMP035"," 93.512326°"," 19.424577°",427,1535]
[null,"Pha Yar Gyi Kwin","Planned Camp","MMR012CMP036"," 93.552452°"," 19.421102°",65,321]
["Kyauk_Phyu Total",null,null,null,null,null,492,1856]
["Kyauktaw","Ah Lel","Individual accommodation ","MMR012CMP022"," 93.003205°"," 20.921425°",17,136]
[null,"Ah Lel Kyun","Individual accommodation ","MMR012CMP025"," 93.014350°"," 20.896740°",14,84]
[null,"Ah Pauk Wa ","Individual accommodation ","MMR012CMP024"," 92.961841°"," 20.720213°",133,806]
[null,"Goke Pi Htaunt","Individual accommodation ","MMR012CMP027"," 93.014090°"," 20.713260°",116,709]
[null,"In Bar Yi","Individual accommodation ","MMR012CMP026"," 93.009900°"," 20.696820°",230,1382]
[null,"Khaung Htoke","Individual accommodation ","MMR012CMP030"," 93.006498°"," 20.886998°",99,590]
[null,"Let Saung Kauk","Individual accommodation ","MMR012CMP020"," 92.982676°"," 20.805734°",18,157]
[null,"Nidin","Planned Camp","MMR012CMP023"," 92.965981°"," 20.865687°",85,531]
[null,"Shwe Hlaing","Individual accommodation ","MMR012CMP029"," 92.987400°",null,174,944]
[null,"Taung Bwe","Individual accommodation ","MMR012CMP021"," 93.000815°"," 20.929649°",64,512]
[null,"Yun Nyar","Individual accommodation ","MMR012CMP028"," 92.969350°"," 20.727590°",138,780]
["Kyauktaw Total",null,null,null,null,null,1088,6631]
["Maungdaw","Bomu Ywa","Individual accommodation ","MMR012CMP084"," 92.365794°"," 20.819958°",10,106]
[null,"Du Than Dar","Individual accommodation ","MMR012CMP088"," 92.443428°"," 20.714847°",45,291]
[null,"Myoma Myauk","Individual accommodation ","MMR012CMP083"," 92.362933°"," 20.827044°",80,585]
[null,"Nyaung Pin Hla","Individual accommodation ","MMR012CMP082"," 92.362197°"," 20.824778°",4,20]
[null,"Sin Thay Pyin","Individual accommodation ","MMR012CMP094"," 92.338031°"," 21.066664°",8,53]
[null,"Thaung Paing Nyar","Individual accommodation ","MMR012CMP086"," 92.401294°"," 20.824517°",15,69]
[null,"Ward-6","Individual accommodation ","MMR012CMP095"," 92.416683°"," 20.833831°",52,369]
[null,"Ywa thit Kay","Individual accommodation ","MMR012CMP085"," 92.367853°"," 20.825306°",8,62]
[null,"Honsara (Zaw Ma Tat)","Individual accommodation ","MMR012CMP109"," 92.435378°"," 20.713883°",60,356]
["Maungdaw Total",null,null,null,null,null,282,1911]
["Meybon","Kan Thar Htwat Wa","Planned Camp","MMR012CMP013"," 93.373951°"," 20.041981°",44,269]
[null,"Taung Paw ","Planned Camp","MMR012CMP014"," 93.370038°"," 20.037655°",752,3381]
["Meybon Total",null,null,null,null,null,796,3650]
["Minbya","Aung Taing","Individual accommodation ","MMR012CMP006"," 93.299485°"," 20.480898°",86,586]
[null,"Paik Thay","Individual accommodation ","MMR012CMP001"," 93.271642°"," 20.377523°",16,122]
[null,"Sam Ba Le","Individual accommodation ","MMR012CMP008"," 93.313628°"," 20.407971°",225,1341]
[null,"San Htoe Tan","Individual accommodation ","MMR012CMP003"," 93.249670°"," 20.399020°",125,483]
[null,"Set Yone Maw","Individual accommodation ","MMR012CMP104"," 93.314695°"," 20.409645°",17,72]
[null,"Tha Dar","Individual accommodation ","MMR012CMP002"," 93.257272°"," 20.392138°",203,1008]
[null,"Tha Yet Oak","Individual accommodation ","MMR012CMP005"," 93.258574°"," 20.587142°",296,1585]
["Minbya Total",null,null,null,null,null,968,5197]
["Mrauk_U","Pa Rein","Planned Camp","MMR012CMP009"," 93.245551°"," 20.576577°",240,1228]
[null,"Raw Ma Ni Sin Oe","Planned Camp","MMR012CMP012"," 93.239520°"," 20.616920°",11,64]
[null,"Yai Thei-Muslim","Individual accommodation ","MMR012CMP010"," 93.217040°"," 20.501758°",398,2613]
[null,"Thi Kyar","Planned Camp","MMR012CMP117"," 93.246863°"," 20.495086°",31,130]
["Mrauk_U Total",null,null,null,null,null,680,4035]
["Pauktaw","Ah Nauk Ywe","Planned Camp","MMR012CMP016"," 92.985095°"," 20.108102°",880,4285]
[null,"Ba Wan Chaung Wa Su","Planned Camp","MMR012CMP015"," 93.067891°"," 20.173468°",21,97]
[null,"Kyein Ni Pyin","Planned Camp","MMR012CMP018"," 93.010369°"," 20.090183°",1045,4598]
[null,"Nget Chaung","Planned Camp","MMR012CMP017"," 93.154552°"," 20.073438°",1176,5889]
[null,"Sin Tet Maw","Planned Camp","MMR012CMP019"," 92.993759°"," 20.064226°",748,2646]
["Pauktaw Total",null,null,null,null,null,3870,17515]
["Ramree","Ramree Town","Individual accommodation ","MMR012CMP038"," 93.865170°"," 19.091054°",18,70]
[null,"Ramree Ward 6","Planned Camp","MMR012CMP037"," 93.857593°"," 19.088283°",57,185]
["Ramree Total",null,null,null,null,null,75,255]
["Rathedaung","Ah Htet Nan Yar","Individual accommodation ","MMR012CMP034"," 92.640022°"," 20.569219°",250,1231]
[null,"Ah Nauk Pyin","Planned Camp","MMR012CMP032"," 92.781294°"," 20.399269°",57,296]
[null,"Nyaung Pin Gyi","Planned Camp","MMR012CMP031"," 92.785706°"," 20.335864°",62,420]
[null,"Chein Khar Li","Planned Camp","MMR012CMP033"," 92.660361°"," 20.408453°",217,1216]
[null,"Koe Tan Kauk","Planned Camp","MMR012CMP110"," 92.639589°"," 20.447261°",196,913]
["Rathedaung Total",null,null,null,null,null,782,4076]
["Sittwe","Basare","Planned Camp","MMR012CMP039"," 92.875814°"," 20.128489°",413,1878]
[null,"Baw Du Pha (IDP in host families)","Individual accommodation ","MMR012CMP103"," 92.804803°"," 20.182987°",41,226]
[null,"Dar Pai","Planned Camp","MMR012CMP041"," 92.827427°"," 20.168460°",1776,10648]
[null,"Dar Pai (IDP in host families)","Individual accommodation ","MMR012CMP097"," 92.830075°"," 20.167422°",518,2951]
[null,"Khaung Doke Khar ","Planned Camp","MMR012CMP042"," 92.823167°"," 20.181778°",791,3918]
[null,"Say Tha Mar Gyi","Planned Camp","MMR012CMP045"," 92.792480°"," 20.202525°",2554,13747]
[null,"Set Yone Su","Planned Camp","MMR012CMP056"," 92.880320°"," 20.148584°",74,436]
[null,"Set Yone Su 3","Planned Camp","MMR012CMP093"," 92.879139°","20.155806°",176,779]
[null,"Thae Chaung","Planned Camp","MMR012CMP046"," 92.839417°"," 20.158500° ",981,5452]
[null,"Thae Chaung (IDP in host families)","Individual accommodation ","MMR012CMP101"," 92.839166°"," 20.157311°",1025,5442]
[null,"Thet Kae Pyin ","Planned Camp","MMR012CMP048"," 92.831879°"," 20.179940°",913,4832]
[null,"Thet Kae Pyin (IDPs in host family)","Individual accommodation ","MMR012CMP091"," 92.842230°"," 20.181742°",420,2458]
[null,"Thin Pone Tan","Individual accommodation ","MMR012CMP058"," 92.836861°"," 20.226865°",7,30]
[null,"Baw Du Pha 1","Planned Camp","MMR012CMP113"," 92.813028°"," 20.179417°",901,4314]
[null,"Baw Du Pha 2","Planned Camp","MMR012CMP114"," 92.807552°"," 20.181406°",1234,6513]
[null,"Maw Ti Ngar","Planned Camp","MMR012CMP092"," 92.831000°"," 20.185917°",667,3579]
[null,"Ohn Taw Chay","Planned Camp","MMR012CMP098"," 92.774194°"," 20.206778°",627,3001]
[null,"Ohn Taw Gyi (North)","Planned Camp","MMR012CMP115"," 92.798881°"," 20.189940°",1490,8186]
[null,"Ohn Taw Gyi (South)","Planned Camp","MMR012CMP116"," 92.802296°"," 20.185092°",2276,12315]
[null,"Sat Roe Kya 1","Planned Camp","MMR012CMP111"," 92.887278°"," 20.151472°",631,3002]
[null,"Sat Roe Kya 2","Planned Camp","MMR012CMP112"," 92.887278°"," 20.151472°",0,0]
["Sittwe Total",null,null,null,null,null,17515,93707]
["Grand Total",null,null,null,null,null,26548,138833]

{"sheet":"CampAnalysis","index":6,"n_rows":143,"n_cols":15,"rows_kept":143,"cut":false,"hidden":false,"merged":[[4,0,4,4]]}
[]
["CAMPS SUMMARY"]
[{"$f":"Report_Date","v":"2013-12-01"}]
[]
["Rakhine State # of IDPs /Township"]
[]
["State","Rakhine","(Select State)"]
[]
["Row Labels","# of Camps","Households","Population",null,null,null,null,null,null,null,null,"State","Rakhine","(Select State)"]
["Close",49]
["Maungdaw",11,null,null,null,null,null,null,null,null,null,null,"Row Labels","Population"]
["Minbya",2,null,null,null,null,null,null,null,null,null,null,"Sittwe",93707]
["Mrauk_U",1,null,null,null,null,null,null,null,null,null,null,"Pauktaw",17515]
["Pauktaw",1,null,null,null,null,null,null,null,null,null,null,"Kyauktaw",6631]
["Sittwe",34,null,null,null,null,null,null,null,null,null,null,"Minbya",5197]
["Open",68,26548,138833,null,null,null,null,null,null,null,null,"Rathedaung",4076]
["Kyauk_Phyu",2,492,1856,null,null,null,null,null,null,null,null,"Mrauk_U",4035]
["Kyauktaw",11,1088,6631,null,null,null,null,null,null,null,null,"Meybon",3650]
["Maungdaw",9,282,1911,null,null,null,null,null,null,null,null,"Maungdaw",1911]
["Meybon",2,796,3650,null,null,null,null,null,null,null,null,"Kyauk_Phyu",1856]
["Minbya",7,968,5197,null,null,null,null,null,null,null,null,"Ramree",255]
["Mrauk_U",4,680,4035,null,null,null,null,null,null,null,null,"Grand Total",138833]
["Pauktaw",5,3870,17515]
["Ramree",2,75,255]
["Rathedaung",5,782,4076]
["Sittwe",21,17515,93707]
["Grand Total",117,26548,138833]
[]
[]
["Status","Open"]
[]
["Sum of Total","Column Labels"]
["Row Labels","Camp Management","Focal Point","Grand Total"]
["Planned Camp",83177,27427,110604]
["Ind. Acc.",null,28229,28229]
["Grand Total",83177,55656,138833]
[]
["Status","Open",null,null,null,null,"Status","Open"]
[]
[null,"Column Labels",null,null,null,null,"Sum of Total","Column Labels"]
[null,"Muslim","Rakhine","Maramargyi","Grand Total",null,"Row Labels","Camp Management","Focal Point","Grand Total"]
["Sum of Total",133563,4770,500,138833,null,"Danish Refugee Council",46409,null,46409]
[null,null,null,null,null,null,"Solidarites International",null,24245,24245]
[null,null,null,null,null,null,"UNHCR",null,23192,23192]
[null,null,null,null,null,null,"Save the Children",18657,2458,21115]
[null,null,null,null,null,null,"Luteran World Federation",18111,null,18111]
[null,null,null,null,null,null,"Relief International",null,3650,3650]
[null,null,null,null,null,null,"Oxfam",null,2111,2111]
[null,null,null,null,null,null,"Grand Total",83177,55656,138833]
[]
[]
[]
[]
["Status","Open"]
[]
["Sum of Total","Column Labels"]
["Row Labels","Camp Management","Focal Point","Grand Total"]
["Individual accommodation ",null,28229,28229]
["Kyauktaw",null,6100,6100]
[84,null,84,84]
[136,null,136,136]
[157,null,157,157]
[512,null,512,512]
[590,null,590,590]
[709,null,709,709]
[780,null,780,780]
[806,null,806,806]
[944,null,944,944]
[1382,null,1382,1382]
["Maungdaw",null,1911,1911]
[20,null,20,20]
[53,null,53,53]
[62,null,62,62]
[69,null,69,69]
[106,null,106,106]
[291,null,291,291]
[356,null,356,356]
[369,null,369,369]
[585,null,585,585]
["Minbya",null,5197,5197]
[72,null,72,72]
[122,null,122,122]
[483,null,483,483]
[586,null,586,586]
[1008,null,1008,1008]
[1341,null,1341,1341]
[1585,null,1585,1585]
["Mrauk_U",null,2613,2613]
[2613,null,2613,2613]
["Ramree",null,70,70]
[70,null,70,70]
["Rathedaung",null,1231,1231]
[1231,null,1231,1231]
["Sittwe",null,11107,11107]
[30,null,30,30]
[226,null,226,226]
[2458,null,2458,2458]
[2951,null,2951,2951]
[5442,null,5442,5442]
["Planned Camp",83177,27427,110604]
["Kyauk_Phyu",null,1856,1856]
[321,null,321,321]
[1535,null,1535,1535]
["Kyauktaw",null,531,531]
[531,null,531,531]
["Meybon",null,3650,3650]
[269,null,269,269]
[3381,null,3381,3381]
["Mrauk_U",null,1422,1422]
[64,null,64,64]
[130,null,130,130]
[1228,null,1228,1228]
["Pauktaw",7244,10271,17515]
[97,null,97,97]
[2646,2646,null,2646]
[4285,null,4285,4285]
[4598,4598,null,4598]
[5889,null,5889,5889]
["Ramree",null,185,185]
[185,null,185,185]
["Rathedaung",null,2845,2845]
[296,null,296,296]
[420,null,420,420]
[913,null,913,913]
[1216,null,1216,1216]
["Sittwe",75933,6667,82600]
[0,null,0,0]
[436,null,436,436]
[779,null,779,779]
[1878,1878,null,1878]
[3001,3001,null,3001]
[3002,3002,null,3002]
[3579,3579,null,3579]
[3918,3918,null,3918]
[4314,4314,null,4314]
[4832,4832,null,4832]
[5452,null,5452,5452]
[6513,6513,null,6513]
[8186,8186,null,8186]
[10648,10648,null,10648]
[12315,12315,null,12315]
[13747,13747,null,13747]
["Grand Total",83177,55656,138833]

{"sheet":"Rakhine_CCCM_D","index":7,"n_rows":32,"n_cols":41,"rows_kept":32,"cut":false,"hidden":false,"merged":[[1,0,1,7],[2,0,2,7],[0,0,0,14],[17,4,17,9]]}
[]
["Rakhine CCCM Dashboard"]
[{"$f":"Report_Date","v":"2013-12-01"}]
[null,null,null,null,null,null,null,null,null,null,null,null,null,null,null,null,null,null,null,null,null,null,null,null,null,null,null,null,null,null,null,null,null,"Township","1-1k","1k-5k","5k-10k","Over 10k"]
[null,null,null,null,null,null,null,null,null,null,null,null,null,null,null,null,null,null,null,null,null,null,null,null,null,null,null,null,null,null,null,null,null,"Kyauk_Phyu",{"$f":"SUMIFS(Camplist_Popl,Camplist_Township,AH5,Camplist_Popl,\">0\",Camplist_Popl,\"<=1000\")","v":321},{"$f":"SUMIFS(Camplist_Popl,Camplist_Township,AH5,Camplist_Popl,\">1000\",Camplist_Popl,\"<=5000\")","v":1535},{"$f":"SUMIFS(Camplist_Popl,Camplist_Township,AH5,Camplist_Popl,\">5000\",Camplist_Popl,\"<=10000\")","v":0},{"$f":"SUMIFS(Camplist_Popl,Camplist_Township,AH5,Camplist_Popl,\">10000\")","v":0},{"$f":"SUMIFS(Camplist_Popl,Camplist_Township,AH5,Camplist_Popl,\"=0\")","v":0}]
[null,null,null,null,null,null,null,null,null,null,null,null,null,null,null,null,null,null,null,null,null,null,null,null,null,null,null,null,null,null,null,null,null,"Kyauktaw",{"$f":"SUMIFS(Camplist_Popl,Camplist_Township,AH6,Camplist_Popl,\">0\",Camplist_Popl,\"<=1000\")","v":5249},{"$f":"SUMIFS(Camplist_Popl,Camplist_Township,AH6,Camplist_Popl,\">1000\",Camplist_Popl,\"<=5000\")","v":1382},{"$f":"SUMIFS(Camplist_Popl,Camplist_Township,AH6,Camplist_Popl,\">5000\",Camplist_Popl,\"<=10000\")","v":0},0,0]
[null,null,null,null,null,null,null,null,null,null,null,null,null,null,null,null,null,null,null,null,null,null,null,null,null,null,null,null,null,null,null,null,null,"Maungdaw",1911,0,{"$f":"SUMIFS(Camplist_Popl,Camplist_Township,AH7,Camplist_Popl,\">5000\",Camplist_Popl,\"<=10000\")","v":0},0,0]
[null,null,null,null,null,null,null,null,null,null,null,null,null,null,null,null,null,null,null,null,null,null,null,null,null,null,null,null,null,null,null,null,null,"Meybon",269,3381,0,0,0]
["Township","# of HH","# of IDPs","# of Camp",null,null,null,null,null,null,null,null,null,null,null,null,null,null,null,null,null,null,null,null,null,null,null,null,null,null,null,null,null,"Minbya",1263,3934,0,0,0]
["Kyauk_Phyu",{"$f":"SUMIFS(Camplist_HH,Camplist_Township,Rakhine_CCCM_D!$A10,CampList_Status,\"Open\")","v":492},{"$f":"SUMIFS(Camplist_Popl,Camplist_Township,Rakhine_CCCM_D!$A10,CampList_Status,\"Open\")","v":1856},{"$f":"COUNTIFS(Camplist_Township,Rakhine_CCCM_D!A10,CampList_Status,\"open\")","v":2},null,null,null,null,null,null,null,null,null,null,null,null,null,null,null,null,null,null,null,null,null,null,null,null,null,null,null,null,null,"Mrauk_U",194,3841,0,0,0]
["Kyauktaw",{"$f":"SUMIFS(Camplist_HH,Camplist_Township,Rakhine_CCCM_D!$A11,CampList_Status,\"Open\")","v":1088},{"$f":"SUMIFS(Camplist_Popl,Camplist_Township,Rakhine_CCCM_D!$A11,CampList_Status,\"Open\")","v":6631},{"$f":"COUNTIFS(Camplist_Township,Rakhine_CCCM_D!A11,CampList_Status,\"open\")","v":11},null,null,null,null,null,null,null,null,null,null,null,null,null,null,null,null,null,null,null,null,null,null,null,null,null,null,null,null,null,"Pauktaw",97,11529,5889,0,0]
["Maungdaw",{"$f":"SUMIFS(Camplist_HH,Camplist_Township,Rakhine_CCCM_D!$A12,CampList_Status,\"Open\")","v":282},{"$f":"SUMIFS(Camplist_Popl,Camplist_Township,Rakhine_CCCM_D!$A12,CampList_Status,\"Open\")","v":1911},{"$f":"COUNTIFS(Camplist_Township,Rakhine_CCCM_D!A12,CampList_Status,\"open\")","v":9},null,null,null,null,null,null,null,null,null,null,null,null,null,null,null,null,null,null,null,null,null,null,null,null,null,null,null,null,null,"Ramree",255,0,0,0,0]
["Meybon",{"$f":"SUMIFS(Camplist_HH,Camplist_Township,Rakhine_CCCM_D!$A13,CampList_Status,\"Open\")","v":796},{"$f":"SUMIFS(Camplist_Popl,Camplist_Township,Rakhine_CCCM_D!$A13,CampList_Status,\"Open\")","v":3650},{"$f":"COUNTIFS(Camplist_Township,Rakhine_CCCM_D!A13,CampList_Status,\"open\")","v":2},null,null,null,null,null,null,null,null,null,null,null,null,null,null,null,null,null,null,null,null,null,null,null,null,null,null,null,null,null,"Rathedaung",1629,2447,0,0,0]
["Minbya",{"$f":"SUMIFS(Camplist_HH,Camplist_Township,Rakhine_CCCM_D!$A14,CampList_Status,\"Open\")","v":968},{"$f":"SUMIFS(Camplist_Popl,Camplist_Township,Rakhine_CCCM_D!$A14,CampList_Status,\"Open\")","v":5197},{"$f":"COUNTIFS(Camplist_Township,Rakhine_CCCM_D!A14,CampList_Status,\"open\")","v":7},null,null,null,null,null,null,null,null,null,null,null,null,null,null,null,null,null,null,null,null,null,null,null,null,null,null,null,null,null,"Sittwe",1471,29933,25593,36710,0]
["Mrauk_U",{"$f":"SUMIFS(Camplist_HH,Camplist_Township,Rakhine_CCCM_D!$A15,CampList_Status,\"Open\")","v":680},{"$f":"SUMIFS(Camplist_Popl,Camplist_Township,Rakhine_CCCM_D!$A15,CampList_Status,\"Open\")","v":4035},{"$f":"COUNTIFS(Camplist_Township,Rakhine_CCCM_D!A15,CampList_Status,\"open\")","v":4},null,null,null,null,null,null,null,null,null,null,null,null,null,null,null,null,null,null,null,null,null,null,null,null,null,null,null,null,null,"Total",{"$f":"SUM(AI5:AI14)","v":12659},{"$f":"SUM(AJ5:AJ14)","v":57982},{"$f":"SUM(AK5:AK14)","v":31482},{"$f":"SUM(AL5:AL14)","v":36710},0,{"$f":"SUM(AI15:AL15)","v":138833}]
["Pauktaw",{"$f":"SUMIFS(Camplist_HH,Camplist_Township,Rakhine_CCCM_D!$A16,CampList_Status,\"Open\")","v":3870},{"$f":"SUMIFS(Camplist_Popl,Camplist_Township,Rakhine_CCCM_D!$A16,CampList_Status,\"Open\")","v":17515},{"$f":"COUNTIFS(Camplist_Township,Rakhine_CCCM_D!A16,CampList_Status,\"open\")","v":5},null,null,null,null,null,null,null,null,null,null,null,null,null,null,null,null,null,null,null,null,null,null,null,null,null,null,null,null,null,"% of IDP",{"$f":"AI15/$AN$15","v":9.1181491432152303E-2},{"$f":"AJ15/$AN$15","v":0.41763845771538466},{"$f":"AK15/$AN$15","v":0.22676164888751232},{"$f":"AL15/$AN$15","v":0.2644184019649507},{"$f":"AM15/$AN$15","v":0}]
["Ramree",{"$f":"SUMIFS(Camplist_HH,Camplist_Township,Rakhine_CCCM_D!$A17,CampList_Status,\"Open\")","v":75},{"$f":"SUMIFS(Camplist_Popl,Camplist_Township,Rakhine_CCCM_D!$A17,CampList_Status,\"Open\")","v":255},{"$f":"COUNTIFS(Camplist_Township,Rakhine_CCCM_D!A17,CampList_Status,\"open\")","v":2}]
["Rathedaung",{"$f":"SUMIFS(Camplist_HH,Camplist_Township,Rakhine_CCCM_D!$A18,CampList_Status,\"Open\")","v":782},{"$f":"SUMIFS(Camplist_Popl,Camplist_Township,Rakhine_CCCM_D!$A18,CampList_Status,\"Open\")","v":4076},{"$f":"COUNTIFS(Camplist_Township,Rakhine_CCCM_D!A18,CampList_Status,\"open\")","v":5},"Size of camps"]
["Sittwe",{"$f":"SUMIFS(Camplist_HH,Camplist_Township,Rakhine_CCCM_D!$A19,CampList_Status,\"Open\")","v":17515},{"$f":"SUMIFS(Camplist_Popl,Camplist_Township,Rakhine_CCCM_D!$A19,CampList_Status,\"Open\")","v":93707},{"$f":"COUNTIFS(Camplist_Township,Rakhine_CCCM_D!A19,CampList_Status,\"open\")","v":21},null,"1-1k","1k-5k","5k-10k","Over 10k","Unknown"]
["Total",{"$f":"SUM(B10:B19)","v":26548},{"$f":"SUM(C10:C19)","v":138833},{"$f":"SUM(D10:D19)","v":68},"# of Camps",{"$f":"AI32","v":37},{"$f":"AJ32","v":22},{"$f":"AK32","v":5},{"$f":"AL32","v":3},{"$f":"AM32","v":1},null,null,null,null,null,null,null,null,null,null,null,null,null,null,null,null,null,null,null,null,null,null,null,null,"# of camps by Size of Population"]
[null,null,null,null,"# of IDP",{"$f":"AI15","v":12659},{"$f":"AJ15","v":57982},{"$f":"AK15","v":31482},{"$f":"AL15","v":36710},{"$f":"AM15","v":0},null,null,null,null,null,null,null,null,null,null,null,null,null,null,null,null,null,null,null,null,null,null,null,"Township","1-1k","1k - 5k","5k-10k",">10k","Unknown"]
[null,null,null,null,null,null,null,null,null,null,null,null,null,null,null,null,null,null,null,null,null,null,null,null,null,null,null,null,null,null,null,null,null,"Kyauk_Phyu",{"$f":"COUNTIFS(Camplist_Township,Rakhine_CCCM_D!$AH22,Camplist_Popl,\">0\",Camplist_Popl,\"<=1000\")","v":1},{"$f":"COUNTIFS(Camplist_Township,Rakhine_CCCM_D!$AH22,Camplist_Popl,\">1000\",Camplist_Popl,\"<=5000\")","v":1},{"$f":"COUNTIFS(Camplist_Township,Rakhine_CCCM_D!$AH22,Camplist_Popl,\">5000\",Camplist_Popl,\"<=10000\")","v":0},{"$f":"COUNTIFS(Camplist_Township,Rakhine_CCCM_D!$AH22,Camplist_Popl,\">10000\")","v":0},{"$f":"COUNTIFS(Camplist_Township,Rakhine_CCCM_D!$AH22,Camplist_Popl,\"=0\",CampList_Status,\"Open\")","v":0},{"$f":"SUM(AI22:AM22)","v":2},2]
[null,null,null,null,null,null,null,null,null,null,null,null,null,null,null,null,null,null,null,null,null,null,null,null,null,null,null,null,null,null,null,null,null,"Kyauktaw",{"$f":"COUNTIFS(Camplist_Township,Rakhine_CCCM_D!$AH23,Camplist_Popl,\">0\",Camplist_Popl,\"<=1000\")","v":10},{"$f":"COUNTIFS(Camplist_Township,Rakhine_CCCM_D!$AH23,Camplist_Popl,\">1000\",Camplist_Popl,\"<=5000\")","v":1},{"$f":"COUNTIFS(Camplist_Township,Rakhine_CCCM_D!$AH23,Camplist_Popl,\">5000\",Camplist_Popl,\"<=10000\")","v":0},{"$f":"COUNTIFS(Camplist_Township,Rakhine_CCCM_D!$AH23,Camplist_Popl,\">10000\")","v":0},{"$f":"COUNTIFS(Camplist_Township,Rakhine_CCCM_D!$AH23,Camplist_Popl,\"=0\",CampList_Status,\"Open\")","v":0},{"$f":"SUM(AI23:AM23)","v":11},11]
[null,null,null,null,null,null,null,null,null,null,null,null,null,null,null,null,null,null,null,null,null,null,null,null,null,null,null,null,null,null,null,null,null,"Maungdaw",{"$f":"COUNTIFS(Camplist_Township,Rakhine_CCCM_D!$AH24,Camplist_Popl,\">0\",Camplist_Popl,\"<=1000\")","v":9},{"$f":"COUNTIFS(Camplist_Township,Rakhine_CCCM_D!$AH24,Camplist_Popl,\">1000\",Camplist_Popl,\"<=5000\")","v":0},{"$f":"COUNTIFS(Camplist_Township,Rakhine_CCCM_D!$AH24,Camplist_Popl,\">5000\",Camplist_Popl,\"<=10000\")","v":0},{"$f":"COUNTIFS(Camplist_Township,Rakhine_CCCM_D!$AH24,Camplist_Popl,\">10000\")","v":0},{"$f":"COUNTIFS(Camplist_Township,Rakhine_CCCM_D!$AH24,Camplist_Popl,\"=0\",CampList_Status,\"Open\")","v":0},9,9]
[null,null,null,null,null,null,null,null,null,null,null,null,null,null,null,null,null,null,null,null,null,null,null,null,null,null,null,null,null,null,null,null,null,"Meybon",{"$f":"COUNTIFS(Camplist_Township,Rakhine_CCCM_D!$AH25,Camplist_Popl,\">0\",Camplist_Popl,\"<=1000\")","v":1},{"$f":"COUNTIFS(Camplist_Township,Rakhine_CCCM_D!$AH25,Camplist_Popl,\">1000\",Camplist_Popl,\"<=5000\")","v":1},{"$f":"COUNTIFS(Camplist_Township,Rakhine_CCCM_D!$AH25,Camplist_Popl,\">5000\",Camplist_Popl,\"<=10000\")","v":0},{"$f":"COUNTIFS(Camplist_Township,Rakhine_CCCM_D!$AH25,Camplist_Popl,\">10000\")","v":0},{"$f":"COUNTIFS(Camplist_Township,Rakhine_CCCM_D!$AH25,Camplist_Popl,\"=0\",CampList_Status,\"Open\")","v":0},2,2]
[null,null,null,null,null,null,null,null,null,null,null,null,null,null,null,null,null,null,null,null,null,null,null,null,null,null,null,null,null,null,null,null,null,"Minbya",{"$f":"COUNTIFS(Camplist_Township,Rakhine_CCCM_D!$AH26,Camplist_Popl,\">0\",Camplist_Popl,\"<=1000\")","v":4},{"$f":"COUNTIFS(Camplist_Township,Rakhine_CCCM_D!$AH26,Camplist_Popl,\">1000\",Camplist_Popl,\"<=5000\")","v":3},{"$f":"COUNTIFS(Camplist_Township,Rakhine_CCCM_D!$AH26,Camplist_Popl,\">5000\",Camplist_Popl,\"<=10000\")","v":0},{"$f":"COUNTIFS(Camplist_Township,Rakhine_CCCM_D!$AH26,Camplist_Popl,\">10000\")","v":0},{"$f":"COUNTIFS(Camplist_Township,Rakhine_CCCM_D!$AH26,Camplist_Popl,\"=0\",CampList_Status,\"Open\")","v":0},7,7]
[null,null,null,null,null,null,null,null,null,null,null,null,null,null,null,null,null,null,null,null,null,null,null,null,null,null,null,null,null,null,null,null,null,"Mrauk_U",{"$f":"COUNTIFS(Camplist_Township,Rakhine_CCCM_D!$AH27,Camplist_Popl,\">0\",Camplist_Popl,\"<=1000\")","v":2},{"$f":"COUNTIFS(Camplist_Township,Rakhine_CCCM_D!$AH27,Camplist_Popl,\">1000\",Camplist_Popl,\"<=5000\")","v":2},{"$f":"COUNTIFS(Camplist_Township,Rakhine_CCCM_D!$AH27,Camplist_Popl,\">5000\",Camplist_Popl,\"<=10000\")","v":0},{"$f":"COUNTIFS(Camplist_Township,Rakhine_CCCM_D!$AH27,Camplist_Popl,\">10000\")","v":0},{"$f":"COUNTIFS(Camplist_Township,Rakhine_CCCM_D!$AH27,Camplist_Popl,\"=0\",CampList_Status,\"Open\")","v":0},4,4]
[null,null,null,null,null,null,null,null,null,null,null,null,null,null,null,null,null,null,null,null,null,null,null,null,null,null,null,null,null,null,null,null,null,"Pauktaw",{"$f":"COUNTIFS(Camplist_Township,Rakhine_CCCM_D!$AH28,Camplist_Popl,\">0\",Camplist_Popl,\"<=1000\")","v":1},{"$f":"COUNTIFS(Camplist_Township,Rakhine_CCCM_D!$AH28,Camplist_Popl,\">1000\",Camplist_Popl,\"<=5000\")","v":3},{"$f":"COUNTIFS(Camplist_Township,Rakhine_CCCM_D!$AH28,Camplist_Popl,\">5000\",Camplist_Popl,\"<=10000\")","v":1},{"$f":"COUNTIFS(Camplist_Township,Rakhine_CCCM_D!$AH28,Camplist_Popl,\">10000\")","v":0},{"$f":"COUNTIFS(Camplist_Township,Rakhine_CCCM_D!$AH28,Camplist_Popl,\"=0\",CampList_Status,\"Open\")","v":0},5,6]
[null,null,null,null,null,null,null,null,null,null,null,null,null,null,null,null,null,null,null,null,null,null,null,null,null,null,null,null,null,null,null,null,null,"Ramree",{"$f":"COUNTIFS(Camplist_Township,Rakhine_CCCM_D!$AH29,Camplist_Popl,\">0\",Camplist_Popl,\"<=1000\")","v":2},{"$f":"COUNTIFS(Camplist_Township,Rakhine_CCCM_D!$AH29,Camplist_Popl,\">1000\",Camplist_Popl,\"<=5000\")","v":0},{"$f":"COUNTIFS(Camplist_Township,Rakhine_CCCM_D!$AH29,Camplist_Popl,\">5000\",Camplist_Popl,\"<=10000\")","v":0},{"$f":"COUNTIFS(Camplist_Township,Rakhine_CCCM_D!$AH29,Camplist_Popl,\">10000\")","v":0},{"$f":"COUNTIFS(Camplist_Township,Rakhine_CCCM_D!$AH29,Camplist_Popl,\"=0\",CampList_Status,\"Open\")","v":0},2,2]
[null,null,null,null,null,null,null,null,null,null,null,null,null,null,null,null,null,null,null,null,null,null,null,null,null,null,null,null,null,null,null,null,null,"Rathedaung",{"$f":"COUNTIFS(Camplist_Township,Rakhine_CCCM_D!$AH30,Camplist_Popl,\">0\",Camplist_Popl,\"<=1000\")","v":3},{"$f":"COUNTIFS(Camplist_Township,Rakhine_CCCM_D!$AH30,Camplist_Popl,\">1000\",Camplist_Popl,\"<=5000\")","v":2},{"$f":"COUNTIFS(Camplist_Township,Rakhine_CCCM_D!$AH30,Camplist_Popl,\">5000\",Camplist_Popl,\"<=10000\")","v":0},{"$f":"COUNTIFS(Camplist_Township,Rakhine_CCCM_D!$AH30,Camplist_Popl,\">10000\")","v":0},{"$f":"COUNTIFS(Camplist_Township,Rakhine_CCCM_D!$AH30,Camplist_Popl,\"=0\",CampList_Status,\"Open\")","v":0},5,5]
[null,null,null,null,null,null,null,null,null,null,null,null,null,null,null,null,null,null,null,null,null,null,null,null,null,null,null,null,null,null,null,null,null,"Sittwe",{"$f":"COUNTIFS(Camplist_Township,Rakhine_CCCM_D!$AH31,Camplist_Popl,\">0\",Camplist_Popl,\"<=1000\")","v":4},{"$f":"COUNTIFS(Camplist_Township,Rakhine_CCCM_D!$AH31,Camplist_Popl,\">1000\",Camplist_Popl,\"<=5000\")","v":9},{"$f":"COUNTIFS(Camplist_Township,Rakhine_CCCM_D!$AH31,Camplist_Popl,\">5000\",Camplist_Popl,\"<=10000\")","v":4},{"$f":"COUNTIFS(Camplist_Township,Rakhine_CCCM_D!$AH31,Camplist_Popl,\">10000\")","v":3},{"$f":"COUNTIFS(Camplist_Township,Rakhine_CCCM_D!$AH31,Camplist_Popl,\"=0\",CampList_Status,\"Open\")","v":1},{"$f":"SUM(AI31:AM31)","v":21},22]
[null,null,null,null,null,null,null,null,null,null,null,null,null,null,null,null,null,null,null,null,null,null,null,null,null,null,null,null,null,null,null,null,null,"Total",{"$f":"SUM(AI22:AI31)","v":37},{"$f":"SUM(AJ22:AJ31)","v":22},{"$f":"SUM(AK22:AK31)","v":5},{"$f":"SUM(AL22:AL31)","v":3},{"$f":"SUM(AM22:AM31)","v":1},{"$f":"SUM(AI32:AM32)","v":68}]

{"sheet":"Shelter Tracking","index":8,"n_rows":107,"n_cols":19,"rows_kept":107,"cut":false,"hidden":false,"merged":[[1,0,1,2],[2,0,2,15]]}
[]
["SHELTERTRACKINGSHEET"]
[{"$f":"Report_Date","v":"2013-12-01"}]
["DateUpdated","Organization","ImplementingPartner","State","Township","CampName","HHperShelter","#ofFamilyTentPlanned(Target)","#ofFamilyTentDistributed","#ofTemporaryShelterPlanned(Target)","#ofTemporaryShelterBuilt","#ofTemporaryShelterUnderConstruction","#ofPermanentHousePlanned(Target)","#ofPermanentHouseBuilt","#ofPermanentHouseUnderConstruction","HHCovered","Pcode","Status","Coverage"]
["2013-10-01","Government","Government","Rakhine","Kyauk_Phyu","Kyauk Ta Lone",8,null,null,22,22,null,null,null,null,{"$f":"Table_Shelter[[#This Row],[HHperShelter]]*(Table_Shelter[[#This Row],['#ofTemporaryShelterBuilt]]+Table_Shelter[[#This Row],['#ofTemporaryShelterUnderConstruction]]+Table_Shelter[[#This Row],['#ofPermanentHouseUnderConstruction]])","v":176},{"$f":"IFERROR(VLOOKUP(Table_Shelter[[#This Row],[CampName]],CL,2,0),\"\")","v":"MMR012CMP035"},{"$f":"IFERROR(VLOOKUP(Table_Shelter[[#This Row],[CampName]],CL,3,0),\"\")","v":"Open"},{"$f":"IFERROR(Table_Shelter[[#This Row],[HHCovered]]/VLOOKUP(Table_Shelter[[#This Row],[CampName]],CL,4,0),\"\")","v":0.41217798594847777}]
["2013-10-01","Service City","Service City","Rakhine","Kyauk_Phyu","Kyauk Ta Lone",8,null,null,31,31,null,null,null,null,{"$f":"Table_Shelter[[#This Row],[HHperShelter]]*(Table_Shelter[[#This Row],['#ofTemporaryShelterBuilt]]+Table_Shelter[[#This Row],['#ofTemporaryShelterUnderConstruction]]+Table_Shelter[[#This Row],['#ofPermanentHouseUnderConstruction]])","v":248},{"$f":"IFERROR(VLOOKUP(Table_Shelter[[#This Row],[CampName]],CL,2,0),\"\")","v":"MMR012CMP035"},{"$f":"IFERROR(VLOOKUP(Table_Shelter[[#This Row],[CampName]],CL,3,0),\"\")","v":"Open"},{"$f":"IFERROR(Table_Shelter[[#This Row],[HHCovered]]/VLOOKUP(Table_Shelter[[#This Row],[CampName]],CL,4,0),\"\")","v":0.58079625292740045}]
["2013-10-01","Service City","Service City","Rakhine","Kyauk_Phyu","Pha Yar Gyi Kwin",8,null,null,7,7,null,null,null,null,{"$f":"Table_Shelter[[#This Row],[HHperShelter]]*(Table_Shelter[[#This Row],['#ofTemporaryShelterBuilt]]+Table_Shelter[[#This Row],['#ofTemporaryShelterUnderConstruction]]+Table_Shelter[[#This Row],['#ofPermanentHouseUnderConstruction]])","v":56},{"$f":"IFERROR(VLOOKUP(Table_Shelter[[#This Row],[CampName]],CL,2,0),\"\")","v":"MMR012CMP036"},{"$f":"IFERROR(VLOOKUP(Table_Shelter[[#This Row],[CampName]],CL,3,0),\"\")","v":"Open"},{"$f":"IFERROR(Table_Shelter[[#This Row],[HHCovered]]/VLOOKUP(Table_Shelter[[#This Row],[CampName]],CL,4,0),\"\")","v":0.86153846153846159}]
["2013-10-01","Government","Government","Rakhine","Kyauktaw","Ah Lel Kyun",8,null,null,2,2,null,null,null,null,{"$f":"Table_Shelter[[#This Row],[HHperShelter]]*(Table_Shelter[[#This Row],['#ofTemporaryShelterBuilt]]+Table_Shelter[[#This Row],['#ofTemporaryShelterUnderConstruction]]+Table_Shelter[[#This Row],['#ofPermanentHouseUnderConstruction]])","v":16},{"$f":"IFERROR(VLOOKUP(Table_Shelter[[#This Row],[CampName]],CL,2,0),\"\")","v":"MMR012CMP025"},{"$f":"IFERROR(VLOOKUP(Table_Shelter[[#This Row],[CampName]],CL,3,0),\"\")","v":"Open"},{"$f":"IFERROR(Table_Shelter[[#This Row],[HHCovered]]/VLOOKUP(Table_Shelter[[#This Row],[CampName]],CL,4,0),\"\")","v":1.1428571428571428}]
["2013-10-01","Government","Government","Rakhine","Kyauktaw","Ah Lel",8,null,null,2,2,null,null,null,null,{"$f":"Table_Shelter[[#This Row],[HHperShelter]]*(Table_Shelter[[#This Row],['#ofTemporaryShelterBuilt]]+Table_Shelter[[#This Row],['#ofTemporaryShelterUnderConstruction]]+Table_Shelter[[#This Row],['#ofPermanentHouseUnderConstruction]])","v":16},{"$f":"IFERROR(VLOOKUP(Table_Shelter[[#This Row],[CampName]],CL,2,0),\"\")","v":"MMR012CMP022"},{"$f":"IFERROR(VLOOKUP(Table_Shelter[[#This Row],[CampName]],CL,3,0),\"\")","v":"Open"},{"$f":"IFERROR(Table_Shelter[[#This Row],[HHCovered]]/VLOOKUP(Table_Shelter[[#This Row],[CampName]],CL,4,0),\"\")","v":0.94117647058823528}]
["2013-10-01","Government","Government","Rakhine","Kyauktaw","Ah Pauk Wa ",8,null,null,7,7,null,null,null,null,{"$f":"Table_Shelter[[#This Row],[HHperShelter]]*(Table_Shelter[[#This Row],['#ofTemporaryShelterBuilt]]+Table_Shelter[[#This Row],['#ofTemporaryShelterUnderConstruction]]+Table_Shelter[[#This Row],['#ofPermanentHouseUnderConstruction]])","v":56},{"$f":"IFERROR(VLOOKUP(Table_Shelter[[#This Row],[CampName]],CL,2,0),\"\")","v":"MMR012CMP024"},{"$f":"IFERROR(VLOOKUP(Table_Shelter[[#This Row],[CampName]],CL,3,0),\"\")","v":"Open"},{"$f":"IFERROR(Table_Shelter[[#This Row],[HHCovered]]/VLOOKUP(Table_Shelter[[#This Row],[CampName]],CL,4,0),\"\")","v":0.42105263157894735}]
["2013-10-01","MRCS","MRCS","Rakhine","Kyauktaw","Ah Pauk Wa ",8,null,null,4,null,4,null,null,null,{"$f":"Table_Shelter[[#This Row],[HHperShelter]]*(Table_Shelter[[#This Row],['#ofTemporaryShelterBuilt]]+Table_Shelter[[#This Row],['#ofTemporaryShelterUnderConstruction]]+Table_Shelter[[#This Row],['#ofPermanentHouseUnderConstruction]])","v":32},{"$f":"IFERROR(VLOOKUP(Table_Shelter[[#This Row],[CampName]],CL,2,0),\"\")","v":"MMR012CMP024"},{"$f":"IFERROR(VLOOKUP(Table_Shelter[[#This Row],[CampName]],CL,3,0),\"\")","v":"Open"},{"$f":"IFERROR(Table_Shelter[[#This Row],[HHCovered]]/VLOOKUP(Table_Shelter[[#This Row],[CampName]],CL,4,0),\"\")","v":0.24060150375939848}]
["2013-10-01","Government","Government","Rakhine","Kyauktaw","Goke Pi Htaunt",8,null,null,10,10,null,null,null,null,{"$f":"Table_Shelter[[#This Row],[HHperShelter]]*(Table_Shelter[[#This Row],['#ofTemporaryShelterBuilt]]+Table_Shelter[[#This Row],['#ofTemporaryShelterUnderConstruction]]+Table_Shelter[[#This Row],['#ofPermanentHouseUnderConstruction]])","v":80},{"$f":"IFERROR(VLOOKUP(Table_Shelter[[#This Row],[CampName]],CL,2,0),\"\")","v":"MMR012CMP027"},{"$f":"IFERROR(VLOOKUP(Table_Shelter[[#This Row],[CampName]],CL,3,0),\"\")","v":"Open"},{"$f":"IFERROR(Table_Shelter[[#This Row],[HHCovered]]/VLOOKUP(Table_Shelter[[#This Row],[CampName]],CL,4,0),\"\")","v":0.68965517241379315}]
["2013-10-01","MRCS","MRCS","Rakhine","Kyauktaw","Goke Pi Htaunt",8,null,null,5,null,5,null,null,null,{"$f":"Table_Shelter[[#This Row],[HHperShelter]]*(Table_Shelter[[#This Row],['#ofTemporaryShelterBuilt]]+Table_Shelter[[#This Row],['#ofTemporaryShelterUnderConstruction]]+Table_Shelter[[#This Row],['#ofPermanentHouseUnderConstruction]])","v":40},{"$f":"IFERROR(VLOOKUP(Table_Shelter[[#This Row],[CampName]],CL,2,0),\"\")","v":"MMR012CMP027"},{"$f":"IFERROR(VLOOKUP(Table_Shelter[[#This Row],[CampName]],CL,3,0),\"\")","v":"Open"},{"$f":"IFERROR(Table_Shelter[[#This Row],[HHCovered]]/VLOOKUP(Table_Shelter[[#This Row],[CampName]],CL,4,0),\"\")","v":0.34482758620689657}]
["2013-10-01","Government","Government","Rakhine","Kyauktaw","In Bar Yi",8,null,null,29,29,null,null,null,null,{"$f":"Table_Shelter[[#This Row],[HHperShelter]]*(Table_Shelter[[#This Row],['#ofTemporaryShelterBuilt]]+Table_Shelter[[#This Row],['#ofTemporaryShelterUnderConstruction]]+Table_Shelter[[#This Row],['#ofPermanentHouseUnderConstruction]])","v":232},{"$f":"IFERROR(VLOOKUP(Table_Shelter[[#This Row],[CampName]],CL,2,0),\"\")","v":"MMR012CMP026"},{"$f":"IFERROR(VLOOKUP(Table_Shelter[[#This Row],[CampName]],CL,3,0),\"\")","v":"Open"},{"$f":"IFERROR(Table_Shelter[[#This Row],[HHCovered]]/VLOOKUP(Table_Shelter[[#This Row],[CampName]],CL,4,0),\"\")","v":1.008695652173913}]
["2013-10-01","Government","Government","Rakhine","Kyauktaw","Khaung Htoke",8,null,null,10,10,null,null,null,null,{"$f":"Table_Shelter[[#This Row],[HHperShelter]]*(Table_Shelter[[#This Row],['#ofTemporaryShelterBuilt]]+Table_Shelter[[#This Row],['#ofTemporaryShelterUnderConstruction]]+Table_Shelter[[#This Row],['#ofPermanentHouseUnderConstruction]])","v":80},{"$f":"IFERROR(VLOOKUP(Table_Shelter[[#This Row],[CampName]],CL,2,0),\"\")","v":"MMR012CMP030"},{"$f":"IFERROR(VLOOKUP(Table_Shelter[[#This Row],[CampName]],CL,3,0),\"\")","v":"Open"},{"$f":"IFERROR(Table_Shelter[[#This Row],[HHCovered]]/VLOOKUP(Table_Shelter[[#This Row],[CampName]],CL,4,0),\"\")","v":0.80808080808080807}]
["2013-10-01","MRCS","MRCS","Rakhine","Kyauktaw","Khaung Htoke",8,null,null,2,null,2,null,null,null,{"$f":"Table_Shelter[[#This Row],[HHperShelter]]*(Table_Shelter[[#This Row],['#ofTemporaryShelterBuilt]]+Table_Shelter[[#This Row],['#ofTemporaryShelterUnderConstruction]]+Table_Shelter[[#This Row],['#ofPermanentHouseUnderConstruction]])","v":16},{"$f":"IFERROR(VLOOKUP(Table_Shelter[[#This Row],[CampName]],CL,2,0),\"\")","v":"MMR012CMP030"},{"$f":"IFERROR(VLOOKUP(Table_Shelter[[#This Row],[CampName]],CL,3,0),\"\")","v":"Open"},{"$f":"IFERROR(Table_Shelter[[#This Row],[HHCovered]]/VLOOKUP(Table_Shelter[[#This Row],[CampName]],CL,4,0),\"\")","v":0.16161616161616163}]
["2013-10-01","Government","Government","Rakhine","Kyauktaw","Let Saung Kauk",8,null,null,2,2,null,null,null,null,{"$f":"Table_Shelter[[#This Row],[HHperShelter]]*(Table_Shelter[[#This Row],['#ofTemporaryShelterBuilt]]+Table_Shelter[[#This Row],['#ofTemporaryShelterUnderConstruction]]+Table_Shelter[[#This Row],['#ofPermanentHouseUnderConstruction]])","v":16},{"$f":"IFERROR(VLOOKUP(Table_Shelter[[#This Row],[CampName]],CL,2,0),\"\")","v":"MMR012CMP020"},{"$f":"IFERROR(VLOOKUP(Table_Shelter[[#This Row],[CampName]],CL,3,0),\"\")","v":"Open"},{"$f":"IFERROR(Table_Shelter[[#This Row],[HHCovered]]/VLOOKUP(Table_Shelter[[#This Row],[CampName]],CL,4,0),\"\")","v":0.88888888888888884}]
["2013-10-01","MRCS","MRCS","Rakhine","Kyauktaw","Let Saung Kauk",8,null,null,1,null,1,null,null,null,{"$f":"Table_Shelter[[#This Row],[HHperShelter]]*(Table_Shelter[[#This Row],['#ofTemporaryShelterBuilt]]+Table_Shelter[[#This Row],['#ofTemporaryShelterUnderConstruction]]+Table_Shelter[[#This Row],['#ofPermanentHouseUnderConstruction]])","v":8},{"$f":"IFERROR(VLOOKUP(Table_Shelter[[#This Row],[CampName]],CL,2,0),\"\")","v":"MMR012CMP020"},{"$f":"IFERROR(VLOOKUP(Table_Shelter[[#This Row],[CampName]],CL,3,0),\"\")","v":"Open"},{"$f":"IFERROR(Table_Shelter[[#This Row],[HHCovered]]/VLOOKUP(Table_Shelter[[#This Row],[CampName]],CL,4,0),\"\")","v":0.44444444444444442}]
["2013-10-01","Government","Government","Rakhine","Kyauktaw","Nidin",8,null,null,9,9,null,null,null,null,{"$f":"Table_Shelter[[#This Row],[HHperShelter]]*(Table_Shelter[[#This Row],['#ofTemporaryShelterBuilt]]+Table_Shelter[[#This Row],['#ofTemporaryShelterUnderConstruction]]+Table_Shelter[[#This Row],['#ofPermanentHouseUnderConstruction]])","v":72},{"$f":"IFERROR(VLOOKUP(Table_Shelter[[#This Row],[CampName]],CL,2,0),\"\")","v":"MMR012CMP023"},{"$f":"IFERROR(VLOOKUP(Table_Shelter[[#This Row],[CampName]],CL,3,0),\"\")","v":"Open"},{"$f":"IFERROR(Table_Shelter[[#This Row],[HHCovered]]/VLOOKUP(Table_Shelter[[#This Row],[CampName]],CL,4,0),\"\")","v":0.84705882352941175}]
["2013-10-01","MRCS","MRCS","Rakhine","Kyauktaw","Nidin",8,null,null,2,null,2,null,null,null,{"$f":"Table_Shelter[[#This Row],[HHperShelter]]*(Table_Shelter[[#This Row],['#ofTemporaryShelterBuilt]]+Table_Shelter[[#This Row],['#ofTemporaryShelterUnderConstruction]]+Table_Shelter[[#This Row],['#ofPermanentHouseUnderConstruction]])","v":16},{"$f":"IFERROR(VLOOKUP(Table_Shelter[[#This Row],[CampName]],CL,2,0),\"\")","v":"MMR012CMP023"},{"$f":"IFERROR(VLOOKUP(Table_Shelter[[#This Row],[CampName]],CL,3,0),\"\")","v":"Open"},{"$f":"IFERROR(Table_Shelter[[#This Row],[HHCovered]]/VLOOKUP(Table_Shelter[[#This Row],[CampName]],CL,4,0),\"\")","v":0.18823529411764706}]
["2013-10-01","Government","Government","Rakhine","Kyauktaw","Shwe Hlaing",8,null,null,18,18,null,null,null,null,{"$f":"Table_Shelter[[#This Row],[HHperShelter]]*(Table_Shelter[[#This Row],['#ofTemporaryShelterBuilt]]+Table_Shelter[[#This Row],['#ofTemporaryShelterUnderConstruction]]+Table_Shelter[[#This Row],['#ofPermanentHouseUnderConstruction]])","v":144},{"$f":"IFERROR(VLOOKUP(Table_Shelter[[#This Row],[CampName]],CL,2,0),\"\")","v":"MMR012CMP029"},{"$f":"IFERROR(VLOOKUP(Table_Shelter[[#This Row],[CampName]],CL,3,0),\"\")","v":"Open"},{"$f":"IFERROR(Table_Shelter[[#This Row],[HHCovered]]/VLOOKUP(Table_Shelter[[#This Row],[CampName]],CL,4,0),\"\")","v":0.82758620689655171}]
["2013-10-01","Government","Government","Rakhine","Kyauktaw","Taung Bwe",8,null,null,8,8,null,null,null,null,{"$f":"Table_Shelter[[#This Row],[HHperShelter]]*(Table_Shelter[[#This Row],['#ofTemporaryShelterBuilt]]+Table_Shelter[[#This Row],['#ofTemporaryShelterUnderConstruction]]+Table_Shelter[[#This Row],['#ofPermanentHouseUnderConstruction]])","v":64},{"$f":"IFERROR(VLOOKUP(Table_Shelter[[#This Row],[CampName]],CL,2,0),\"\")","v":"MMR012CMP021"},{"$f":"IFERROR(VLOOKUP(Table_Shelter[[#This Row],[CampName]],CL,3,0),\"\")","v":"Open"},{"$f":"IFERROR(Table_Shelter[[#This Row],[HHCovered]]/VLOOKUP(Table_Shelter[[#This Row],[CampName]],CL,4,0),\"\")","v":1}]
["2013-10-01","Government","Government","Rakhine","Kyauktaw","Yun Nyar",8,null,null,14,14,null,null,null,null,{"$f":"Table_Shelter[[#This Row],[HHperShelter]]*(Table_Shelter[[#This Row],['#ofTemporaryShelterBuilt]]+Table_Shelter[[#This Row],['#ofTemporaryShelterUnderConstruction]]+Table_Shelter[[#This Row],['#ofPermanentHouseUnderConstruction]])","v":112},{"$f":"IFERROR(VLOOKUP(Table_Shelter[[#This Row],[CampName]],CL,2,0),\"\")","v":"MMR012CMP028"},{"$f":"IFERROR(VLOOKUP(Table_Shelter[[#This Row],[CampName]],CL,3,0),\"\")","v":"Open"},{"$f":"IFERROR(Table_Shelter[[#This Row],[HHCovered]]/VLOOKUP(Table_Shelter[[#This Row],[CampName]],CL,4,0),\"\")","v":0.81159420289855078}]
["2013-10-01","TDC/Natala Government","TDC/Natala Government","Rakhine","Maungdaw","Baw Di Gone",1,null,null,null,null,null,10,10,null,{"$f":"Table_Shelter[[#This Row],[HHperShelter]]*(Table_Shelter[[#This Row],['#ofTemporaryShelterBuilt]]+Table_Shelter[[#This Row],['#ofTemporaryShelterUnderConstruction]]+Table_Shelter[[#This Row],['#ofPermanentHouseUnderConstruction]])","v":0},{"$f":"IFERROR(VLOOKUP(Table_Shelter[[#This Row],[CampName]],CL,2,0),\"\")","v":"MMR012CMP079"},{"$f":"IFERROR(VLOOKUP(Table_Shelter[[#This Row],[CampName]],CL,3,0),\"\")","v":"Close"},{"$f":"IFERROR(Table_Shelter[[#This Row],[HHCovered]]/VLOOKUP(Table_Shelter[[#This Row],[CampName]],CL,4,0),\"\")","v":""}]
["2013-10-01","UNHCR/BAJ","UNHCR/BAJ","Rakhine","Maungdaw","Baw Di Gone",1,null,null,null,null,null,31,27,null,{"$f":"Table_Shelter[[#This Row],[HHperShelter]]*(Table_Shelter[[#This Row],['#ofTemporaryShelterBuilt]]+Table_Shelter[[#This Row],['#ofTemporaryShelterUnderConstruction]]+Table_Shelter[[#This Row],['#ofPermanentHouseUnderConstruction]])","v":0},{"$f":"IFERROR(VLOOKUP(Table_Shelter[[#This Row],[CampName]],CL,2,0),\"\")","v":"MMR012CMP079"},{"$f":"IFERROR(VLOOKUP(Table_Shelter[[#This Row],[CampName]],CL,3,0),\"\")","v":"Close"},{"$f":"IFERROR(Table_Shelter[[#This Row],[HHCovered]]/VLOOKUP(Table_Shelter[[#This Row],[CampName]],CL,4,0),\"\")","v":""}]
["2013-10-01","TDC/Natala Government","TDC/Natala Government","Rakhine","Maungdaw","Kan Pyin Thar Si",1,null,null,null,null,null,15,15,null,{"$f":"Table_Shelter[[#This Row],[HHperShelter]]*(Table_Shelter[[#This Row],['#ofTemporaryShelterBuilt]]+Table_Shelter[[#This Row],['#ofTemporaryShelterUnderConstruction]]+Table_Shelter[[#This Row],['#ofPermanentHouseUnderConstruction]])","v":0},{"$f":"IFERROR(VLOOKUP(Table_Shelter[[#This Row],[CampName]],CL,2,0),\"\")","v":""},{"$f":"IFERROR(VLOOKUP(Table_Shelter[[#This Row],[CampName]],CL,3,0),\"\")","v":""},{"$f":"IFERROR(Table_Shelter[[#This Row],[HHCovered]]/VLOOKUP(Table_Shelter[[#This Row],[CampName]],CL,4,0),\"\")","v":""}]
["2013-10-01","TDC/Natala Government","TDC/Natala Government","Rakhine","Maungdaw","Kan Thar Yar",1,null,null,null,null,null,10,10,null,{"$f":"Table_Shelter[[#This Row],[HHperShelter]]*(Table_Shelter[[#This Row],['#ofTemporaryShelterBuilt]]+Table_Shelter[[#This Row],['#ofTemporaryShelterUnderConstruction]]+Table_Shelter[[#This Row],['#ofPermanentHouseUnderConstruction]])","v":0},{"$f":"IFERROR(VLOOKUP(Table_Shelter[[#This Row],[CampName]],CL,2,0),\"\")","v":"MMR012CMP081"},{"$f":"IFERROR(VLOOKUP(Table_Shelter[[#This Row],[CampName]],CL,3,0),\"\")","v":"Close"},{"$f":"IFERROR(Table_Shelter[[#This Row],[HHCovered]]/VLOOKUP(Table_Shelter[[#This Row],[CampName]],CL,4,0),\"\")","v":""}]
["2013-10-01","UNHCR/BAJ","UNHCR/BAJ","Rakhine","Maungdaw","Kan Thar Yar",1,null,null,null,null,null,21,21,null,{"$f":"Table_Shelter[[#This Row],[HHperShelter]]*(Table_Shelter[[#This Row],['#ofTemporaryShelterBuilt]]+Table_Shelter[[#This Row],['#ofTemporaryShelterUnderConstruction]]+Table_Shelter[[#This Row],['#ofPermanentHouseUnderConstruction]])","v":0},{"$f":"IFERROR(VLOOKUP(Table_Shelter[[#This Row],[CampName]],CL,2,0),\"\")","v":"MMR012CMP081"},{"$f":"IFERROR(VLOOKUP(Table_Shelter[[#This Row],[CampName]],CL,3,0),\"\")","v":"Close"},{"$f":"IFERROR(Table_Shelter[[#This Row],[HHCovered]]/VLOOKUP(Table_Shelter[[#This Row],[CampName]],CL,4,0),\"\")","v":""}]
["2013-10-01","TDC/Natala Government","TDC/Natala Government","Rakhine","Maungdaw","Kha Yay Myaing( DPA)",1,null,null,null,null,null,2,2,null,{"$f":"Table_Shelter[[#This Row],[HHperShelter]]*(Table_Shelter[[#This Row],['#ofTemporaryShelterBuilt]]+Table_Shelter[[#This Row],['#ofTemporaryShelterUnderConstruction]]+Table_Shelter[[#This Row],['#ofPermanentHouseUnderConstruction]])","v":0},{"$f":"IFERROR(VLOOKUP(Table_Shelter[[#This Row],[CampName]],CL,2,0),\"\")","v":""},{"$f":"IFERROR(VLOOKUP(Table_Shelter[[#This Row],[CampName]],CL,3,0),\"\")","v":""},{"$f":"IFERROR(Table_Shelter[[#This Row],[HHCovered]]/VLOOKUP(Table_Shelter[[#This Row],[CampName]],CL,4,0),\"\")","v":""}]
["2013-10-01","TDC/Natala Government","TDC/Natala Government","Rakhine","Maungdaw","Kha Yay Myaing(short legged)",1,null,null,null,null,null,22,22,null,{"$f":"Table_Shelter[[#This Row],[HHperShelter]]*(Table_Shelter[[#This Row],['#ofTemporaryShelterBuilt]]+Table_Shelter[[#This Row],['#ofTemporaryShelterUnderConstruction]]+Table_Shelter[[#This Row],['#ofPermanentHouseUnderConstruction]])","v":0},{"$f":"IFERROR(VLOOKUP(Table_Shelter[[#This Row],[CampName]],CL,2,0),\"\")","v":""},{"$f":"IFERROR(VLOOKUP(Table_Shelter[[#This Row],[CampName]],CL,3,0),\"\")","v":""},{"$f":"IFERROR(Table_Shelter[[#This Row],[HHCovered]]/VLOOKUP(Table_Shelter[[#This Row],[CampName]],CL,4,0),\"\")","v":""}]
["2013-10-01","UNHCR/BAJ","UNHCR/BAJ","Rakhine","Maungdaw","Kha Yay Myaing(short legged)",1,null,null,null,null,null,25,25,null,{"$f":"Table_Shelter[[#This Row],[HHperShelter]]*(Table_Shelter[[#This Row],['#ofTemporaryShelterBuilt]]+Table_Shelter[[#This Row],['#ofTemporaryShelterUnderConstruction]]+Table_Shelter[[#This Row],['#ofPermanentHouseUnderConstruction]])","v":0},{"$f":"IFERROR(VLOOKUP(Table_Shelter[[#This Row],[CampName]],CL,2,0),\"\")","v":""},{"$f":"IFERROR(VLOOKUP(Table_Shelter[[#This Row],[CampName]],CL,3,0),\"\")","v":""},{"$f":"IFERROR(Table_Shelter[[#This Row],[HHCovered]]/VLOOKUP(Table_Shelter[[#This Row],[CampName]],CL,4,0),\"\")","v":""}]
["2013-10-01","CARE","CARE","Rakhine","Maungdaw","Kin Chaung",1,null,null,null,null,null,25,25,null,{"$f":"Table_Shelter[[#This Row],[HHperShelter]]*(Table_Shelter[[#This Row],['#ofTemporaryShelterBuilt]]+Table_Shelter[[#This Row],['#ofTemporaryShelterUnderConstruction]]+Table_Shelter[[#This Row],['#ofPermanentHouseUnderConstruction]])","v":0},{"$f":"IFERROR(VLOOKUP(Table_Shelter[[#This Row],[CampName]],CL,2,0),\"\")","v":"MMR012CMP080"},{"$f":"IFERROR(VLOOKUP(Table_Shelter[[#This Row],[CampName]],CL,3,0),\"\")","v":"Close"},{"$f":"IFERROR(Table_Shelter[[#This Row],[HHCovered]]/VLOOKUP(Table_Shelter[[#This Row],[CampName]],CL,4,0),\"\")","v":""}]
["2013-10-01","TDC/Natala Government","TDC/Natala Government","Rakhine","Maungdaw","Kyaing Gyi",1,null,null,null,null,null,36,36,null,{"$f":"Table_Shelter[[#This Row],[HHperShelter]]*(Table_Shelter[[#This Row],['#ofTemporaryShelterBuilt]]+Table_Shelter[[#This Row],['#ofTemporaryShelterUnderConstruction]]+Table_Shelter[[#This Row],['#ofPermanentHouseUnderConstruction]])","v":0},{"$f":"IFERROR(VLOOKUP(Table_Shelter[[#This Row],[CampName]],CL,2,0),\"\")","v":"MMR012CMP078"},{"$f":"IFERROR(VLOOKUP(Table_Shelter[[#This Row],[CampName]],CL,3,0),\"\")","v":"Close"},{"$f":"IFERROR(Table_Shelter[[#This Row],[HHCovered]]/VLOOKUP(Table_Shelter[[#This Row],[CampName]],CL,4,0),\"\")","v":""}]
["2013-10-01","UNHCR/BAJ","UNHCR/BAJ","Rakhine","Maungdaw","Kyaing Gyi",1,null,null,null,null,null,36,36,null,{"$f":"Table_Shelter[[#This Row],[HHperShelter]]*(Table_Shelter[[#This Row],['#ofTemporaryShelterBuilt]]+Table_Shelter[[#This Row],['#ofTemporaryShelterUnderConstruction]]+Table_Shelter[[#This Row],['#ofPermanentHouseUnderConstruction]])","v":0},{"$f":"IFERROR(VLOOKUP(Table_Shelter[[#This Row],[CampName]],CL,2,0),\"\")","v":"MMR012CMP078"},{"$f":"IFERROR(VLOOKUP(Table_Shelter[[#This Row],[CampName]],CL,3,0),\"\")","v":"Close"},{"$f":"IFERROR(Table_Shelter[[#This Row],[HHCovered]]/VLOOKUP(Table_Shelter[[#This Row],[CampName]],CL,4,0),\"\")","v":""}]
["2013-10-01","TDC/Natala Government","TDC/Natala Government","Rakhine","Maungdaw","Maw Ya Waddy",1,null,null,null,null,null,11,11,null,{"$f":"Table_Shelter[[#This Row],[HHperShelter]]*(Table_Shelter[[#This Row],['#ofTemporaryShelterBuilt]]+Table_Shelter[[#This Row],['#ofTemporaryShelterUnderConstruction]]+Table_Shelter[[#This Row],['#ofPermanentHouseUnderConstruction]])","v":0},{"$f":"IFERROR(VLOOKUP(Table_Shelter[[#This Row],[CampName]],CL,2,0),\"\")","v":"MMR012CMP076"},{"$f":"IFERROR(VLOOKUP(Table_Shelter[[#This Row],[CampName]],CL,3,0),\"\")","v":"Close"},{"$f":"IFERROR(Table_Shelter[[#This Row],[HHCovered]]/VLOOKUP(Table_Shelter[[#This Row],[CampName]],CL,4,0),\"\")","v":""}]
["2013-10-01","UNHCR/BAJ","UNHCR/BAJ","Rakhine","Maungdaw","Maw Ya Waddy",1,null,null,null,null,null,98,102,null,{"$f":"Table_Shelter[[#This Row],[HHperShelter]]*(Table_Shelter[[#This Row],['#ofTemporaryShelterBuilt]]+Table_Shelter[[#This Row],['#ofTemporaryShelterUnderConstruction]]+Table_Shelter[[#This Row],['#ofPermanentHouseUnderConstruction]])","v":0},{"$f":"IFERROR(VLOOKUP(Table_Shelter[[#This Row],[CampName]],CL,2,0),\"\")","v":"MMR012CMP076"},{"$f":"IFERROR(VLOOKUP(Table_Shelter[[#This Row],[CampName]],CL,3,0),\"\")","v":"Close"},{"$f":"IFERROR(Table_Shelter[[#This Row],[HHCovered]]/VLOOKUP(Table_Shelter[[#This Row],[CampName]],CL,4,0),\"\")","v":""}]
["2013-10-01","TDC/Natala Government","TDC/Natala Government","Rakhine","Maungdaw","Shwe Yin Aye",1,null,null,null,null,null,77,77,null,{"$f":"Table_Shelter[[#This Row],[HHperShelter]]*(Table_Shelter[[#This Row],['#ofTemporaryShelterBuilt]]+Table_Shelter[[#This Row],['#ofTemporaryShelterUnderConstruction]]+Table_Shelter[[#This Row],['#ofPermanentHouseUnderConstruction]])","v":0},{"$f":"IFERROR(VLOOKUP(Table_Shelter[[#This Row],[CampName]],CL,2,0),\"\")","v":""},{"$f":"IFERROR(VLOOKUP(Table_Shelter[[#This Row],[CampName]],CL,3,0),\"\")","v":""},{"$f":"IFERROR(Table_Shelter[[#This Row],[HHCovered]]/VLOOKUP(Table_Shelter[[#This Row],[CampName]],CL,4,0),\"\")","v":""}]
["2013-10-01","CARE","CARE","Rakhine","Maungdaw","Tha Yay Kone Baung",1,null,null,null,null,null,103,103,null,{"$f":"Table_Shelter[[#This Row],[HHperShelter]]*(Table_Shelter[[#This Row],['#ofTemporaryShelterBuilt]]+Table_Shelter[[#This Row],['#ofTemporaryShelterUnderConstruction]]+Table_Shelter[[#This Row],['#ofPermanentHouseUnderConstruction]])","v":0},{"$f":"IFERROR(VLOOKUP(Table_Shelter[[#This Row],[CampName]],CL,2,0),\"\")","v":"MMR012CMP077"},{"$f":"IFERROR(VLOOKUP(Table_Shelter[[#This Row],[CampName]],CL,3,0),\"\")","v":"Close"},{"$f":"IFERROR(Table_Shelter[[#This Row],[HHCovered]]/VLOOKUP(Table_Shelter[[#This Row],[CampName]],CL,4,0),\"\")","v":""}]
["2013-10-01","TDC/Natala Government","TDC/Natala Government","Rakhine","Maungdaw","Tha Yay Kone Baung",1,null,null,null,null,null,12,12,null,{"$f":"Table_Shelter[[#This Row],[HHperShelter]]*(Table_Shelter[[#This Row],['#ofTemporaryShelterBuilt]]+Table_Shelter[[#This Row],['#ofTemporaryShelterUnderConstruction]]+Table_Shelter[[#This Row],['#ofPermanentHouseUnderConstruction]])","v":0},{"$f":"IFERROR(VLOOKUP(Table_Shelter[[#This Row],[CampName]],CL,2,0),\"\")","v":"MMR012CMP077"},{"$f":"IFERROR(VLOOKUP(Table_Shelter[[#This Row],[CampName]],CL,3,0),\"\")","v":"Close"},{"$f":"IFERROR(Table_Shelter[[#This Row],[HHCovered]]/VLOOKUP(Table_Shelter[[#This Row],[CampName]],CL,4,0),\"\")","v":""}]
["2013-10-01","TDC/Natala Government","TDC/Natala Government","Rakhine","Maungdaw","Wai Thar Li",1,null,null,null,null,null,9,9,null,{"$f":"Table_Shelter[[#This Row],[HHperShelter]]*(Table_Shelter[[#This Row],['#ofTemporaryShelterBuilt]]+Table_Shelter[[#This Row],['#ofTemporaryShelterUnderConstruction]]+Table_Shelter[[#This Row],['#ofPermanentHouseUnderConstruction]])","v":0},{"$f":"IFERROR(VLOOKUP(Table_Shelter[[#This Row],[CampName]],CL,2,0),\"\")","v":""},{"$f":"IFERROR(VLOOKUP(Table_Shelter[[#This Row],[CampName]],CL,3,0),\"\")","v":""},{"$f":"IFERROR(Table_Shelter[[#This Row],[HHCovered]]/VLOOKUP(Table_Shelter[[#This Row],[CampName]],CL,4,0),\"\")","v":""}]
["2013-10-01","UNHCR/BAJ","UNHCR/BAJ","Rakhine","Maungdaw",null,1,null,null,null,null,null,11,11,null,{"$f":"Table_Shelter[[#This Row],[HHperShelter]]*(Table_Shelter[[#This Row],['#ofTemporaryShelterBuilt]]+Table_Shelter[[#This Row],['#ofTemporaryShelterUnderConstruction]]+Table_Shelter[[#This Row],['#ofPermanentHouseUnderConstruction]])","v":0},{"$f":"IFERROR(VLOOKUP(Table_Shelter[[#This Row],[CampName]],CL,2,0),\"\")","v":""},{"$f":"IFERROR(VLOOKUP(Table_Shelter[[#This Row],[CampName]],CL,3,0),\"\")","v":""},{"$f":"IFERROR(Table_Shelter[[#This Row],[HHCovered]]/VLOOKUP(Table_Shelter[[#This Row],[CampName]],CL,4,0),\"\")","v":""}]
["2013-10-01","UNHCR","UNHCR","Rakhine","Meybon","Kan Thar Htwat Wa",8,null,null,6,6,null,null,null,null,{"$f":"Table_Shelter[[#This Row],[HHperShelter]]*(Table_Shelter[[#This Row],['#ofTemporaryShelterBuilt]]+Table_Shelter[[#This Row],['#ofTemporaryShelterUnderConstruction]]+Table_Shelter[[#This Row],['#ofPermanentHouseUnderConstruction]])","v":48},{"$f":"IFERROR(VLOOKUP(Table_Shelter[[#This Row],[CampName]],CL,2,0),\"\")","v":"MMR012CMP013"},{"$f":"IFERROR(VLOOKUP(Table_Shelter[[#This Row],[CampName]],CL,3,0),\"\")","v":"Open"},{"$f":"IFERROR(Table_Shelter[[#This Row],[HHCovered]]/VLOOKUP(Table_Shelter[[#This Row],[CampName]],CL,4,0),\"\")","v":1.0909090909090908}]
["2013-10-01","UNHCR","UNHCR","Rakhine","Meybon","Taung Paw ",8,null,null,89,89,null,null,null,null,{"$f":"Table_Shelter[[#This Row],[HHperShelter]]*(Table_Shelter[[#This Row],['#ofTemporaryShelterBuilt]]+Table_Shelter[[#This Row],['#ofTemporaryShelterUnderConstruction]]+Table_Shelter[[#This Row],['#ofPermanentHouseUnderConstruction]])","v":712},{"$f":"IFERROR(VLOOKUP(Table_Shelter[[#This Row],[CampName]],CL,2,0),\"\")","v":"MMR012CMP014"},{"$f":"IFERROR(VLOOKUP(Table_Shelter[[#This Row],[CampName]],CL,3,0),\"\")","v":"Open"},{"$f":"IFERROR(Table_Shelter[[#This Row],[HHCovered]]/VLOOKUP(Table_Shelter[[#This Row],[CampName]],CL,4,0),\"\")","v":0.94680851063829785}]
["2013-10-01","Government","Government","Rakhine","Minbya","Aung Taing",8,null,null,10,10,null,null,null,null,{"$f":"Table_Shelter[[#This Row],[HHperShelter]]*(Table_Shelter[[#This Row],['#ofTemporaryShelterBuilt]]+Table_Shelter[[#This Row],['#ofTemporaryShelterUnderConstruction]]+Table_Shelter[[#This Row],['#ofPermanentHouseUnderConstruction]])","v":80},{"$f":"IFERROR(VLOOKUP(Table_Shelter[[#This Row],[CampName]],CL,2,0),\"\")","v":"MMR012CMP006"},{"$f":"IFERROR(VLOOKUP(Table_Shelter[[#This Row],[CampName]],CL,3,0),\"\")","v":"Open"},{"$f":"IFERROR(Table_Shelter[[#This Row],[HHCovered]]/VLOOKUP(Table_Shelter[[#This Row],[CampName]],CL,4,0),\"\")","v":0.93023255813953487}]
["2013-10-01","Government","Government","Rakhine","Minbya","Paik Thay",8,null,null,2,2,null,null,null,null,{"$f":"Table_Shelter[[#This Row],[HHperShelter]]*(Table_Shelter[[#This Row],['#ofTemporaryShelterBuilt]]+Table_Shelter[[#This Row],['#ofTemporaryShelterUnderConstruction]]+Table_Shelter[[#This Row],['#ofPermanentHouseUnderConstruction]])","v":16},{"$f":"IFERROR(VLOOKUP(Table_Shelter[[#This Row],[CampName]],CL,2,0),\"\")","v":"MMR012CMP001"},{"$f":"IFERROR(VLOOKUP(Table_Shelter[[#This Row],[CampName]],CL,3,0),\"\")","v":"Open"},{"$f":"IFERROR(Table_Shelter[[#This Row],[HHCovered]]/VLOOKUP(Table_Shelter[[#This Row],[CampName]],CL,4,0),\"\")","v":1}]
["2013-10-01","MRCS","MRCS","Rakhine","Minbya","Paik Thay",8,null,null,1,null,1,null,null,null,{"$f":"Table_Shelter[[#This Row],[HHperShelter]]*(Table_Shelter[[#This Row],['#ofTemporaryShelterBuilt]]+Table_Shelter[[#This Row],['#ofTemporaryShelterUnderConstruction]]+Table_Shelter[[#This Row],['#ofPermanentHouseUnderConstruction]])","v":8},{"$f":"IFERROR(VLOOKUP(Table_Shelter[[#This Row],[CampName]],CL,2,0),\"\")","v":"MMR012CMP001"},{"$f":"IFERROR(VLOOKUP(Table_Shelter[[#This Row],[CampName]],CL,3,0),\"\")","v":"Open"},{"$f":"IFERROR(Table_Shelter[[#This Row],[HHCovered]]/VLOOKUP(Table_Shelter[[#This Row],[CampName]],CL,4,0),\"\")","v":0.5}]
["2013-10-01","Government","Government","Rakhine","Minbya","Sam Ba Le",8,null,null,28,28,null,null,null,null,{"$f":"Table_Shelter[[#This Row],[HHperShelter]]*(Table_Shelter[[#This Row],['#ofTemporaryShelterBuilt]]+Table_Shelter[[#This Row],['#ofTemporaryShelterUnderConstruction]]+Table_Shelter[[#This Row],['#ofPermanentHouseUnderConstruction]])","v":224},{"$f":"IFERROR(VLOOKUP(Table_Shelter[[#This Row],[CampName]],CL,2,0),\"\")","v":"MMR012CMP008"},{"$f":"IFERROR(VLOOKUP(Table_Shelter[[#This Row],[CampName]],CL,3,0),\"\")","v":"Open"},{"$f":"IFERROR(Table_Shelter[[#This Row],[HHCovered]]/VLOOKUP(Table_Shelter[[#This Row],[CampName]],CL,4,0),\"\")","v":0.99555555555555553}]
["2013-10-01","MRCS","MRCS","Rakhine","Minbya","Sam Ba Le",8,null,null,1,null,1,null,null,null,{"$f":"Table_Shelter[[#This Row],[HHperShelter]]*(Table_Shelter[[#This Row],['#ofTemporaryShelterBuilt]]+Table_Shelter[[#This Row],['#ofTemporaryShelterUnderConstruction]]+Table_Shelter[[#This Row],['#ofPermanentHouseUnderConstruction]])","v":8},{"$f":"IFERROR(VLOOKUP(Table_Shelter[[#This Row],[CampName]],CL,2,0),\"\")","v":"MMR012CMP008"},{"$f":"IFERROR(VLOOKUP(Table_Shelter[[#This Row],[CampName]],CL,3,0),\"\")","v":"Open"},{"$f":"IFERROR(Table_Shelter[[#This Row],[HHCovered]]/VLOOKUP(Table_Shelter[[#This Row],[CampName]],CL,4,0),\"\")","v":3.5555555555555556E-2}]
["2013-10-01","Government","Government","Rakhine","Minbya","San Htoe Tan",8,null,null,10,10,null,null,null,null,{"$f":"Table_Shelter[[#This Row],[HHperShelter]]*(Table_Shelter[[#This Row],['#ofTemporaryShelterBuilt]]+Table_Shelter[[#This Row],['#ofTemporaryShelterUnderConstruction]]+Table_Shelter[[#This Row],['#ofPermanentHouseUnderConstruction]])","v":80},{"$f":"IFERROR(VLOOKUP(Table_Shelter[[#This Row],[CampName]],CL,2,0),\"\")","v":"MMR012CMP003"},{"$f":"IFERROR(VLOOKUP(Table_Shelter[[#This Row],[CampName]],CL,3,0),\"\")","v":"Open"},{"$f":"IFERROR(Table_Shelter[[#This Row],[HHCovered]]/VLOOKUP(Table_Shelter[[#This Row],[CampName]],CL,4,0),\"\")","v":0.64}]
["2013-10-01","MRCS","MRCS","Rakhine","Minbya","San Htoe Tan",8,null,null,1,null,1,null,null,null,{"$f":"Table_Shelter[[#This Row],[HHperShelter]]*(Table_Shelter[[#This Row],['#ofTemporaryShelterBuilt]]+Table_Shelter[[#This Row],['#ofTemporaryShelterUnderConstruction]]+Table_Shelter[[#This Row],['#ofPermanentHouseUnderConstruction]])","v":8},{"$f":"IFERROR(VLOOKUP(Table_Shelter[[#This Row],[CampName]],CL,2,0),\"\")","v":"MMR012CMP003"},{"$f":"IFERROR(VLOOKUP(Table_Shelter[[#This Row],[CampName]],CL,3,0),\"\")","v":"Open"},{"$f":"IFERROR(Table_Shelter[[#This Row],[HHCovered]]/VLOOKUP(Table_Shelter[[#This Row],[CampName]],CL,4,0),\"\")","v":6.4000000000000001E-2}]
["2013-10-01","Government","Government","Rakhine","Minbya","Tha Dar",8,null,null,14,14,null,null,null,null,{"$f":"Table_Shelter[[#This Row],[HHperShelter]]*(Table_Shelter[[#This Row],['#ofTemporaryShelterBuilt]]+Table_Shelter[[#This Row],['#ofTemporaryShelterUnderConstruction]]+Table_Shelter[[#This Row],['#ofPermanentHouseUnderConstruction]])","v":112},{"$f":"IFERROR(VLOOKUP(Table_Shelter[[#This Row],[CampName]],CL,2,0),\"\")","v":"MMR012CMP002"},{"$f":"IFERROR(VLOOKUP(Table_Shelter[[#This Row],[CampName]],CL,3,0),\"\")","v":"Open"},{"$f":"IFERROR(Table_Shelter[[#This Row],[HHCovered]]/VLOOKUP(Table_Shelter[[#This Row],[CampName]],CL,4,0),\"\")","v":0.55172413793103448}]
["2013-10-01","MRCS","MRCS","Rakhine","Minbya","Tha Dar",8,null,null,13,null,13,null,null,null,{"$f":"Table_Shelter[[#This Row],[HHperShelter]]*(Table_Shelter[[#This Row],['#ofTemporaryShelterBuilt]]+Table_Shelter[[#This Row],['#ofTemporaryShelterUnderConstruction]]+Table_Shelter[[#This Row],['#ofPermanentHouseUnderConstruction]])","v":104},{"$f":"IFERROR(VLOOKUP(Table_Shelter[[#This Row],[CampName]],CL,2,0),\"\")","v":"MMR012CMP002"},{"$f":"IFERROR(VLOOKUP(Table_Shelter[[#This Row],[CampName]],CL,3,0),\"\")","v":"Open"},{"$f":"IFERROR(Table_Shelter[[#This Row],[HHCovered]]/VLOOKUP(Table_Shelter[[#This Row],[CampName]],CL,4,0),\"\")","v":0.51231527093596063}]
["2013-10-01","Government","Government","Rakhine","Minbya","Tha Yet Oak",8,null,null,20,20,null,null,null,null,{"$f":"Table_Shelter[[#This Row],[HHperShelter]]*(Table_Shelter[[#This Row],['#ofTemporaryShelterBuilt]]+Table_Shelter[[#This Row],['#ofTemporaryShelterUnderConstruction]]+Table_Shelter[[#This Row],['#ofPermanentHouseUnderConstruction]])","v":160},{"$f":"IFERROR(VLOOKUP(Table_Shelter[[#This Row],[CampName]],CL,2,0),\"\")","v":"MMR012CMP005"},{"$f":"IFERROR(VLOOKUP(Table_Shelter[[#This Row],[CampName]],CL,3,0),\"\")","v":"Open"},{"$f":"IFERROR(Table_Shelter[[#This Row],[HHCovered]]/VLOOKUP(Table_Shelter[[#This Row],[CampName]],CL,4,0),\"\")","v":0.54054054054054057}]
["2013-10-01","MRCS","MRCS","Rakhine","Minbya","Tha Yet Oak",8,null,null,6,null,6,null,null,null,{"$f":"Table_Shelter[[#This Row],[HHperShelter]]*(Table_Shelter[[#This Row],['#ofTemporaryShelterBuilt]]+Table_Shelter[[#This Row],['#ofTemporaryShelterUnderConstruction]]+Table_Shelter[[#This Row],['#ofPermanentHouseUnderConstruction]])","v":48},{"$f":"IFERROR(VLOOKUP(Table_Shelter[[#This Row],[CampName]],CL,2,0),\"\")","v":"MMR012CMP005"},{"$f":"IFERROR(VLOOKUP(Table_Shelter[[#This Row],[CampName]],CL,3,0),\"\")","v":"Open"},{"$f":"IFERROR(Table_Shelter[[#This Row],[HHCovered]]/VLOOKUP(Table_Shelter[[#This Row],[CampName]],CL,4,0),\"\")","v":0.16216216216216217}]
["2013-10-01","Government","Government","Rakhine","Mrauk_U","Pa Rein",8,null,null,26,26,null,null,null,null,{"$f":"Table_Shelter[[#This Row],[HHperShelter]]*(Table_Shelter[[#This Row],['#ofTemporaryShelterBuilt]]+Table_Shelter[[#This Row],['#ofTemporaryShelterUnderConstruction]]+Table_Shelter[[#This Row],['#ofPermanentHouseUnderConstruction]])","v":208},{"$f":"IFERROR(VLOOKUP(Table_Shelter[[#This Row],[CampName]],CL,2,0),\"\")","v":"MMR012CMP009"},{"$f":"IFERROR(VLOOKUP(Table_Shelter[[#This Row],[CampName]],CL,3,0),\"\")","v":"Open"},{"$f":"IFERROR(Table_Shelter[[#This Row],[HHCovered]]/VLOOKUP(Table_Shelter[[#This Row],[CampName]],CL,4,0),\"\")","v":0.8666666666666667}]
["2013-10-01","MRCS","MRCS","Rakhine","Mrauk_U","Pa Rein",8,null,null,2,null,2,null,null,null,{"$f":"Table_Shelter[[#This Row],[HHperShelter]]*(Table_Shelter[[#This Row],['#ofTemporaryShelterBuilt]]+Table_Shelter[[#This Row],['#ofTemporaryShelterUnderConstruction]]+Table_Shelter[[#This Row],['#ofPermanentHouseUnderConstruction]])","v":16},{"$f":"IFERROR(VLOOKUP(Table_Shelter[[#This Row],[CampName]],CL,2,0),\"\")","v":"MMR012CMP009"},{"$f":"IFERROR(VLOOKUP(Table_Shelter[[#This Row],[CampName]],CL,3,0),\"\")","v":"Open"},{"$f":"IFERROR(Table_Shelter[[#This Row],[HHCovered]]/VLOOKUP(Table_Shelter[[#This Row],[CampName]],CL,4,0),\"\")","v":6.6666666666666666E-2}]
["2013-10-01","Government","Government","Rakhine","Mrauk_U","Yai Thei-Muslim",8,null,null,46,46,null,null,null,null,{"$f":"Table_Shelter[[#This Row],[HHperShelter]]*(Table_Shelter[[#This Row],['#ofTemporaryShelterBuilt]]+Table_Shelter[[#This Row],['#ofTemporaryShelterUnderConstruction]]+Table_Shelter[[#This Row],['#ofPermanentHouseUnderConstruction]])","v":368},{"$f":"IFERROR(VLOOKUP(Table_Shelter[[#This Row],[CampName]],CL,2,0),\"\")","v":"MMR012CMP010"},{"$f":"IFERROR(VLOOKUP(Table_Shelter[[#This Row],[CampName]],CL,3,0),\"\")","v":"Open"},{"$f":"IFERROR(Table_Shelter[[#This Row],[HHCovered]]/VLOOKUP(Table_Shelter[[#This Row],[CampName]],CL,4,0),\"\")","v":0.92462311557788945}]
["2013-10-01","DRC","DRC","Rakhine","Pauktaw","Ah Nauk Ywe",8,null,null,96,96,0,null,null,null,{"$f":"Table_Shelter[[#This Row],[HHperShelter]]*(Table_Shelter[[#This Row],['#ofTemporaryShelterBuilt]]+Table_Shelter[[#This Row],['#ofTemporaryShelterUnderConstruction]]+Table_Shelter[[#This Row],['#ofPermanentHouseUnderConstruction]])","v":768},{"$f":"IFERROR(VLOOKUP(Table_Shelter[[#This Row],[CampName]],CL,2,0),\"\")","v":"MMR012CMP016"},{"$f":"IFERROR(VLOOKUP(Table_Shelter[[#This Row],[CampName]],CL,3,0),\"\")","v":"Open"},{"$f":"IFERROR(Table_Shelter[[#This Row],[HHCovered]]/VLOOKUP(Table_Shelter[[#This Row],[CampName]],CL,4,0),\"\")","v":0.87272727272727268}]
["2013-10-01","Government","Government","Rakhine","Pauktaw","Ba Wan Chaung Wa Su",10,null,null,3,3,null,null,null,null,{"$f":"Table_Shelter[[#This Row],[HHperShelter]]*(Table_Shelter[[#This Row],['#ofTemporaryShelterBuilt]]+Table_Shelter[[#This Row],['#ofTemporaryShelterUnderConstruction]]+Table_Shelter[[#This Row],['#ofPermanentHouseUnderConstruction]])","v":30},{"$f":"IFERROR(VLOOKUP(Table_Shelter[[#This Row],[CampName]],CL,2,0),\"\")","v":"MMR012CMP015"},{"$f":"IFERROR(VLOOKUP(Table_Shelter[[#This Row],[CampName]],CL,3,0),\"\")","v":"Open"},{"$f":"IFERROR(Table_Shelter[[#This Row],[HHCovered]]/VLOOKUP(Table_Shelter[[#This Row],[CampName]],CL,4,0),\"\")","v":1.4285714285714286}]
["2013-08-23","Government","Government","Rakhine","Pauktaw","Kyein Ni Pyin",8,null,null,9,9,null,null,null,null,{"$f":"Table_Shelter[[#This Row],[HHperShelter]]*(Table_Shelter[[#This Row],['#ofTemporaryShelterBuilt]]+Table_Shelter[[#This Row],['#ofTemporaryShelterUnderConstruction]]+Table_Shelter[[#This Row],['#ofPermanentHouseUnderConstruction]])","v":72},{"$f":"IFERROR(VLOOKUP(Table_Shelter[[#This Row],[CampName]],CL,2,0),\"\")","v":"MMR012CMP018"},{"$f":"IFERROR(VLOOKUP(Table_Shelter[[#This Row],[CampName]],CL,3,0),\"\")","v":"Open"},{"$f":"IFERROR(Table_Shelter[[#This Row],[HHCovered]]/VLOOKUP(Table_Shelter[[#This Row],[CampName]],CL,4,0),\"\")","v":6.8899521531100474E-2}]
["2013-10-01","UNHCR","UNHCR","Rakhine","Pauktaw","Kyein Ni Pyin",8,null,null,98,98,null,null,null,null,{"$f":"Table_Shelter[[#This Row],[HHperShelter]]*(Table_Shelter[[#This Row],['#ofTemporaryShelterBuilt]]+Table_Shelter[[#This Row],['#ofTemporaryShelterUnderConstruction]]+Table_Shelter[[#This Row],['#ofPermanentHouseUnderConstruction]])","v":784},{"$f":"IFERROR(VLOOKUP(Table_Shelter[[#This Row],[CampName]],CL,2,0),\"\")","v":"MMR012CMP018"},{"$f":"IFERROR(VLOOKUP(Table_Shelter[[#This Row],[CampName]],CL,3,0),\"\")","v":"Open"},{"$f":"IFERROR(Table_Shelter[[#This Row],[HHCovered]]/VLOOKUP(Table_Shelter[[#This Row],[CampName]],CL,4,0),\"\")","v":0.75023923444976082}]
["2013-10-01","UNHCR","UNHCR","Rakhine","Pauktaw","Nget Chaung",8,null,null,169,169,null,null,null,null,{"$f":"Table_Shelter[[#This Row],[HHperShelter]]*(Table_Shelter[[#This Row],['#ofTemporaryShelterBuilt]]+Table_Shelter[[#This Row],['#ofTemporaryShelterUnderConstruction]]+Table_Shelter[[#This Row],['#ofPermanentHouseUnderConstruction]])","v":1352},{"$f":"IFERROR(VLOOKUP(Table_Shelter[[#This Row],[CampName]],CL,2,0),\"\")","v":"MMR012CMP017"},{"$f":"IFERROR(VLOOKUP(Table_Shelter[[#This Row],[CampName]],CL,3,0),\"\")","v":"Open"},{"$f":"IFERROR(Table_Shelter[[#This Row],[HHCovered]]/VLOOKUP(Table_Shelter[[#This Row],[CampName]],CL,4,0),\"\")","v":1.1496598639455782}]
["2013-10-01","DRC","DRC","Rakhine","Pauktaw","Sin Tet Maw",8,null,null,106,106,null,null,null,null,{"$f":"Table_Shelter[[#This Row],[HHperShelter]]*(Table_Shelter[[#This Row],['#ofTemporaryShelterBuilt]]+Table_Shelter[[#This Row],['#ofTemporaryShelterUnderConstruction]]+Table_Shelter[[#This Row],['#ofPermanentHouseUnderConstruction]])","v":848},{"$f":"IFERROR(VLOOKUP(Table_Shelter[[#This Row],[CampName]],CL,2,0),\"\")","v":"MMR012CMP019"},{"$f":"IFERROR(VLOOKUP(Table_Shelter[[#This Row],[CampName]],CL,3,0),\"\")","v":"Open"},{"$f":"IFERROR(Table_Shelter[[#This Row],[HHCovered]]/VLOOKUP(Table_Shelter[[#This Row],[CampName]],CL,4,0),\"\")","v":1.1336898395721926}]
["2013-10-01","Government","Government","Rakhine","Pauktaw","Ba Wan Chaung Wa Su",10,null,null,null,null,null,3,3,null,{"$f":"Table_Shelter[[#This Row],[HHperShelter]]*(Table_Shelter[[#This Row],['#ofTemporaryShelterBuilt]]+Table_Shelter[[#This Row],['#ofTemporaryShelterUnderConstruction]]+Table_Shelter[[#This Row],['#ofPermanentHouseUnderConstruction]])","v":0},{"$f":"IFERROR(VLOOKUP(Table_Shelter[[#This Row],[CampName]],CL,2,0),\"\")","v":"MMR012CMP015"},{"$f":"IFERROR(VLOOKUP(Table_Shelter[[#This Row],[CampName]],CL,3,0),\"\")","v":"Open"},{"$f":"IFERROR(Table_Shelter[[#This Row],[HHCovered]]/VLOOKUP(Table_Shelter[[#This Row],[CampName]],CL,4,0),\"\")","v":0}]
["2013-10-01","Government","Government","Rakhine","Ramree","Ramree Ward 6",8,null,null,12,12,null,null,null,null,{"$f":"Table_Shelter[[#This Row],[HHperShelter]]*(Table_Shelter[[#This Row],['#ofTemporaryShelterBuilt]]+Table_Shelter[[#This Row],['#ofTemporaryShelterUnderConstruction]]+Table_Shelter[[#This Row],['#ofPermanentHouseUnderConstruction]])","v":96},{"$f":"IFERROR(VLOOKUP(Table_Shelter[[#This Row],[CampName]],CL,2,0),\"\")","v":"MMR012CMP037"},{"$f":"IFERROR(VLOOKUP(Table_Shelter[[#This Row],[CampName]],CL,3,0),\"\")","v":"Open"},{"$f":"IFERROR(Table_Shelter[[#This Row],[HHCovered]]/VLOOKUP(Table_Shelter[[#This Row],[CampName]],CL,4,0),\"\")","v":1.6842105263157894}]
["2013-10-01","Government","Government","Rakhine","Rathedaung","Ah Nauk Pyin",8,null,null,4,4,null,null,null,null,{"$f":"Table_Shelter[[#This Row],[HHperShelter]]*(Table_Shelter[[#This Row],['#ofTemporaryShelterBuilt]]+Table_Shelter[[#This Row],['#ofTemporaryShelterUnderConstruction]]+Table_Shelter[[#This Row],['#ofPermanentHouseUnderConstruction]])","v":32},{"$f":"IFERROR(VLOOKUP(Table_Shelter[[#This Row],[CampName]],CL,2,0),\"\")","v":"MMR012CMP032"},{"$f":"IFERROR(VLOOKUP(Table_Shelter[[#This Row],[CampName]],CL,3,0),\"\")","v":"Open"},{"$f":"IFERROR(Table_Shelter[[#This Row],[HHCovered]]/VLOOKUP(Table_Shelter[[#This Row],[CampName]],CL,4,0),\"\")","v":0.56140350877192979}]
["2013-10-01","Government","Government","Rakhine","Rathedaung","Chein Khar Li",8,null,null,24,24,null,null,null,null,{"$f":"Table_Shelter[[#This Row],[HHperShelter]]*(Table_Shelter[[#This Row],['#ofTemporaryShelterBuilt]]+Table_Shelter[[#This Row],['#ofTemporaryShelterUnderConstruction]]+Table_Shelter[[#This Row],['#ofPermanentHouseUnderConstruction]])","v":192},{"$f":"IFERROR(VLOOKUP(Table_Shelter[[#This Row],[CampName]],CL,2,0),\"\")","v":"MMR012CMP033"},{"$f":"IFERROR(VLOOKUP(Table_Shelter[[#This Row],[CampName]],CL,3,0),\"\")","v":"Open"},{"$f":"IFERROR(Table_Shelter[[#This Row],[HHCovered]]/VLOOKUP(Table_Shelter[[#This Row],[CampName]],CL,4,0),\"\")","v":0.88479262672811065}]
["2013-10-01","Government","Government","Rakhine","Rathedaung","Koe Tan Kauk",8,null,null,29,29,null,null,null,null,{"$f":"Table_Shelter[[#This Row],[HHperShelter]]*(Table_Shelter[[#This Row],['#ofTemporaryShelterBuilt]]+Table_Shelter[[#This Row],['#ofTemporaryShelterUnderConstruction]]+Table_Shelter[[#This Row],['#ofPermanentHouseUnderConstruction]])","v":232},{"$f":"IFERROR(VLOOKUP(Table_Shelter[[#This Row],[CampName]],CL,2,0),\"\")","v":"MMR012CMP110"},{"$f":"IFERROR(VLOOKUP(Table_Shelter[[#This Row],[CampName]],CL,3,0),\"\")","v":"Open"},{"$f":"IFERROR(Table_Shelter[[#This Row],[HHCovered]]/VLOOKUP(Table_Shelter[[#This Row],[CampName]],CL,4,0),\"\")","v":1.1836734693877551}]
["2013-10-01","Government","Government","Rakhine","Rathedaung","Nyaung Pin Gyi",8,null,null,7,7,null,null,null,null,{"$f":"Table_Shelter[[#This Row],[HHperShelter]]*(Table_Shelter[[#This Row],['#ofTemporaryShelterBuilt]]+Table_Shelter[[#This Row],['#ofTemporaryShelterUnderConstruction]]+Table_Shelter[[#This Row],['#ofPermanentHouseUnderConstruction]])","v":56},{"$f":"IFERROR(VLOOKUP(Table_Shelter[[#This Row],[CampName]],CL,2,0),\"\")","v":"MMR012CMP031"},{"$f":"IFERROR(VLOOKUP(Table_Shelter[[#This Row],[CampName]],CL,3,0),\"\")","v":"Open"},{"$f":"IFERROR(Table_Shelter[[#This Row],[HHCovered]]/VLOOKUP(Table_Shelter[[#This Row],[CampName]],CL,4,0),\"\")","v":0.90322580645161288}]
["2013-10-01","Government","Government","Rakhine","Sittwe","Basare",8,null,null,52,52,null,null,null,null,{"$f":"Table_Shelter[[#This Row],[HHperShelter]]*(Table_Shelter[[#This Row],['#ofTemporaryShelterBuilt]]+Table_Shelter[[#This Row],['#ofTemporaryShelterUnderConstruction]]+Table_Shelter[[#This Row],['#ofPermanentHouseUnderConstruction]])","v":416},{"$f":"IFERROR(VLOOKUP(Table_Shelter[[#This Row],[CampName]],CL,2,0),\"\")","v":"MMR012CMP039"},{"$f":"IFERROR(VLOOKUP(Table_Shelter[[#This Row],[CampName]],CL,3,0),\"\")","v":"Open"},{"$f":"IFERROR(Table_Shelter[[#This Row],[HHCovered]]/VLOOKUP(Table_Shelter[[#This Row],[CampName]],CL,4,0),\"\")","v":1.0072639225181599}]
["2013-10-01","CARE","CARE","Rakhine","Sittwe","Baw Du Pha 1",8,null,null,50,50,null,null,null,null,{"$f":"Table_Shelter[[#This Row],[HHperShelter]]*(Table_Shelter[[#This Row],['#ofTemporaryShelterBuilt]]+Table_Shelter[[#This Row],['#ofTemporaryShelterUnderConstruction]]+Table_Shelter[[#This Row],['#ofPermanentHouseUnderConstruction]])","v":400},{"$f":"IFERROR(VLOOKUP(Table_Shelter[[#This Row],[CampName]],CL,2,0),\"\")","v":"MMR012CMP113"},{"$f":"IFERROR(VLOOKUP(Table_Shelter[[#This Row],[CampName]],CL,3,0),\"\")","v":"Open"},{"$f":"IFERROR(Table_Shelter[[#This Row],[HHCovered]]/VLOOKUP(Table_Shelter[[#This Row],[CampName]],CL,4,0),\"\")","v":0.44395116537180912}]
["2013-10-01","Government","Government","Rakhine","Sittwe","Baw Du Pha 1",8,null,null,40,40,null,null,null,null,{"$f":"Table_Shelter[[#This Row],[HHperShelter]]*(Table_Shelter[[#This Row],['#ofTemporaryShelterBuilt]]+Table_Shelter[[#This Row],['#ofTemporaryShelterUnderConstruction]]+Table_Shelter[[#This Row],['#ofPermanentHouseUnderConstruction]])","v":320},{"$f":"IFERROR(VLOOKUP(Table_Shelter[[#This Row],[CampName]],CL,2,0),\"\")","v":"MMR012CMP113"},{"$f":"IFERROR(VLOOKUP(Table_Shelter[[#This Row],[CampName]],CL,3,0),\"\")","v":"Open"},{"$f":"IFERROR(Table_Shelter[[#This Row],[HHCovered]]/VLOOKUP(Table_Shelter[[#This Row],[CampName]],CL,4,0),\"\")","v":0.35516093229744727}]
["2013-10-01","ICRC","ICRC","Rakhine","Sittwe","Baw Du Pha 1",8,null,null,5,5,null,null,null,null,{"$f":"Table_Shelter[[#This Row],[HHperShelter]]*(Table_Shelter[[#This Row],['#ofTemporaryShelterBuilt]]+Table_Shelter[[#This Row],['#ofTemporaryShelterUnderConstruction]]+Table_Shelter[[#This Row],['#ofPermanentHouseUnderConstruction]])","v":40},{"$f":"IFERROR(VLOOKUP(Table_Shelter[[#This Row],[CampName]],CL,2,0),\"\")","v":"MMR012CMP113"},{"$f":"IFERROR(VLOOKUP(Table_Shelter[[#This Row],[CampName]],CL,3,0),\"\")","v":"Open"},{"$f":"IFERROR(Table_Shelter[[#This Row],[HHCovered]]/VLOOKUP(Table_Shelter[[#This Row],[CampName]],CL,4,0),\"\")","v":4.4395116537180909E-2}]
["2013-10-01","MAUK","MAUK","Rakhine","Sittwe","Baw Du Pha 1",8,null,null,32,32,0,null,null,null,{"$f":"Table_Shelter[[#This Row],[HHperShelter]]*(Table_Shelter[[#This Row],['#ofTemporaryShelterBuilt]]+Table_Shelter[[#This Row],['#ofTemporaryShelterUnderConstruction]]+Table_Shelter[[#This Row],['#ofPermanentHouseUnderConstruction]])","v":256},{"$f":"IFERROR(VLOOKUP(Table_Shelter[[#This Row],[CampName]],CL,2,0),\"\")","v":"MMR012CMP113"},{"$f":"IFERROR(VLOOKUP(Table_Shelter[[#This Row],[CampName]],CL,3,0),\"\")","v":"Open"},{"$f":"IFERROR(Table_Shelter[[#This Row],[HHCovered]]/VLOOKUP(Table_Shelter[[#This Row],[CampName]],CL,4,0),\"\")","v":0.28412874583795783}]
["2013-10-01","Government","Government","Rakhine","Sittwe","Baw Du Pha 2",8,null,null,100,100,0,null,null,null,{"$f":"Table_Shelter[[#This Row],[HHperShelter]]*(Table_Shelter[[#This Row],['#ofTemporaryShelterBuilt]]+Table_Shelter[[#This Row],['#ofTemporaryShelterUnderConstruction]]+Table_Shelter[[#This Row],['#ofPermanentHouseUnderConstruction]])","v":800},{"$f":"IFERROR(VLOOKUP(Table_Shelter[[#This Row],[CampName]],CL,2,0),\"\")","v":"MMR012CMP114"},{"$f":"IFERROR(VLOOKUP(Table_Shelter[[#This Row],[CampName]],CL,3,0),\"\")","v":"Open"},{"$f":"IFERROR(Table_Shelter[[#This Row],[HHCovered]]/VLOOKUP(Table_Shelter[[#This Row],[CampName]],CL,4,0),\"\")","v":0.64829821717990277}]
["2013-10-01","ICRC","ICRC","Rakhine","Sittwe","Baw Du Pha 2",8,null,null,14,14,null,null,null,null,{"$f":"Table_Shelter[[#This Row],[HHperShelter]]*(Table_Shelter[[#This Row],['#ofTemporaryShelterBuilt]]+Table_Shelter[[#This Row],['#ofTemporaryShelterUnderConstruction]]+Table_Shelter[[#This Row],['#ofPermanentHouseUnderConstruction]])","v":112},{"$f":"IFERROR(VLOOKUP(Table_Shelter[[#This Row],[CampName]],CL,2,0),\"\")","v":"MMR012CMP114"},{"$f":"IFERROR(VLOOKUP(Table_Shelter[[#This Row],[CampName]],CL,3,0),\"\")","v":"Open"},{"$f":"IFERROR(Table_Shelter[[#This Row],[HHCovered]]/VLOOKUP(Table_Shelter[[#This Row],[CampName]],CL,4,0),\"\")","v":9.0761750405186387E-2}]
["2013-10-01","WFP","WFP","Rakhine","Sittwe","Baw Du Pha 2",10,null,null,40,40,null,null,null,null,{"$f":"Table_Shelter[[#This Row],[HHperShelter]]*(Table_Shelter[[#This Row],['#ofTemporaryShelterBuilt]]+Table_Shelter[[#This Row],['#ofTemporaryShelterUnderConstruction]]+Table_Shelter[[#This Row],['#ofPermanentHouseUnderConstruction]])","v":400},{"$f":"IFERROR(VLOOKUP(Table_Shelter[[#This Row],[CampName]],CL,2,0),\"\")","v":"MMR012CMP114"},{"$f":"IFERROR(VLOOKUP(Table_Shelter[[#This Row],[CampName]],CL,3,0),\"\")","v":"Open"},{"$f":"IFERROR(Table_Shelter[[#This Row],[HHCovered]]/VLOOKUP(Table_Shelter[[#This Row],[CampName]],CL,4,0),\"\")","v":0.32414910858995138}]
["2013-10-01","CARE","CARE","Rakhine","Sittwe","Dar Pai",8,null,null,41,41,null,null,null,null,{"$f":"Table_Shelter[[#This Row],[HHperShelter]]*(Table_Shelter[[#This Row],['#ofTemporaryShelterBuilt]]+Table_Shelter[[#This Row],['#ofTemporaryShelterUnderConstruction]]+Table_Shelter[[#This Row],['#ofPermanentHouseUnderConstruction]])","v":328},{"$f":"IFERROR(VLOOKUP(Table_Shelter[[#This Row],[CampName]],CL,2,0),\"\")","v":"MMR012CMP041"},{"$f":"IFERROR(VLOOKUP(Table_Shelter[[#This Row],[CampName]],CL,3,0),\"\")","v":"Open"},{"$f":"IFERROR(Table_Shelter[[#This Row],[HHCovered]]/VLOOKUP(Table_Shelter[[#This Row],[CampName]],CL,4,0),\"\")","v":0.18468468468468469}]
["2013-10-01","Government","Government","Rakhine","Sittwe","Dar Pai",8,null,null,141,141,null,null,null,null,{"$f":"Table_Shelter[[#This Row],[HHperShelter]]*(Table_Shelter[[#This Row],['#ofTemporaryShelterBuilt]]+Table_Shelter[[#This Row],['#ofTemporaryShelterUnderConstruction]]+Table_Shelter[[#This Row],['#ofPermanentHouseUnderConstruction]])","v":1128},{"$f":"IFERROR(VLOOKUP(Table_Shelter[[#This Row],[CampName]],CL,2,0),\"\")","v":"MMR012CMP041"},{"$f":"IFERROR(VLOOKUP(Table_Shelter[[#This Row],[CampName]],CL,3,0),\"\")","v":"Open"},{"$f":"IFERROR(Table_Shelter[[#This Row],[HHCovered]]/VLOOKUP(Table_Shelter[[#This Row],[CampName]],CL,4,0),\"\")","v":0.63513513513513509}]
["2013-10-01","CARE","CARE","Rakhine","Sittwe","Khaung Doke Khar ",8,null,null,25,25,null,null,null,null,{"$f":"Table_Shelter[[#This Row],[HHperShelter]]*(Table_Shelter[[#This Row],['#ofTemporaryShelterBuilt]]+Table_Shelter[[#This Row],['#ofTemporaryShelterUnderConstruction]]+Table_Shelter[[#This Row],['#ofPermanentHouseUnderConstruction]])","v":200},{"$f":"IFERROR(VLOOKUP(Table_Shelter[[#This Row],[CampName]],CL,2,0),\"\")","v":"MMR012CMP042"},{"$f":"IFERROR(VLOOKUP(Table_Shelter[[#This Row],[CampName]],CL,3,0),\"\")","v":"Open"},{"$f":"IFERROR(Table_Shelter[[#This Row],[HHCovered]]/VLOOKUP(Table_Shelter[[#This Row],[CampName]],CL,4,0),\"\")","v":0.25284450063211122}]
["2013-10-01","Government","Government","Rakhine","Sittwe","Khaung Doke Khar ",8,null,null,75,75,null,null,null,null,{"$f":"Table_Shelter[[#This Row],[HHperShelter]]*(Table_Shelter[[#This Row],['#ofTemporaryShelterBuilt]]+Table_Shelter[[#This Row],['#ofTemporaryShelterUnderConstruction]]+Table_Shelter[[#This Row],['#ofPermanentHouseUnderConstruction]])","v":600},{"$f":"IFERROR(VLOOKUP(Table_Shelter[[#This Row],[CampName]],CL,2,0),\"\")","v":"MMR012CMP042"},{"$f":"IFERROR(VLOOKUP(Table_Shelter[[#This Row],[CampName]],CL,3,0),\"\")","v":"Open"},{"$f":"IFERROR(Table_Shelter[[#This Row],[HHCovered]]/VLOOKUP(Table_Shelter[[#This Row],[CampName]],CL,4,0),\"\")","v":0.75853350189633373}]
["2013-10-01","Government","Government","Rakhine","Sittwe","Maw Ti Ngar",8,null,null,78,78,null,null,null,null,{"$f":"Table_Shelter[[#This Row],[HHperShelter]]*(Table_Shelter[[#This Row],['#ofTemporaryShelterBuilt]]+Table_Shelter[[#This Row],['#ofTemporaryShelterUnderConstruction]]+Table_Shelter[[#This Row],['#ofPermanentHouseUnderConstruction]])","v":624},{"$f":"IFERROR(VLOOKUP(Table_Shelter[[#This Row],[CampName]],CL,2,0),\"\")","v":"MMR012CMP092"},{"$f":"IFERROR(VLOOKUP(Table_Shelter[[#This Row],[CampName]],CL,3,0),\"\")","v":"Open"},{"$f":"IFERROR(Table_Shelter[[#This Row],[HHCovered]]/VLOOKUP(Table_Shelter[[#This Row],[CampName]],CL,4,0),\"\")","v":0.93553223388305851}]
["2013-10-01","UNHCR","UNHCR","Rakhine","Sittwe","Ohn Taw Chay",8,null,null,80,80,null,null,null,null,{"$f":"Table_Shelter[[#This Row],[HHperShelter]]*(Table_Shelter[[#This Row],['#ofTemporaryShelterBuilt]]+Table_Shelter[[#This Row],['#ofTemporaryShelterUnderConstruction]]+Table_Shelter[[#This Row],['#ofPermanentHouseUnderConstruction]])","v":640},{"$f":"IFERROR(VLOOKUP(Table_Shelter[[#This Row],[CampName]],CL,2,0),\"\")","v":"MMR012CMP098"},{"$f":"IFERROR(VLOOKUP(Table_Shelter[[#This Row],[CampName]],CL,3,0),\"\")","v":"Open"},{"$f":"IFERROR(Table_Shelter[[#This Row],[HHCovered]]/VLOOKUP(Table_Shelter[[#This Row],[CampName]],CL,4,0),\"\")","v":1.0207336523125996}]
["2013-10-01","CARE","CARE","Rakhine","Sittwe","Ohn Taw Gyi (North)",8,null,null,45,45,null,null,null,null,{"$f":"Table_Shelter[[#This Row],[HHperShelter]]*(Table_Shelter[[#This Row],['#ofTemporaryShelterBuilt]]+Table_Shelter[[#This Row],['#ofTemporaryShelterUnderConstruction]]+Table_Shelter[[#This Row],['#ofPermanentHouseUnderConstruction]])","v":360},{"$f":"IFERROR(VLOOKUP(Table_Shelter[[#This Row],[CampName]],CL,2,0),\"\")","v":"MMR012CMP115"},{"$f":"IFERROR(VLOOKUP(Table_Shelter[[#This Row],[CampName]],CL,3,0),\"\")","v":"Open"},{"$f":"IFERROR(Table_Shelter[[#This Row],[HHCovered]]/VLOOKUP(Table_Shelter[[#This Row],[CampName]],CL,4,0),\"\")","v":0.24161073825503357}]
["2013-10-01","Government","Government","Rakhine","Sittwe","Ohn Taw Gyi (North)",8,null,null,60,60,null,null,null,null,{"$f":"Table_Shelter[[#This Row],[HHperShelter]]*(Table_Shelter[[#This Row],['#ofTemporaryShelterBuilt]]+Table_Shelter[[#This Row],['#ofTemporaryShelterUnderConstruction]]+Table_Shelter[[#This Row],['#ofPermanentHouseUnderConstruction]])","v":480},{"$f":"IFERROR(VLOOKUP(Table_Shelter[[#This Row],[CampName]],CL,2,0),\"\")","v":"MMR012CMP115"},{"$f":"IFERROR(VLOOKUP(Table_Shelter[[#This Row],[CampName]],CL,3,0),\"\")","v":"Open"},{"$f":"IFERROR(Table_Shelter[[#This Row],[HHCovered]]/VLOOKUP(Table_Shelter[[#This Row],[CampName]],CL,4,0),\"\")","v":0.32214765100671139}]
["2013-10-01","MRF","MRF","Rakhine","Sittwe","Ohn Taw Gyi (North)",8,null,null,115,115,null,null,null,null,{"$f":"Table_Shelter[[#This Row],[HHperShelter]]*(Table_Shelter[[#This Row],['#ofTemporaryShelterBuilt]]+Table_Shelter[[#This Row],['#ofTemporaryShelterUnderConstruction]]+Table_Shelter[[#This Row],['#ofPermanentHouseUnderConstruction]])","v":920},{"$f":"IFERROR(VLOOKUP(Table_Shelter[[#This Row],[CampName]],CL,2,0),\"\")","v":"MMR012CMP115"},{"$f":"IFERROR(VLOOKUP(Table_Shelter[[#This Row],[CampName]],CL,3,0),\"\")","v":"Open"},{"$f":"IFERROR(Table_Shelter[[#This Row],[HHCovered]]/VLOOKUP(Table_Shelter[[#This Row],[CampName]],CL,4,0),\"\")","v":0.6174496644295302}]
["2013-10-01","UNHCR","UNHCR","Rakhine","Sittwe","Ohn Taw Gyi (North)",8,null,null,115,115,null,null,null,null,{"$f":"Table_Shelter[[#This Row],[HHperShelter]]*(Table_Shelter[[#This Row],['#ofTemporaryShelterBuilt]]+Table_Shelter[[#This Row],['#ofTemporaryShelterUnderConstruction]]+Table_Shelter[[#This Row],['#ofPermanentHouseUnderConstruction]])","v":920},{"$f":"IFERROR(VLOOKUP(Table_Shelter[[#This Row],[CampName]],CL,2,0),\"\")","v":"MMR012CMP115"},{"$f":"IFERROR(VLOOKUP(Table_Shelter[[#This Row],[CampName]],CL,3,0),\"\")","v":"Open"},{"$f":"IFERROR(Table_Shelter[[#This Row],[HHCovered]]/VLOOKUP(Table_Shelter[[#This Row],[CampName]],CL,4,0),\"\")","v":0.6174496644295302}]
["2013-10-01","Government","Government","Rakhine","Sittwe","Ohn Taw Gyi (South)",8,null,null,221,221,null,null,null,null,{"$f":"Table_Shelter[[#This Row],[HHperShelter]]*(Table_Shelter[[#This Row],['#ofTemporaryShelterBuilt]]+Table_Shelter[[#This Row],['#ofTemporaryShelterUnderConstruction]]+Table_Shelter[[#This Row],['#ofPermanentHouseUnderConstruction]])","v":1768},{"$f":"IFERROR(VLOOKUP(Table_Shelter[[#This Row],[CampName]],CL,2,0),\"\")","v":"MMR012CMP116"},{"$f":"IFERROR(VLOOKUP(Table_Shelter[[#This Row],[CampName]],CL,3,0),\"\")","v":"Open"},{"$f":"IFERROR(Table_Shelter[[#This Row],[HHCovered]]/VLOOKUP(Table_Shelter[[#This Row],[CampName]],CL,4,0),\"\")","v":0.77680140597539538}]
["2013-10-01","Government","Government","Rakhine","Sittwe","Ohn Taw Gyi (South)",10,null,null,20,20,null,null,null,null,{"$f":"Table_Shelter[[#This Row],[HHperShelter]]*(Table_Shelter[[#This Row],['#ofTemporaryShelterBuilt]]+Table_Shelter[[#This Row],['#ofTemporaryShelterUnderConstruction]]+Table_Shelter[[#This Row],['#ofPermanentHouseUnderConstruction]])","v":200},{"$f":"IFERROR(VLOOKUP(Table_Shelter[[#This Row],[CampName]],CL,2,0),\"\")","v":"MMR012CMP116"},{"$f":"IFERROR(VLOOKUP(Table_Shelter[[#This Row],[CampName]],CL,3,0),\"\")","v":"Open"},{"$f":"IFERROR(Table_Shelter[[#This Row],[HHCovered]]/VLOOKUP(Table_Shelter[[#This Row],[CampName]],CL,4,0),\"\")","v":8.7873462214411252E-2}]
["2013-10-01","UNHCR","UNHCR","Rakhine","Sittwe","Ohn Taw Gyi (South)",8,null,null,35,35,null,null,null,null,{"$f":"Table_Shelter[[#This Row],[HHperShelter]]*(Table_Shelter[[#This Row],['#ofTemporaryShelterBuilt]]+Table_Shelter[[#This Row],['#ofTemporaryShelterUnderConstruction]]+Table_Shelter[[#This Row],['#ofPermanentHouseUnderConstruction]])","v":280},{"$f":"IFERROR(VLOOKUP(Table_Shelter[[#This Row],[CampName]],CL,2,0),\"\")","v":"MMR012CMP116"},{"$f":"IFERROR(VLOOKUP(Table_Shelter[[#This Row],[CampName]],CL,3,0),\"\")","v":"Open"},{"$f":"IFERROR(Table_Shelter[[#This Row],[HHCovered]]/VLOOKUP(Table_Shelter[[#This Row],[CampName]],CL,4,0),\"\")","v":0.12302284710017575}]
["2013-10-01","Government","Government","Rakhine","Sittwe","Sat Roe Kya",1,null,null,null,null,null,669,669,null,{"$f":"Table_Shelter[[#This Row],[HHperShelter]]*(Table_Shelter[[#This Row],['#ofTemporaryShelterBuilt]]+Table_Shelter[[#This Row],['#ofTemporaryShelterUnderConstruction]]+Table_Shelter[[#This Row],['#ofPermanentHouseUnderConstruction]])","v":0},{"$f":"IFERROR(VLOOKUP(Table_Shelter[[#This Row],[CampName]],CL,2,0),\"\")","v":"MMR012CMP105"},{"$f":"IFERROR(VLOOKUP(Table_Shelter[[#This Row],[CampName]],CL,3,0),\"\")","v":"Close"},{"$f":"IFERROR(Table_Shelter[[#This Row],[HHCovered]]/VLOOKUP(Table_Shelter[[#This Row],[CampName]],CL,4,0),\"\")","v":""}]
["2013-10-01","DRC","DRC","Rakhine","Sittwe","Say Tha Mar Gyi",8,null,null,27,27,null,null,null,null,{"$f":"Table_Shelter[[#This Row],[HHperShelter]]*(Table_Shelter[[#This Row],['#ofTemporaryShelterBuilt]]+Table_Shelter[[#This Row],['#ofTemporaryShelterUnderConstruction]]+Table_Shelter[[#This Row],['#ofPermanentHouseUnderConstruction]])","v":216},{"$f":"IFERROR(VLOOKUP(Table_Shelter[[#This Row],[CampName]],CL,2,0),\"\")","v":"MMR012CMP045"},{"$f":"IFERROR(VLOOKUP(Table_Shelter[[#This Row],[CampName]],CL,3,0),\"\")","v":"Open"},{"$f":"IFERROR(Table_Shelter[[#This Row],[HHCovered]]/VLOOKUP(Table_Shelter[[#This Row],[CampName]],CL,4,0),\"\")","v":8.4573218480814408E-2}]
["2013-10-01","Government","Government","Rakhine","Sittwe","Say Tha Mar Gyi",10,null,null,63,63,null,null,null,null,{"$f":"Table_Shelter[[#This Row],[HHperShelter]]*(Table_Shelter[[#This Row],['#ofTemporaryShelterBuilt]]+Table_Shelter[[#This Row],['#ofTemporaryShelterUnderConstruction]]+Table_Shelter[[#This Row],['#ofPermanentHouseUnderConstruction]])","v":630},{"$f":"IFERROR(VLOOKUP(Table_Shelter[[#This Row],[CampName]],CL,2,0),\"\")","v":"MMR012CMP045"},{"$f":"IFERROR(VLOOKUP(Table_Shelter[[#This Row],[CampName]],CL,3,0),\"\")","v":"Open"},{"$f":"IFERROR(Table_Shelter[[#This Row],[HHCovered]]/VLOOKUP(Table_Shelter[[#This Row],[CampName]],CL,4,0),\"\")","v":0.24667188723570868}]
["2013-10-01","IRW","IRW","Rakhine","Sittwe","Say Tha Mar Gyi",8,null,null,40,40,null,null,null,null,{"$f":"Table_Shelter[[#This Row],[HHperShelter]]*(Table_Shelter[[#This Row],['#ofTemporaryShelterBuilt]]+Table_Shelter[[#This Row],['#ofTemporaryShelterUnderConstruction]]+Table_Shelter[[#This Row],['#ofPermanentHouseUnderConstruction]])","v":320},{"$f":"IFERROR(VLOOKUP(Table_Shelter[[#This Row],[CampName]],CL,2,0),\"\")","v":"MMR012CMP045"},{"$f":"IFERROR(VLOOKUP(Table_Shelter[[#This Row],[CampName]],CL,3,0),\"\")","v":"Open"},{"$f":"IFERROR(Table_Shelter[[#This Row],[HHCovered]]/VLOOKUP(Table_Shelter[[#This Row],[CampName]],CL,4,0),\"\")","v":0.12529365700861395}]
["2013-10-01","MRCS","MRCS","Rakhine","Sittwe","Say Tha Mar Gyi",8,null,null,60,60,null,null,null,null,{"$f":"Table_Shelter[[#This Row],[HHperShelter]]*(Table_Shelter[[#This Row],['#ofTemporaryShelterBuilt]]+Table_Shelter[[#This Row],['#ofTemporaryShelterUnderConstruction]]+Table_Shelter[[#This Row],['#ofPermanentHouseUnderConstruction]])","v":480},{"$f":"IFERROR(VLOOKUP(Table_Shelter[[#This Row],[CampName]],CL,2,0),\"\")","v":"MMR012CMP045"},{"$f":"IFERROR(VLOOKUP(Table_Shelter[[#This Row],[CampName]],CL,3,0),\"\")","v":"Open"},{"$f":"IFERROR(Table_Shelter[[#This Row],[HHCovered]]/VLOOKUP(Table_Shelter[[#This Row],[CampName]],CL,4,0),\"\")","v":0.18794048551292092}]
["2013-10-01","MRF","MRF","Rakhine","Sittwe","Say Tha Mar Gyi",10,null,null,77,77,null,null,null,null,{"$f":"Table_Shelter[[#This Row],[HHperShelter]]*(Table_Shelter[[#This Row],['#ofTemporaryShelterBuilt]]+Table_Shelter[[#This Row],['#ofTemporaryShelterUnderConstruction]]+Table_Shelter[[#This Row],['#ofPermanentHouseUnderConstruction]])","v":770},{"$f":"IFERROR(VLOOKUP(Table_Shelter[[#This Row],[CampName]],CL,2,0),\"\")","v":"MMR012CMP045"},{"$f":"IFERROR(VLOOKUP(Table_Shelter[[#This Row],[CampName]],CL,3,0),\"\")","v":"Open"},{"$f":"IFERROR(Table_Shelter[[#This Row],[HHCovered]]/VLOOKUP(Table_Shelter[[#This Row],[CampName]],CL,4,0),\"\")","v":0.30148786217697732}]
["2013-10-01","UNHCR","UNHCR","Rakhine","Sittwe","Say Tha Mar Gyi",8,null,null,33,33,null,null,null,null,{"$f":"Table_Shelter[[#This Row],[HHperShelter]]*(Table_Shelter[[#This Row],['#ofTemporaryShelterBuilt]]+Table_Shelter[[#This Row],['#ofTemporaryShelterUnderConstruction]]+Table_Shelter[[#This Row],['#ofPermanentHouseUnderConstruction]])","v":264},{"$f":"IFERROR(VLOOKUP(Table_Shelter[[#This Row],[CampName]],CL,2,0),\"\")","v":"MMR012CMP045"},{"$f":"IFERROR(VLOOKUP(Table_Shelter[[#This Row],[CampName]],CL,3,0),\"\")","v":"Open"},{"$f":"IFERROR(Table_Shelter[[#This Row],[HHCovered]]/VLOOKUP(Table_Shelter[[#This Row],[CampName]],CL,4,0),\"\")","v":0.1033672670321065}]
["2013-10-01","Government","Government","Rakhine","Sittwe","Set Yone Su",10,null,null,22,22,null,null,null,null,{"$f":"Table_Shelter[[#This Row],[HHperShelter]]*(Table_Shelter[[#This Row],['#ofTemporaryShelterBuilt]]+Table_Shelter[[#This Row],['#ofTemporaryShelterUnderConstruction]]+Table_Shelter[[#This Row],['#ofPermanentHouseUnderConstruction]])","v":220},{"$f":"IFERROR(VLOOKUP(Table_Shelter[[#This Row],[CampName]],CL,2,0),\"\")","v":"MMR012CMP056"},{"$f":"IFERROR(VLOOKUP(Table_Shelter[[#This Row],[CampName]],CL,3,0),\"\")","v":"Open"},{"$f":"IFERROR(Table_Shelter[[#This Row],[HHCovered]]/VLOOKUP(Table_Shelter[[#This Row],[CampName]],CL,4,0),\"\")","v":2.9729729729729728}]
["2013-10-01","UNHCR","UNHCR","Rakhine","Sittwe","Set Yone Su 3",8,null,null,22,22,null,null,null,null,{"$f":"Table_Shelter[[#This Row],[HHperShelter]]*(Table_Shelter[[#This Row],['#ofTemporaryShelterBuilt]]+Table_Shelter[[#This Row],['#ofTemporaryShelterUnderConstruction]]+Table_Shelter[[#This Row],['#ofPermanentHouseUnderConstruction]])","v":176},{"$f":"IFERROR(VLOOKUP(Table_Shelter[[#This Row],[CampName]],CL,2,0),\"\")","v":"MMR012CMP093"},{"$f":"IFERROR(VLOOKUP(Table_Shelter[[#This Row],[CampName]],CL,3,0),\"\")","v":"Open"},{"$f":"IFERROR(Table_Shelter[[#This Row],[HHCovered]]/VLOOKUP(Table_Shelter[[#This Row],[CampName]],CL,4,0),\"\")","v":1}]
["2013-10-01","CARE","CARE","Rakhine","Sittwe","Thet Kae Pyin ",8,null,null,63,63,0,null,null,null,{"$f":"Table_Shelter[[#This Row],[HHperShelter]]*(Table_Shelter[[#This Row],['#ofTemporaryShelterBuilt]]+Table_Shelter[[#This Row],['#ofTemporaryShelterUnderConstruction]]+Table_Shelter[[#This Row],['#ofPermanentHouseUnderConstruction]])","v":504},{"$f":"IFERROR(VLOOKUP(Table_Shelter[[#This Row],[CampName]],CL,2,0),\"\")","v":"MMR012CMP048"},{"$f":"IFERROR(VLOOKUP(Table_Shelter[[#This Row],[CampName]],CL,3,0),\"\")","v":"Open"},{"$f":"IFERROR(Table_Shelter[[#This Row],[HHCovered]]/VLOOKUP(Table_Shelter[[#This Row],[CampName]],CL,4,0),\"\")","v":0.55202628696604605}]
["2013-10-01","Government","Government","Rakhine","Sittwe","Thet Kae Pyin ",8,null,null,60,60,null,null,null,null,{"$f":"Table_Shelter[[#This Row],[HHperShelter]]*(Table_Shelter[[#This Row],['#ofTemporaryShelterBuilt]]+Table_Shelter[[#This Row],['#ofTemporaryShelterUnderConstruction]]+Table_Shelter[[#This Row],['#ofPermanentHouseUnderConstruction]])","v":480},{"$f":"IFERROR(VLOOKUP(Table_Shelter[[#This Row],[CampName]],CL,2,0),\"\")","v":"MMR012CMP048"},{"$f":"IFERROR(VLOOKUP(Table_Shelter[[#This Row],[CampName]],CL,3,0),\"\")","v":"Open"},{"$f":"IFERROR(Table_Shelter[[#This Row],[HHCovered]]/VLOOKUP(Table_Shelter[[#This Row],[CampName]],CL,4,0),\"\")","v":0.52573932092004383}]
[null,"MRF","MRF","Rakhine","Sittwe","Ohn Taw Gyi (South)",8,null,null,9,9,null,null,null,null,{"$f":"Table_Shelter[[#This Row],[HHperShelter]]*(Table_Shelter[[#This Row],['#ofTemporaryShelterBuilt]]+Table_Shelter[[#This Row],['#ofTemporaryShelterUnderConstruction]]+Table_Shelter[[#This Row],['#ofPermanentHouseUnderConstruction]])","v":72},{"$f":"IFERROR(VLOOKUP(Table_Shelter[[#This Row],[CampName]],CL,2,0),\"\")","v":"MMR012CMP116"},{"$f":"IFERROR(VLOOKUP(Table_Shelter[[#This Row],[CampName]],CL,3,0),\"\")","v":"Open"},{"$f":"IFERROR(Table_Shelter[[#This Row],[HHCovered]]/VLOOKUP(Table_Shelter[[#This Row],[CampName]],CL,4,0),\"\")","v":3.163444639718805E-2}]
[null,"MRCS","MRCS","Rakhine","Pauktaw","Kyein Ni Pyin",8,null,null,13,null,13,null,null,null,{"$f":"Table_Shelter[[#This Row],[HHperShelter]]*(Table_Shelter[[#This Row],['#ofTemporaryShelterBuilt]]+Table_Shelter[[#This Row],['#ofTemporaryShelterUnderConstruction]]+Table_Shelter[[#This Row],['#ofPermanentHouseUnderConstruction]])","v":104},{"$f":"IFERROR(VLOOKUP(Table_Shelter[[#This Row],[CampName]],CL,2,0),\"\")","v":"MMR012CMP018"},{"$f":"IFERROR(VLOOKUP(Table_Shelter[[#This Row],[CampName]],CL,3,0),\"\")","v":"Open"},{"$f":"IFERROR(Table_Shelter[[#This Row],[HHCovered]]/VLOOKUP(Table_Shelter[[#This Row],[CampName]],CL,4,0),\"\")","v":9.9521531100478469E-2}]
[null,"MRCS","MRCS","Rakhine","Rathedaung","Ah Nauk Pyin",8,null,null,2,null,2,null,null,null,{"$f":"Table_Shelter[[#This Row],[HHperShelter]]*(Table_Shelter[[#This Row],['#ofTemporaryShelterBuilt]]+Table_Shelter[[#This Row],['#ofTemporaryShelterUnderConstruction]]+Table_Shelter[[#This Row],['#ofPermanentHouseUnderConstruction]])","v":16},{"$f":"IFERROR(VLOOKUP(Table_Shelter[[#This Row],[CampName]],CL,2,0),\"\")","v":"MMR012CMP032"},{"$f":"IFERROR(VLOOKUP(Table_Shelter[[#This Row],[CampName]],CL,3,0),\"\")","v":"Open"},{"$f":"IFERROR(Table_Shelter[[#This Row],[HHCovered]]/VLOOKUP(Table_Shelter[[#This Row],[CampName]],CL,4,0),\"\")","v":0.2807017543859649}]
[null,"MRCS","MRCS","Rakhine","Rathedaung","Koe Tan Kauk",8,null,null,2,null,2,null,null,null,{"$f":"Table_Shelter[[#This Row],[HHperShelter]]*(Table_Shelter[[#This Row],['#ofTemporaryShelterBuilt]]+Table_Shelter[[#This Row],['#ofTemporaryShelterUnderConstruction]]+Table_Shelter[[#This Row],['#ofPermanentHouseUnderConstruction]])","v":16},{"$f":"IFERROR(VLOOKUP(Table_Shelter[[#This Row],[CampName]],CL,2,0),\"\")","v":"MMR012CMP110"},{"$f":"IFERROR(VLOOKUP(Table_Shelter[[#This Row],[CampName]],CL,3,0),\"\")","v":"Open"},{"$f":"IFERROR(Table_Shelter[[#This Row],[HHCovered]]/VLOOKUP(Table_Shelter[[#This Row],[CampName]],CL,4,0),\"\")","v":8.1632653061224483E-2}]
[null,"MRCS","MRCS","Rakhine","Rathedaung","Chein Khar Li",8,null,null,8,null,8,null,null,null,{"$f":"Table_Shelter[[#This Row],[HHperShelter]]*(Table_Shelter[[#This Row],['#ofTemporaryShelterBuilt]]+Table_Shelter[[#This Row],['#ofTemporaryShelterUnderConstruction]]+Table_Shelter[[#This Row],['#ofPermanentHouseUnderConstruction]])","v":64},{"$f":"IFERROR(VLOOKUP(Table_Shelter[[#This Row],[CampName]],CL,2,0),\"\")","v":"MMR012CMP033"},{"$f":"IFERROR(VLOOKUP(Table_Shelter[[#This Row],[CampName]],CL,3,0),\"\")","v":"Open"},{"$f":"IFERROR(Table_Shelter[[#This Row],[HHCovered]]/VLOOKUP(Table_Shelter[[#This Row],[CampName]],CL,4,0),\"\")","v":0.29493087557603687}]
[null,"MRCS","MRCS","Rakhine","Rathedaung","Ah Htet Nan Yar",8,null,null,32,null,32,null,null,null,{"$f":"Table_Shelter[[#This Row],[HHperShelter]]*(Table_Shelter[[#This Row],['#ofTemporaryShelterBuilt]]+Table_Shelter[[#This Row],['#ofTemporaryShelterUnderConstruction]]+Table_Shelter[[#This Row],['#ofPermanentHouseUnderConstruction]])","v":256},{"$f":"IFERROR(VLOOKUP(Table_Shelter[[#This Row],[CampName]],CL,2,0),\"\")","v":"MMR012CMP034"},{"$f":"IFERROR(VLOOKUP(Table_Shelter[[#This Row],[CampName]],CL,3,0),\"\")","v":"Open"},{"$f":"IFERROR(Table_Shelter[[#This Row],[HHCovered]]/VLOOKUP(Table_Shelter[[#This Row],[CampName]],CL,4,0),\"\")","v":1.024}]

{"sheet":"Shelter_Progress","index":9,"n_rows":93,"n_cols":16,"rows_kept":93,"cut":false,"hidden":false,"merged":[[1,0,1,2],[2,0,2,14]]}
[]
["SHELTER PROGRESS"]
[{"$f":"Report_Date","v":"2013-12-01"}]
[]
["Rakhine"]
["Township","Total # of HH","Total # of Population","Tents Distributed","Temporary Shelter Built","Temporary Shelter Under Construction","Temporary Shelter Planned","Permanent Shelter Built","Permament Shelter Under Construction","Permanent Shelter Planned","Coverage (HH)"," Coverage (in Pop)","Gap - HH","Covered","Ind. Not covered"]
["Kyauk_Phyu",{"$f":"SUMIF(Camplist_Township,Shelter_Progress!$A7,Camplist_HH)","v":492},{"$f":"SUMIF(Camplist_Township,Shelter_Progress!$A7,Camplist_Popl)","v":1856},{"$f":"SUMIF(Col_Shelter_Township,$A7,Col_Shelter_Tent_Dist)","v":0},{"$f":"SUMIF(Col_Shelter_Township,$A7,Col_Shelter_Temp_B)","v":60},{"$f":"SUMIF(Col_Shelter_Township,$A7,Col_Shelter_Temp_U)","v":0},{"$f":"SUMIF(Col_Shelter_Township,$A7,Col_Shelter_Temp_P)","v":60},{"$f":"SUMIF(Col_Shelter_Township,$A7,Col_Shelter_Perm_B)","v":0},{"$f":"SUMIF(Col_Shelter_Township,$A7,Col_Shelter_Perm_U)","v":0},{"$f":"SUMIF(Col_Shelter_Township,$A7,Col_Shelter_Perm_P)","v":0},{"$f":"SUMIF(Col_Shelter_Township,$A7,Shelter_HH_Covered)","v":480},{"$f":"K7*P7","v":1810.7317073170732},{"$f":"B7-K7","v":12},{"$f":"K7/B7","v":0.97560975609756095},{"$f":"MAX(0,C7-L7)","v":45.268292682926813},{"$f":"C7/B7","v":3.7723577235772359}]
["Kyauktaw",{"$f":"SUMIF(Camplist_Township,Shelter_Progress!$A8,Camplist_HH)","v":1088},{"$f":"SUMIF(Camplist_Township,Shelter_Progress!$A8,Camplist_Popl)","v":6631},0,111,14,125,0,0,0,1000,{"$f":"K8*P8","v":6094.6691176470586},88,0.91911764705882348,536.33088235294144,6.0946691176470589]
["Maungdaw",{"$f":"SUMIF(Camplist_Township,Shelter_Progress!$A9,Camplist_HH)","v":282},{"$f":"SUMIF(Camplist_Township,Shelter_Progress!$A9,Camplist_Popl)","v":1911},0,0,0,0,554,0,554,0,0,282,0,1911,6.7765957446808507]
["Meybon",{"$f":"SUMIF(Camplist_Township,Shelter_Progress!$A10,Camplist_HH)","v":796},{"$f":"SUMIF(Camplist_Township,Shelter_Progress!$A10,Camplist_Popl)","v":3650},0,95,0,95,0,0,0,760,3484.924623115578,36,0.95477386934673369,165.07537688442198,4.5854271356783922]
["Minbya",{"$f":"SUMIF(Camplist_Township,Shelter_Progress!$A11,Camplist_HH)","v":968},{"$f":"SUMIF(Camplist_Township,Shelter_Progress!$A11,Camplist_Popl)","v":5197},0,84,22,106,0,0,0,848,4552.7438016528922,120,0.87603305785123964,644.25619834710778,5.3688016528925617]
["Mrauk_U",{"$f":"SUMIF(Camplist_Township,Shelter_Progress!$A12,Camplist_HH)","v":680},{"$f":"SUMIF(Camplist_Township,Shelter_Progress!$A12,Camplist_Popl)","v":4035},0,72,2,74,0,0,0,592,3512.8235294117644,88,0.87058823529411766,522.17647058823559,5.9338235294117645]
["Pauktaw",{"$f":"SUMIF(Camplist_Township,Shelter_Progress!$A13,Camplist_HH)","v":3870},{"$f":"SUMIF(Camplist_Township,Shelter_Progress!$A13,Camplist_Popl)","v":17515},0,481,13,494,3,0,3,3958,17913.273901808789,-88,1.0227390180878553,0,4.5258397932816541]
["Ramree",{"$f":"SUMIF(Camplist_Township,Shelter_Progress!$A14,Camplist_HH)","v":75},{"$f":"SUMIF(Camplist_Township,Shelter_Progress!$A14,Camplist_Popl)","v":255},0,12,0,12,0,0,0,96,326.39999999999998,-21,1.28,0,3.4]
["Rathedaung",{"$f":"SUMIF(Camplist_Township,Shelter_Progress!$A15,Camplist_HH)","v":782},{"$f":"SUMIF(Camplist_Township,Shelter_Progress!$A15,Camplist_Popl)","v":4076},0,64,44,108,0,0,0,864,4503.4066496163687,-82,1.1048593350383631,0,5.2122762148337598]
["Sittwe",{"$f":"SUMIF(Camplist_Township,Shelter_Progress!$A16,Camplist_HH)","v":17515},{"$f":"SUMIF(Camplist_Township,Shelter_Progress!$A16,Camplist_Popl)","v":93707},0,1860,0,1860,669,0,669,{"$f":"SUMIF(Col_Shelter_Township,$A16,Shelter_HH_Covered)","v":15324},{"$f":"K16*P16","v":81984.931087639168},{"$f":"B16-K16","v":2191},0.87490722238081642,11722.068912360832,5.350099914359121]
["Total",{"$f":"SUM(B7:B16)","v":26548},138833,0,2839,95,2934,1226,0,1226,23922,124183.90441820869,2626,{"$f":"K17/B17","v":0.90108482748229624},{"$f":"SUM(O7:O16)","v":15546.176133216464},5.2295088142232933]
[]
[]
["  ","  "]
["    ","  "]
["Rakhine"]
[]
[]
[]
[]
[]
[]
[]
[]
[]
[]
[]
[]
[]
[]
[]
[]
[]
[]
[]
[]
[]
[]
[]
[]
[]
["State","Rakhine",null,null,null,null,null,"State","Rakhine"]
[]
["Row Labels","Sum of HHCovered",null,null,null,null,null,"Row Labels","Count of #ofTemporaryShelterBuilt"]
["TDC/Natala Government",0,null,null,null,null,null,"CARE",5]
["UNHCR/BAJ",0,null,null,null,null,null,"Maungdaw"]
["ICRC",152,null,null,null,null,null,"Sittwe",5]
["MAUK",256,null,null,null,null,null,"DRC",3]
["Service City",304,null,null,null,null,null,"Pauktaw",2]
["IRW",320,null,null,null,null,null,"Sittwe",1]
["WFP",400,null,null,null,null,null,"Government",40]
["MRCS",1240,null,null,null,null,null,"Kyauk_Phyu",1]
["MRF",1762,null,null,null,null,null,"Kyauktaw",11]
["CARE",1792,null,null,null,null,null,"Minbya",6]
["DRC",1832,null,null,null,null,null,"Mrauk_U",2]
["UNHCR",5176,null,null,null,null,null,"Pauktaw",2]
["Government",11357,null,null,null,null,null,"Ramree",1]
["Grand Total",24591,null,null,null,null,null,"Rathedaung",4]
[null,null,null,null,null,null,null,"Sittwe",13]
[null,null,null,null,null,null,null,"IRW",1]
[null,null,null,null,null,null,null,"Sittwe",1]
[null,null,null,null,null,null,null,"MAUK",1]
[null,null,null,null,null,null,null,"Sittwe",1]
[null,null,null,null,null,null,null,"MRCS",1]
[null,null,null,null,null,null,null,"Kyauktaw"]
[null,null,null,null,null,null,null,"Minbya"]
[null,null,null,null,null,null,null,"Mrauk_U"]
[null,null,null,null,null,null,null,"Pauktaw"]
[null,null,null,null,null,null,null,"Rathedaung"]
[null,null,null,null,null,null,null,"Sittwe",1]
[null,null,null,null,null,null,null,"Service City",2]
[null,null,null,null,null,null,null,"Kyauk_Phyu",2]
[null,null,null,null,null,null,null,"UNHCR",9]
[null,null,null,null,null,null,null,"Meybon",2]
[null,null,null,null,null,null,null,"Pauktaw",2]
[null,null,null,null,null,null,null,"Sittwe",5]
[null,null,null,null,null,null,null,"WFP",1]
[null,null,null,null,null,null,null,"Sittwe",1]
[null,null,null,null,null,null,null,"ICRC",2]
[null,null,null,null,null,null,null,"Sittwe",2]
[null,null,null,null,null,null,null,"MRF",3]
[null,null,null,null,null,null,null,"Sittwe",3]
[null,null,null,null,null,null,null,"UNHCR/BAJ"]
[null,null,null,null,null,null,null,"Maungdaw"]
[null,null,null,null,null,null,null,"TDC/Natala Government"]
[null,null,null,null,null,null,null,"Maungdaw"]
[null,null,null,null,null,null,null,"Grand Total",68]

{"sheet":"ShelterAgency","index":10,"n_rows":54,"n_cols":5,"rows_kept":54,"cut":false,"hidden":false,"merged":[[1,0,1,2],[2,0,2,5]]}
[]
["SHELTER SUMMARY BY AGENCY"]
[{"$f":"Report_Date","v":"2013-12-01"}]
[]
["State","Rakhine","(Select State)"]
[]
["Row Labels","Temporary Shelter Built","Temporary Shelter Under Construction","Permanent House Built","Permanent House Under Construction"]
["CARE",224,0,128]
["DRC",229,0]
["Government",1978,0,3]
["ICRC",19]
["IRW",40]
["MAUK",32,0]
["MRCS",60,95]
["MRF",201]
["Service City",38]
["TDC/Natala Government",null,null,204]
["UNHCR",647]
["UNHCR/BAJ",null,null,222]
["WFP",40]
["Grand Total",3508,95,557]
[]
["State","Rakhine"]
[]
["Row Labels","Sum of HHCovered"]
["Government",11357]
["UNHCR",5176]
["DRC",1832]
["CARE",1792]
["MRF",1762]
["MRCS",1240]
["WFP",400]
["IRW",320]
["Service City",304]
["MAUK",256]
["ICRC",152]
["Grand Total",24591]
[]
[]
[]
["State","Rakhine"]
[]
["Row Labels","Sum of HHCovered"]
["Kyauk_Phyu",480]
["Kyauktaw",1000]
["Maungdaw",0]
["Meybon",760]
["Minbya",848]
["Mrauk_U",592]
["Pauktaw",3958]
["Ramree",96]
["Rathedaung",864]
["Sittwe",15993]
["Grand Total",24591]

{"sheet":"Rakhine_Shelter_D","index":11,"n_rows":28,"n_cols":7,"rows_kept":28,"cut":false,"hidden":false,"merged":[[1,0,1,7],[2,0,2,7],[15,1,15,3],[15,4,15,6]]}
[]
["Rakhine Shelter Coverage & Gaps"]
[{"$f":"Report_Date","v":"2013-12-01"}]
[]
[]
[]
[]
[]
[]
[]
[]
[]
[]
[]
[]
[null,"Population",null,null,"Shelter"]
["Township","# of HH","# of Ind.","# of Camp","# Ind. Covered","# Ind. Not Covered","% Coverage"]
["Kyauk_Phyu",{"$f":"SUMIFS(Camplist_HH,Camplist_Township,Rakhine_Shelter_D!$A18,CampList_Status,\"Open\")","v":492},{"$f":"SUMIFS(Camplist_Popl,Camplist_Township,Rakhine_Shelter_D!$A18,CampList_Status,\"Open\")","v":1856},{"$f":"COUNTIFS(Camplist_Township,Rakhine_Shelter_D!A18,CampList_Status,\"open\")","v":2},{"$f":"Shelter_Progress!L7","v":1810.7317073170732},{"$f":"Shelter_Progress!O7","v":45.268292682926813},{"$f":"IF(E18>0,E18/(E18+F18),0.00000001)","v":0.97560975609756095}]
["Kyauktaw",{"$f":"SUMIFS(Camplist_HH,Camplist_Township,Rakhine_Shelter_D!$A19,CampList_Status,\"Open\")","v":1088},{"$f":"SUMIFS(Camplist_Popl,Camplist_Township,Rakhine_Shelter_D!$A19,CampList_Status,\"Open\")","v":6631},{"$f":"COUNTIFS(Camplist_Township,Rakhine_Shelter_D!A19,CampList_Status,\"open\")","v":11},{"$f":"Shelter_Progress!L8","v":6094.6691176470586},{"$f":"Shelter_Progress!O8","v":536.33088235294144},0.91911764705882348]
["Maungdaw",{"$f":"SUMIFS(Camplist_HH,Camplist_Township,Rakhine_Shelter_D!$A20,CampList_Status,\"Open\")","v":282},{"$f":"SUMIFS(Camplist_Popl,Camplist_Township,Rakhine_Shelter_D!$A20,CampList_Status,\"Open\")","v":1911},{"$f":"COUNTIFS(Camplist_Township,Rakhine_Shelter_D!A20,CampList_Status,\"open\")","v":9},{"$f":"Shelter_Progress!L9","v":0},{"$f":"Shelter_Progress!O9","v":1911},1E-8]
["Meybon",{"$f":"SUMIFS(Camplist_HH,Camplist_Township,Rakhine_Shelter_D!$A21,CampList_Status,\"Open\")","v":796},{"$f":"SUMIFS(Camplist_Popl,Camplist_Township,Rakhine_Shelter_D!$A21,CampList_Status,\"Open\")","v":3650},{"$f":"COUNTIFS(Camplist_Township,Rakhine_Shelter_D!A21,CampList_Status,\"open\")","v":2},{"$f":"Shelter_Progress!L10","v":3484.924623115578},{"$f":"Shelter_Progress!O10","v":165.07537688442198},0.95477386934673369]
["Minbya",{"$f":"SUMIFS(Camplist_HH,Camplist_Township,Rakhine_Shelter_D!$A22,CampList_Status,\"Open\")","v":968},{"$f":"SUMIFS(Camplist_Popl,Camplist_Township,Rakhine_Shelter_D!$A22,CampList_Status,\"Open\")","v":5197},{"$f":"COUNTIFS(Camplist_Township,Rakhine_Shelter_D!A22,CampList_Status,\"open\")","v":7},{"$f":"Shelter_Progress!L11","v":4552.7438016528922},{"$f":"Shelter_Progress!O11","v":644.25619834710778},0.87603305785123964]
["Mrauk_U",{"$f":"SUMIFS(Camplist_HH,Camplist_Township,Rakhine_Shelter_D!$A23,CampList_Status,\"Open\")","v":680},{"$f":"SUMIFS(Camplist_Popl,Camplist_Township,Rakhine_Shelter_D!$A23,CampList_Status,\"Open\")","v":4035},{"$f":"COUNTIFS(Camplist_Township,Rakhine_Shelter_D!A23,CampList_Status,\"open\")","v":4},{"$f":"Shelter_Progress!L12","v":3512.8235294117644},{"$f":"Shelter_Progress!O12","v":522.17647058823559},0.87058823529411755]
["Pauktaw",{"$f":"SUMIFS(Camplist_HH,Camplist_Township,Rakhine_Shelter_D!$A24,CampList_Status,\"Open\")","v":3870},{"$f":"SUMIFS(Camplist_Popl,Camplist_Township,Rakhine_Shelter_D!$A24,CampList_Status,\"Open\")","v":17515},{"$f":"COUNTIFS(Camplist_Township,Rakhine_Shelter_D!A24,CampList_Status,\"open\")","v":5},{"$f":"Shelter_Progress!L13","v":17913.273901808789},{"$f":"Shelter_Progress!O13","v":0},1]
["Ramree",{"$f":"SUMIFS(Camplist_HH,Camplist_Township,Rakhine_Shelter_D!$A25,CampList_Status,\"Open\")","v":75},{"$f":"SUMIFS(Camplist_Popl,Camplist_Township,Rakhine_Shelter_D!$A25,CampList_Status,\"Open\")","v":255},{"$f":"COUNTIFS(Camplist_Township,Rakhine_Shelter_D!A25,CampList_Status,\"open\")","v":2},{"$f":"Shelter_Progress!L14","v":326.39999999999998},{"$f":"Shelter_Progress!O14","v":0},1]
["Rathedaung",{"$f":"SUMIFS(Camplist_HH,Camplist_Township,Rakhine_Shelter_D!$A26,CampList_Status,\"Open\")","v":782},{"$f":"SUMIFS(Camplist_Popl,Camplist_Township,Rakhine_Shelter_D!$A26,CampList_Status,\"Open\")","v":4076},{"$f":"COUNTIFS(Camplist_Township,Rakhine_Shelter_D!A26,CampList_Status,\"open\")","v":5},{"$f":"Shelter_Progress!L15","v":4503.4066496163687},{"$f":"Shelter_Progress!O15","v":0},1]
["Sittwe",{"$f":"SUMIFS(Camplist_HH,Camplist_Township,Rakhine_Shelter_D!$A27,CampList_Status,\"Open\")","v":17515},{"$f":"SUMIFS(Camplist_Popl,Camplist_Township,Rakhine_Shelter_D!$A27,CampList_Status,\"Open\")","v":93707},{"$f":"COUNTIFS(Camplist_Township,Rakhine_Shelter_D!A27,CampList_Status,\"open\")","v":21},{"$f":"Shelter_Progress!L16","v":81984.931087639168},{"$f":"Shelter_Progress!O16","v":11722.068912360832},0.87490722238081642]
["Total",{"$f":"SUM(B18:B27)","v":26548},{"$f":"SUM(C18:C27)","v":138833},{"$f":"SUM(D18:D27)","v":68},{"$f":"Shelter_Progress!L17","v":124183.90441820869},{"$f":"Shelter_Progress!O17","v":15546.176133216464},0.88874137857885949]

{"sheet":"Rakhine","index":12,"n_rows":13,"n_cols":14,"rows_kept":13,"cut":false,"hidden":true,"merged":[]}
["Camp",null,null,null,null,null,null,"Shelter","NFI",null,null,"Pos",500]
["Pcode","Township","Long.","Lat.","HS","Pop","N_camps","Coverage","Hygiene","Core","Sanitary","Y","X"]
["MMR012011","Kyauk_Phyu",93.45,19.315330739299597,492,1793,{"$f":"CONCATENATE(N3, \" camp\",IF(N3>1,\"s\",\"\"))","v":"2 camps"},0.97560975609756106,0.99390243902439024,0,0,{"$f":"1300-ROUND((D3-19)*$M$1,0)","v":1142},{"$f":"ROUND((C3-93)*$M$1,0)+300","v":525},2]
["MMR012004","Kyauktaw",92.954056224899546,20.835542168674699,989,6518,"11 camps",0.89787664307381188,0,1,6.0667340748230547E-2,382,277,11]
["MMR012009","Maungdaw",92.44,20.89,398,2354,"14 camps",1,1,0.79145728643216084,1,355,20,14]
["MMR012006","Meybon",93.45,19.899999999999999,674,4066,"2 camps",1,1,0,0,850,525,2]
["MMR012005","Minbya",93.42,20.39,865,5212,"7 camps",0.77687861271676306,1,1,0,605,510,7]
["MMR012003","Mrauk_U",93.171744680851077,20.580936170212777,644,3926,"4 camps",0.89440993788819878,0.99378881987577639,1,0,510,386,4]
["MMR012007","Pauktaw",93.05,19.984999999999999,3886,19690,"6 camps",1,1,0,0,807,325,6]
["MMR012013","Ramree",93.65,19.033045977011483,70,263,"2 camps",1,1,0,0,1283,625,2]
["MMR012008","Rathedaung",92.74,20.399999999999999,771,3973,"4 camps",0.66407263294422836,0,0.1712062256809338,0.34241245136186771,600,170,4]
["MMR012001","Sittwe",92.8,20.11,16340,95372,"24 camps",1,1,0.36352509179926601,0,745,200,24]
[null,"Rakhine",null,null,{"$f":"SUBTOTAL(109,Table5[HS])","v":25129},{"$f":"SUBTOTAL(109,Table5[Pop])","v":143167},{"$f":"CONCATENATE(SUM(N3:N12),\" camps\")","v":"76 camps"},{"$f":"SUMPRODUCT(Table5[Pop]*Table5[Coverage])/Table5[[#Totals],[Pop]]","v":0.97470460070095966},{"$f":"SUMPRODUCT(Table5[Pop]*Table5[Hygiene])/Table5[[#Totals],[Pop]]","v":0.92647524904484291},{"$f":"SUMPRODUCT(Table5[Pop]*Table5[Core])/Table5[[#Totals],[Pop]]","v":0.36928487599775967},{"$f":"SUMPRODUCT(Table5[Pop]*Table5[Sanitary])/Table5[[#Totals],[Pop]]","v":2.8706576210004171E-2},"1200","50"]

{"sheet":"Sheet2","index":13,"n_rows":151,"n_cols":12,"rows_kept":151,"cut":false,"hidden":true,"merged":[]}
[null,null,null,null,null,null,null,null,null,null,null,"Row Labels"]
[null,null,null,null,null,"State","Rakhine",null,null,null,null,"Rakhine"]
["Row Labels",null,null,null,null,"Status","Open",null,null,null,null,"(blank)"]
["Rakhine",null,null,"1 Ward, Sein Yadanar Company(Lon Khin)",null,null,null,null,null,null,null,"Minbya"]
["Kyauk_Phyu",null,null,"AD-2000 Tharthana Compound",null,"Row Labels","Sum of Total",null,null,null,null,"Sittwe"]
["Kyauktaw",null,null,"Anglican Church, Hmaw Si Sar",null,"Sittwe",134811,null,null,null,null,"Kyauktaw"]
["Maungdaw",null,null,"Away Yar Rama Monastery, Ka Day village",null,"Maungdaw",1911,null,null,null,null,"Meybon"]
["Meybon",null,null,"Aye Mya Tharyar Church of Christ ",null,"Kyaukpyu",2111,null,null,null,null,"Minbya"]
["Minbya",null,null,"Belehem",null,"Grand Total",138833,null,null,null,null,"Mrauk_U"]
["Mrauk_U",null,null,"Border Post 10",null,null,null,null,null,null,null,"Pauktaw"]
["Pauktaw",null,null,"Border Post 8",null,null,null,null,null,null,null,"Rathedaung"]
["Ramree",null,null,"Chin(Zomi) Baptist Church",null,null,null,null,null,null,null,"Sittwe"]
["Rathedaung",null,null,"Dap Kawng/Tak Kone",null,null,null,null,null,null,null,"Maungdaw"]
["Sittwe",null,null,"Du Kahtawng Qtr. 14",null,null,null,null,null,null,null,"Maungdaw"]
["Grand Total",null,null,"Du Kahtawng Qtr. 4",null,null,null,null,null,null,null,"Kyaukpyu"]
[null,null,null,"Du Kahtawng Qtr. 5",null,null,null,null,null,null,null,"Kyauk_Phyu"]
[null,null,null,"Dum Bung ",null,null,null,null,null,null,null,"Ramree"]
[null,null,null,"Dumbung",null,null,null,null,null,null,null,"Grand Total"]
[null,null,null,"Ei Wan Gali Asso., Ward 1, Seik Mu"]
[null,null,null,"Free Christian Asso., Ward 1, Seik Mu"]
[null,null,null,"Galile"]
[null,null,null,"Hkat Cho "]
[null,null,null,"Hkau Shau (BP 12)"]
[null,null,null,"Hmaw Wan, Baptist Christian Church"]
[null,null,null,"Howa"]
[null,null,null,"Howa/Mungbaw/Namhkawng"]
[null,null,null,"Hpun Lum Yang "]
[null,null,null,"Jan Mai (Pa Jau)"]
[null,null,null,"Jan Mai Kawng"]
[null,null,null,"Jan Mai Kawng Baptist Church"]
[null,null,null,"Jan Mai Kawng Catholic church"]
[null,null,null,"Je Yang Hka "]
[null,null,null,"Kyun Pin Thar Baptist Church"]
[null,null,null,"Kyun Pyin Tar (maisakwang)"]
[null,null,null,"Kyun Taw Baptist Church "]
[null,null,null,"Lana Zup Ja "]
[null,null,null,"Le Kone Bethlehem Church"]
[null,null,null,"Le Kone Ziun Baptist Church "]
[null,null,null,"Lhaovao Baptist Church (LBC)"]
[null,null,null,"Lisu Boarding-House"]
[null,null,null,"Loi Je Baptist Church"]
[null,null,null,"Loi Je Catholic Church"]
[null,null,null,"Loi Je Lisu Camp"]
[null,null,null,"Ma Mon Buddhist Monastery"]
[null,null,null,"Mading Baptist Church"]
[null,null,null,"Maga Yang "]
[null,null,null,"Maina AG Church"]
[null,null,null,"Maina Catholic Church (St. Joseph)"]
[null,null,null,"Maina Catholic Church (St.Joseph)"]
[null,null,null,"Maina KBC (Bawng Ring)"]
[null,null,null,"Maina KBC Camp"]
[null,null,null,"Maina Lawang Baptist Church"]
[null,null,null,"Maina Lawang BC"]
[null,null,null,"Mali Yang"]
[null,null,null,"Maliyang Baptist Church"]
[null,null,null,"Man Bung Catholic compound"]
[null,null,null,"Man Dung"]
[null,null,null,"Man Hkring Baptist Church"]
[null,null,null,"Man Wing Baptist Church"]
[null,null,null,"Man Wing Catholic Church"]
[null,null,null,"Mandung - Jinghpaw"]
[null,null,null,"Mang Hawng Baptist Church"]
[null,null,null,"Manhkring"]
[null,null,null,"Mansi Baptist Church"]
[]
[null,null,null,"Mashi Kahtawng Baptist  Church"]
[null,null,null,"Mashi Kahtawng Catholic Church"]
[null,null,null,"Mashi Kahtawng Evangelical Church"]
[null,null,null,"Mashi Kahtawng Municipal Dammar Yone"]
[null,null,null,"Mashi Kahtawng Myo Oo Taw Ya Monestry"]
[null,null,null,"Mashi Kahtawng Rakhine traditional group"]
[null,null,null,"Mashi Kahtawng Shan Traditional Monestry"]
[null,null,null,"Mashi Kahtawng Yaung Chi Oo Thi la shin Monestry"]
[null,null,null,"Maw Hpawng Hka Nan Baptist Church"]
[null,null,null,"Maw Hpawng Lhaovo Baptist Church"]
[null,null,null,"Maw Si Zar, Thiriyardanar Sein, Damma Compound, Lone Khin"]
[null,null,null,"Maw Wan, Catholic Church"]
[]
[null,null,null,"Maw Wan, Kachin Baptist Church"]
[null,null,null,"Maw Wan, Kyauk Hlaing Gu Pagoda Compound"]
[null,null,null,"Maw Wan, Myo Oo Pagoda"]
[null,null,null,"May Di Ka Rama Monastery(Lon Khin)"]
[null,null,null,"Mogawng Kyungtaw Camp"]
[null,null,null,"Mogawng Mahawng Camp"]
[null,null,null,"Mogawng Natkyikone Camp"]
[null,null,null,"Moke Lwe Village / Hkar Shi"]
[null,null,null,"Momauk Baptist Church"]
[null,null,null,"Mung Ding Pa "]
[null,null,null,"Mungga Zup/Zai Awng"]
[null,null,null,"N Jang Dung"]
[null,null,null,"Nam Hkam - Nay Win Ni (Palawng)"]
[null,null,null,"Nam Hkam (KBC Jaw Wang)"]
[null,null,null,"Nam Lim Pa - Scattered IDPs in forest"]
[null,null,null,"Nam Tu"]
[null,null,null,"Namdu Camp"]
[null,null,null,"Namphaka"]
[null,null,null,"Nan Kway St. John Catholic Church"]
[null,null,null,"Nant Hlaing Church"]
[null,null,null,"Nat Gyi Kone Baptist Church "]
[null,null,null,"Nawng Ing (Indawgyi) Baptist Church  "]
[null,null,null,"Nawng Ing Camp"]
[null,null,null,"Nawng Si Paw Village / Inn Lay"]
[null,null,null,"Nga Pyaw Taw Baptist Nursery School "]
[null,null,null,"Nga Pyaw Taw Roman Catholic Church"]
[null,null,null,"Ni Thaw Ka Monestry"]
[null,null,null,"Njang Dung Baptist Church "]
[null,null,null,"Nong Pong"]
[null,null,null,"Nong Pong Camp"]
[null,null,null,"Nyaung Na Pin "]
[null,null,null,"Pa Kahtawng "]
[null,null,null,"Padauk Mying (Palana)"]
[null,null,null,"Pajau / Jan Mai"]
[null,null,null,"Parami, Charity Office, MyoMa Quarter"]
[null,null,null,"Phan Khar Kone"]
[null,null,null,"Post 6 Camp"]
[null,null,null,"Qtr. 2 Lhaovo Baptist Church"]
[null,null,null,"Qtr. 2 Myoma Baptist Church"]
[null,null,null,"Qtr. 3 Mu-yin  Baptist Church"]
[null,null,null,"Qtr. 4 Monestry (Thargaya Thayett Taw)"]
[null,null,null,"Robert Church"]
[null,null,null,"Sa Baw Sarsana Parla Monastery"]
[null,null,null,"San Kyel, Masoe Yein Monestry"]
[null,null,null,"San Pra"]
[null,null,null,"Seng Ja "]
[null,null,null,"Shatapru"]
[null,null,null,"Shatapru Sut Ngai Tawng"]
[null,null,null,"Shing Jai"]
[null,null,null,"Shingchyai"]
[null,null,null,"Shwe Gu Catholic Church"]
[null,null,null,"Shwe Zet"]
[null,null,null,"Shwe Zet Baptist Church"]
[null,null,null,"St.Patrick catholic church"]
[null,null,null,"Ta Gun Taing Monastery (Shwe Kyi Na)"]
[null,null,null,"Tar Ma Hkan Buddhist Monastery, Haung Par"]
[null,null,null,"Tat Kone Baptist Church"]
[null,null,null,"Tat Kone COC Baptist / Tat Kone Htoi San"]
[null,null,null,"Tat Kone Emanuel Church"]
[null,null,null,"Tat Kone Galile Baptist Church"]
[null,null,null,"Tat Kone San Pya Baptist Church"]
[null,null,null,"Thargaya Lisu Baptist Church"]
[null,null,null,"Thiri Mingalar Manizay Yone, Myoma Quarter"]
[null,null,null,"W.M Baptist Association"]
[null,null,null,"Waing Maw Town Church"]
[null,null,null,"Waingmaw AG Church"]
[null,null,null,"Waingmaw Baptist Zonal Office"]
[null,null,null,"Wrad(5) Christian Association"]
[null,null,null,"Wun Tho Buddhist Monastery"]
[null,null,null,"Yumar Baptist Church"]
[null,null,null,"Zai Awng / Mung Ga Zup"]
[null,null,null,"Ziun"]
[null,null,null,"Zomee Baptist Church camp, Hmaw Wan"]

{"sheet":"NFI_Tracking","index":14,"n_rows":296,"n_cols":29,"rows_kept":296,"cut":false,"hidden":false,"merged":[[3,0,3,2],[1,0,1,7],[2,0,2,7]]}
[null,null,null,null,null,null,null,null,{"$f":"NFISummary!P1","v":1}]
["NFI TRACKING SHEET"]
[{"$f":"Report_Date","v":"2013-12-01"}]
[]
["Months","Distribution Date","Organization","Implementing Partner","State","Township","Camp Name","Hygiene Kit","NFI Core Kit","Sanitary Kit","Mosquito net","Tarpaulin","Blanket","Kitchen Set","Complementary Kit","Plastic Bucket","Plastic Mat","Hygiene Kit2","NFI Core Kit3","Sanitary Kit4","Mosquito net5","Tarpaulin6","Blanket7","Kitchen Set8","Complementary Kit9","Plastic Bucket ","Plastic  Mat ","Pcode","Status"]
[{"$f":"IF(ISBLANK(B6),\"\",(Report_Date-B6)/30)","v":17.399999999999999},"2012-06-27","UNHCR",null,"Rakhine","Sittwe","MahaKuthaLa",null,null,null,null,11,null,null,null,null,null,{"$f":"IF(NFI_Expiration=1,IF($A6<VLOOKUP(H$5,NFI,5,0),1,0)*Table_NFI[[#This Row],[Hygiene Kit]],0)","v":0},{"$f":"IF(NFI_Expiration=1,IF($A6<VLOOKUP(I$5,NFI,5,0),1,0)*Table_NFI[[#This Row],[NFI Core Kit]],0)","v":0},{"$f":"IF(NFI_Expiration=1,IF($A6<VLOOKUP(J$5,NFI,5,0),1,0)*Table_NFI[[#This Row],[Sanitary Kit]],0)","v":0},{"$f":"IF(NFI_Expiration=1,IF($A6<VLOOKUP(K$5,NFI,5,0),1,0)*Table_NFI[[#This Row],[Mosquito net]],0)","v":0},{"$f":"IF(NFI_Expiration=1,IF($A6<VLOOKUP(L$5,NFI,5,0),1,0)*Table_NFI[[#This Row],[Tarpaulin]],0)","v":0},{"$f":"IF(NFI_Expiration=1,IF($A6<VLOOKUP(M$5,NFI,5,0),1,0)*Table_NFI[[#This Row],[Blanket]],0)","v":0},{"$f":"IF(NFI_Expiration=1,IF($A6<VLOOKUP(N$5,NFI,5,0),1,0)*Table_NFI[[#This Row],[Kitchen Set]],0)","v":0},{"$f":"IF(NFI_Expiration=1,IF($A6<VLOOKUP(O$5,NFI,5,0),1,0)*Table_NFI[[#This Row],[Complementary Kit]],0)","v":0},{"$f":"IF(NFI_Expiration=1,IF($A6<VLOOKUP(P$5,NFI,5,0),1,0)*Table_NFI[[#This Row],[Plastic Bucket]],0)","v":0},{"$f":"IF(NFI_Expiration=1,IF($A6<VLOOKUP(Q$5,NFI,5,0),1,0)*Table_NFI[[#This Row],[Plastic Mat]],0)","v":0},{"$f":"IFERROR(VLOOKUP(Table_NFI[[#This Row],[Camp Name]],CL,2,0),\"\")","v":""},{"$f":"IFERROR(VLOOKUP(Table_NFI[[#This Row],[Camp Name]],CL,3,0),\"\")","v":""}]
[17.399999999999999,"2012-06-27","UNHCR",null,"Rakhine","Sittwe","U Ye Kyaw Thu",null,null,null,null,200,null,null,null,null,null,{"$f":"IF(NFI_Expiration=1,IF($A7<VLOOKUP(H$5,NFI,5,0),1,0)*Table_NFI[[#This Row],[Hygiene Kit]],0)","v":0},{"$f":"IF(NFI_Expiration=1,IF($A7<VLOOKUP(I$5,NFI,5,0),1,0)*Table_NFI[[#This Row],[NFI Core Kit]],0)","v":0},{"$f":"IF(NFI_Expiration=1,IF($A7<VLOOKUP(J$5,NFI,5,0),1,0)*Table_NFI[[#This Row],[Sanitary Kit]],0)","v":0},{"$f":"IF(NFI_Expiration=1,IF($A7<VLOOKUP(K$5,NFI,5,0),1,0)*Table_NFI[[#This Row],[Mosquito net]],0)","v":0},{"$f":"IF(NFI_Expiration=1,IF($A7<VLOOKUP(L$5,NFI,5,0),1,0)*Table_NFI[[#This Row],[Tarpaulin]],0)","v":0},{"$f":"IF(NFI_Expiration=1,IF($A7<VLOOKUP(M$5,NFI,5,0),1,0)*Table_NFI[[#This Row],[Blanket]],0)","v":0},{"$f":"IF(NFI_Expiration=1,IF($A7<VLOOKUP(N$5,NFI,5,0),1,0)*Table_NFI[[#This Row],[Kitchen Set]],0)","v":0},{"$f":"IF(NFI_Expiration=1,IF($A7<VLOOKUP(O$5,NFI,5,0),1,0)*Table_NFI[[#This Row],[Complementary Kit]],0)","v":0},{"$f":"IF(NFI_Expiration=1,IF($A7<VLOOKUP(P$5,NFI,5,0),1,0)*Table_NFI[[#This Row],[Plastic Bucket]],0)","v":0},{"$f":"IF(NFI_Expiration=1,IF($A7<VLOOKUP(Q$5,NFI,5,0),1,0)*Table_NFI[[#This Row],[Plastic Mat]],0)","v":0},{"$f":"IFERROR(VLOOKUP(Table_NFI[[#This Row],[Camp Name]],CL,2,0),\"\")","v":""},{"$f":"IFERROR(VLOOKUP(Table_NFI[[#This Row],[Camp Name]],CL,3,0),\"\")","v":""}]
[17.399999999999999,"2012-06-27","UNHCR",null,"Rakhine","Sittwe","Ywar Gyi",null,null,null,null,72,null,null,null,null,null,{"$f":"IF(NFI_Expiration=1,IF($A8<VLOOKUP(H$5,NFI,5,0),1,0)*Table_NFI[[#This Row],[Hygiene Kit]],0)","v":0},{"$f":"IF(NFI_Expiration=1,IF($A8<VLOOKUP(I$5,NFI,5,0),1,0)*Table_NFI[[#This Row],[NFI Core Kit]],0)","v":0},{"$f":"IF(NFI_Expiration=1,IF($A8<VLOOKUP(J$5,NFI,5,0),1,0)*Table_NFI[[#This Row],[Sanitary Kit]],0)","v":0},{"$f":"IF(NFI_Expiration=1,IF($A8<VLOOKUP(K$5,NFI,5,0),1,0)*Table_NFI[[#This Row],[Mosquito net]],0)","v":0},{"$f":"IF(NFI_Expiration=1,IF($A8<VLOOKUP(L$5,NFI,5,0),1,0)*Table_NFI[[#This Row],[Tarpaulin]],0)","v":0},{"$f":"IF(NFI_Expiration=1,IF($A8<VLOOKUP(M$5,NFI,5,0),1,0)*Table_NFI[[#This Row],[Blanket]],0)","v":0},{"$f":"IF(NFI_Expiration=1,IF($A8<VLOOKUP(N$5,NFI,5,0),1,0)*Table_NFI[[#This Row],[Kitchen Set]],0)","v":0},{"$f":"IF(NFI_Expiration=1,IF($A8<VLOOKUP(O$5,NFI,5,0),1,0)*Table_NFI[[#This Row],[Complementary Kit]],0)","v":0},{"$f":"IF(NFI_Expiration=1,IF($A8<VLOOKUP(P$5,NFI,5,0),1,0)*Table_NFI[[#This Row],[Plastic Bucket]],0)","v":0},{"$f":"IF(NFI_Expiration=1,IF($A8<VLOOKUP(Q$5,NFI,5,0),1,0)*Table_NFI[[#This Row],[Plastic Mat]],0)","v":0},{"$f":"IFERROR(VLOOKUP(Table_NFI[[#This Row],[Camp Name]],CL,2,0),\"\")","v":""},{"$f":"IFERROR(VLOOKUP(Table_NFI[[#This Row],[Camp Name]],CL,3,0),\"\")","v":""}]
[17.399999999999999,"2012-06-27","UNHCR",null,"Rakhine","Sittwe","Ma Ni Yadanar Monastery",null,null,null,null,120,null,null,null,null,null,{"$f":"IF(NFI_Expiration=1,IF($A9<VLOOKUP(H$5,NFI,5,0),1,0)*Table_NFI[[#This Row],[Hygiene Kit]],0)","v":0},{"$f":"IF(NFI_Expiration=1,IF($A9<VLOOKUP(I$5,NFI,5,0),1,0)*Table_NFI[[#This Row],[NFI Core Kit]],0)","v":0},{"$f":"IF(NFI_Expiration=1,IF($A9<VLOOKUP(J$5,NFI,5,0),1,0)*Table_NFI[[#This Row],[Sanitary Kit]],0)","v":0},{"$f":"IF(NFI_Expiration=1,IF($A9<VLOOKUP(K$5,NFI,5,0),1,0)*Table_NFI[[#This Row],[Mosquito net]],0)","v":0},{"$f":"IF(NFI_Expiration=1,IF($A9<VLOOKUP(L$5,NFI,5,0),1,0)*Table_NFI[[#This Row],[Tarpaulin]],0)","v":0},{"$f":"IF(NFI_Expiration=1,IF($A9<VLOOKUP(M$5,NFI,5,0),1,0)*Table_NFI[[#This Row],[Blanket]],0)","v":0},{"$f":"IF(NFI_Expiration=1,IF($A9<VLOOKUP(N$5,NFI,5,0),1,0)*Table_NFI[[#This Row],[Kitchen Set]],0)","v":0},{"$f":"IF(NFI_Expiration=1,IF($A9<VLOOKUP(O$5,NFI,5,0),1,0)*Table_NFI[[#This Row],[Complementary Kit]],0)","v":0},{"$f":"IF(NFI_Expiration=1,IF($A9<VLOOKUP(P$5,NFI,5,0),1,0)*Table_NFI[[#This Row],[Plastic Bucket]],0)","v":0},{"$f":"IF(NFI_Expiration=1,IF($A9<VLOOKUP(Q$5,NFI,5,0),1,0)*Table_NFI[[#This Row],[Plastic Mat]],0)","v":0},{"$f":"IFERROR(VLOOKUP(Table_NFI[[#This Row],[Camp Name]],CL,2,0),\"\")","v":"MMR012CMP072"},{"$f":"IFERROR(VLOOKUP(Table_NFI[[#This Row],[Camp Name]],CL,3,0),\"\")","v":"Close"}]
[17.366666666666667,"2012-06-28","UNHCR",null,"Rakhine","Sittwe","Da Ma Set Kyar",null,null,null,null,52,null,null,null,null,null,{"$f":"IF(NFI_Expiration=1,IF($A10<VLOOKUP(H$5,NFI,5,0),1,0)*Table_NFI[[#This Row],[Hygiene Kit]],0)","v":0},{"$f":"IF(NFI_Expiration=1,IF($A10<VLOOKUP(I$5,NFI,5,0),1,0)*Table_NFI[[#This Row],[NFI Core Kit]],0)","v":0},{"$f":"IF(NFI_Expiration=1,IF($A10<VLOOKUP(J$5,NFI,5,0),1,0)*Table_NFI[[#This Row],[Sanitary Kit]],0)","v":0},{"$f":"IF(NFI_Expiration=1,IF($A10<VLOOKUP(K$5,NFI,5,0),1,0)*Table_NFI[[#This Row],[Mosquito net]],0)","v":0},{"$f":"IF(NFI_Expiration=1,IF($A10<VLOOKUP(L$5,NFI,5,0),1,0)*Table_NFI[[#This Row],[Tarpaulin]],0)","v":0},{"$f":"IF(NFI_Expiration=1,IF($A10<VLOOKUP(M$5,NFI,5,0),1,0)*Table_NFI[[#This Row],[Blanket]],0)","v":0},{"$f":"IF(NFI_Expiration=1,IF($A10<VLOOKUP(N$5,NFI,5,0),1,0)*Table_NFI[[#This Row],[Kitchen Set]],0)","v":0},{"$f":"IF(NFI_Expiration=1,IF($A10<VLOOKUP(O$5,NFI,5,0),1,0)*Table_NFI[[#This Row],[Complementary Kit]],0)","v":0},{"$f":"IF(NFI_Expiration=1,IF($A10<VLOOKUP(P$5,NFI,5,0),1,0)*Table_NFI[[#This Row],[Plastic Bucket]],0)","v":0},{"$f":"IF(NFI_Expiration=1,IF($A10<VLOOKUP(Q$5,NFI,5,0),1,0)*Table_NFI[[#This Row],[Plastic Mat]],0)","v":0},{"$f":"IFERROR(VLOOKUP(Table_NFI[[#This Row],[Camp Name]],CL,2,0),\"\")","v":""},{"$f":"IFERROR(VLOOKUP(Table_NFI[[#This Row],[Camp Name]],CL,3,0),\"\")","v":""}]
[17.366666666666667,"2012-06-28","UNHCR",null,"Rakhine","Sittwe","Sit Kae Taw Min",null,null,null,null,89,null,null,null,null,null,{"$f":"IF(NFI_Expiration=1,IF($A11<VLOOKUP(H$5,NFI,5,0),1,0)*Table_NFI[[#This Row],[Hygiene Kit]],0)","v":0},{"$f":"IF(NFI_Expiration=1,IF($A11<VLOOKUP(I$5,NFI,5,0),1,0)*Table_NFI[[#This Row],[NFI Core Kit]],0)","v":0},{"$f":"IF(NFI_Expiration=1,IF($A11<VLOOKUP(J$5,NFI,5,0),1,0)*Table_NFI[[#This Row],[Sanitary Kit]],0)","v":0},{"$f":"IF(NFI_Expiration=1,IF($A11<VLOOKUP(K$5,NFI,5,0),1,0)*Table_NFI[[#This Row],[Mosquito net]],0)","v":0},{"$f":"IF(NFI_Expiration=1,IF($A11<VLOOKUP(L$5,NFI,5,0),1,0)*Table_NFI[[#This Row],[Tarpaulin]],0)","v":0},{"$f":"IF(NFI_Expiration=1,IF($A11<VLOOKUP(M$5,NFI,5,0),1,0)*Table_NFI[[#This Row],[Blanket]],0)","v":0},{"$f":"IF(NFI_Expiration=1,IF($A11<VLOOKUP(N$5,NFI,5,0),1,0)*Table_NFI[[#This Row],[Kitchen Set]],0)","v":0},{"$f":"IF(NFI_Expiration=1,IF($A11<VLOOKUP(O$5,NFI,5,0),1,0)*Table_NFI[[#This Row],[Complementary Kit]],0)","v":0},{"$f":"IF(NFI_Expiration=1,IF($A11<VLOOKUP(P$5,NFI,5,0),1,0)*Table_NFI[[#This Row],[Plastic Bucket]],0)","v":0},{"$f":"IF(NFI_Expiration=1,IF($A11<VLOOKUP(Q$5,NFI,5,0),1,0)*Table_NFI[[#This Row],[Plastic Mat]],0)","v":0},{"$f":"IFERROR(VLOOKUP(Table_NFI[[#This Row],[Camp Name]],CL,2,0),\"\")","v":""},{"$f":"IFERROR(VLOOKUP(Table_NFI[[#This Row],[Camp Name]],CL,3,0),\"\")","v":""}]
[17.366666666666667,"2012-06-28","UNHCR",null,"Rakhine","Sittwe","Phyin Nyar Ag Myay",null,null,null,null,11,null,null,null,null,null,{"$f":"IF(NFI_Expiration=1,IF($A12<VLOOKUP(H$5,NFI,5,0),1,0)*Table_NFI[[#This Row],[Hygiene Kit]],0)","v":0},{"$f":"IF(NFI_Expiration=1,IF($A12<VLOOKUP(I$5,NFI,5,0),1,0)*Table_NFI[[#This Row],[NFI Core Kit]],0)","v":0},{"$f":"IF(NFI_Expiration=1,IF($A12<VLOOKUP(J$5,NFI,5,0),1,0)*Table_NFI[[#This Row],[Sanitary Kit]],0)","v":0},{"$f":"IF(NFI_Expiration=1,IF($A12<VLOOKUP(K$5,NFI,5,0),1,0)*Table_NFI[[#This Row],[Mosquito net]],0)","v":0},{"$f":"IF(NFI_Expiration=1,IF($A12<VLOOKUP(L$5,NFI,5,0),1,0)*Table_NFI[[#This Row],[Tarpaulin]],0)","v":0},{"$f":"IF(NFI_Expiration=1,IF($A12<VLOOKUP(M$5,NFI,5,0),1,0)*Table_NFI[[#This Row],[Blanket]],0)","v":0},{"$f":"IF(NFI_Expiration=1,IF($A12<VLOOKUP(N$5,NFI,5,0),1,0)*Table_NFI[[#This Row],[Kitchen Set]],0)","v":0},{"$f":"IF(NFI_Expiration=1,IF($A12<VLOOKUP(O$5,NFI,5,0),1,0)*Table_NFI[[#This Row],[Complementary Kit]],0)","v":0},{"$f":"IF(NFI_Expiration=1,IF($A12<VLOOKUP(P$5,NFI,5,0),1,0)*Table_NFI[[#This Row],[Plastic Bucket]],0)","v":0},{"$f":"IF(NFI_Expiration=1,IF($A12<VLOOKUP(Q$5,NFI,5,0),1,0)*Table_NFI[[#This Row],[Plastic Mat]],0)","v":0},{"$f":"IFERROR(VLOOKUP(Table_NFI[[#This Row],[Camp Name]],CL,2,0),\"\")","v":""},{"$f":"IFERROR(VLOOKUP(Table_NFI[[#This Row],[Camp Name]],CL,3,0),\"\")","v":""}]
[17.366666666666667,"2012-06-28","UNHCR",null,"Rakhine","Sittwe","Kaw Nyar Na",null,null,null,null,9,null,null,null,null,null,{"$f":"IF(NFI_Expiration=1,IF($A13<VLOOKUP(H$5,NFI,5,0),1,0)*Table_NFI[[#This Row],[Hygiene Kit]],0)","v":0},{"$f":"IF(NFI_Expiration=1,IF($A13<VLOOKUP(I$5,NFI,5,0),1,0)*Table_NFI[[#This Row],[NFI Core Kit]],0)","v":0},{"$f":"IF(NFI_Expiration=1,IF($A13<VLOOKUP(J$5,NFI,5,0),1,0)*Table_NFI[[#This Row],[Sanitary Kit]],0)","v":0},{"$f":"IF(NFI_Expiration=1,IF($A13<VLOOKUP(K$5,NFI,5,0),1,0)*Table_NFI[[#This Row],[Mosquito net]],0)","v":0},{"$f":"IF(NFI_Expiration=1,IF($A13<VLOOKUP(L$5,NFI,5,0),1,0)*Table_NFI[[#This Row],[Tarpaulin]],0)","v":0},{"$f":"IF(NFI_Expiration=1,IF($A13<VLOOKUP(M$5,NFI,5,0),1,0)*Table_NFI[[#This Row],[Blanket]],0)","v":0},{"$f":"IF(NFI_Expiration=1,IF($A13<VLOOKUP(N$5,NFI,5,0),1,0)*Table_NFI[[#This Row],[Kitchen Set]],0)","v":0},{"$f":"IF(NFI_Expiration=1,IF($A13<VLOOKUP(O$5,NFI,5,0),1,0)*Table_NFI[[#This Row],[Complementary Kit]],0)","v":0},{"$f":"IF(NFI_Expiration=1,IF($A13<VLOOKUP(P$5,NFI,5,0),1,0)*Table_NFI[[#This Row],[Plastic Bucket]],0)","v":0},{"$f":"IF(NFI_Expiration=1,IF($A13<VLOOKUP(Q$5,NFI,5,0),1,0)*Table_NFI[[#This Row],[Plastic Mat]],0)","v":0},{"$f":"IFERROR(VLOOKUP(Table_NFI[[#This Row],[Camp Name]],CL,2,0),\"\")","v":""},{"$f":"IFERROR(VLOOKUP(Table_NFI[[#This Row],[Camp Name]],CL,3,0),\"\")","v":""}]
[17.366666666666667,"2012-06-28","UNHCR",null,"Rakhine","Sittwe","Dar Pai",null,null,null,null,300,null,null,null,null,null,{"$f":"IF(NFI_Expiration=1,IF($A14<VLOOKUP(H$5,NFI,5,0),1,0)*Table_NFI[[#This Row],[Hygiene Kit]],0)","v":0},{"$f":"IF(NFI_Expiration=1,IF($A14<VLOOKUP(I$5,NFI,5,0),1,0)*Table_NFI[[#This Row],[NFI Core Kit]],0)","v":0},{"$f":"IF(NFI_Expiration=1,IF($A14<VLOOKUP(J$5,NFI,5,0),1,0)*Table_NFI[[#This Row],[Sanitary Kit]],0)","v":0},{"$f":"IF(NFI_Expiration=1,IF($A14<VLOOKUP(K$5,NFI,5,0),1,0)*Table_NFI[[#This Row],[Mosquito net]],0)","v":0},{"$f":"IF(NFI_Expiration=1,IF($A14<VLOOKUP(L$5,NFI,5,0),1,0)*Table_NFI[[#This Row],[Tarpaulin]],0)","v":0},{"$f":"IF(NFI_Expiration=1,IF($A14<VLOOKUP(M$5,NFI,5,0),1,0)*Table_NFI[[#This Row],[Blanket]],0)","v":0},{"$f":"IF(NFI_Expiration=1,IF($A14<VLOOKUP(N$5,NFI,5,0),1,0)*Table_NFI[[#This Row],[Kitchen Set]],0)","v":0},{"$f":"IF(NFI_Expiration=1,IF($A14<VLOOKUP(O$5,NFI,5,0),1,0)*Table_NFI[[#This Row],[Complementary Kit]],0)","v":0},{"$f":"IF(NFI_Expiration=1,IF($A14<VLOOKUP(P$5,NFI,5,0),1,0)*Table_NFI[[#This Row],[Plastic Bucket]],0)","v":0},{"$f":"IF(NFI_Expiration=1,IF($A14<VLOOKUP(Q$5,NFI,5,0),1,0)*Table_NFI[[#This Row],[Plastic Mat]],0)","v":0},{"$f":"IFERROR(VLOOKUP(Table_NFI[[#This Row],[Camp Name]],CL,2,0),\"\")","v":"MMR012CMP041"},{"$f":"IFERROR(VLOOKUP(Table_NFI[[#This Row],[Camp Name]],CL,3,0),\"\")","v":"Open"}]
[17.333333333333332,"2012-06-29","UNHCR",null,"Rakhine","Sittwe","Thet Kae Pyin ",null,null,null,null,200,null,null,null,null,null,{"$f":"IF(NFI_Expiration=1,IF($A15<VLOOKUP(H$5,NFI,5,0),1,0)*Table_NFI[[#This Row],[Hygiene Kit]],0)","v":0},{"$f":"IF(NFI_Expiration=1,IF($A15<VLOOKUP(I$5,NFI,5,0),1,0)*Table_NFI[[#This Row],[NFI Core Kit]],0)","v":0},{"$f":"IF(NFI_Expiration=1,IF($A15<VLOOKUP(J$5,NFI,5,0),1,0)*Table_NFI[[#This Row],[Sanitary Kit]],0)","v":0},{"$f":"IF(NFI_Expiration=1,IF($A15<VLOOKUP(K$5,NFI,5,0),1,0)*Table_NFI[[#This Row],[Mosquito net]],0)","v":0},{"$f":"IF(NFI_Expiration=1,IF($A15<VLOOKUP(L$5,NFI,5,0),1,0)*Table_NFI[[#This Row],[Tarpaulin]],0)","v":0},{"$f":"IF(NFI_Expiration=1,IF($A15<VLOOKUP(M$5,NFI,5,0),1,0)*Table_NFI[[#This Row],[Blanket]],0)","v":0},{"$f":"IF(NFI_Expiration=1,IF($A15<VLOOKUP(N$5,NFI,5,0),1,0)*Table_NFI[[#This Row],[Kitchen Set]],0)","v":0},{"$f":"IF(NFI_Expiration=1,IF($A15<VLOOKUP(O$5,NFI,5,0),1,0)*Table_NFI[[#This Row],[Complementary Kit]],0)","v":0},{"$f":"IF(NFI_Expiration=1,IF($A15<VLOOKUP(P$5,NFI,5,0),1,0)*Table_NFI[[#This Row],[Plastic Bucket]],0)","v":0},{"$f":"IF(NFI_Expiration=1,IF($A15<VLOOKUP(Q$5,NFI,5,0),1,0)*Table_NFI[[#This Row],[Plastic Mat]],0)","v":0},{"$f":"IFERROR(VLOOKUP(Table_NFI[[#This Row],[Camp Name]],CL,2,0),\"\")","v":"MMR012CMP048"},{"$f":"IFERROR(VLOOKUP(Table_NFI[[#This Row],[Camp Name]],CL,3,0),\"\")","v":"Open"}]
[17.333333333333332,"2012-06-29","UNHCR",null,"Rakhine","Sittwe","Sin Ku Lann Monastery",null,null,null,null,62,null,null,null,null,null,{"$f":"IF(NFI_Expiration=1,IF($A16<VLOOKUP(H$5,NFI,5,0),1,0)*Table_NFI[[#This Row],[Hygiene Kit]],0)","v":0},{"$f":"IF(NFI_Expiration=1,IF($A16<VLOOKUP(I$5,NFI,5,0),1,0)*Table_NFI[[#This Row],[NFI Core Kit]],0)","v":0},{"$f":"IF(NFI_Expiration=1,IF($A16<VLOOKUP(J$5,NFI,5,0),1,0)*Table_NFI[[#This Row],[Sanitary Kit]],0)","v":0},{"$f":"IF(NFI_Expiration=1,IF($A16<VLOOKUP(K$5,NFI,5,0),1,0)*Table_NFI[[#This Row],[Mosquito net]],0)","v":0},{"$f":"IF(NFI_Expiration=1,IF($A16<VLOOKUP(L$5,NFI,5,0),1,0)*Table_NFI[[#This Row],[Tarpaulin]],0)","v":0},{"$f":"IF(NFI_Expiration=1,IF($A16<VLOOKUP(M$5,NFI,5,0),1,0)*Table_NFI[[#This Row],[Blanket]],0)","v":0},{"$f":"IF(NFI_Expiration=1,IF($A16<VLOOKUP(N$5,NFI,5,0),1,0)*Table_NFI[[#This Row],[Kitchen Set]],0)","v":0},{"$f":"IF(NFI_Expiration=1,IF($A16<VLOOKUP(O$5,NFI,5,0),1,0)*Table_NFI[[#This Row],[Complementary Kit]],0)","v":0},{"$f":"IF(NFI_Expiration=1,IF($A16<VLOOKUP(P$5,NFI,5,0),1,0)*Table_NFI[[#This Row],[Plastic Bucket]],0)","v":0},{"$f":"IF(NFI_Expiration=1,IF($A16<VLOOKUP(Q$5,NFI,5,0),1,0)*Table_NFI[[#This Row],[Plastic Mat]],0)","v":0},{"$f":"IFERROR(VLOOKUP(Table_NFI[[#This Row],[Camp Name]],CL,2,0),\"\")","v":"MMR012CMP068"},{"$f":"IFERROR(VLOOKUP(Table_NFI[[#This Row],[Camp Name]],CL,3,0),\"\")","v":"Close"}]
[17.333333333333332,"2012-06-29","UNHCR",null,"Rakhine","Sittwe","Myo Ma Monastery",null,null,null,null,66,null,null,null,null,null,{"$f":"IF(NFI_Expiration=1,IF($A17<VLOOKUP(H$5,NFI,5,0),1,0)*Table_NFI[[#This Row],[Hygiene Kit]],0)","v":0},{"$f":"IF(NFI_Expiration=1,IF($A17<VLOOKUP(I$5,NFI,5,0),1,0)*Table_NFI[[#This Row],[NFI Core Kit]],0)","v":0},{"$f":"IF(NFI_Expiration=1,IF($A17<VLOOKUP(J$5,NFI,5,0),1,0)*Table_NFI[[#This Row],[Sanitary Kit]],0)","v":0},{"$f":"IF(NFI_Expiration=1,IF($A17<VLOOKUP(K$5,NFI,5,0),1,0)*Table_NFI[[#This Row],[Mosquito net]],0)","v":0},{"$f":"IF(NFI_Expiration=1,IF($A17<VLOOKUP(L$5,NFI,5,0),1,0)*Table_NFI[[#This Row],[Tarpaulin]],0)","v":0},{"$f":"IF(NFI_Expiration=1,IF($A17<VLOOKUP(M$5,NFI,5,0),1,0)*Table_NFI[[#This Row],[Blanket]],0)","v":0},{"$f":"IF(NFI_Expiration=1,IF($A17<VLOOKUP(N$5,NFI,5,0),1,0)*Table_NFI[[#This Row],[Kitchen Set]],0)","v":0},{"$f":"IF(NFI_Expiration=1,IF($A17<VLOOKUP(O$5,NFI,5,0),1,0)*Table_NFI[[#This Row],[Complementary Kit]],0)","v":0},{"$f":"IF(NFI_Expiration=1,IF($A17<VLOOKUP(P$5,NFI,5,0),1,0)*Table_NFI[[#This Row],[Plastic Bucket]],0)","v":0},{"$f":"IF(NFI_Expiration=1,IF($A17<VLOOKUP(Q$5,NFI,5,0),1,0)*Table_NFI[[#This Row],[Plastic Mat]],0)","v":0},{"$f":"IFERROR(VLOOKUP(Table_NFI[[#This Row],[Camp Name]],CL,2,0),\"\")","v":"MMR012CMP063"},{"$f":"IFERROR(VLOOKUP(Table_NFI[[#This Row],[Camp Name]],CL,3,0),\"\")","v":"Close"}]
[17.333333333333332,"2012-06-29","UNHCR",null,"Rakhine","Sittwe","Dak Kaung Monastery",null,null,null,null,66,null,null,null,null,null,{"$f":"IF(NFI_Expiration=1,IF($A18<VLOOKUP(H$5,NFI,5,0),1,0)*Table_NFI[[#This Row],[Hygiene Kit]],0)","v":0},{"$f":"IF(NFI_Expiration=1,IF($A18<VLOOKUP(I$5,NFI,5,0),1,0)*Table_NFI[[#This Row],[NFI Core Kit]],0)","v":0},{"$f":"IF(NFI_Expiration=1,IF($A18<VLOOKUP(J$5,NFI,5,0),1,0)*Table_NFI[[#This Row],[Sanitary Kit]],0)","v":0},{"$f":"IF(NFI_Expiration=1,IF($A18<VLOOKUP(K$5,NFI,5,0),1,0)*Table_NFI[[#This Row],[Mosquito net]],0)","v":0},{"$f":"IF(NFI_Expiration=1,IF($A18<VLOOKUP(L$5,NFI,5,0),1,0)*Table_NFI[[#This Row],[Tarpaulin]],0)","v":0},{"$f":"IF(NFI_Expiration=1,IF($A18<VLOOKUP(M$5,NFI,5,0),1,0)*Table_NFI[[#This Row],[Blanket]],0)","v":0},{"$f":"IF(NFI_Expiration=1,IF($A18<VLOOKUP(N$5,NFI,5,0),1,0)*Table_NFI[[#This Row],[Kitchen Set]],0)","v":0},{"$f":"IF(NFI_Expiration=1,IF($A18<VLOOKUP(O$5,NFI,5,0),1,0)*Table_NFI[[#This Row],[Complementary Kit]],0)","v":0},{"$f":"IF(NFI_Expiration=1,IF($A18<VLOOKUP(P$5,NFI,5,0),1,0)*Table_NFI[[#This Row],[Plastic Bucket]],0)","v":0},{"$f":"IF(NFI_Expiration=1,IF($A18<VLOOKUP(Q$5,NFI,5,0),1,0)*Table_NFI[[#This Row],[Plastic Mat]],0)","v":0},{"$f":"IFERROR(VLOOKUP(Table_NFI[[#This Row],[Camp Name]],CL,2,0),\"\")","v":"MMR012CMP059"},{"$f":"IFERROR(VLOOKUP(Table_NFI[[#This Row],[Camp Name]],CL,3,0),\"\")","v":"Close"}]
[17.333333333333332,"2012-06-29","UNHCR",null,"Rakhine","Sittwe","Mahar Zay Ya Theik",null,null,null,null,37,null,null,null,null,null,{"$f":"IF(NFI_Expiration=1,IF($A19<VLOOKUP(H$5,NFI,5,0),1,0)*Table_NFI[[#This Row],[Hygiene Kit]],0)","v":0},{"$f":"IF(NFI_Expiration=1,IF($A19<VLOOKUP(I$5,NFI,5,0),1,0)*Table_NFI[[#This Row],[NFI Core Kit]],0)","v":0},{"$f":"IF(NFI_Expiration=1,IF($A19<VLOOKUP(J$5,NFI,5,0),1,0)*Table_NFI[[#This Row],[Sanitary Kit]],0)","v":0},{"$f":"IF(NFI_Expiration=1,IF($A19<VLOOKUP(K$5,NFI,5,0),1,0)*Table_NFI[[#This Row],[Mosquito net]],0)","v":0},{"$f":"IF(NFI_Expiration=1,IF($A19<VLOOKUP(L$5,NFI,5,0),1,0)*Table_NFI[[#This Row],[Tarpaulin]],0)","v":0},{"$f":"IF(NFI_Expiration=1,IF($A19<VLOOKUP(M$5,NFI,5,0),1,0)*Table_NFI[[#This Row],[Blanket]],0)","v":0},{"$f":"IF(NFI_Expiration=1,IF($A19<VLOOKUP(N$5,NFI,5,0),1,0)*Table_NFI[[#This Row],[Kitchen Set]],0)","v":0},{"$f":"IF(NFI_Expiration=1,IF($A19<VLOOKUP(O$5,NFI,5,0),1,0)*Table_NFI[[#This Row],[Complementary Kit]],0)","v":0},{"$f":"IF(NFI_Expiration=1,IF($A19<VLOOKUP(P$5,NFI,5,0),1,0)*Table_NFI[[#This Row],[Plastic Bucket]],0)","v":0},{"$f":"IF(NFI_Expiration=1,IF($A19<VLOOKUP(Q$5,NFI,5,0),1,0)*Table_NFI[[#This Row],[Plastic Mat]],0)","v":0},{"$f":"IFERROR(VLOOKUP(Table_NFI[[#This Row],[Camp Name]],CL,2,0),\"\")","v":""},{"$f":"IFERROR(VLOOKUP(Table_NFI[[#This Row],[Camp Name]],CL,3,0),\"\")","v":""}]
[17.3,"2012-06-30","UNHCR",null,"Rakhine","Sittwe","Danyawaddy Baw Lone Kwin",null,null,null,null,103,null,null,null,null,null,{"$f":"IF(NFI_Expiration=1,IF($A20<VLOOKUP(H$5,NFI,5,0),1,0)*Table_NFI[[#This Row],[Hygiene Kit]],0)","v":0},{"$f":"IF(NFI_Expiration=1,IF($A20<VLOOKUP(I$5,NFI,5,0),1,0)*Table_NFI[[#This Row],[NFI Core Kit]],0)","v":0},{"$f":"IF(NFI_Expiration=1,IF($A20<VLOOKUP(J$5,NFI,5,0),1,0)*Table_NFI[[#This Row],[Sanitary Kit]],0)","v":0},{"$f":"IF(NFI_Expiration=1,IF($A20<VLOOKUP(K$5,NFI,5,0),1,0)*Table_NFI[[#This Row],[Mosquito net]],0)","v":0},{"$f":"IF(NFI_Expiration=1,IF($A20<VLOOKUP(L$5,NFI,5,0),1,0)*Table_NFI[[#This Row],[Tarpaulin]],0)","v":0},{"$f":"IF(NFI_Expiration=1,IF($A20<VLOOKUP(M$5,NFI,5,0),1,0)*Table_NFI[[#This Row],[Blanket]],0)","v":0},{"$f":"IF(NFI_Expiration=1,IF($A20<VLOOKUP(N$5,NFI,5,0),1,0)*Table_NFI[[#This Row],[Kitchen Set]],0)","v":0},{"$f":"IF(NFI_Expiration=1,IF($A20<VLOOKUP(O$5,NFI,5,0),1,0)*Table_NFI[[#This Row],[Complementary Kit]],0)","v":0},{"$f":"IF(NFI_Expiration=1,IF($A20<VLOOKUP(P$5,NFI,5,0),1,0)*Table_NFI[[#This Row],[Plastic Bucket]],0)","v":0},{"$f":"IF(NFI_Expiration=1,IF($A20<VLOOKUP(Q$5,NFI,5,0),1,0)*Table_NFI[[#This Row],[Plastic Mat]],0)","v":0},{"$f":"IFERROR(VLOOKUP(Table_NFI[[#This Row],[Camp Name]],CL,2,0),\"\")","v":"MMR012CMP055"},{"$f":"IFERROR(VLOOKUP(Table_NFI[[#This Row],[Camp Name]],CL,3,0),\"\")","v":"Close"}]
[17.3,"2012-06-30","UNHCR",null,"Rakhine","Sittwe","Tha Ma Da ZTK",null,null,null,null,35,null,null,null,null,null,{"$f":"IF(NFI_Expiration=1,IF($A21<VLOOKUP(H$5,NFI,5,0),1,0)*Table_NFI[[#This Row],[Hygiene Kit]],0)","v":0},{"$f":"IF(NFI_Expiration=1,IF($A21<VLOOKUP(I$5,NFI,5,0),1,0)*Table_NFI[[#This Row],[NFI Core Kit]],0)","v":0},{"$f":"IF(NFI_Expiration=1,IF($A21<VLOOKUP(J$5,NFI,5,0),1,0)*Table_NFI[[#This Row],[Sanitary Kit]],0)","v":0},{"$f":"IF(NFI_Expiration=1,IF($A21<VLOOKUP(K$5,NFI,5,0),1,0)*Table_NFI[[#This Row],[Mosquito net]],0)","v":0},{"$f":"IF(NFI_Expiration=1,IF($A21<VLOOKUP(L$5,NFI,5,0),1,0)*Table_NFI[[#This Row],[Tarpaulin]],0)","v":0},{"$f":"IF(NFI_Expiration=1,IF($A21<VLOOKUP(M$5,NFI,5,0),1,0)*Table_NFI[[#This Row],[Blanket]],0)","v":0},{"$f":"IF(NFI_Expiration=1,IF($A21<VLOOKUP(N$5,NFI,5,0),1,0)*Table_NFI[[#This Row],[Kitchen Set]],0)","v":0},{"$f":"IF(NFI_Expiration=1,IF($A21<VLOOKUP(O$5,NFI,5,0),1,0)*Table_NFI[[#This Row],[Complementary Kit]],0)","v":0},{"$f":"IF(NFI_Expiration=1,IF($A21<VLOOKUP(P$5,NFI,5,0),1,0)*Table_NFI[[#This Row],[Plastic Bucket]],0)","v":0},{"$f":"IF(NFI_Expiration=1,IF($A21<VLOOKUP(Q$5,NFI,5,0),1,0)*Table_NFI[[#This Row],[Plastic Mat]],0)","v":0},{"$f":"IFERROR(VLOOKUP(Table_NFI[[#This Row],[Camp Name]],CL,2,0),\"\")","v":""},{"$f":"IFERROR(VLOOKUP(Table_NFI[[#This Row],[Camp Name]],CL,3,0),\"\")","v":""}]
[17.3,"2012-06-30","UNHCR",null,"Rakhine","Sittwe","Khaung Laung",null,null,null,null,36,null,null,null,null,null,{"$f":"IF(NFI_Expiration=1,IF($A22<VLOOKUP(H$5,NFI,5,0),1,0)*Table_NFI[[#This Row],[Hygiene Kit]],0)","v":0},{"$f":"IF(NFI_Expiration=1,IF($A22<VLOOKUP(I$5,NFI,5,0),1,0)*Table_NFI[[#This Row],[NFI Core Kit]],0)","v":0},{"$f":"IF(NFI_Expiration=1,IF($A22<VLOOKUP(J$5,NFI,5,0),1,0)*Table_NFI[[#This Row],[Sanitary Kit]],0)","v":0},{"$f":"IF(NFI_Expiration=1,IF($A22<VLOOKUP(K$5,NFI,5,0),1,0)*Table_NFI[[#This Row],[Mosquito net]],0)","v":0},{"$f":"IF(NFI_Expiration=1,IF($A22<VLOOKUP(L$5,NFI,5,0),1,0)*Table_NFI[[#This Row],[Tarpaulin]],0)","v":0},{"$f":"IF(NFI_Expiration=1,IF($A22<VLOOKUP(M$5,NFI,5,0),1,0)*Table_NFI[[#This Row],[Blanket]],0)","v":0},{"$f":"IF(NFI_Expiration=1,IF($A22<VLOOKUP(N$5,NFI,5,0),1,0)*Table_NFI[[#This Row],[Kitchen Set]],0)","v":0},{"$f":"IF(NFI_Expiration=1,IF($A22<VLOOKUP(O$5,NFI,5,0),1,0)*Table_NFI[[#This Row],[Complementary Kit]],0)","v":0},{"$f":"IF(NFI_Expiration=1,IF($A22<VLOOKUP(P$5,NFI,5,0),1,0)*Table_NFI[[#This Row],[Plastic Bucket]],0)","v":0},{"$f":"IF(NFI_Expiration=1,IF($A22<VLOOKUP(Q$5,NFI,5,0),1,0)*Table_NFI[[#This Row],[Plastic Mat]],0)","v":0},{"$f":"IFERROR(VLOOKUP(Table_NFI[[#This Row],[Camp Name]],CL,2,0),\"\")","v":""},{"$f":"IFERROR(VLOOKUP(Table_NFI[[#This Row],[Camp Name]],CL,3,0),\"\")","v":""}]
[17.3,"2012-06-30","UNHCR",null,"Rakhine","Sittwe","Pyin Nyar Mandine Monastery",null,null,null,null,9,null,null,null,null,null,{"$f":"IF(NFI_Expiration=1,IF($A23<VLOOKUP(H$5,NFI,5,0),1,0)*Table_NFI[[#This Row],[Hygiene Kit]],0)","v":0},{"$f":"IF(NFI_Expiration=1,IF($A23<VLOOKUP(I$5,NFI,5,0),1,0)*Table_NFI[[#This Row],[NFI Core Kit]],0)","v":0},{"$f":"IF(NFI_Expiration=1,IF($A23<VLOOKUP(J$5,NFI,5,0),1,0)*Table_NFI[[#This Row],[Sanitary Kit]],0)","v":0},{"$f":"IF(NFI_Expiration=1,IF($A23<VLOOKUP(K$5,NFI,5,0),1,0)*Table_NFI[[#This Row],[Mosquito net]],0)","v":0},{"$f":"IF(NFI_Expiration=1,IF($A23<VLOOKUP(L$5,NFI,5,0),1,0)*Table_NFI[[#This Row],[Tarpaulin]],0)","v":0},{"$f":"IF(NFI_Expiration=1,IF($A23<VLOOKUP(M$5,NFI,5,0),1,0)*Table_NFI[[#This Row],[Blanket]],0)","v":0},{"$f":"IF(NFI_Expiration=1,IF($A23<VLOOKUP(N$5,NFI,5,0),1,0)*Table_NFI[[#This Row],[Kitchen Set]],0)","v":0},{"$f":"IF(NFI_Expiration=1,IF($A23<VLOOKUP(O$5,NFI,5,0),1,0)*Table_NFI[[#This Row],[Complementary Kit]],0)","v":0},{"$f":"IF(NFI_Expiration=1,IF($A23<VLOOKUP(P$5,NFI,5,0),1,0)*Table_NFI[[#This Row],[Plastic Bucket]],0)","v":0},{"$f":"IF(NFI_Expiration=1,IF($A23<VLOOKUP(Q$5,NFI,5,0),1,0)*Table_NFI[[#This Row],[Plastic Mat]],0)","v":0},{"$f":"IFERROR(VLOOKUP(Table_NFI[[#This Row],[Camp Name]],CL,2,0),\"\")","v":"MMR012CMP064"},{"$f":"IFERROR(VLOOKUP(Table_NFI[[#This Row],[Camp Name]],CL,3,0),\"\")","v":"Close"}]
[17.3,"2012-06-30","UNHCR",null,"Rakhine","Sittwe","TanTan",null,null,null,null,20,null,null,null,null,null,{"$f":"IF(NFI_Expiration=1,IF($A24<VLOOKUP(H$5,NFI,5,0),1,0)*Table_NFI[[#This Row],[Hygiene Kit]],0)","v":0},{"$f":"IF(NFI_Expiration=1,IF($A24<VLOOKUP(I$5,NFI,5,0),1,0)*Table_NFI[[#This Row],[NFI Core Kit]],0)","v":0},{"$f":"IF(NFI_Expiration=1,IF($A24<VLOOKUP(J$5,NFI,5,0),1,0)*Table_NFI[[#This Row],[Sanitary Kit]],0)","v":0},{"$f":"IF(NFI_Expiration=1,IF($A24<VLOOKUP(K$5,NFI,5,0),1,0)*Table_NFI[[#This Row],[Mosquito net]],0)","v":0},{"$f":"IF(NFI_Expiration=1,IF($A24<VLOOKUP(L$5,NFI,5,0),1,0)*Table_NFI[[#This Row],[Tarpaulin]],0)","v":0},{"$f":"IF(NFI_Expiration=1,IF($A24<VLOOKUP(M$5,NFI,5,0),1,0)*Table_NFI[[#This Row],[Blanket]],0)","v":0},{"$f":"IF(NFI_Expiration=1,IF($A24<VLOOKUP(N$5,NFI,5,0),1,0)*Table_NFI[[#This Row],[Kitchen Set]],0)","v":0},{"$f":"IF(NFI_Expiration=1,IF($A24<VLOOKUP(O$5,NFI,5,0),1,0)*Table_NFI[[#This Row],[Complementary Kit]],0)","v":0},{"$f":"IF(NFI_Expiration=1,IF($A24<VLOOKUP(P$5,NFI,5,0),1,0)*Table_NFI[[#This Row],[Plastic Bucket]],0)","v":0},{"$f":"IF(NFI_Expiration=1,IF($A24<VLOOKUP(Q$5,NFI,5,0),1,0)*Table_NFI[[#This Row],[Plastic Mat]],0)","v":0},{"$f":"IFERROR(VLOOKUP(Table_NFI[[#This Row],[Camp Name]],CL,2,0),\"\")","v":""},{"$f":"IFERROR(VLOOKUP(Table_NFI[[#This Row],[Camp Name]],CL,3,0),\"\")","v":""}]
[{"$f":"IF(ISBLANK(B25),\"\",(Report_Date-B25)/30)","v":17.3},"2012-06-30","UNHCR",null,"Rakhine","Sittwe","Nyar Ni Kar Ya Ma",null,null,null,null,36,null,null,null,null,null,{"$f":"IF(NFI_Expiration=1,IF($A25<VLOOKUP(H$5,NFI,5,0),1,0)*Table_NFI[[#This Row],[Hygiene Kit]],0)","v":0},{"$f":"IF(NFI_Expiration=1,IF($A25<VLOOKUP(I$5,NFI,5,0),1,0)*Table_NFI[[#This Row],[NFI Core Kit]],0)","v":0},{"$f":"IF(NFI_Expiration=1,IF($A25<VLOOKUP(J$5,NFI,5,0),1,0)*Table_NFI[[#This Row],[Sanitary Kit]],0)","v":0},{"$f":"IF(NFI_Expiration=1,IF($A25<VLOOKUP(K$5,NFI,5,0),1,0)*Table_NFI[[#This Row],[Mosquito net]],0)","v":0},{"$f":"IF(NFI_Expiration=1,IF($A25<VLOOKUP(L$5,NFI,5,0),1,0)*Table_NFI[[#This Row],[Tarpaulin]],0)","v":0},{"$f":"IF(NFI_Expiration=1,IF($A25<VLOOKUP(M$5,NFI,5,0),1,0)*Table_NFI[[#This Row],[Blanket]],0)","v":0},{"$f":"IF(NFI_Expiration=1,IF($A25<VLOOKUP(N$5,NFI,5,0),1,0)*Table_NFI[[#This Row],[Kitchen Set]],0)","v":0},{"$f":"IF(NFI_Expiration=1,IF($A25<VLOOKUP(O$5,NFI,5,0),1,0)*Table_NFI[[#This Row],[Complementary Kit]],0)","v":0},{"$f":"IF(NFI_Expiration=1,IF($A25<VLOOKUP(P$5,NFI,5,0),1,0)*Table_NFI[[#This Row],[Plastic Bucket]],0)","v":0},{"$f":"IF(NFI_Expiration=1,IF($A25<VLOOKUP(Q$5,NFI,5,0),1,0)*Table_NFI[[#This Row],[Plastic Mat]],0)","v":0},{"$f":"IFERROR(VLOOKUP(Table_NFI[[#This Row],[Camp Name]],CL,2,0),\"\")","v":""},{"$f":"IFERROR(VLOOKUP(Table_NFI[[#This Row],[Camp Name]],CL,3,0),\"\")","v":""}]
[17.133333333333333,"2012-07-05","UNHCR",null,"Rakhine","Sittwe","Ar Thaw Ka Yone Monastery",null,null,null,null,43,null,null,null,null,null,{"$f":"IF(NFI_Expiration=1,IF($A26<VLOOKUP(H$5,NFI,5,0),1,0)*Table_NFI[[#This Row],[Hygiene Kit]],0)","v":0},{"$f":"IF(NFI_Expiration=1,IF($A26<VLOOKUP(I$5,NFI,5,0),1,0)*Table_NFI[[#This Row],[NFI Core Kit]],0)","v":0},{"$f":"IF(NFI_Expiration=1,IF($A26<VLOOKUP(J$5,NFI,5,0),1,0)*Table_NFI[[#This Row],[Sanitary Kit]],0)","v":0},{"$f":"IF(NFI_Expiration=1,IF($A26<VLOOKUP(K$5,NFI,5,0),1,0)*Table_NFI[[#This Row],[Mosquito net]],0)","v":0},{"$f":"IF(NFI_Expiration=1,IF($A26<VLOOKUP(L$5,NFI,5,0),1,0)*Table_NFI[[#This Row],[Tarpaulin]],0)","v":0},{"$f":"IF(NFI_Expiration=1,IF($A26<VLOOKUP(M$5,NFI,5,0),1,0)*Table_NFI[[#This Row],[Blanket]],0)","v":0},{"$f":"IF(NFI_Expiration=1,IF($A26<VLOOKUP(N$5,NFI,5,0),1,0)*Table_NFI[[#This Row],[Kitchen Set]],0)","v":0},{"$f":"IF(NFI_Expiration=1,IF($A26<VLOOKUP(O$5,NFI,5,0),1,0)*Table_NFI[[#This Row],[Complementary Kit]],0)","v":0},{"$f":"IF(NFI_Expiration=1,IF($A26<VLOOKUP(P$5,NFI,5,0),1,0)*Table_NFI[[#This Row],[Plastic Bucket]],0)","v":0},{"$f":"IF(NFI_Expiration=1,IF($A26<VLOOKUP(Q$5,NFI,5,0),1,0)*Table_NFI[[#This Row],[Plastic Mat]],0)","v":0},{"$f":"IFERROR(VLOOKUP(Table_NFI[[#This Row],[Camp Name]],CL,2,0),\"\")","v":"MMR012CMP069"},{"$f":"IFERROR(VLOOKUP(Table_NFI[[#This Row],[Camp Name]],CL,3,0),\"\")","v":"Close"}]
[17.133333333333333,"2012-07-05","UNHCR",null,"Rakhine","Sittwe","Gyit Bak Monastery",null,null,null,null,36,null,null,null,null,null,{"$f":"IF(NFI_Expiration=1,IF($A27<VLOOKUP(H$5,NFI,5,0),1,0)*Table_NFI[[#This Row],[Hygiene Kit]],0)","v":0},{"$f":"IF(NFI_Expiration=1,IF($A27<VLOOKUP(I$5,NFI,5,0),1,0)*Table_NFI[[#This Row],[NFI Core Kit]],0)","v":0},{"$f":"IF(NFI_Expiration=1,IF($A27<VLOOKUP(J$5,NFI,5,0),1,0)*Table_NFI[[#This Row],[Sanitary Kit]],0)","v":0},{"$f":"IF(NFI_Expiration=1,IF($A27<VLOOKUP(K$5,NFI,5,0),1,0)*Table_NFI[[#This Row],[Mosquito net]],0)","v":0},{"$f":"IF(NFI_Expiration=1,IF($A27<VLOOKUP(L$5,NFI,5,0),1,0)*Table_NFI[[#This Row],[Tarpaulin]],0)","v":0},{"$f":"IF(NFI_Expiration=1,IF($A27<VLOOKUP(M$5,NFI,5,0),1,0)*Table_NFI[[#This Row],[Blanket]],0)","v":0},{"$f":"IF(NFI_Expiration=1,IF($A27<VLOOKUP(N$5,NFI,5,0),1,0)*Table_NFI[[#This Row],[Kitchen Set]],0)","v":0},{"$f":"IF(NFI_Expiration=1,IF($A27<VLOOKUP(O$5,NFI,5,0),1,0)*Table_NFI[[#This Row],[Complementary Kit]],0)","v":0},{"$f":"IF(NFI_Expiration=1,IF($A27<VLOOKUP(P$5,NFI,5,0),1,0)*Table_NFI[[#This Row],[Plastic Bucket]],0)","v":0},{"$f":"IF(NFI_Expiration=1,IF($A27<VLOOKUP(Q$5,NFI,5,0),1,0)*Table_NFI[[#This Row],[Plastic Mat]],0)","v":0},{"$f":"IFERROR(VLOOKUP(Table_NFI[[#This Row],[Camp Name]],CL,2,0),\"\")","v":"MMR012CMP073"},{"$f":"IFERROR(VLOOKUP(Table_NFI[[#This Row],[Camp Name]],CL,3,0),\"\")","v":"Close"}]
[17.133333333333333,"2012-07-05","UNHCR",null,"Rakhine","Sittwe","Gyit Chay Monastery",null,null,null,null,69,null,null,null,null,null,{"$f":"IF(NFI_Expiration=1,IF($A28<VLOOKUP(H$5,NFI,5,0),1,0)*Table_NFI[[#This Row],[Hygiene Kit]],0)","v":0},{"$f":"IF(NFI_Expiration=1,IF($A28<VLOOKUP(I$5,NFI,5,0),1,0)*Table_NFI[[#This Row],[NFI Core Kit]],0)","v":0},{"$f":"IF(NFI_Expiration=1,IF($A28<VLOOKUP(J$5,NFI,5,0),1,0)*Table_NFI[[#This Row],[Sanitary Kit]],0)","v":0},{"$f":"IF(NFI_Expiration=1,IF($A28<VLOOKUP(K$5,NFI,5,0),1,0)*Table_NFI[[#This Row],[Mosquito net]],0)","v":0},{"$f":"IF(NFI_Expiration=1,IF($A28<VLOOKUP(L$5,NFI,5,0),1,0)*Table_NFI[[#This Row],[Tarpaulin]],0)","v":0},{"$f":"IF(NFI_Expiration=1,IF($A28<VLOOKUP(M$5,NFI,5,0),1,0)*Table_NFI[[#This Row],[Blanket]],0)","v":0},{"$f":"IF(NFI_Expiration=1,IF($A28<VLOOKUP(N$5,NFI,5,0),1,0)*Table_NFI[[#This Row],[Kitchen Set]],0)","v":0},{"$f":"IF(NFI_Expiration=1,IF($A28<VLOOKUP(O$5,NFI,5,0),1,0)*Table_NFI[[#This Row],[Complementary Kit]],0)","v":0},{"$f":"IF(NFI_Expiration=1,IF($A28<VLOOKUP(P$5,NFI,5,0),1,0)*Table_NFI[[#This Row],[Plastic Bucket]],0)","v":0},{"$f":"IF(NFI_Expiration=1,IF($A28<VLOOKUP(Q$5,NFI,5,0),1,0)*Table_NFI[[#This Row],[Plastic Mat]],0)","v":0},{"$f":"IFERROR(VLOOKUP(Table_NFI[[#This Row],[Camp Name]],CL,2,0),\"\")","v":"MMR012CMP061"},{"$f":"IFERROR(VLOOKUP(Table_NFI[[#This Row],[Camp Name]],CL,3,0),\"\")","v":"Close"}]
[17.133333333333333,"2012-07-05","UNHCR",null,"Rakhine","Sittwe","Su Taung Pyae Monastery",null,null,null,null,280,null,null,null,null,null,{"$f":"IF(NFI_Expiration=1,IF($A29<VLOOKUP(H$5,NFI,5,0),1,0)*Table_NFI[[#This Row],[Hygiene Kit]],0)","v":0},{"$f":"IF(NFI_Expiration=1,IF($A29<VLOOKUP(I$5,NFI,5,0),1,0)*Table_NFI[[#This Row],[NFI Core Kit]],0)","v":0},{"$f":"IF(NFI_Expiration=1,IF($A29<VLOOKUP(J$5,NFI,5,0),1,0)*Table_NFI[[#This Row],[Sanitary Kit]],0)","v":0},{"$f":"IF(NFI_Expiration=1,IF($A29<VLOOKUP(K$5,NFI,5,0),1,0)*Table_NFI[[#This Row],[Mosquito net]],0)","v":0},{"$f":"IF(NFI_Expiration=1,IF($A29<VLOOKUP(L$5,NFI,5,0),1,0)*Table_NFI[[#This Row],[Tarpaulin]],0)","v":0},{"$f":"IF(NFI_Expiration=1,IF($A29<VLOOKUP(M$5,NFI,5,0),1,0)*Table_NFI[[#This Row],[Blanket]],0)","v":0},{"$f":"IF(NFI_Expiration=1,IF($A29<VLOOKUP(N$5,NFI,5,0),1,0)*Table_NFI[[#This Row],[Kitchen Set]],0)","v":0},{"$f":"IF(NFI_Expiration=1,IF($A29<VLOOKUP(O$5,NFI,5,0),1,0)*Table_NFI[[#This Row],[Complementary Kit]],0)","v":0},{"$f":"IF(NFI_Expiration=1,IF($A29<VLOOKUP(P$5,NFI,5,0),1,0)*Table_NFI[[#This Row],[Plastic Bucket]],0)","v":0},{"$f":"IF(NFI_Expiration=1,IF($A29<VLOOKUP(Q$5,NFI,5,0),1,0)*Table_NFI[[#This Row],[Plastic Mat]],0)","v":0},{"$f":"IFERROR(VLOOKUP(Table_NFI[[#This Row],[Camp Name]],CL,2,0),\"\")","v":"MMR012CMP066"},{"$f":"IFERROR(VLOOKUP(Table_NFI[[#This Row],[Camp Name]],CL,3,0),\"\")","v":"Close"}]
[17.133333333333333,"2012-07-05","UNHCR",null,"Rakhine","Sittwe","Boke Daw Maw",null,null,null,null,171,null,null,null,null,null,{"$f":"IF(NFI_Expiration=1,IF($A30<VLOOKUP(H$5,NFI,5,0),1,0)*Table_NFI[[#This Row],[Hygiene Kit]],0)","v":0},{"$f":"IF(NFI_Expiration=1,IF($A30<VLOOKUP(I$5,NFI,5,0),1,0)*Table_NFI[[#This Row],[NFI Core Kit]],0)","v":0},{"$f":"IF(NFI_Expiration=1,IF($A30<VLOOKUP(J$5,NFI,5,0),1,0)*Table_NFI[[#This Row],[Sanitary Kit]],0)","v":0},{"$f":"IF(NFI_Expiration=1,IF($A30<VLOOKUP(K$5,NFI,5,0),1,0)*Table_NFI[[#This Row],[Mosquito net]],0)","v":0},{"$f":"IF(NFI_Expiration=1,IF($A30<VLOOKUP(L$5,NFI,5,0),1,0)*Table_NFI[[#This Row],[Tarpaulin]],0)","v":0},{"$f":"IF(NFI_Expiration=1,IF($A30<VLOOKUP(M$5,NFI,5,0),1,0)*Table_NFI[[#This Row],[Blanket]],0)","v":0},{"$f":"IF(NFI_Expiration=1,IF($A30<VLOOKUP(N$5,NFI,5,0),1,0)*Table_NFI[[#This Row],[Kitchen Set]],0)","v":0},{"$f":"IF(NFI_Expiration=1,IF($A30<VLOOKUP(O$5,NFI,5,0),1,0)*Table_NFI[[#This Row],[Complementary Kit]],0)","v":0},{"$f":"IF(NFI_Expiration=1,IF($A30<VLOOKUP(P$5,NFI,5,0),1,0)*Table_NFI[[#This Row],[Plastic Bucket]],0)","v":0},{"$f":"IF(NFI_Expiration=1,IF($A30<VLOOKUP(Q$5,NFI,5,0),1,0)*Table_NFI[[#This Row],[Plastic Mat]],0)","v":0},{"$f":"IFERROR(VLOOKUP(Table_NFI[[#This Row],[Camp Name]],CL,2,0),\"\")","v":""},{"$f":"IFERROR(VLOOKUP(Table_NFI[[#This Row],[Camp Name]],CL,3,0),\"\")","v":""}]
[17.133333333333333,"2012-07-05","UNHCR",null,"Rakhine","Sittwe","Khaung Doke Khar ",null,null,null,null,132,null,null,null,null,null,{"$f":"IF(NFI_Expiration=1,IF($A31<VLOOKUP(H$5,NFI,5,0),1,0)*Table_NFI[[#This Row],[Hygiene Kit]],0)","v":0},{"$f":"IF(NFI_Expiration=1,IF($A31<VLOOKUP(I$5,NFI,5,0),1,0)*Table_NFI[[#This Row],[NFI Core Kit]],0)","v":0},{"$f":"IF(NFI_Expiration=1,IF($A31<VLOOKUP(J$5,NFI,5,0),1,0)*Table_NFI[[#This Row],[Sanitary Kit]],0)","v":0},{"$f":"IF(NFI_Expiration=1,IF($A31<VLOOKUP(K$5,NFI,5,0),1,0)*Table_NFI[[#This Row],[Mosquito net]],0)","v":0},{"$f":"IF(NFI_Expiration=1,IF($A31<VLOOKUP(L$5,NFI,5,0),1,0)*Table_NFI[[#This Row],[Tarpaulin]],0)","v":0},{"$f":"IF(NFI_Expiration=1,IF($A31<VLOOKUP(M$5,NFI,5,0),1,0)*Table_NFI[[#This Row],[Blanket]],0)","v":0},{"$f":"IF(NFI_Expiration=1,IF($A31<VLOOKUP(N$5,NFI,5,0),1,0)*Table_NFI[[#This Row],[Kitchen Set]],0)","v":0},{"$f":"IF(NFI_Expiration=1,IF($A31<VLOOKUP(O$5,NFI,5,0),1,0)*Table_NFI[[#This Row],[Complementary Kit]],0)","v":0},{"$f":"IF(NFI_Expiration=1,IF($A31<VLOOKUP(P$5,NFI,5,0),1,0)*Table_NFI[[#This Row],[Plastic Bucket]],0)","v":0},{"$f":"IF(NFI_Expiration=1,IF($A31<VLOOKUP(Q$5,NFI,5,0),1,0)*Table_NFI[[#This Row],[Plastic Mat]],0)","v":0},{"$f":"IFERROR(VLOOKUP(Table_NFI[[#This Row],[Camp Name]],CL,2,0),\"\")","v":"MMR012CMP042"},{"$f":"IFERROR(VLOOKUP(Table_NFI[[#This Row],[Camp Name]],CL,3,0),\"\")","v":"Open"}]
[17.133333333333333,"2012-07-05","UNHCR",null,"Rakhine","Sittwe","Dar Pai",null,null,null,null,18,null,null,null,null,null,{"$f":"IF(NFI_Expiration=1,IF($A32<VLOOKUP(H$5,NFI,5,0),1,0)*Table_NFI[[#This Row],[Hygiene Kit]],0)","v":0},{"$f":"IF(NFI_Expiration=1,IF($A32<VLOOKUP(I$5,NFI,5,0),1,0)*Table_NFI[[#This Row],[NFI Core Kit]],0)","v":0},{"$f":"IF(NFI_Expiration=1,IF($A32<VLOOKUP(J$5,NFI,5,0),1,0)*Table_NFI[[#This Row],[Sanitary Kit]],0)","v":0},{"$f":"IF(NFI_Expiration=1,IF($A32<VLOOKUP(K$5,NFI,5,0),1,0)*Table_NFI[[#This Row],[Mosquito net]],0)","v":0},{"$f":"IF(NFI_Expiration=1,IF($A32<VLOOKUP(L$5,NFI,5,0),1,0)*Table_NFI[[#This Row],[Tarpaulin]],0)","v":0},{"$f":"IF(NFI_Expiration=1,IF($A32<VLOOKUP(M$5,NFI,5,0),1,0)*Table_NFI[[#This Row],[Blanket]],0)","v":0},{"$f":"IF(NFI_Expiration=1,IF($A32<VLOOKUP(N$5,NFI,5,0),1,0)*Table_NFI[[#This Row],[Kitchen Set]],0)","v":0},{"$f":"IF(NFI_Expiration=1,IF($A32<VLOOKUP(O$5,NFI,5,0),1,0)*Table_NFI[[#This Row],[Complementary Kit]],0)","v":0},{"$f":"IF(NFI_Expiration=1,IF($A32<VLOOKUP(P$5,NFI,5,0),1,0)*Table_NFI[[#This Row],[Plastic Bucket]],0)","v":0},{"$f":"IF(NFI_Expiration=1,IF($A32<VLOOKUP(Q$5,NFI,5,0),1,0)*Table_NFI[[#This Row],[Plastic Mat]],0)","v":0},{"$f":"IFERROR(VLOOKUP(Table_NFI[[#This Row],[Camp Name]],CL,2,0),\"\")","v":"MMR012CMP041"},{"$f":"IFERROR(VLOOKUP(Table_NFI[[#This Row],[Camp Name]],CL,3,0),\"\")","v":"Open"}]
[17.066666666666666,"2012-07-07","UNHCR",null,"Rakhine","Sittwe","Shwe Zay Ti Monastery",null,null,null,null,201,null,null,null,null,null,{"$f":"IF(NFI_Expiration=1,IF($A33<VLOOKUP(H$5,NFI,5,0),1,0)*Table_NFI[[#This Row],[Hygiene Kit]],0)","v":0},{"$f":"IF(NFI_Expiration=1,IF($A33<VLOOKUP(I$5,NFI,5,0),1,0)*Table_NFI[[#This Row],[NFI Core Kit]],0)","v":0},{"$f":"IF(NFI_Expiration=1,IF($A33<VLOOKUP(J$5,NFI,5,0),1,0)*Table_NFI[[#This Row],[Sanitary Kit]],0)","v":0},{"$f":"IF(NFI_Expiration=1,IF($A33<VLOOKUP(K$5,NFI,5,0),1,0)*Table_NFI[[#This Row],[Mosquito net]],0)","v":0},{"$f":"IF(NFI_Expiration=1,IF($A33<VLOOKUP(L$5,NFI,5,0),1,0)*Table_NFI[[#This Row],[Tarpaulin]],0)","v":0},{"$f":"IF(NFI_Expiration=1,IF($A33<VLOOKUP(M$5,NFI,5,0),1,0)*Table_NFI[[#This Row],[Blanket]],0)","v":0},{"$f":"IF(NFI_Expiration=1,IF($A33<VLOOKUP(N$5,NFI,5,0),1,0)*Table_NFI[[#This Row],[Kitchen Set]],0)","v":0},{"$f":"IF(NFI_Expiration=1,IF($A33<VLOOKUP(O$5,NFI,5,0),1,0)*Table_NFI[[#This Row],[Complementary Kit]],0)","v":0},{"$f":"IF(NFI_Expiration=1,IF($A33<VLOOKUP(P$5,NFI,5,0),1,0)*Table_NFI[[#This Row],[Plastic Bucket]],0)","v":0},{"$f":"IF(NFI_Expiration=1,IF($A33<VLOOKUP(Q$5,NFI,5,0),1,0)*Table_NFI[[#This Row],[Plastic Mat]],0)","v":0},{"$f":"IFERROR(VLOOKUP(Table_NFI[[#This Row],[Camp Name]],CL,2,0),\"\")","v":"MMR012CMP065"},{"$f":"IFERROR(VLOOKUP(Table_NFI[[#This Row],[Camp Name]],CL,3,0),\"\")","v":"Close"}]
[17.066666666666666,"2012-07-07","UNHCR",null,"Rakhine","Sittwe","Kyar Yoke",null,null,null,null,33,null,null,null,null,null,{"$f":"IF(NFI_Expiration=1,IF($A34<VLOOKUP(H$5,NFI,5,0),1,0)*Table_NFI[[#This Row],[Hygiene Kit]],0)","v":0},{"$f":"IF(NFI_Expiration=1,IF($A34<VLOOKUP(I$5,NFI,5,0),1,0)*Table_NFI[[#This Row],[NFI Core Kit]],0)","v":0},{"$f":"IF(NFI_Expiration=1,IF($A34<VLOOKUP(J$5,NFI,5,0),1,0)*Table_NFI[[#This Row],[Sanitary Kit]],0)","v":0},{"$f":"IF(NFI_Expiration=1,IF($A34<VLOOKUP(K$5,NFI,5,0),1,0)*Table_NFI[[#This Row],[Mosquito net]],0)","v":0},{"$f":"IF(NFI_Expiration=1,IF($A34<VLOOKUP(L$5,NFI,5,0),1,0)*Table_NFI[[#This Row],[Tarpaulin]],0)","v":0},{"$f":"IF(NFI_Expiration=1,IF($A34<VLOOKUP(M$5,NFI,5,0),1,0)*Table_NFI[[#This Row],[Blanket]],0)","v":0},{"$f":"IF(NFI_Expiration=1,IF($A34<VLOOKUP(N$5,NFI,5,0),1,0)*Table_NFI[[#This Row],[Kitchen Set]],0)","v":0},{"$f":"IF(NFI_Expiration=1,IF($A34<VLOOKUP(O$5,NFI,5,0),1,0)*Table_NFI[[#This Row],[Complementary Kit]],0)","v":0},{"$f":"IF(NFI_Expiration=1,IF($A34<VLOOKUP(P$5,NFI,5,0),1,0)*Table_NFI[[#This Row],[Plastic Bucket]],0)","v":0},{"$f":"IF(NFI_Expiration=1,IF($A34<VLOOKUP(Q$5,NFI,5,0),1,0)*Table_NFI[[#This Row],[Plastic Mat]],0)","v":0},{"$f":"IFERROR(VLOOKUP(Table_NFI[[#This Row],[Camp Name]],CL,2,0),\"\")","v":""},{"$f":"IFERROR(VLOOKUP(Table_NFI[[#This Row],[Camp Name]],CL,3,0),\"\")","v":""}]
[17.066666666666666,"2012-07-07","UNHCR",null,"Rakhine","Sittwe","Ya Tayar Monastery",null,null,null,null,52,null,null,null,null,null,{"$f":"IF(NFI_Expiration=1,IF($A35<VLOOKUP(H$5,NFI,5,0),1,0)*Table_NFI[[#This Row],[Hygiene Kit]],0)","v":0},{"$f":"IF(NFI_Expiration=1,IF($A35<VLOOKUP(I$5,NFI,5,0),1,0)*Table_NFI[[#This Row],[NFI Core Kit]],0)","v":0},{"$f":"IF(NFI_Expiration=1,IF($A35<VLOOKUP(J$5,NFI,5,0),1,0)*Table_NFI[[#This Row],[Sanitary Kit]],0)","v":0},{"$f":"IF(NFI_Expiration=1,IF($A35<VLOOKUP(K$5,NFI,5,0),1,0)*Table_NFI[[#This Row],[Mosquito net]],0)","v":0},{"$f":"IF(NFI_Expiration=1,IF($A35<VLOOKUP(L$5,NFI,5,0),1,0)*Table_NFI[[#This Row],[Tarpaulin]],0)","v":0},{"$f":"IF(NFI_Expiration=1,IF($A35<VLOOKUP(M$5,NFI,5,0),1,0)*Table_NFI[[#This Row],[Blanket]],0)","v":0},{"$f":"IF(NFI_Expiration=1,IF($A35<VLOOKUP(N$5,NFI,5,0),1,0)*Table_NFI[[#This Row],[Kitchen Set]],0)","v":0},{"$f":"IF(NFI_Expiration=1,IF($A35<VLOOKUP(O$5,NFI,5,0),1,0)*Table_NFI[[#This Row],[Complementary Kit]],0)","v":0},{"$f":"IF(NFI_Expiration=1,IF($A35<VLOOKUP(P$5,NFI,5,0),1,0)*Table_NFI[[#This Row],[Plastic Bucket]],0)","v":0},{"$f":"IF(NFI_Expiration=1,IF($A35<VLOOKUP(Q$5,NFI,5,0),1,0)*Table_NFI[[#This Row],[Plastic Mat]],0)","v":0},{"$f":"IFERROR(VLOOKUP(Table_NFI[[#This Row],[Camp Name]],CL,2,0),\"\")","v":"MMR012CMP074"},{"$f":"IFERROR(VLOOKUP(Table_NFI[[#This Row],[Camp Name]],CL,3,0),\"\")","v":"Close"}]
[17.066666666666666,"2012-07-07","UNHCR",null,"Rakhine","Sittwe","Layaungwin Monastery",null,null,null,null,9,null,null,null,null,null,{"$f":"IF(NFI_Expiration=1,IF($A36<VLOOKUP(H$5,NFI,5,0),1,0)*Table_NFI[[#This Row],[Hygiene Kit]],0)","v":0},{"$f":"IF(NFI_Expiration=1,IF($A36<VLOOKUP(I$5,NFI,5,0),1,0)*Table_NFI[[#This Row],[NFI Core Kit]],0)","v":0},{"$f":"IF(NFI_Expiration=1,IF($A36<VLOOKUP(J$5,NFI,5,0),1,0)*Table_NFI[[#This Row],[Sanitary Kit]],0)","v":0},{"$f":"IF(NFI_Expiration=1,IF($A36<VLOOKUP(K$5,NFI,5,0),1,0)*Table_NFI[[#This Row],[Mosquito net]],0)","v":0},{"$f":"IF(NFI_Expiration=1,IF($A36<VLOOKUP(L$5,NFI,5,0),1,0)*Table_NFI[[#This Row],[Tarpaulin]],0)","v":0},{"$f":"IF(NFI_Expiration=1,IF($A36<VLOOKUP(M$5,NFI,5,0),1,0)*Table_NFI[[#This Row],[Blanket]],0)","v":0},{"$f":"IF(NFI_Expiration=1,IF($A36<VLOOKUP(N$5,NFI,5,0),1,0)*Table_NFI[[#This Row],[Kitchen Set]],0)","v":0},{"$f":"IF(NFI_Expiration=1,IF($A36<VLOOKUP(O$5,NFI,5,0),1,0)*Table_NFI[[#This Row],[Complementary Kit]],0)","v":0},{"$f":"IF(NFI_Expiration=1,IF($A36<VLOOKUP(P$5,NFI,5,0),1,0)*Table_NFI[[#This Row],[Plastic Bucket]],0)","v":0},{"$f":"IF(NFI_Expiration=1,IF($A36<VLOOKUP(Q$5,NFI,5,0),1,0)*Table_NFI[[#This Row],[Plastic Mat]],0)","v":0},{"$f":"IFERROR(VLOOKUP(Table_NFI[[#This Row],[Camp Name]],CL,2,0),\"\")","v":"MMR012CMP062"},{"$f":"IFERROR(VLOOKUP(Table_NFI[[#This Row],[Camp Name]],CL,3,0),\"\")","v":"Close"}]
[17,"2012-07-09","UNHCR",null,"Rakhine","Sittwe","Theit Di Kar Yone Monastery",null,null,null,null,27,null,null,null,null,null,{"$f":"IF(NFI_Expiration=1,IF($A37<VLOOKUP(H$5,NFI,5,0),1,0)*Table_NFI[[#This Row],[Hygiene Kit]],0)","v":0},{"$f":"IF(NFI_Expiration=1,IF($A37<VLOOKUP(I$5,NFI,5,0),1,0)*Table_NFI[[#This Row],[NFI Core Kit]],0)","v":0},{"$f":"IF(NFI_Expiration=1,IF($A37<VLOOKUP(J$5,NFI,5,0),1,0)*Table_NFI[[#This Row],[Sanitary Kit]],0)","v":0},{"$f":"IF(NFI_Expiration=1,IF($A37<VLOOKUP(K$5,NFI,5,0),1,0)*Table_NFI[[#This Row],[Mosquito net]],0)","v":0},{"$f":"IF(NFI_Expiration=1,IF($A37<VLOOKUP(L$5,NFI,5,0),1,0)*Table_NFI[[#This Row],[Tarpaulin]],0)","v":0},{"$f":"IF(NFI_Expiration=1,IF($A37<VLOOKUP(M$5,NFI,5,0),1,0)*Table_NFI[[#This Row],[Blanket]],0)","v":0},{"$f":"IF(NFI_Expiration=1,IF($A37<VLOOKUP(N$5,NFI,5,0),1,0)*Table_NFI[[#This Row],[Kitchen Set]],0)","v":0},{"$f":"IF(NFI_Expiration=1,IF($A37<VLOOKUP(O$5,NFI,5,0),1,0)*Table_NFI[[#This Row],[Complementary Kit]],0)","v":0},{"$f":"IF(NFI_Expiration=1,IF($A37<VLOOKUP(P$5,NFI,5,0),1,0)*Table_NFI[[#This Row],[Plastic Bucket]],0)","v":0},{"$f":"IF(NFI_Expiration=1,IF($A37<VLOOKUP(Q$5,NFI,5,0),1,0)*Table_NFI[[#This Row],[Plastic Mat]],0)","v":0},{"$f":"IFERROR(VLOOKUP(Table_NFI[[#This Row],[Camp Name]],CL,2,0),\"\")","v":"MMR012CMP067"},{"$f":"IFERROR(VLOOKUP(Table_NFI[[#This Row],[Camp Name]],CL,3,0),\"\")","v":"Close"}]
[17,"2012-07-09","UNHCR",null,"Rakhine","Sittwe","Dama Yar Ma",null,null,null,null,10,null,null,null,null,null,{"$f":"IF(NFI_Expiration=1,IF($A38<VLOOKUP(H$5,NFI,5,0),1,0)*Table_NFI[[#This Row],[Hygiene Kit]],0)","v":0},{"$f":"IF(NFI_Expiration=1,IF($A38<VLOOKUP(I$5,NFI,5,0),1,0)*Table_NFI[[#This Row],[NFI Core Kit]],0)","v":0},{"$f":"IF(NFI_Expiration=1,IF($A38<VLOOKUP(J$5,NFI,5,0),1,0)*Table_NFI[[#This Row],[Sanitary Kit]],0)","v":0},{"$f":"IF(NFI_Expiration=1,IF($A38<VLOOKUP(K$5,NFI,5,0),1,0)*Table_NFI[[#This Row],[Mosquito net]],0)","v":0},{"$f":"IF(NFI_Expiration=1,IF($A38<VLOOKUP(L$5,NFI,5,0),1,0)*Table_NFI[[#This Row],[Tarpaulin]],0)","v":0},{"$f":"IF(NFI_Expiration=1,IF($A38<VLOOKUP(M$5,NFI,5,0),1,0)*Table_NFI[[#This Row],[Blanket]],0)","v":0},{"$f":"IF(NFI_Expiration=1,IF($A38<VLOOKUP(N$5,NFI,5,0),1,0)*Table_NFI[[#This Row],[Kitchen Set]],0)","v":0},{"$f":"IF(NFI_Expiration=1,IF($A38<VLOOKUP(O$5,NFI,5,0),1,0)*Table_NFI[[#This Row],[Complementary Kit]],0)","v":0},{"$f":"IF(NFI_Expiration=1,IF($A38<VLOOKUP(P$5,NFI,5,0),1,0)*Table_NFI[[#This Row],[Plastic Bucket]],0)","v":0},{"$f":"IF(NFI_Expiration=1,IF($A38<VLOOKUP(Q$5,NFI,5,0),1,0)*Table_NFI[[#This Row],[Plastic Mat]],0)","v":0},{"$f":"IFERROR(VLOOKUP(Table_NFI[[#This Row],[Camp Name]],CL,2,0),\"\")","v":""},{"$f":"IFERROR(VLOOKUP(Table_NFI[[#This Row],[Camp Name]],CL,3,0),\"\")","v":""}]
[17,"2012-07-09","UNHCR",null,"Rakhine","Sittwe","KyaungGyiLan",null,null,null,null,23,null,null,null,null,null,{"$f":"IF(NFI_Expiration=1,IF($A39<VLOOKUP(H$5,NFI,5,0),1,0)*Table_NFI[[#This Row],[Hygiene Kit]],0)","v":0},{"$f":"IF(NFI_Expiration=1,IF($A39<VLOOKUP(I$5,NFI,5,0),1,0)*Table_NFI[[#This Row],[NFI Core Kit]],0)","v":0},{"$f":"IF(NFI_Expiration=1,IF($A39<VLOOKUP(J$5,NFI,5,0),1,0)*Table_NFI[[#This Row],[Sanitary Kit]],0)","v":0},{"$f":"IF(NFI_Expiration=1,IF($A39<VLOOKUP(K$5,NFI,5,0),1,0)*Table_NFI[[#This Row],[Mosquito net]],0)","v":0},{"$f":"IF(NFI_Expiration=1,IF($A39<VLOOKUP(L$5,NFI,5,0),1,0)*Table_NFI[[#This Row],[Tarpaulin]],0)","v":0},{"$f":"IF(NFI_Expiration=1,IF($A39<VLOOKUP(M$5,NFI,5,0),1,0)*Table_NFI[[#This Row],[Blanket]],0)","v":0},{"$f":"IF(NFI_Expiration=1,IF($A39<VLOOKUP(N$5,NFI,5,0),1,0)*Table_NFI[[#This Row],[Kitchen Set]],0)","v":0},{"$f":"IF(NFI_Expiration=1,IF($A39<VLOOKUP(O$5,NFI,5,0),1,0)*Table_NFI[[#This Row],[Complementary Kit]],0)","v":0},{"$f":"IF(NFI_Expiration=1,IF($A39<VLOOKUP(P$5,NFI,5,0),1,0)*Table_NFI[[#This Row],[Plastic Bucket]],0)","v":0},{"$f":"IF(NFI_Expiration=1,IF($A39<VLOOKUP(Q$5,NFI,5,0),1,0)*Table_NFI[[#This Row],[Plastic Mat]],0)","v":0},{"$f":"IFERROR(VLOOKUP(Table_NFI[[#This Row],[Camp Name]],CL,2,0),\"\")","v":""},{"$f":"IFERROR(VLOOKUP(Table_NFI[[#This Row],[Camp Name]],CL,3,0),\"\")","v":""}]
[{"$f":"IF(ISBLANK(B40),\"\",(Report_Date-B40)/30)","v":17},"2012-07-09","UNHCR",null,"Rakhine","Sittwe","MaYarMaGyi-old",null,null,null,null,36,null,null,null,null,null,{"$f":"IF(NFI_Expiration=1,IF($A40<VLOOKUP(H$5,NFI,5,0),1,0)*Table_NFI[[#This Row],[Hygiene Kit]],0)","v":0},{"$f":"IF(NFI_Expiration=1,IF($A40<VLOOKUP(I$5,NFI,5,0),1,0)*Table_NFI[[#This Row],[NFI Core Kit]],0)","v":0},{"$f":"IF(NFI_Expiration=1,IF($A40<VLOOKUP(J$5,NFI,5,0),1,0)*Table_NFI[[#This Row],[Sanitary Kit]],0)","v":0},{"$f":"IF(NFI_Expiration=1,IF($A40<VLOOKUP(K$5,NFI,5,0),1,0)*Table_NFI[[#This Row],[Mosquito net]],0)","v":0},{"$f":"IF(NFI_Expiration=1,IF($A40<VLOOKUP(L$5,NFI,5,0),1,0)*Table_NFI[[#This Row],[Tarpaulin]],0)","v":0},{"$f":"IF(NFI_Expiration=1,IF($A40<VLOOKUP(M$5,NFI,5,0),1,0)*Table_NFI[[#This Row],[Blanket]],0)","v":0},{"$f":"IF(NFI_Expiration=1,IF($A40<VLOOKUP(N$5,NFI,5,0),1,0)*Table_NFI[[#This Row],[Kitchen Set]],0)","v":0},{"$f":"IF(NFI_Expiration=1,IF($A40<VLOOKUP(O$5,NFI,5,0),1,0)*Table_NFI[[#This Row],[Complementary Kit]],0)","v":0},{"$f":"IF(NFI_Expiration=1,IF($A40<VLOOKUP(P$5,NFI,5,0),1,0)*Table_NFI[[#This Row],[Plastic Bucket]],0)","v":0},{"$f":"IF(NFI_Expiration=1,IF($A40<VLOOKUP(Q$5,NFI,5,0),1,0)*Table_NFI[[#This Row],[Plastic Mat]],0)","v":0},{"$f":"IFERROR(VLOOKUP(Table_NFI[[#This Row],[Camp Name]],CL,2,0),\"\")","v":""},{"$f":"IFERROR(VLOOKUP(Table_NFI[[#This Row],[Camp Name]],CL,3,0),\"\")","v":""}]
[{"$f":"IF(ISBLANK(B41),\"\",(Report_Date-B41)/30)","v":17},"2012-07-09","UNHCR",null,"Rakhine","Sittwe","PyinNyarLinkarya",null,null,null,null,33,null,null,null,null,null,{"$f":"IF(NFI_Expiration=1,IF($A41<VLOOKUP(H$5,NFI,5,0),1,0)*Table_NFI[[#This Row],[Hygiene Kit]],0)","v":0},{"$f":"IF(NFI_Expiration=1,IF($A41<VLOOKUP(I$5,NFI,5,0),1,0)*Table_NFI[[#This Row],[NFI Core Kit]],0)","v":0},{"$f":"IF(NFI_Expiration=1,IF($A41<VLOOKUP(J$5,NFI,5,0),1,0)*Table_NFI[[#This Row],[Sanitary Kit]],0)","v":0},{"$f":"IF(NFI_Expiration=1,IF($A41<VLOOKUP(K$5,NFI,5,0),1,0)*Table_NFI[[#This Row],[Mosquito net]],0)","v":0},{"$f":"IF(NFI_Expiration=1,IF($A41<VLOOKUP(L$5,NFI,5,0),1,0)*Table_NFI[[#This Row],[Tarpaulin]],0)","v":0},{"$f":"IF(NFI_Expiration=1,IF($A41<VLOOKUP(M$5,NFI,5,0),1,0)*Table_NFI[[#This Row],[Blanket]],0)","v":0},{"$f":"IF(NFI_Expiration=1,IF($A41<VLOOKUP(N$5,NFI,5,0),1,0)*Table_NFI[[#This Row],[Kitchen Set]],0)","v":0},{"$f":"IF(NFI_Expiration=1,IF($A41<VLOOKUP(O$5,NFI,5,0),1,0)*Table_NFI[[#This Row],[Complementary Kit]],0)","v":0},{"$f":"IF(NFI_Expiration=1,IF($A41<VLOOKUP(P$5,NFI,5,0),1,0)*Table_NFI[[#This Row],[Plastic Bucket]],0)","v":0},{"$f":"IF(NFI_Expiration=1,IF($A41<VLOOKUP(Q$5,NFI,5,0),1,0)*Table_NFI[[#This Row],[Plastic Mat]],0)","v":0},{"$f":"IFERROR(VLOOKUP(Table_NFI[[#This Row],[Camp Name]],CL,2,0),\"\")","v":""},{"$f":"IFERROR(VLOOKUP(Table_NFI[[#This Row],[Camp Name]],CL,3,0),\"\")","v":""}]
[{"$f":"IF(ISBLANK(B42),\"\",(Report_Date-B42)/30)","v":17},"2012-07-09","UNHCR",null,"Rakhine","Sittwe","Kha Maung Taw",null,null,null,null,12,null,null,null,null,null,{"$f":"IF(NFI_Expiration=1,IF($A42<VLOOKUP(H$5,NFI,5,0),1,0)*Table_NFI[[#This Row],[Hygiene Kit]],0)","v":0},{"$f":"IF(NFI_Expiration=1,IF($A42<VLOOKUP(I$5,NFI,5,0),1,0)*Table_NFI[[#This Row],[NFI Core Kit]],0)","v":0},{"$f":"IF(NFI_Expiration=1,IF($A42<VLOOKUP(J$5,NFI,5,0),1,0)*Table_NFI[[#This Row],[Sanitary Kit]],0)","v":0},{"$f":"IF(NFI_Expiration=1,IF($A42<VLOOKUP(K$5,NFI,5,0),1,0)*Table_NFI[[#This Row],[Mosquito net]],0)","v":0},{"$f":"IF(NFI_Expiration=1,IF($A42<VLOOKUP(L$5,NFI,5,0),1,0)*Table_NFI[[#This Row],[Tarpaulin]],0)","v":0},{"$f":"IF(NFI_Expiration=1,IF($A42<VLOOKUP(M$5,NFI,5,0),1,0)*Table_NFI[[#This Row],[Blanket]],0)","v":0},{"$f":"IF(NFI_Expiration=1,IF($A42<VLOOKUP(N$5,NFI,5,0),1,0)*Table_NFI[[#This Row],[Kitchen Set]],0)","v":0},{"$f":"IF(NFI_Expiration=1,IF($A42<VLOOKUP(O$5,NFI,5,0),1,0)*Table_NFI[[#This Row],[Complementary Kit]],0)","v":0},{"$f":"IF(NFI_Expiration=1,IF($A42<VLOOKUP(P$5,NFI,5,0),1,0)*Table_NFI[[#This Row],[Plastic Bucket]],0)","v":0},{"$f":"IF(NFI_Expiration=1,IF($A42<VLOOKUP(Q$5,NFI,5,0),1,0)*Table_NFI[[#This Row],[Plastic Mat]],0)","v":0},{"$f":"IFERROR(VLOOKUP(Table_NFI[[#This Row],[Camp Name]],CL,2,0),\"\")","v":""},{"$f":"IFERROR(VLOOKUP(Table_NFI[[#This Row],[Camp Name]],CL,3,0),\"\")","v":""}]
[17,"2012-07-09","UNHCR",null,"Rakhine","Sittwe","Ka Yu Chaung",null,null,null,null,26,null,null,null,null,null,{"$f":"IF(NFI_Expiration=1,IF($A43<VLOOKUP(H$5,NFI,5,0),1,0)*Table_NFI[[#This Row],[Hygiene Kit]],0)","v":0},{"$f":"IF(NFI_Expiration=1,IF($A43<VLOOKUP(I$5,NFI,5,0),1,0)*Table_NFI[[#This Row],[NFI Core Kit]],0)","v":0},{"$f":"IF(NFI_Expiration=1,IF($A43<VLOOKUP(J$5,NFI,5,0),1,0)*Table_NFI[[#This Row],[Sanitary Kit]],0)","v":0},{"$f":"IF(NFI_Expiration=1,IF($A43<VLOOKUP(K$5,NFI,5,0),1,0)*Table_NFI[[#This Row],[Mosquito net]],0)","v":0},{"$f":"IF(NFI_Expiration=1,IF($A43<VLOOKUP(L$5,NFI,5,0),1,0)*Table_NFI[[#This Row],[Tarpaulin]],0)","v":0},{"$f":"IF(NFI_Expiration=1,IF($A43<VLOOKUP(M$5,NFI,5,0),1,0)*Table_NFI[[#This Row],[Blanket]],0)","v":0},{"$f":"IF(NFI_Expiration=1,IF($A43<VLOOKUP(N$5,NFI,5,0),1,0)*Table_NFI[[#This Row],[Kitchen Set]],0)","v":0},{"$f":"IF(NFI_Expiration=1,IF($A43<VLOOKUP(O$5,NFI,5,0),1,0)*Table_NFI[[#This Row],[Complementary Kit]],0)","v":0},{"$f":"IF(NFI_Expiration=1,IF($A43<VLOOKUP(P$5,NFI,5,0),1,0)*Table_NFI[[#This Row],[Plastic Bucket]],0)","v":0},{"$f":"IF(NFI_Expiration=1,IF($A43<VLOOKUP(Q$5,NFI,5,0),1,0)*Table_NFI[[#This Row],[Plastic Mat]],0)","v":0},{"$f":"IFERROR(VLOOKUP(Table_NFI[[#This Row],[Camp Name]],CL,2,0),\"\")","v":""},{"$f":"IFERROR(VLOOKUP(Table_NFI[[#This Row],[Camp Name]],CL,3,0),\"\")","v":""}]
[17,"2012-07-09","UNHCR",null,"Rakhine","Sittwe","Uwa Ya Ma",null,null,null,null,19,null,null,null,null,null,{"$f":"IF(NFI_Expiration=1,IF($A44<VLOOKUP(H$5,NFI,5,0),1,0)*Table_NFI[[#This Row],[Hygiene Kit]],0)","v":0},{"$f":"IF(NFI_Expiration=1,IF($A44<VLOOKUP(I$5,NFI,5,0),1,0)*Table_NFI[[#This Row],[NFI Core Kit]],0)","v":0},{"$f":"IF(NFI_Expiration=1,IF($A44<VLOOKUP(J$5,NFI,5,0),1,0)*Table_NFI[[#This Row],[Sanitary Kit]],0)","v":0},{"$f":"IF(NFI_Expiration=1,IF($A44<VLOOKUP(K$5,NFI,5,0),1,0)*Table_NFI[[#This Row],[Mosquito net]],0)","v":0},{"$f":"IF(NFI_Expiration=1,IF($A44<VLOOKUP(L$5,NFI,5,0),1,0)*Table_NFI[[#This Row],[Tarpaulin]],0)","v":0},{"$f":"IF(NFI_Expiration=1,IF($A44<VLOOKUP(M$5,NFI,5,0),1,0)*Table_NFI[[#This Row],[Blanket]],0)","v":0},{"$f":"IF(NFI_Expiration=1,IF($A44<VLOOKUP(N$5,NFI,5,0),1,0)*Table_NFI[[#This Row],[Kitchen Set]],0)","v":0},{"$f":"IF(NFI_Expiration=1,IF($A44<VLOOKUP(O$5,NFI,5,0),1,0)*Table_NFI[[#This Row],[Complementary Kit]],0)","v":0},{"$f":"IF(NFI_Expiration=1,IF($A44<VLOOKUP(P$5,NFI,5,0),1,0)*Table_NFI[[#This Row],[Plastic Bucket]],0)","v":0},{"$f":"IF(NFI_Expiration=1,IF($A44<VLOOKUP(Q$5,NFI,5,0),1,0)*Table_NFI[[#This Row],[Plastic Mat]],0)","v":0},{"$f":"IFERROR(VLOOKUP(Table_NFI[[#This Row],[Camp Name]],CL,2,0),\"\")","v":""},{"$f":"IFERROR(VLOOKUP(Table_NFI[[#This Row],[Camp Name]],CL,3,0),\"\")","v":""}]
[17,"2012-07-09","UNHCR",null,"Rakhine","Sittwe","Shwe Pyar",null,null,null,null,3,null,null,null,null,null,{"$f":"IF(NFI_Expiration=1,IF($A45<VLOOKUP(H$5,NFI,5,0),1,0)*Table_NFI[[#This Row],[Hygiene Kit]],0)","v":0},{"$f":"IF(NFI_Expiration=1,IF($A45<VLOOKUP(I$5,NFI,5,0),1,0)*Table_NFI[[#This Row],[NFI Core Kit]],0)","v":0},{"$f":"IF(NFI_Expiration=1,IF($A45<VLOOKUP(J$5,NFI,5,0),1,0)*Table_NFI[[#This Row],[Sanitary Kit]],0)","v":0},{"$f":"IF(NFI_Expiration=1,IF($A45<VLOOKUP(K$5,NFI,5,0),1,0)*Table_NFI[[#This Row],[Mosquito net]],0)","v":0},{"$f":"IF(NFI_Expiration=1,IF($A45<VLOOKUP(L$5,NFI,5,0),1,0)*Table_NFI[[#This Row],[Tarpaulin]],0)","v":0},{"$f":"IF(NFI_Expiration=1,IF($A45<VLOOKUP(M$5,NFI,5,0),1,0)*Table_NFI[[#This Row],[Blanket]],0)","v":0},{"$f":"IF(NFI_Expiration=1,IF($A45<VLOOKUP(N$5,NFI,5,0),1,0)*Table_NFI[[#This Row],[Kitchen Set]],0)","v":0},{"$f":"IF(NFI_Expiration=1,IF($A45<VLOOKUP(O$5,NFI,5,0),1,0)*Table_NFI[[#This Row],[Complementary Kit]],0)","v":0},{"$f":"IF(NFI_Expiration=1,IF($A45<VLOOKUP(P$5,NFI,5,0),1,0)*Table_NFI[[#This Row],[Plastic Bucket]],0)","v":0},{"$f":"IF(NFI_Expiration=1,IF($A45<VLOOKUP(Q$5,NFI,5,0),1,0)*Table_NFI[[#This Row],[Plastic Mat]],0)","v":0},{"$f":"IFERROR(VLOOKUP(Table_NFI[[#This Row],[Camp Name]],CL,2,0),\"\")","v":""},{"$f":"IFERROR(VLOOKUP(Table_NFI[[#This Row],[Camp Name]],CL,3,0),\"\")","v":""}]
[17,"2012-07-09","UNHCR",null,"Rakhine","Sittwe","Bamgalar A Wa Kune",null,null,null,null,5,null,null,null,null,null,{"$f":"IF(NFI_Expiration=1,IF($A46<VLOOKUP(H$5,NFI,5,0),1,0)*Table_NFI[[#This Row],[Hygiene Kit]],0)","v":0},{"$f":"IF(NFI_Expiration=1,IF($A46<VLOOKUP(I$5,NFI,5,0),1,0)*Table_NFI[[#This Row],[NFI Core Kit]],0)","v":0},{"$f":"IF(NFI_Expiration=1,IF($A46<VLOOKUP(J$5,NFI,5,0),1,0)*Table_NFI[[#This Row],[Sanitary Kit]],0)","v":0},{"$f":"IF(NFI_Expiration=1,IF($A46<VLOOKUP(K$5,NFI,5,0),1,0)*Table_NFI[[#This Row],[Mosquito net]],0)","v":0},{"$f":"IF(NFI_Expiration=1,IF($A46<VLOOKUP(L$5,NFI,5,0),1,0)*Table_NFI[[#This Row],[Tarpaulin]],0)","v":0},{"$f":"IF(NFI_Expiration=1,IF($A46<VLOOKUP(M$5,NFI,5,0),1,0)*Table_NFI[[#This Row],[Blanket]],0)","v":0},{"$f":"IF(NFI_Expiration=1,IF($A46<VLOOKUP(N$5,NFI,5,0),1,0)*Table_NFI[[#This Row],[Kitchen Set]],0)","v":0},{"$f":"IF(NFI_Expiration=1,IF($A46<VLOOKUP(O$5,NFI,5,0),1,0)*Table_NFI[[#This Row],[Complementary Kit]],0)","v":0},{"$f":"IF(NFI_Expiration=1,IF($A46<VLOOKUP(P$5,NFI,5,0),1,0)*Table_NFI[[#This Row],[Plastic Bucket]],0)","v":0},{"$f":"IF(NFI_Expiration=1,IF($A46<VLOOKUP(Q$5,NFI,5,0),1,0)*Table_NFI[[#This Row],[Plastic Mat]],0)","v":0},{"$f":"IFERROR(VLOOKUP(Table_NFI[[#This Row],[Camp Name]],CL,2,0),\"\")","v":""},{"$f":"IFERROR(VLOOKUP(Table_NFI[[#This Row],[Camp Name]],CL,3,0),\"\")","v":""}]
[16.966666666666665,"2012-07-10","UNHCR",null,"Rakhine","Sittwe","DamaYeikThar",null,null,null,null,32,null,null,null,null,null,{"$f":"IF(NFI_Expiration=1,IF($A47<VLOOKUP(H$5,NFI,5,0),1,0)*Table_NFI[[#This Row],[Hygiene Kit]],0)","v":0},{"$f":"IF(NFI_Expiration=1,IF($A47<VLOOKUP(I$5,NFI,5,0),1,0)*Table_NFI[[#This Row],[NFI Core Kit]],0)","v":0},{"$f":"IF(NFI_Expiration=1,IF($A47<VLOOKUP(J$5,NFI,5,0),1,0)*Table_NFI[[#This Row],[Sanitary Kit]],0)","v":0},{"$f":"IF(NFI_Expiration=1,IF($A47<VLOOKUP(K$5,NFI,5,0),1,0)*Table_NFI[[#This Row],[Mosquito net]],0)","v":0},{"$f":"IF(NFI_Expiration=1,IF($A47<VLOOKUP(L$5,NFI,5,0),1,0)*Table_NFI[[#This Row],[Tarpaulin]],0)","v":0},{"$f":"IF(NFI_Expiration=1,IF($A47<VLOOKUP(M$5,NFI,5,0),1,0)*Table_NFI[[#This Row],[Blanket]],0)","v":0},{"$f":"IF(NFI_Expiration=1,IF($A47<VLOOKUP(N$5,NFI,5,0),1,0)*Table_NFI[[#This Row],[Kitchen Set]],0)","v":0},{"$f":"IF(NFI_Expiration=1,IF($A47<VLOOKUP(O$5,NFI,5,0),1,0)*Table_NFI[[#This Row],[Complementary Kit]],0)","v":0},{"$f":"IF(NFI_Expiration=1,IF($A47<VLOOKUP(P$5,NFI,5,0),1,0)*Table_NFI[[#This Row],[Plastic Bucket]],0)","v":0},{"$f":"IF(NFI_Expiration=1,IF($A47<VLOOKUP(Q$5,NFI,5,0),1,0)*Table_NFI[[#This Row],[Plastic Mat]],0)","v":0},{"$f":"IFERROR(VLOOKUP(Table_NFI[[#This Row],[Camp Name]],CL,2,0),\"\")","v":""},{"$f":"IFERROR(VLOOKUP(Table_NFI[[#This Row],[Camp Name]],CL,3,0),\"\")","v":""}]
[16.966666666666665,"2012-07-10","UNHCR",null,"Rakhine","Sittwe","Weikzar Thaikdi Monastery",null,null,null,null,20,null,null,null,null,null,{"$f":"IF(NFI_Expiration=1,IF($A48<VLOOKUP(H$5,NFI,5,0),1,0)*Table_NFI[[#This Row],[Hygiene Kit]],0)","v":0},{"$f":"IF(NFI_Expiration=1,IF($A48<VLOOKUP(I$5,NFI,5,0),1,0)*Table_NFI[[#This Row],[NFI Core Kit]],0)","v":0},{"$f":"IF(NFI_Expiration=1,IF($A48<VLOOKUP(J$5,NFI,5,0),1,0)*Table_NFI[[#This Row],[Sanitary Kit]],0)","v":0},{"$f":"IF(NFI_Expiration=1,IF($A48<VLOOKUP(K$5,NFI,5,0),1,0)*Table_NFI[[#This Row],[Mosquito net]],0)","v":0},{"$f":"IF(NFI_Expiration=1,IF($A48<VLOOKUP(L$5,NFI,5,0),1,0)*Table_NFI[[#This Row],[Tarpaulin]],0)","v":0},{"$f":"IF(NFI_Expiration=1,IF($A48<VLOOKUP(M$5,NFI,5,0),1,0)*Table_NFI[[#This Row],[Blanket]],0)","v":0},{"$f":"IF(NFI_Expiration=1,IF($A48<VLOOKUP(N$5,NFI,5,0),1,0)*Table_NFI[[#This Row],[Kitchen Set]],0)","v":0},{"$f":"IF(NFI_Expiration=1,IF($A48<VLOOKUP(O$5,NFI,5,0),1,0)*Table_NFI[[#This Row],[Complementary Kit]],0)","v":0},{"$f":"IF(NFI_Expiration=1,IF($A48<VLOOKUP(P$5,NFI,5,0),1,0)*Table_NFI[[#This Row],[Plastic Bucket]],0)","v":0},{"$f":"IF(NFI_Expiration=1,IF($A48<VLOOKUP(Q$5,NFI,5,0),1,0)*Table_NFI[[#This Row],[Plastic Mat]],0)","v":0},{"$f":"IFERROR(VLOOKUP(Table_NFI[[#This Row],[Camp Name]],CL,2,0),\"\")","v":"MMR012CMP075"},{"$f":"IFERROR(VLOOKUP(Table_NFI[[#This Row],[Camp Name]],CL,3,0),\"\")","v":"Close"}]
[16.966666666666665,"2012-07-10","UNHCR",null,"Rakhine","Sittwe","Tayzindayama",null,null,null,null,11,null,null,null,null,null,{"$f":"IF(NFI_Expiration=1,IF($A49<VLOOKUP(H$5,NFI,5,0),1,0)*Table_NFI[[#This Row],[Hygiene Kit]],0)","v":0},{"$f":"IF(NFI_Expiration=1,IF($A49<VLOOKUP(I$5,NFI,5,0),1,0)*Table_NFI[[#This Row],[NFI Core Kit]],0)","v":0},{"$f":"IF(NFI_Expiration=1,IF($A49<VLOOKUP(J$5,NFI,5,0),1,0)*Table_NFI[[#This Row],[Sanitary Kit]],0)","v":0},{"$f":"IF(NFI_Expiration=1,IF($A49<VLOOKUP(K$5,NFI,5,0),1,0)*Table_NFI[[#This Row],[Mosquito net]],0)","v":0},{"$f":"IF(NFI_Expiration=1,IF($A49<VLOOKUP(L$5,NFI,5,0),1,0)*Table_NFI[[#This Row],[Tarpaulin]],0)","v":0},{"$f":"IF(NFI_Expiration=1,IF($A49<VLOOKUP(M$5,NFI,5,0),1,0)*Table_NFI[[#This Row],[Blanket]],0)","v":0},{"$f":"IF(NFI_Expiration=1,IF($A49<VLOOKUP(N$5,NFI,5,0),1,0)*Table_NFI[[#This Row],[Kitchen Set]],0)","v":0},{"$f":"IF(NFI_Expiration=1,IF($A49<VLOOKUP(O$5,NFI,5,0),1,0)*Table_NFI[[#This Row],[Complementary Kit]],0)","v":0},{"$f":"IF(NFI_Expiration=1,IF($A49<VLOOKUP(P$5,NFI,5,0),1,0)*Table_NFI[[#This Row],[Plastic Bucket]],0)","v":0},{"$f":"IF(NFI_Expiration=1,IF($A49<VLOOKUP(Q$5,NFI,5,0),1,0)*Table_NFI[[#This Row],[Plastic Mat]],0)","v":0},{"$f":"IFERROR(VLOOKUP(Table_NFI[[#This Row],[Camp Name]],CL,2,0),\"\")","v":""},{"$f":"IFERROR(VLOOKUP(Table_NFI[[#This Row],[Camp Name]],CL,3,0),\"\")","v":""}]
[16.966666666666665,"2012-07-10","UNHCR",null,"Rakhine","Sittwe","OhnTaPin",null,null,null,null,16,null,null,null,null,null,{"$f":"IF(NFI_Expiration=1,IF($A50<VLOOKUP(H$5,NFI,5,0),1,0)*Table_NFI[[#This Row],[Hygiene Kit]],0)","v":0},{"$f":"IF(NFI_Expiration=1,IF($A50<VLOOKUP(I$5,NFI,5,0),1,0)*Table_NFI[[#This Row],[NFI Core Kit]],0)","v":0},{"$f":"IF(NFI_Expiration=1,IF($A50<VLOOKUP(J$5,NFI,5,0),1,0)*Table_NFI[[#This Row],[Sanitary Kit]],0)","v":0},{"$f":"IF(NFI_Expiration=1,IF($A50<VLOOKUP(K$5,NFI,5,0),1,0)*Table_NFI[[#This Row],[Mosquito net]],0)","v":0},{"$f":"IF(NFI_Expiration=1,IF($A50<VLOOKUP(L$5,NFI,5,0),1,0)*Table_NFI[[#This Row],[Tarpaulin]],0)","v":0},{"$f":"IF(NFI_Expiration=1,IF($A50<VLOOKUP(M$5,NFI,5,0),1,0)*Table_NFI[[#This Row],[Blanket]],0)","v":0},{"$f":"IF(NFI_Expiration=1,IF($A50<VLOOKUP(N$5,NFI,5,0),1,0)*Table_NFI[[#This Row],[Kitchen Set]],0)","v":0},{"$f":"IF(NFI_Expiration=1,IF($A50<VLOOKUP(O$5,NFI,5,0),1,0)*Table_NFI[[#This Row],[Complementary Kit]],0)","v":0},{"$f":"IF(NFI_Expiration=1,IF($A50<VLOOKUP(P$5,NFI,5,0),1,0)*Table_NFI[[#This Row],[Plastic Bucket]],0)","v":0},{"$f":"IF(NFI_Expiration=1,IF($A50<VLOOKUP(Q$5,NFI,5,0),1,0)*Table_NFI[[#This Row],[Plastic Mat]],0)","v":0},{"$f":"IFERROR(VLOOKUP(Table_NFI[[#This Row],[Camp Name]],CL,2,0),\"\")","v":""},{"$f":"IFERROR(VLOOKUP(Table_NFI[[#This Row],[Camp Name]],CL,3,0),\"\")","v":""}]
[16.966666666666665,"2012-07-10","UNHCR",null,"Rakhine","Sittwe","MyaTheinTan",null,null,null,null,5,null,null,null,null,null,{"$f":"IF(NFI_Expiration=1,IF($A51<VLOOKUP(H$5,NFI,5,0),1,0)*Table_NFI[[#This Row],[Hygiene Kit]],0)","v":0},{"$f":"IF(NFI_Expiration=1,IF($A51<VLOOKUP(I$5,NFI,5,0),1,0)*Table_NFI[[#This Row],[NFI Core Kit]],0)","v":0},{"$f":"IF(NFI_Expiration=1,IF($A51<VLOOKUP(J$5,NFI,5,0),1,0)*Table_NFI[[#This Row],[Sanitary Kit]],0)","v":0},{"$f":"IF(NFI_Expiration=1,IF($A51<VLOOKUP(K$5,NFI,5,0),1,0)*Table_NFI[[#This Row],[Mosquito net]],0)","v":0},{"$f":"IF(NFI_Expiration=1,IF($A51<VLOOKUP(L$5,NFI,5,0),1,0)*Table_NFI[[#This Row],[Tarpaulin]],0)","v":0},{"$f":"IF(NFI_Expiration=1,IF($A51<VLOOKUP(M$5,NFI,5,0),1,0)*Table_NFI[[#This Row],[Blanket]],0)","v":0},{"$f":"IF(NFI_Expiration=1,IF($A51<VLOOKUP(N$5,NFI,5,0),1,0)*Table_NFI[[#This Row],[Kitchen Set]],0)","v":0},{"$f":"IF(NFI_Expiration=1,IF($A51<VLOOKUP(O$5,NFI,5,0),1,0)*Table_NFI[[#This Row],[Complementary Kit]],0)","v":0},{"$f":"IF(NFI_Expiration=1,IF($A51<VLOOKUP(P$5,NFI,5,0),1,0)*Table_NFI[[#This Row],[Plastic Bucket]],0)","v":0},{"$f":"IF(NFI_Expiration=1,IF($A51<VLOOKUP(Q$5,NFI,5,0),1,0)*Table_NFI[[#This Row],[Plastic Mat]],0)","v":0},{"$f":"IFERROR(VLOOKUP(Table_NFI[[#This Row],[Camp Name]],CL,2,0),\"\")","v":""},{"$f":"IFERROR(VLOOKUP(Table_NFI[[#This Row],[Camp Name]],CL,3,0),\"\")","v":""}]
[16.966666666666665,"2012-07-10","UNHCR",null,"Rakhine","Sittwe","YadaNarMinDaing",null,null,null,null,2,null,null,null,null,null,{"$f":"IF(NFI_Expiration=1,IF($A52<VLOOKUP(H$5,NFI,5,0),1,0)*Table_NFI[[#This Row],[Hygiene Kit]],0)","v":0},{"$f":"IF(NFI_Expiration=1,IF($A52<VLOOKUP(I$5,NFI,5,0),1,0)*Table_NFI[[#This Row],[NFI Core Kit]],0)","v":0},{"$f":"IF(NFI_Expiration=1,IF($A52<VLOOKUP(J$5,NFI,5,0),1,0)*Table_NFI[[#This Row],[Sanitary Kit]],0)","v":0},{"$f":"IF(NFI_Expiration=1,IF($A52<VLOOKUP(K$5,NFI,5,0),1,0)*Table_NFI[[#This Row],[Mosquito net]],0)","v":0},{"$f":"IF(NFI_Expiration=1,IF($A52<VLOOKUP(L$5,NFI,5,0),1,0)*Table_NFI[[#This Row],[Tarpaulin]],0)","v":0},{"$f":"IF(NFI_Expiration=1,IF($A52<VLOOKUP(M$5,NFI,5,0),1,0)*Table_NFI[[#This Row],[Blanket]],0)","v":0},{"$f":"IF(NFI_Expiration=1,IF($A52<VLOOKUP(N$5,NFI,5,0),1,0)*Table_NFI[[#This Row],[Kitchen Set]],0)","v":0},{"$f":"IF(NFI_Expiration=1,IF($A52<VLOOKUP(O$5,NFI,5,0),1,0)*Table_NFI[[#This Row],[Complementary Kit]],0)","v":0},{"$f":"IF(NFI_Expiration=1,IF($A52<VLOOKUP(P$5,NFI,5,0),1,0)*Table_NFI[[#This Row],[Plastic Bucket]],0)","v":0},{"$f":"IF(NFI_Expiration=1,IF($A52<VLOOKUP(Q$5,NFI,5,0),1,0)*Table_NFI[[#This Row],[Plastic Mat]],0)","v":0},{"$f":"IFERROR(VLOOKUP(Table_NFI[[#This Row],[Camp Name]],CL,2,0),\"\")","v":""},{"$f":"IFERROR(VLOOKUP(Table_NFI[[#This Row],[Camp Name]],CL,3,0),\"\")","v":""}]
[16.933333333333334,"2012-07-11","UNHCR",null,"Rakhine","Sittwe","MinnGanHighSchool",null,null,null,null,492,null,null,null,null,null,{"$f":"IF(NFI_Expiration=1,IF($A53<VLOOKUP(H$5,NFI,5,0),1,0)*Table_NFI[[#This Row],[Hygiene Kit]],0)","v":0},{"$f":"IF(NFI_Expiration=1,IF($A53<VLOOKUP(I$5,NFI,5,0),1,0)*Table_NFI[[#This Row],[NFI Core Kit]],0)","v":0},{"$f":"IF(NFI_Expiration=1,IF($A53<VLOOKUP(J$5,NFI,5,0),1,0)*Table_NFI[[#This Row],[Sanitary Kit]],0)","v":0},{"$f":"IF(NFI_Expiration=1,IF($A53<VLOOKUP(K$5,NFI,5,0),1,0)*Table_NFI[[#This Row],[Mosquito net]],0)","v":0},{"$f":"IF(NFI_Expiration=1,IF($A53<VLOOKUP(L$5,NFI,5,0),1,0)*Table_NFI[[#This Row],[Tarpaulin]],0)","v":0},{"$f":"IF(NFI_Expiration=1,IF($A53<VLOOKUP(M$5,NFI,5,0),1,0)*Table_NFI[[#This Row],[Blanket]],0)","v":0},{"$f":"IF(NFI_Expiration=1,IF($A53<VLOOKUP(N$5,NFI,5,0),1,0)*Table_NFI[[#This Row],[Kitchen Set]],0)","v":0},{"$f":"IF(NFI_Expiration=1,IF($A53<VLOOKUP(O$5,NFI,5,0),1,0)*Table_NFI[[#This Row],[Complementary Kit]],0)","v":0},{"$f":"IF(NFI_Expiration=1,IF($A53<VLOOKUP(P$5,NFI,5,0),1,0)*Table_NFI[[#This Row],[Plastic Bucket]],0)","v":0},{"$f":"IF(NFI_Expiration=1,IF($A53<VLOOKUP(Q$5,NFI,5,0),1,0)*Table_NFI[[#This Row],[Plastic Mat]],0)","v":0},{"$f":"IFERROR(VLOOKUP(Table_NFI[[#This Row],[Camp Name]],CL,2,0),\"\")","v":""},{"$f":"IFERROR(VLOOKUP(Table_NFI[[#This Row],[Camp Name]],CL,3,0),\"\")","v":""}]
[16.899999999999999,"2012-07-12","UNHCR",null,"Rakhine","Sittwe","Khaymarmandine",null,null,null,null,4,null,null,null,null,null,{"$f":"IF(NFI_Expiration=1,IF($A54<VLOOKUP(H$5,NFI,5,0),1,0)*Table_NFI[[#This Row],[Hygiene Kit]],0)","v":0},{"$f":"IF(NFI_Expiration=1,IF($A54<VLOOKUP(I$5,NFI,5,0),1,0)*Table_NFI[[#This Row],[NFI Core Kit]],0)","v":0},{"$f":"IF(NFI_Expiration=1,IF($A54<VLOOKUP(J$5,NFI,5,0),1,0)*Table_NFI[[#This Row],[Sanitary Kit]],0)","v":0},{"$f":"IF(NFI_Expiration=1,IF($A54<VLOOKUP(K$5,NFI,5,0),1,0)*Table_NFI[[#This Row],[Mosquito net]],0)","v":0},{"$f":"IF(NFI_Expiration=1,IF($A54<VLOOKUP(L$5,NFI,5,0),1,0)*Table_NFI[[#This Row],[Tarpaulin]],0)","v":0},{"$f":"IF(NFI_Expiration=1,IF($A54<VLOOKUP(M$5,NFI,5,0),1,0)*Table_NFI[[#This Row],[Blanket]],0)","v":0},{"$f":"IF(NFI_Expiration=1,IF($A54<VLOOKUP(N$5,NFI,5,0),1,0)*Table_NFI[[#This Row],[Kitchen Set]],0)","v":0},{"$f":"IF(NFI_Expiration=1,IF($A54<VLOOKUP(O$5,NFI,5,0),1,0)*Table_NFI[[#This Row],[Complementary Kit]],0)","v":0},{"$f":"IF(NFI_Expiration=1,IF($A54<VLOOKUP(P$5,NFI,5,0),1,0)*Table_NFI[[#This Row],[Plastic Bucket]],0)","v":0},{"$f":"IF(NFI_Expiration=1,IF($A54<VLOOKUP(Q$5,NFI,5,0),1,0)*Table_NFI[[#This Row],[Plastic Mat]],0)","v":0},{"$f":"IFERROR(VLOOKUP(Table_NFI[[#This Row],[Camp Name]],CL,2,0),\"\")","v":""},{"$f":"IFERROR(VLOOKUP(Table_NFI[[#This Row],[Camp Name]],CL,3,0),\"\")","v":""}]
[{"$f":"IF(ISBLANK(B55),\"\",(Report_Date-B55)/30)","v":16.8},"2012-07-15","UNHCR",null,"Rakhine","Sittwe","Thet Kae Pyin ",null,null,null,null,200,null,null,null,null,null,{"$f":"IF(NFI_Expiration=1,IF($A55<VLOOKUP(H$5,NFI,5,0),1,0)*Table_NFI[[#This Row],[Hygiene Kit]],0)","v":0},{"$f":"IF(NFI_Expiration=1,IF($A55<VLOOKUP(I$5,NFI,5,0),1,0)*Table_NFI[[#This Row],[NFI Core Kit]],0)","v":0},{"$f":"IF(NFI_Expiration=1,IF($A55<VLOOKUP(J$5,NFI,5,0),1,0)*Table_NFI[[#This Row],[Sanitary Kit]],0)","v":0},{"$f":"IF(NFI_Expiration=1,IF($A55<VLOOKUP(K$5,NFI,5,0),1,0)*Table_NFI[[#This Row],[Mosquito net]],0)","v":0},{"$f":"IF(NFI_Expiration=1,IF($A55<VLOOKUP(L$5,NFI,5,0),1,0)*Table_NFI[[#This Row],[Tarpaulin]],0)","v":0},{"$f":"IF(NFI_Expiration=1,IF($A55<VLOOKUP(M$5,NFI,5,0),1,0)*Table_NFI[[#This Row],[Blanket]],0)","v":0},{"$f":"IF(NFI_Expiration=1,IF($A55<VLOOKUP(N$5,NFI,5,0),1,0)*Table_NFI[[#This Row],[Kitchen Set]],0)","v":0},{"$f":"IF(NFI_Expiration=1,IF($A55<VLOOKUP(O$5,NFI,5,0),1,0)*Table_NFI[[#This Row],[Complementary Kit]],0)","v":0},{"$f":"IF(NFI_Expiration=1,IF($A55<VLOOKUP(P$5,NFI,5,0),1,0)*Table_NFI[[#This Row],[Plastic Bucket]],0)","v":0},{"$f":"IF(NFI_Expiration=1,IF($A55<VLOOKUP(Q$5,NFI,5,0),1,0)*Table_NFI[[#This Row],[Plastic Mat]],0)","v":0},{"$f":"IFERROR(VLOOKUP(Table_NFI[[#This Row],[Camp Name]],CL,2,0),\"\")","v":"MMR012CMP048"},{"$f":"IFERROR(VLOOKUP(Table_NFI[[#This Row],[Camp Name]],CL,3,0),\"\")","v":"Open"}]
[16.8,"2012-07-15","UNHCR",null,"Rakhine","Sittwe","Baw Du Pha",null,null,null,null,150,null,null,null,null,null,{"$f":"IF(NFI_Expiration=1,IF($A56<VLOOKUP(H$5,NFI,5,0),1,0)*Table_NFI[[#This Row],[Hygiene Kit]],0)","v":0},{"$f":"IF(NFI_Expiration=1,IF($A56<VLOOKUP(I$5,NFI,5,0),1,0)*Table_NFI[[#This Row],[NFI Core Kit]],0)","v":0},{"$f":"IF(NFI_Expiration=1,IF($A56<VLOOKUP(J$5,NFI,5,0),1,0)*Table_NFI[[#This Row],[Sanitary Kit]],0)","v":0},{"$f":"IF(NFI_Expiration=1,IF($A56<VLOOKUP(K$5,NFI,5,0),1,0)*Table_NFI[[#This Row],[Mosquito net]],0)","v":0},{"$f":"IF(NFI_Expiration=1,IF($A56<VLOOKUP(L$5,NFI,5,0),1,0)*Table_NFI[[#This Row],[Tarpaulin]],0)","v":0},{"$f":"IF(NFI_Expiration=1,IF($A56<VLOOKUP(M$5,NFI,5,0),1,0)*Table_NFI[[#This Row],[Blanket]],0)","v":0},{"$f":"IF(NFI_Expiration=1,IF($A56<VLOOKUP(N$5,NFI,5,0),1,0)*Table_NFI[[#This Row],[Kitchen Set]],0)","v":0},{"$f":"IF(NFI_Expiration=1,IF($A56<VLOOKUP(O$5,NFI,5,0),1,0)*Table_NFI[[#This Row],[Complementary Kit]],0)","v":0},{"$f":"IF(NFI_Expiration=1,IF($A56<VLOOKUP(P$5,NFI,5,0),1,0)*Table_NFI[[#This Row],[Plastic Bucket]],0)","v":0},{"$f":"IF(NFI_Expiration=1,IF($A56<VLOOKUP(Q$5,NFI,5,0),1,0)*Table_NFI[[#This Row],[Plastic Mat]],0)","v":0},{"$f":"IFERROR(VLOOKUP(Table_NFI[[#This Row],[Camp Name]],CL,2,0),\"\")","v":"MMR012CMP040"},{"$f":"IFERROR(VLOOKUP(Table_NFI[[#This Row],[Camp Name]],CL,3,0),\"\")","v":"Close"}]
[16.766666666666666,"2012-07-16","UNHCR",null,"Rakhine","Sittwe","Baw Du Pha",null,null,null,null,120,null,null,null,null,null,{"$f":"IF(NFI_Expiration=1,IF($A57<VLOOKUP(H$5,NFI,5,0),1,0)*Table_NFI[[#This Row],[Hygiene Kit]],0)","v":0},{"$f":"IF(NFI_Expiration=1,IF($A57<VLOOKUP(I$5,NFI,5,0),1,0)*Table_NFI[[#This Row],[NFI Core Kit]],0)","v":0},{"$f":"IF(NFI_Expiration=1,IF($A57<VLOOKUP(J$5,NFI,5,0),1,0)*Table_NFI[[#This Row],[Sanitary Kit]],0)","v":0},{"$f":"IF(NFI_Expiration=1,IF($A57<VLOOKUP(K$5,NFI,5,0),1,0)*Table_NFI[[#This Row],[Mosquito net]],0)","v":0},{"$f":"IF(NFI_Expiration=1,IF($A57<VLOOKUP(L$5,NFI,5,0),1,0)*Table_NFI[[#This Row],[Tarpaulin]],0)","v":0},{"$f":"IF(NFI_Expiration=1,IF($A57<VLOOKUP(M$5,NFI,5,0),1,0)*Table_NFI[[#This Row],[Blanket]],0)","v":0},{"$f":"IF(NFI_Expiration=1,IF($A57<VLOOKUP(N$5,NFI,5,0),1,0)*Table_NFI[[#This Row],[Kitchen Set]],0)","v":0},{"$f":"IF(NFI_Expiration=1,IF($A57<VLOOKUP(O$5,NFI,5,0),1,0)*Table_NFI[[#This Row],[Complementary Kit]],0)","v":0},{"$f":"IF(NFI_Expiration=1,IF($A57<VLOOKUP(P$5,NFI,5,0),1,0)*Table_NFI[[#This Row],[Plastic Bucket]],0)","v":0},{"$f":"IF(NFI_Expiration=1,IF($A57<VLOOKUP(Q$5,NFI,5,0),1,0)*Table_NFI[[#This Row],[Plastic Mat]],0)","v":0},{"$f":"IFERROR(VLOOKUP(Table_NFI[[#This Row],[Camp Name]],CL,2,0),\"\")","v":"MMR012CMP040"},{"$f":"IFERROR(VLOOKUP(Table_NFI[[#This Row],[Camp Name]],CL,3,0),\"\")","v":"Close"}]
[16.733333333333334,"2012-07-17","UNHCR",null,"Rakhine","Sittwe","Baw Du Pha",null,null,null,null,630,null,null,null,null,null,{"$f":"IF(NFI_Expiration=1,IF($A58<VLOOKUP(H$5,NFI,5,0),1,0)*Table_NFI[[#This Row],[Hygiene Kit]],0)","v":0},{"$f":"IF(NFI_Expiration=1,IF($A58<VLOOKUP(I$5,NFI,5,0),1,0)*Table_NFI[[#This Row],[NFI Core Kit]],0)","v":0},{"$f":"IF(NFI_Expiration=1,IF($A58<VLOOKUP(J$5,NFI,5,0),1,0)*Table_NFI[[#This Row],[Sanitary Kit]],0)","v":0},{"$f":"IF(NFI_Expiration=1,IF($A58<VLOOKUP(K$5,NFI,5,0),1,0)*Table_NFI[[#This Row],[Mosquito net]],0)","v":0},{"$f":"IF(NFI_Expiration=1,IF($A58<VLOOKUP(L$5,NFI,5,0),1,0)*Table_NFI[[#This Row],[Tarpaulin]],0)","v":0},{"$f":"IF(NFI_Expiration=1,IF($A58<VLOOKUP(M$5,NFI,5,0),1,0)*Table_NFI[[#This Row],[Blanket]],0)","v":0},{"$f":"IF(NFI_Expiration=1,IF($A58<VLOOKUP(N$5,NFI,5,0),1,0)*Table_NFI[[#This Row],[Kitchen Set]],0)","v":0},{"$f":"IF(NFI_Expiration=1,IF($A58<VLOOKUP(O$5,NFI,5,0),1,0)*Table_NFI[[#This Row],[Complementary Kit]],0)","v":0},{"$f":"IF(NFI_Expiration=1,IF($A58<VLOOKUP(P$5,NFI,5,0),1,0)*Table_NFI[[#This Row],[Plastic Bucket]],0)","v":0},{"$f":"IF(NFI_Expiration=1,IF($A58<VLOOKUP(Q$5,NFI,5,0),1,0)*Table_NFI[[#This Row],[Plastic Mat]],0)","v":0},{"$f":"IFERROR(VLOOKUP(Table_NFI[[#This Row],[Camp Name]],CL,2,0),\"\")","v":"MMR012CMP040"},{"$f":"IFERROR(VLOOKUP(Table_NFI[[#This Row],[Camp Name]],CL,3,0),\"\")","v":"Close"}]
[16.7,"2012-07-18","UNHCR",null,"Rakhine","Sittwe","Baw Du Pha",null,null,null,null,248,null,null,null,null,null,{"$f":"IF(NFI_Expiration=1,IF($A59<VLOOKUP(H$5,NFI,5,0),1,0)*Table_NFI[[#This Row],[Hygiene Kit]],0)","v":0},{"$f":"IF(NFI_Expiration=1,IF($A59<VLOOKUP(I$5,NFI,5,0),1,0)*Table_NFI[[#This Row],[NFI Core Kit]],0)","v":0},{"$f":"IF(NFI_Expiration=1,IF($A59<VLOOKUP(J$5,NFI,5,0),1,0)*Table_NFI[[#This Row],[Sanitary Kit]],0)","v":0},{"$f":"IF(NFI_Expiration=1,IF($A59<VLOOKUP(K$5,NFI,5,0),1,0)*Table_NFI[[#This Row],[Mosquito net]],0)","v":0},{"$f":"IF(NFI_Expiration=1,IF($A59<VLOOKUP(L$5,NFI,5,0),1,0)*Table_NFI[[#This Row],[Tarpaulin]],0)","v":0},{"$f":"IF(NFI_Expiration=1,IF($A59<VLOOKUP(M$5,NFI,5,0),1,0)*Table_NFI[[#This Row],[Blanket]],0)","v":0},{"$f":"IF(NFI_Expiration=1,IF($A59<VLOOKUP(N$5,NFI,5,0),1,0)*Table_NFI[[#This Row],[Kitchen Set]],0)","v":0},{"$f":"IF(NFI_Expiration=1,IF($A59<VLOOKUP(O$5,NFI,5,0),1,0)*Table_NFI[[#This Row],[Complementary Kit]],0)","v":0},{"$f":"IF(NFI_Expiration=1,IF($A59<VLOOKUP(P$5,NFI,5,0),1,0)*Table_NFI[[#This Row],[Plastic Bucket]],0)","v":0},{"$f":"IF(NFI_Expiration=1,IF($A59<VLOOKUP(Q$5,NFI,5,0),1,0)*Table_NFI[[#This Row],[Plastic Mat]],0)","v":0},{"$f":"IFERROR(VLOOKUP(Table_NFI[[#This Row],[Camp Name]],CL,2,0),\"\")","v":"MMR012CMP040"},{"$f":"IFERROR(VLOOKUP(Table_NFI[[#This Row],[Camp Name]],CL,3,0),\"\")","v":"Close"}]
[16.7,"2012-07-18","UNHCR",null,"Rakhine","Sittwe","Khaung Doke Khar ",null,null,null,null,121,null,null,null,null,null,{"$f":"IF(NFI_Expiration=1,IF($A60<VLOOKUP(H$5,NFI,5,0),1,0)*Table_NFI[[#This Row],[Hygiene Kit]],0)","v":0},{"$f":"IF(NFI_Expiration=1,IF($A60<VLOOKUP(I$5,NFI,5,0),1,0)*Table_NFI[[#This Row],[NFI Core Kit]],0)","v":0},{"$f":"IF(NFI_Expiration=1,IF($A60<VLOOKUP(J$5,NFI,5,0),1,0)*Table_NFI[[#This Row],[Sanitary Kit]],0)","v":0},{"$f":"IF(NFI_Expiration=1,IF($A60<VLOOKUP(K$5,NFI,5,0),1,0)*Table_NFI[[#This Row],[Mosquito net]],0)","v":0},{"$f":"IF(NFI_Expiration=1,IF($A60<VLOOKUP(L$5,NFI,5,0),1,0)*Table_NFI[[#This Row],[Tarpaulin]],0)","v":0},{"$f":"IF(NFI_Expiration=1,IF($A60<VLOOKUP(M$5,NFI,5,0),1,0)*Table_NFI[[#This Row],[Blanket]],0)","v":0},{"$f":"IF(NFI_Expiration=1,IF($A60<VLOOKUP(N$5,NFI,5,0),1,0)*Table_NFI[[#This Row],[Kitchen Set]],0)","v":0},{"$f":"IF(NFI_Expiration=1,IF($A60<VLOOKUP(O$5,NFI,5,0),1,0)*Table_NFI[[#This Row],[Complementary Kit]],0)","v":0},{"$f":"IF(NFI_Expiration=1,IF($A60<VLOOKUP(P$5,NFI,5,0),1,0)*Table_NFI[[#This Row],[Plastic Bucket]],0)","v":0},{"$f":"IF(NFI_Expiration=1,IF($A60<VLOOKUP(Q$5,NFI,5,0),1,0)*Table_NFI[[#This Row],[Plastic Mat]],0)","v":0},{"$f":"IFERROR(VLOOKUP(Table_NFI[[#This Row],[Camp Name]],CL,2,0),\"\")","v":"MMR012CMP042"},{"$f":"IFERROR(VLOOKUP(Table_NFI[[#This Row],[Camp Name]],CL,3,0),\"\")","v":"Open"}]
[16.666666666666668,"2012-07-19","UNHCR",null,"Rakhine","Sittwe","Thet Kae Pyin ",null,null,null,null,572,null,null,null,null,null,{"$f":"IF(NFI_Expiration=1,IF($A61<VLOOKUP(H$5,NFI,5,0),1,0)*Table_NFI[[#This Row],[Hygiene Kit]],0)","v":0},{"$f":"IF(NFI_Expiration=1,IF($A61<VLOOKUP(I$5,NFI,5,0),1,0)*Table_NFI[[#This Row],[NFI Core Kit]],0)","v":0},{"$f":"IF(NFI_Expiration=1,IF($A61<VLOOKUP(J$5,NFI,5,0),1,0)*Table_NFI[[#This Row],[Sanitary Kit]],0)","v":0},{"$f":"IF(NFI_Expiration=1,IF($A61<VLOOKUP(K$5,NFI,5,0),1,0)*Table_NFI[[#This Row],[Mosquito net]],0)","v":0},{"$f":"IF(NFI_Expiration=1,IF($A61<VLOOKUP(L$5,NFI,5,0),1,0)*Table_NFI[[#This Row],[Tarpaulin]],0)","v":0},{"$f":"IF(NFI_Expiration=1,IF($A61<VLOOKUP(M$5,NFI,5,0),1,0)*Table_NFI[[#This Row],[Blanket]],0)","v":0},{"$f":"IF(NFI_Expiration=1,IF($A61<VLOOKUP(N$5,NFI,5,0),1,0)*Table_NFI[[#This Row],[Kitchen Set]],0)","v":0},{"$f":"IF(NFI_Expiration=1,IF($A61<VLOOKUP(O$5,NFI,5,0),1,0)*Table_NFI[[#This Row],[Complementary Kit]],0)","v":0},{"$f":"IF(NFI_Expiration=1,IF($A61<VLOOKUP(P$5,NFI,5,0),1,0)*Table_NFI[[#This Row],[Plastic Bucket]],0)","v":0},{"$f":"IF(NFI_Expiration=1,IF($A61<VLOOKUP(Q$5,NFI,5,0),1,0)*Table_NFI[[#This Row],[Plastic Mat]],0)","v":0},{"$f":"IFERROR(VLOOKUP(Table_NFI[[#This Row],[Camp Name]],CL,2,0),\"\")","v":"MMR012CMP048"},{"$f":"IFERROR(VLOOKUP(Table_NFI[[#This Row],[Camp Name]],CL,3,0),\"\")","v":"Open"}]
[16.633333333333333,"2012-07-20","UNHCR",null,"Rakhine","Sittwe","Basare",null,null,null,null,383,null,null,null,null,null,{"$f":"IF(NFI_Expiration=1,IF($A62<VLOOKUP(H$5,NFI,5,0),1,0)*Table_NFI[[#This Row],[Hygiene Kit]],0)","v":0},{"$f":"IF(NFI_Expiration=1,IF($A62<VLOOKUP(I$5,NFI,5,0),1,0)*Table_NFI[[#This Row],[NFI Core Kit]],0)","v":0},{"$f":"IF(NFI_Expiration=1,IF($A62<VLOOKUP(J$5,NFI,5,0),1,0)*Table_NFI[[#This Row],[Sanitary Kit]],0)","v":0},{"$f":"IF(NFI_Expiration=1,IF($A62<VLOOKUP(K$5,NFI,5,0),1,0)*Table_NFI[[#This Row],[Mosquito net]],0)","v":0},{"$f":"IF(NFI_Expiration=1,IF($A62<VLOOKUP(L$5,NFI,5,0),1,0)*Table_NFI[[#This Row],[Tarpaulin]],0)","v":0},{"$f":"IF(NFI_Expiration=1,IF($A62<VLOOKUP(M$5,NFI,5,0),1,0)*Table_NFI[[#This Row],[Blanket]],0)","v":0},{"$f":"IF(NFI_Expiration=1,IF($A62<VLOOKUP(N$5,NFI,5,0),1,0)*Table_NFI[[#This Row],[Kitchen Set]],0)","v":0},{"$f":"IF(NFI_Expiration=1,IF($A62<VLOOKUP(O$5,NFI,5,0),1,0)*Table_NFI[[#This Row],[Complementary Kit]],0)","v":0},{"$f":"IF(NFI_Expiration=1,IF($A62<VLOOKUP(P$5,NFI,5,0),1,0)*Table_NFI[[#This Row],[Plastic Bucket]],0)","v":0},{"$f":"IF(NFI_Expiration=1,IF($A62<VLOOKUP(Q$5,NFI,5,0),1,0)*Table_NFI[[#This Row],[Plastic Mat]],0)","v":0},{"$f":"IFERROR(VLOOKUP(Table_NFI[[#This Row],[Camp Name]],CL,2,0),\"\")","v":"MMR012CMP039"},{"$f":"IFERROR(VLOOKUP(Table_NFI[[#This Row],[Camp Name]],CL,3,0),\"\")","v":"Open"}]
[16.600000000000001,"2012-07-21","UNHCR",null,"Rakhine","Sittwe","Say Tha Mar Gyi",null,null,null,null,117,null,null,null,null,null,{"$f":"IF(NFI_Expiration=1,IF($A63<VLOOKUP(H$5,NFI,5,0),1,0)*Table_NFI[[#This Row],[Hygiene Kit]],0)","v":0},{"$f":"IF(NFI_Expiration=1,IF($A63<VLOOKUP(I$5,NFI,5,0),1,0)*Table_NFI[[#This Row],[NFI Core Kit]],0)","v":0},{"$f":"IF(NFI_Expiration=1,IF($A63<VLOOKUP(J$5,NFI,5,0),1,0)*Table_NFI[[#This Row],[Sanitary Kit]],0)","v":0},{"$f":"IF(NFI_Expiration=1,IF($A63<VLOOKUP(K$5,NFI,5,0),1,0)*Table_NFI[[#This Row],[Mosquito net]],0)","v":0},{"$f":"IF(NFI_Expiration=1,IF($A63<VLOOKUP(L$5,NFI,5,0),1,0)*Table_NFI[[#This Row],[Tarpaulin]],0)","v":0},{"$f":"IF(NFI_Expiration=1,IF($A63<VLOOKUP(M$5,NFI,5,0),1,0)*Table_NFI[[#This Row],[Blanket]],0)","v":0},{"$f":"IF(NFI_Expiration=1,IF($A63<VLOOKUP(N$5,NFI,5,0),1,0)*Table_NFI[[#This Row],[Kitchen Set]],0)","v":0},{"$f":"IF(NFI_Expiration=1,IF($A63<VLOOKUP(O$5,NFI,5,0),1,0)*Table_NFI[[#This Row],[Complementary Kit]],0)","v":0},{"$f":"IF(NFI_Expiration=1,IF($A63<VLOOKUP(P$5,NFI,5,0),1,0)*Table_NFI[[#This Row],[Plastic Bucket]],0)","v":0},{"$f":"IF(NFI_Expiration=1,IF($A63<VLOOKUP(Q$5,NFI,5,0),1,0)*Table_NFI[[#This Row],[Plastic Mat]],0)","v":0},{"$f":"IFERROR(VLOOKUP(Table_NFI[[#This Row],[Camp Name]],CL,2,0),\"\")","v":"MMR012CMP045"},{"$f":"IFERROR(VLOOKUP(Table_NFI[[#This Row],[Camp Name]],CL,3,0),\"\")","v":"Open"}]
[16.333333333333332,"2012-07-29","UNHCR",null,"Rakhine","Sittwe","Say Tha Mar Gyi",null,null,null,null,456,null,null,null,null,null,{"$f":"IF(NFI_Expiration=1,IF($A64<VLOOKUP(H$5,NFI,5,0),1,0)*Table_NFI[[#This Row],[Hygiene Kit]],0)","v":0},{"$f":"IF(NFI_Expiration=1,IF($A64<VLOOKUP(I$5,NFI,5,0),1,0)*Table_NFI[[#This Row],[NFI Core Kit]],0)","v":0},{"$f":"IF(NFI_Expiration=1,IF($A64<VLOOKUP(J$5,NFI,5,0),1,0)*Table_NFI[[#This Row],[Sanitary Kit]],0)","v":0},{"$f":"IF(NFI_Expiration=1,IF($A64<VLOOKUP(K$5,NFI,5,0),1,0)*Table_NFI[[#This Row],[Mosquito net]],0)","v":0},{"$f":"IF(NFI_Expiration=1,IF($A64<VLOOKUP(L$5,NFI,5,0),1,0)*Table_NFI[[#This Row],[Tarpaulin]],0)","v":0},{"$f":"IF(NFI_Expiration=1,IF($A64<VLOOKUP(M$5,NFI,5,0),1,0)*Table_NFI[[#This Row],[Blanket]],0)","v":0},{"$f":"IF(NFI_Expiration=1,IF($A64<VLOOKUP(N$5,NFI,5,0),1,0)*Table_NFI[[#This Row],[Kitchen Set]],0)","v":0},{"$f":"IF(NFI_Expiration=1,IF($A64<VLOOKUP(O$5,NFI,5,0),1,0)*Table_NFI[[#This Row],[Complementary Kit]],0)","v":0},{"$f":"IF(NFI_Expiration=1,IF($A64<VLOOKUP(P$5,NFI,5,0),1,0)*Table_NFI[[#This Row],[Plastic Bucket]],0)","v":0},{"$f":"IF(NFI_Expiration=1,IF($A64<VLOOKUP(Q$5,NFI,5,0),1,0)*Table_NFI[[#This Row],[Plastic Mat]],0)","v":0},{"$f":"IFERROR(VLOOKUP(Table_NFI[[#This Row],[Camp Name]],CL,2,0),\"\")","v":"MMR012CMP045"},{"$f":"IFERROR(VLOOKUP(Table_NFI[[#This Row],[Camp Name]],CL,3,0),\"\")","v":"Open"}]
[16.333333333333332,"2012-07-29","UNHCR",null,"Rakhine","Sittwe","Khaung Doke Khar ",null,null,null,null,22,null,null,null,null,null,{"$f":"IF(NFI_Expiration=1,IF($A65<VLOOKUP(H$5,NFI,5,0),1,0)*Table_NFI[[#This Row],[Hygiene Kit]],0)","v":0},{"$f":"IF(NFI_Expiration=1,IF($A65<VLOOKUP(I$5,NFI,5,0),1,0)*Table_NFI[[#This Row],[NFI Core Kit]],0)","v":0},{"$f":"IF(NFI_Expiration=1,IF($A65<VLOOKUP(J$5,NFI,5,0),1,0)*Table_NFI[[#This Row],[Sanitary Kit]],0)","v":0},{"$f":"IF(NFI_Expiration=1,IF($A65<VLOOKUP(K$5,NFI,5,0),1,0)*Table_NFI[[#This Row],[Mosquito net]],0)","v":0},{"$f":"IF(NFI_Expiration=1,IF($A65<VLOOKUP(L$5,NFI,5,0),1,0)*Table_NFI[[#This Row],[Tarpaulin]],0)","v":0},{"$f":"IF(NFI_Expiration=1,IF($A65<VLOOKUP(M$5,NFI,5,0),1,0)*Table_NFI[[#This Row],[Blanket]],0)","v":0},{"$f":"IF(NFI_Expiration=1,IF($A65<VLOOKUP(N$5,NFI,5,0),1,0)*Table_NFI[[#This Row],[Kitchen Set]],0)","v":0},{"$f":"IF(NFI_Expiration=1,IF($A65<VLOOKUP(O$5,NFI,5,0),1,0)*Table_NFI[[#This Row],[Complementary Kit]],0)","v":0},{"$f":"IF(NFI_Expiration=1,IF($A65<VLOOKUP(P$5,NFI,5,0),1,0)*Table_NFI[[#This Row],[Plastic Bucket]],0)","v":0},{"$f":"IF(NFI_Expiration=1,IF($A65<VLOOKUP(Q$5,NFI,5,0),1,0)*Table_NFI[[#This Row],[Plastic Mat]],0)","v":0},{"$f":"IFERROR(VLOOKUP(Table_NFI[[#This Row],[Camp Name]],CL,2,0),\"\")","v":"MMR012CMP042"},{"$f":"IFERROR(VLOOKUP(Table_NFI[[#This Row],[Camp Name]],CL,3,0),\"\")","v":"Open"}]
[16.3,"2012-07-30","UNHCR",null,"Rakhine","Sittwe","Say Tha Mar Gyi",null,null,null,null,461,null,null,null,null,null,{"$f":"IF(NFI_Expiration=1,IF($A66<VLOOKUP(H$5,NFI,5,0),1,0)*Table_NFI[[#This Row],[Hygiene Kit]],0)","v":0},{"$f":"IF(NFI_Expiration=1,IF($A66<VLOOKUP(I$5,NFI,5,0),1,0)*Table_NFI[[#This Row],[NFI Core Kit]],0)","v":0},{"$f":"IF(NFI_Expiration=1,IF($A66<VLOOKUP(J$5,NFI,5,0),1,0)*Table_NFI[[#This Row],[Sanitary Kit]],0)","v":0},{"$f":"IF(NFI_Expiration=1,IF($A66<VLOOKUP(K$5,NFI,5,0),1,0)*Table_NFI[[#This Row],[Mosquito net]],0)","v":0},{"$f":"IF(NFI_Expiration=1,IF($A66<VLOOKUP(L$5,NFI,5,0),1,0)*Table_NFI[[#This Row],[Tarpaulin]],0)","v":0},{"$f":"IF(NFI_Expiration=1,IF($A66<VLOOKUP(M$5,NFI,5,0),1,0)*Table_NFI[[#This Row],[Blanket]],0)","v":0},{"$f":"IF(NFI_Expiration=1,IF($A66<VLOOKUP(N$5,NFI,5,0),1,0)*Table_NFI[[#This Row],[Kitchen Set]],0)","v":0},{"$f":"IF(NFI_Expiration=1,IF($A66<VLOOKUP(O$5,NFI,5,0),1,0)*Table_NFI[[#This Row],[Complementary Kit]],0)","v":0},{"$f":"IF(NFI_Expiration=1,IF($A66<VLOOKUP(P$5,NFI,5,0),1,0)*Table_NFI[[#This Row],[Plastic Bucket]],0)","v":0},{"$f":"IF(NFI_Expiration=1,IF($A66<VLOOKUP(Q$5,NFI,5,0),1,0)*Table_NFI[[#This Row],[Plastic Mat]],0)","v":0},{"$f":"IFERROR(VLOOKUP(Table_NFI[[#This Row],[Camp Name]],CL,2,0),\"\")","v":"MMR012CMP045"},{"$f":"IFERROR(VLOOKUP(Table_NFI[[#This Row],[Camp Name]],CL,3,0),\"\")","v":"Open"}]
[16.3,"2012-07-30","UNHCR",null,"Rakhine","Sittwe","Thet Kae Pyin ",null,null,null,null,11,null,null,null,null,null,{"$f":"IF(NFI_Expiration=1,IF($A67<VLOOKUP(H$5,NFI,5,0),1,0)*Table_NFI[[#This Row],[Hygiene Kit]],0)","v":0},{"$f":"IF(NFI_Expiration=1,IF($A67<VLOOKUP(I$5,NFI,5,0),1,0)*Table_NFI[[#This Row],[NFI Core Kit]],0)","v":0},{"$f":"IF(NFI_Expiration=1,IF($A67<VLOOKUP(J$5,NFI,5,0),1,0)*Table_NFI[[#This Row],[Sanitary Kit]],0)","v":0},{"$f":"IF(NFI_Expiration=1,IF($A67<VLOOKUP(K$5,NFI,5,0),1,0)*Table_NFI[[#This Row],[Mosquito net]],0)","v":0},{"$f":"IF(NFI_Expiration=1,IF($A67<VLOOKUP(L$5,NFI,5,0),1,0)*Table_NFI[[#This Row],[Tarpaulin]],0)","v":0},{"$f":"IF(NFI_Expiration=1,IF($A67<VLOOKUP(M$5,NFI,5,0),1,0)*Table_NFI[[#This Row],[Blanket]],0)","v":0},{"$f":"IF(NFI_Expiration=1,IF($A67<VLOOKUP(N$5,NFI,5,0),1,0)*Table_NFI[[#This Row],[Kitchen Set]],0)","v":0},{"$f":"IF(NFI_Expiration=1,IF($A67<VLOOKUP(O$5,NFI,5,0),1,0)*Table_NFI[[#This Row],[Complementary Kit]],0)","v":0},{"$f":"IF(NFI_Expiration=1,IF($A67<VLOOKUP(P$5,NFI,5,0),1,0)*Table_NFI[[#This Row],[Plastic Bucket]],0)","v":0},{"$f":"IF(NFI_Expiration=1,IF($A67<VLOOKUP(Q$5,NFI,5,0),1,0)*Table_NFI[[#This Row],[Plastic Mat]],0)","v":0},{"$f":"IFERROR(VLOOKUP(Table_NFI[[#This Row],[Camp Name]],CL,2,0),\"\")","v":"MMR012CMP048"},{"$f":"IFERROR(VLOOKUP(Table_NFI[[#This Row],[Camp Name]],CL,3,0),\"\")","v":"Open"}]
[16.100000000000001,"2012-08-05","UNHCR",null,"Rakhine","Sittwe","Thet Kae Pyin ",null,null,null,null,98,null,null,null,null,null,{"$f":"IF(NFI_Expiration=1,IF($A68<VLOOKUP(H$5,NFI,5,0),1,0)*Table_NFI[[#This Row],[Hygiene Kit]],0)","v":0},{"$f":"IF(NFI_Expiration=1,IF($A68<VLOOKUP(I$5,NFI,5,0),1,0)*Table_NFI[[#This Row],[NFI Core Kit]],0)","v":0},{"$f":"IF(NFI_Expiration=1,IF($A68<VLOOKUP(J$5,NFI,5,0),1,0)*Table_NFI[[#This Row],[Sanitary Kit]],0)","v":0},{"$f":"IF(NFI_Expiration=1,IF($A68<VLOOKUP(K$5,NFI,5,0),1,0)*Table_NFI[[#This Row],[Mosquito net]],0)","v":0},{"$f":"IF(NFI_Expiration=1,IF($A68<VLOOKUP(L$5,NFI,5,0),1,0)*Table_NFI[[#This Row],[Tarpaulin]],0)","v":0},{"$f":"IF(NFI_Expiration=1,IF($A68<VLOOKUP(M$5,NFI,5,0),1,0)*Table_NFI[[#This Row],[Blanket]],0)","v":0},{"$f":"IF(NFI_Expiration=1,IF($A68<VLOOKUP(N$5,NFI,5,0),1,0)*Table_NFI[[#This Row],[Kitchen Set]],0)","v":0},{"$f":"IF(NFI_Expiration=1,IF($A68<VLOOKUP(O$5,NFI,5,0),1,0)*Table_NFI[[#This Row],[Complementary Kit]],0)","v":0},{"$f":"IF(NFI_Expiration=1,IF($A68<VLOOKUP(P$5,NFI,5,0),1,0)*Table_NFI[[#This Row],[Plastic Bucket]],0)","v":0},{"$f":"IF(NFI_Expiration=1,IF($A68<VLOOKUP(Q$5,NFI,5,0),1,0)*Table_NFI[[#This Row],[Plastic Mat]],0)","v":0},{"$f":"IFERROR(VLOOKUP(Table_NFI[[#This Row],[Camp Name]],CL,2,0),\"\")","v":"MMR012CMP048"},{"$f":"IFERROR(VLOOKUP(Table_NFI[[#This Row],[Camp Name]],CL,3,0),\"\")","v":"Open"}]
[15.5,"2012-08-23","UNHCR",null,"Rakhine","Sittwe","Dar Pai",null,null,null,null,805,null,null,null,null,null,{"$f":"IF(NFI_Expiration=1,IF($A69<VLOOKUP(H$5,NFI,5,0),1,0)*Table_NFI[[#This Row],[Hygiene Kit]],0)","v":0},{"$f":"IF(NFI_Expiration=1,IF($A69<VLOOKUP(I$5,NFI,5,0),1,0)*Table_NFI[[#This Row],[NFI Core Kit]],0)","v":0},{"$f":"IF(NFI_Expiration=1,IF($A69<VLOOKUP(J$5,NFI,5,0),1,0)*Table_NFI[[#This Row],[Sanitary Kit]],0)","v":0},{"$f":"IF(NFI_Expiration=1,IF($A69<VLOOKUP(K$5,NFI,5,0),1,0)*Table_NFI[[#This Row],[Mosquito net]],0)","v":0},{"$f":"IF(NFI_Expiration=1,IF($A69<VLOOKUP(L$5,NFI,5,0),1,0)*Table_NFI[[#This Row],[Tarpaulin]],0)","v":0},{"$f":"IF(NFI_Expiration=1,IF($A69<VLOOKUP(M$5,NFI,5,0),1,0)*Table_NFI[[#This Row],[Blanket]],0)","v":0},{"$f":"IF(NFI_Expiration=1,IF($A69<VLOOKUP(N$5,NFI,5,0),1,0)*Table_NFI[[#This Row],[Kitchen Set]],0)","v":0},{"$f":"IF(NFI_Expiration=1,IF($A69<VLOOKUP(O$5,NFI,5,0),1,0)*Table_NFI[[#This Row],[Complementary Kit]],0)","v":0},{"$f":"IF(NFI_Expiration=1,IF($A69<VLOOKUP(P$5,NFI,5,0),1,0)*Table_NFI[[#This Row],[Plastic Bucket]],0)","v":0},{"$f":"IF(NFI_Expiration=1,IF($A69<VLOOKUP(Q$5,NFI,5,0),1,0)*Table_NFI[[#This Row],[Plastic Mat]],0)","v":0},{"$f":"IFERROR(VLOOKUP(Table_NFI[[#This Row],[Camp Name]],CL,2,0),\"\")","v":"MMR012CMP041"},{"$f":"IFERROR(VLOOKUP(Table_NFI[[#This Row],[Camp Name]],CL,3,0),\"\")","v":"Open"}]
[15.433333333333334,"2012-08-25","UNHCR",null,"Rakhine","Kyauktaw","In Bar Yi",null,null,null,null,230,null,null,null,null,null,{"$f":"IF(NFI_Expiration=1,IF($A70<VLOOKUP(H$5,NFI,5,0),1,0)*Table_NFI[[#This Row],[Hygiene Kit]],0)","v":0},{"$f":"IF(NFI_Expiration=1,IF($A70<VLOOKUP(I$5,NFI,5,0),1,0)*Table_NFI[[#This Row],[NFI Core Kit]],0)","v":0},{"$f":"IF(NFI_Expiration=1,IF($A70<VLOOKUP(J$5,NFI,5,0),1,0)*Table_NFI[[#This Row],[Sanitary Kit]],0)","v":0},{"$f":"IF(NFI_Expiration=1,IF($A70<VLOOKUP(K$5,NFI,5,0),1,0)*Table_NFI[[#This Row],[Mosquito net]],0)","v":0},{"$f":"IF(NFI_Expiration=1,IF($A70<VLOOKUP(L$5,NFI,5,0),1,0)*Table_NFI[[#This Row],[Tarpaulin]],0)","v":0},{"$f":"IF(NFI_Expiration=1,IF($A70<VLOOKUP(M$5,NFI,5,0),1,0)*Table_NFI[[#This Row],[Blanket]],0)","v":0},{"$f":"IF(NFI_Expiration=1,IF($A70<VLOOKUP(N$5,NFI,5,0),1,0)*Table_NFI[[#This Row],[Kitchen Set]],0)","v":0},{"$f":"IF(NFI_Expiration=1,IF($A70<VLOOKUP(O$5,NFI,5,0),1,0)*Table_NFI[[#This Row],[Complementary Kit]],0)","v":0},{"$f":"IF(NFI_Expiration=1,IF($A70<VLOOKUP(P$5,NFI,5,0),1,0)*Table_NFI[[#This Row],[Plastic Bucket]],0)","v":0},{"$f":"IF(NFI_Expiration=1,IF($A70<VLOOKUP(Q$5,NFI,5,0),1,0)*Table_NFI[[#This Row],[Plastic Mat]],0)","v":0},{"$f":"IFERROR(VLOOKUP(Table_NFI[[#This Row],[Camp Name]],CL,2,0),\"\")","v":"MMR012CMP026"},{"$f":"IFERROR(VLOOKUP(Table_NFI[[#This Row],[Camp Name]],CL,3,0),\"\")","v":"Open"}]
[15.433333333333334,"2012-08-25","UNHCR",null,"Rakhine","Kyauktaw","Yun Nyar",null,null,null,null,107,null,null,null,null,null,{"$f":"IF(NFI_Expiration=1,IF($A71<VLOOKUP(H$5,NFI,5,0),1,0)*Table_NFI[[#This Row],[Hygiene Kit]],0)","v":0},{"$f":"IF(NFI_Expiration=1,IF($A71<VLOOKUP(I$5,NFI,5,0),1,0)*Table_NFI[[#This Row],[NFI Core Kit]],0)","v":0},{"$f":"IF(NFI_Expiration=1,IF($A71<VLOOKUP(J$5,NFI,5,0),1,0)*Table_NFI[[#This Row],[Sanitary Kit]],0)","v":0},{"$f":"IF(NFI_Expiration=1,IF($A71<VLOOKUP(K$5,NFI,5,0),1,0)*Table_NFI[[#This Row],[Mosquito net]],0)","v":0},{"$f":"IF(NFI_Expiration=1,IF($A71<VLOOKUP(L$5,NFI,5,0),1,0)*Table_NFI[[#This Row],[Tarpaulin]],0)","v":0},{"$f":"IF(NFI_Expiration=1,IF($A71<VLOOKUP(M$5,NFI,5,0),1,0)*Table_NFI[[#This Row],[Blanket]],0)","v":0},{"$f":"IF(NFI_Expiration=1,IF($A71<VLOOKUP(N$5,NFI,5,0),1,0)*Table_NFI[[#This Row],[Kitchen Set]],0)","v":0},{"$f":"IF(NFI_Expiration=1,IF($A71<VLOOKUP(O$5,NFI,5,0),1,0)*Table_NFI[[#This Row],[Complementary Kit]],0)","v":0},{"$f":"IF(NFI_Expiration=1,IF($A71<VLOOKUP(P$5,NFI,5,0),1,0)*Table_NFI[[#This Row],[Plastic Bucket]],0)","v":0},{"$f":"IF(NFI_Expiration=1,IF($A71<VLOOKUP(Q$5,NFI,5,0),1,0)*Table_NFI[[#This Row],[Plastic Mat]],0)","v":0},{"$f":"IFERROR(VLOOKUP(Table_NFI[[#This Row],[Camp Name]],CL,2,0),\"\")","v":"MMR012CMP028"},{"$f":"IFERROR(VLOOKUP(Table_NFI[[#This Row],[Camp Name]],CL,3,0),\"\")","v":"Open"}]
[15.433333333333334,"2012-08-25","UNHCR",null,"Rakhine","Kyauktaw","Shwe Hlaing",null,null,null,null,144,null,null,null,null,null,{"$f":"IF(NFI_Expiration=1,IF($A72<VLOOKUP(H$5,NFI,5,0),1,0)*Table_NFI[[#This Row],[Hygiene Kit]],0)","v":0},{"$f":"IF(NFI_Expiration=1,IF($A72<VLOOKUP(I$5,NFI,5,0),1,0)*Table_NFI[[#This Row],[NFI Core Kit]],0)","v":0},{"$f":"IF(NFI_Expiration=1,IF($A72<VLOOKUP(J$5,NFI,5,0),1,0)*Table_NFI[[#This Row],[Sanitary Kit]],0)","v":0},{"$f":"IF(NFI_Expiration=1,IF($A72<VLOOKUP(K$5,NFI,5,0),1,0)*Table_NFI[[#This Row],[Mosquito net]],0)","v":0},{"$f":"IF(NFI_Expiration=1,IF($A72<VLOOKUP(L$5,NFI,5,0),1,0)*Table_NFI[[#This Row],[Tarpaulin]],0)","v":0},{"$f":"IF(NFI_Expiration=1,IF($A72<VLOOKUP(M$5,NFI,5,0),1,0)*Table_NFI[[#This Row],[Blanket]],0)","v":0},{"$f":"IF(NFI_Expiration=1,IF($A72<VLOOKUP(N$5,NFI,5,0),1,0)*Table_NFI[[#This Row],[Kitchen Set]],0)","v":0},{"$f":"IF(NFI_Expiration=1,IF($A72<VLOOKUP(O$5,NFI,5,0),1,0)*Table_NFI[[#This Row],[Complementary Kit]],0)","v":0},{"$f":"IF(NFI_Expiration=1,IF($A72<VLOOKUP(P$5,NFI,5,0),1,0)*Table_NFI[[#This Row],[Plastic Bucket]],0)","v":0},{"$f":"IF(NFI_Expiration=1,IF($A72<VLOOKUP(Q$5,NFI,5,0),1,0)*Table_NFI[[#This Row],[Plastic Mat]],0)","v":0},{"$f":"IFERROR(VLOOKUP(Table_NFI[[#This Row],[Camp Name]],CL,2,0),\"\")","v":"MMR012CMP029"},{"$f":"IFERROR(VLOOKUP(Table_NFI[[#This Row],[Camp Name]],CL,3,0),\"\")","v":"Open"}]
[15.433333333333334,"2012-08-25","UNHCR",null,"Rakhine","Kyauktaw","Goke Pi Htaunt",null,null,null,null,114,null,null,null,null,null,{"$f":"IF(NFI_Expiration=1,IF($A73<VLOOKUP(H$5,NFI,5,0),1,0)*Table_NFI[[#This Row],[Hygiene Kit]],0)","v":0},{"$f":"IF(NFI_Expiration=1,IF($A73<VLOOKUP(I$5,NFI,5,0),1,0)*Table_NFI[[#This Row],[NFI Core Kit]],0)","v":0},{"$f":"IF(NFI_Expiration=1,IF($A73<VLOOKUP(J$5,NFI,5,0),1,0)*Table_NFI[[#This Row],[Sanitary Kit]],0)","v":0},{"$f":"IF(NFI_Expiration=1,IF($A73<VLOOKUP(K$5,NFI,5,0),1,0)*Table_NFI[[#This Row],[Mosquito net]],0)","v":0},{"$f":"IF(NFI_Expiration=1,IF($A73<VLOOKUP(L$5,NFI,5,0),1,0)*Table_NFI[[#This Row],[Tarpaulin]],0)","v":0},{"$f":"IF(NFI_Expiration=1,IF($A73<VLOOKUP(M$5,NFI,5,0),1,0)*Table_NFI[[#This Row],[Blanket]],0)","v":0},{"$f":"IF(NFI_Expiration=1,IF($A73<VLOOKUP(N$5,NFI,5,0),1,0)*Table_NFI[[#This Row],[Kitchen Set]],0)","v":0},{"$f":"IF(NFI_Expiration=1,IF($A73<VLOOKUP(O$5,NFI,5,0),1,0)*Table_NFI[[#This Row],[Complementary Kit]],0)","v":0},{"$f":"IF(NFI_Expiration=1,IF($A73<VLOOKUP(P$5,NFI,5,0),1,0)*Table_NFI[[#This Row],[Plastic Bucket]],0)","v":0},{"$f":"IF(NFI_Expiration=1,IF($A73<VLOOKUP(Q$5,NFI,5,0),1,0)*Table_NFI[[#This Row],[Plastic Mat]],0)","v":0},{"$f":"IFERROR(VLOOKUP(Table_NFI[[#This Row],[Camp Name]],CL,2,0),\"\")","v":"MMR012CMP027"},{"$f":"IFERROR(VLOOKUP(Table_NFI[[#This Row],[Camp Name]],CL,3,0),\"\")","v":"Open"}]
[15.2,"2012-09-01","KOICAT","UNHCR","Rakhine","Sittwe","Ohn Taw Gyi 1",null,null,null,null,null,60,null,null,null,null,{"$f":"IF(NFI_Expiration=1,IF($A74<VLOOKUP(H$5,NFI,5,0),1,0)*Table_NFI[[#This Row],[Hygiene Kit]],0)","v":0},{"$f":"IF(NFI_Expiration=1,IF($A74<VLOOKUP(I$5,NFI,5,0),1,0)*Table_NFI[[#This Row],[NFI Core Kit]],0)","v":0},{"$f":"IF(NFI_Expiration=1,IF($A74<VLOOKUP(J$5,NFI,5,0),1,0)*Table_NFI[[#This Row],[Sanitary Kit]],0)","v":0},{"$f":"IF(NFI_Expiration=1,IF($A74<VLOOKUP(K$5,NFI,5,0),1,0)*Table_NFI[[#This Row],[Mosquito net]],0)","v":0},{"$f":"IF(NFI_Expiration=1,IF($A74<VLOOKUP(L$5,NFI,5,0),1,0)*Table_NFI[[#This Row],[Tarpaulin]],0)","v":0},{"$f":"IF(NFI_Expiration=1,IF($A74<VLOOKUP(M$5,NFI,5,0),1,0)*Table_NFI[[#This Row],[Blanket]],0)","v":0},{"$f":"IF(NFI_Expiration=1,IF($A74<VLOOKUP(N$5,NFI,5,0),1,0)*Table_NFI[[#This Row],[Kitchen Set]],0)","v":0},{"$f":"IF(NFI_Expiration=1,IF($A74<VLOOKUP(O$5,NFI,5,0),1,0)*Table_NFI[[#This Row],[Complementary Kit]],0)","v":0},{"$f":"IF(NFI_Expiration=1,IF($A74<VLOOKUP(P$5,NFI,5,0),1,0)*Table_NFI[[#This Row],[Plastic Bucket]],0)","v":0},{"$f":"IF(NFI_Expiration=1,IF($A74<VLOOKUP(Q$5,NFI,5,0),1,0)*Table_NFI[[#This Row],[Plastic Mat]],0)","v":0},{"$f":"IFERROR(VLOOKUP(Table_NFI[[#This Row],[Camp Name]],CL,2,0),\"\")","v":"MMR012CMP043"},{"$f":"IFERROR(VLOOKUP(Table_NFI[[#This Row],[Camp Name]],CL,3,0),\"\")","v":"Close"}]
[15.066666666666666,"2012-09-05","UNHCR",null,"Rakhine","Sittwe","Baw Du Pha",null,null,null,null,null,65,null,null,null,null,{"$f":"IF(NFI_Expiration=1,IF($A75<VLOOKUP(H$5,NFI,5,0),1,0)*Table_NFI[[#This Row],[Hygiene Kit]],0)","v":0},{"$f":"IF(NFI_Expiration=1,IF($A75<VLOOKUP(I$5,NFI,5,0),1,0)*Table_NFI[[#This Row],[NFI Core Kit]],0)","v":0},{"$f":"IF(NFI_Expiration=1,IF($A75<VLOOKUP(J$5,NFI,5,0),1,0)*Table_NFI[[#This Row],[Sanitary Kit]],0)","v":0},{"$f":"IF(NFI_Expiration=1,IF($A75<VLOOKUP(K$5,NFI,5,0),1,0)*Table_NFI[[#This Row],[Mosquito net]],0)","v":0},{"$f":"IF(NFI_Expiration=1,IF($A75<VLOOKUP(L$5,NFI,5,0),1,0)*Table_NFI[[#This Row],[Tarpaulin]],0)","v":0},{"$f":"IF(NFI_Expiration=1,IF($A75<VLOOKUP(M$5,NFI,5,0),1,0)*Table_NFI[[#This Row],[Blanket]],0)","v":0},{"$f":"IF(NFI_Expiration=1,IF($A75<VLOOKUP(N$5,NFI,5,0),1,0)*Table_NFI[[#This Row],[Kitchen Set]],0)","v":0},{"$f":"IF(NFI_Expiration=1,IF($A75<VLOOKUP(O$5,NFI,5,0),1,0)*Table_NFI[[#This Row],[Complementary Kit]],0)","v":0},{"$f":"IF(NFI_Expiration=1,IF($A75<VLOOKUP(P$5,NFI,5,0),1,0)*Table_NFI[[#This Row],[Plastic Bucket]],0)","v":0},{"$f":"IF(NFI_Expiration=1,IF($A75<VLOOKUP(Q$5,NFI,5,0),1,0)*Table_NFI[[#This Row],[Plastic Mat]],0)","v":0},{"$f":"IFERROR(VLOOKUP(Table_NFI[[#This Row],[Camp Name]],CL,2,0),\"\")","v":"MMR012CMP040"},{"$f":"IFERROR(VLOOKUP(Table_NFI[[#This Row],[Camp Name]],CL,3,0),\"\")","v":"Close"}]
[15,"2012-09-07","UNHCR",null,"Rakhine","Sittwe","Baw Du Pha",null,null,null,null,55,null,null,null,null,null,{"$f":"IF(NFI_Expiration=1,IF($A76<VLOOKUP(H$5,NFI,5,0),1,0)*Table_NFI[[#This Row],[Hygiene Kit]],0)","v":0},{"$f":"IF(NFI_Expiration=1,IF($A76<VLOOKUP(I$5,NFI,5,0),1,0)*Table_NFI[[#This Row],[NFI Core Kit]],0)","v":0},{"$f":"IF(NFI_Expiration=1,IF($A76<VLOOKUP(J$5,NFI,5,0),1,0)*Table_NFI[[#This Row],[Sanitary Kit]],0)","v":0},{"$f":"IF(NFI_Expiration=1,IF($A76<VLOOKUP(K$5,NFI,5,0),1,0)*Table_NFI[[#This Row],[Mosquito net]],0)","v":0},{"$f":"IF(NFI_Expiration=1,IF($A76<VLOOKUP(L$5,NFI,5,0),1,0)*Table_NFI[[#This Row],[Tarpaulin]],0)","v":0},{"$f":"IF(NFI_Expiration=1,IF($A76<VLOOKUP(M$5,NFI,5,0),1,0)*Table_NFI[[#This Row],[Blanket]],0)","v":0},{"$f":"IF(NFI_Expiration=1,IF($A76<VLOOKUP(N$5,NFI,5,0),1,0)*Table_NFI[[#This Row],[Kitchen Set]],0)","v":0},{"$f":"IF(NFI_Expiration=1,IF($A76<VLOOKUP(O$5,NFI,5,0),1,0)*Table_NFI[[#This Row],[Complementary Kit]],0)","v":0},{"$f":"IF(NFI_Expiration=1,IF($A76<VLOOKUP(P$5,NFI,5,0),1,0)*Table_NFI[[#This Row],[Plastic Bucket]],0)","v":0},{"$f":"IF(NFI_Expiration=1,IF($A76<VLOOKUP(Q$5,NFI,5,0),1,0)*Table_NFI[[#This Row],[Plastic Mat]],0)","v":0},{"$f":"IFERROR(VLOOKUP(Table_NFI[[#This Row],[Camp Name]],CL,2,0),\"\")","v":"MMR012CMP040"},{"$f":"IFERROR(VLOOKUP(Table_NFI[[#This Row],[Camp Name]],CL,3,0),\"\")","v":"Close"}]
[14.033333333333333,"2012-10-06","UNHCR",null,"Rakhine","Sittwe","Thet Kay Pyin School",null,null,null,null,100,null,null,null,null,null,{"$f":"IF(NFI_Expiration=1,IF($A77<VLOOKUP(H$5,NFI,5,0),1,0)*Table_NFI[[#This Row],[Hygiene Kit]],0)","v":0},{"$f":"IF(NFI_Expiration=1,IF($A77<VLOOKUP(I$5,NFI,5,0),1,0)*Table_NFI[[#This Row],[NFI Core Kit]],0)","v":0},{"$f":"IF(NFI_Expiration=1,IF($A77<VLOOKUP(J$5,NFI,5,0),1,0)*Table_NFI[[#This Row],[Sanitary Kit]],0)","v":0},{"$f":"IF(NFI_Expiration=1,IF($A77<VLOOKUP(K$5,NFI,5,0),1,0)*Table_NFI[[#This Row],[Mosquito net]],0)","v":0},{"$f":"IF(NFI_Expiration=1,IF($A77<VLOOKUP(L$5,NFI,5,0),1,0)*Table_NFI[[#This Row],[Tarpaulin]],0)","v":0},{"$f":"IF(NFI_Expiration=1,IF($A77<VLOOKUP(M$5,NFI,5,0),1,0)*Table_NFI[[#This Row],[Blanket]],0)","v":0},{"$f":"IF(NFI_Expiration=1,IF($A77<VLOOKUP(N$5,NFI,5,0),1,0)*Table_NFI[[#This Row],[Kitchen Set]],0)","v":0},{"$f":"IF(NFI_Expiration=1,IF($A77<VLOOKUP(O$5,NFI,5,0),1,0)*Table_NFI[[#This Row],[Complementary Kit]],0)","v":0},{"$f":"IF(NFI_Expiration=1,IF($A77<VLOOKUP(P$5,NFI,5,0),1,0)*Table_NFI[[#This Row],[Plastic Bucket]],0)","v":0},{"$f":"IF(NFI_Expiration=1,IF($A77<VLOOKUP(Q$5,NFI,5,0),1,0)*Table_NFI[[#This Row],[Plastic Mat]],0)","v":0},{"$f":"IFERROR(VLOOKUP(Table_NFI[[#This Row],[Camp Name]],CL,2,0),\"\")","v":""},{"$f":"IFERROR(VLOOKUP(Table_NFI[[#This Row],[Camp Name]],CL,3,0),\"\")","v":""}]
[14,"2012-10-07","UNHCR",null,"Rakhine","Kyauktaw","Ah Pauk Wa ",null,null,null,null,85,null,null,null,null,null,{"$f":"IF(NFI_Expiration=1,IF($A78<VLOOKUP(H$5,NFI,5,0),1,0)*Table_NFI[[#This Row],[Hygiene Kit]],0)","v":0},{"$f":"IF(NFI_Expiration=1,IF($A78<VLOOKUP(I$5,NFI,5,0),1,0)*Table_NFI[[#This Row],[NFI Core Kit]],0)","v":0},{"$f":"IF(NFI_Expiration=1,IF($A78<VLOOKUP(J$5,NFI,5,0),1,0)*Table_NFI[[#This Row],[Sanitary Kit]],0)","v":0},{"$f":"IF(NFI_Expiration=1,IF($A78<VLOOKUP(K$5,NFI,5,0),1,0)*Table_NFI[[#This Row],[Mosquito net]],0)","v":0},{"$f":"IF(NFI_Expiration=1,IF($A78<VLOOKUP(L$5,NFI,5,0),1,0)*Table_NFI[[#This Row],[Tarpaulin]],0)","v":0},{"$f":"IF(NFI_Expiration=1,IF($A78<VLOOKUP(M$5,NFI,5,0),1,0)*Table_NFI[[#This Row],[Blanket]],0)","v":0},{"$f":"IF(NFI_Expiration=1,IF($A78<VLOOKUP(N$5,NFI,5,0),1,0)*Table_NFI[[#This Row],[Kitchen Set]],0)","v":0},{"$f":"IF(NFI_Expiration=1,IF($A78<VLOOKUP(O$5,NFI,5,0),1,0)*Table_NFI[[#This Row],[Complementary Kit]],0)","v":0},{"$f":"IF(NFI_Expiration=1,IF($A78<VLOOKUP(P$5,NFI,5,0),1,0)*Table_NFI[[#This Row],[Plastic Bucket]],0)","v":0},{"$f":"IF(NFI_Expiration=1,IF($A78<VLOOKUP(Q$5,NFI,5,0),1,0)*Table_NFI[[#This Row],[Plastic Mat]],0)","v":0},{"$f":"IFERROR(VLOOKUP(Table_NFI[[#This Row],[Camp Name]],CL,2,0),\"\")","v":"MMR012CMP024"},{"$f":"IFERROR(VLOOKUP(Table_NFI[[#This Row],[Camp Name]],CL,3,0),\"\")","v":"Open"}]
[14,"2012-10-07","UNHCR",null,"Rakhine","Kyauktaw","San Gar Taung",null,null,null,null,97,null,null,null,null,null,{"$f":"IF(NFI_Expiration=1,IF($A79<VLOOKUP(H$5,NFI,5,0),1,0)*Table_NFI[[#This Row],[Hygiene Kit]],0)","v":0},{"$f":"IF(NFI_Expiration=1,IF($A79<VLOOKUP(I$5,NFI,5,0),1,0)*Table_NFI[[#This Row],[NFI Core Kit]],0)","v":0},{"$f":"IF(NFI_Expiration=1,IF($A79<VLOOKUP(J$5,NFI,5,0),1,0)*Table_NFI[[#This Row],[Sanitary Kit]],0)","v":0},{"$f":"IF(NFI_Expiration=1,IF($A79<VLOOKUP(K$5,NFI,5,0),1,0)*Table_NFI[[#This Row],[Mosquito net]],0)","v":0},{"$f":"IF(NFI_Expiration=1,IF($A79<VLOOKUP(L$5,NFI,5,0),1,0)*Table_NFI[[#This Row],[Tarpaulin]],0)","v":0},{"$f":"IF(NFI_Expiration=1,IF($A79<VLOOKUP(M$5,NFI,5,0),1,0)*Table_NFI[[#This Row],[Blanket]],0)","v":0},{"$f":"IF(NFI_Expiration=1,IF($A79<VLOOKUP(N$5,NFI,5,0),1,0)*Table_NFI[[#This Row],[Kitchen Set]],0)","v":0},{"$f":"IF(NFI_Expiration=1,IF($A79<VLOOKUP(O$5,NFI,5,0),1,0)*Table_NFI[[#This Row],[Complementary Kit]],0)","v":0},{"$f":"IF(NFI_Expiration=1,IF($A79<VLOOKUP(P$5,NFI,5,0),1,0)*Table_NFI[[#This Row],[Plastic Bucket]],0)","v":0},{"$f":"IF(NFI_Expiration=1,IF($A79<VLOOKUP(Q$5,NFI,5,0),1,0)*Table_NFI[[#This Row],[Plastic Mat]],0)","v":0},{"$f":"IFERROR(VLOOKUP(Table_NFI[[#This Row],[Camp Name]],CL,2,0),\"\")","v":""},{"$f":"IFERROR(VLOOKUP(Table_NFI[[#This Row],[Camp Name]],CL,3,0),\"\")","v":""}]
[13.2,"2012-10-31","UNHCR",null,"Rakhine","Minbya","Nagara Pauktaw",null,null,null,null,100,null,null,null,null,null,{"$f":"IF(NFI_Expiration=1,IF($A80<VLOOKUP(H$5,NFI,5,0),1,0)*Table_NFI[[#This Row],[Hygiene Kit]],0)","v":0},{"$f":"IF(NFI_Expiration=1,IF($A80<VLOOKUP(I$5,NFI,5,0),1,0)*Table_NFI[[#This Row],[NFI Core Kit]],0)","v":0},{"$f":"IF(NFI_Expiration=1,IF($A80<VLOOKUP(J$5,NFI,5,0),1,0)*Table_NFI[[#This Row],[Sanitary Kit]],0)","v":0},{"$f":"IF(NFI_Expiration=1,IF($A80<VLOOKUP(K$5,NFI,5,0),1,0)*Table_NFI[[#This Row],[Mosquito net]],0)","v":0},{"$f":"IF(NFI_Expiration=1,IF($A80<VLOOKUP(L$5,NFI,5,0),1,0)*Table_NFI[[#This Row],[Tarpaulin]],0)","v":0},{"$f":"IF(NFI_Expiration=1,IF($A80<VLOOKUP(M$5,NFI,5,0),1,0)*Table_NFI[[#This Row],[Blanket]],0)","v":0},{"$f":"IF(NFI_Expiration=1,IF($A80<VLOOKUP(N$5,NFI,5,0),1,0)*Table_NFI[[#This Row],[Kitchen Set]],0)","v":0},{"$f":"IF(NFI_Expiration=1,IF($A80<VLOOKUP(O$5,NFI,5,0),1,0)*Table_NFI[[#This Row],[Complementary Kit]],0)","v":0},{"$f":"IF(NFI_Expiration=1,IF($A80<VLOOKUP(P$5,NFI,5,0),1,0)*Table_NFI[[#This Row],[Plastic Bucket]],0)","v":0},{"$f":"IF(NFI_Expiration=1,IF($A80<VLOOKUP(Q$5,NFI,5,0),1,0)*Table_NFI[[#This Row],[Plastic Mat]],0)","v":0},{"$f":"IFERROR(VLOOKUP(Table_NFI[[#This Row],[Camp Name]],CL,2,0),\"\")","v":"MMR012CMP004"},{"$f":"IFERROR(VLOOKUP(Table_NFI[[#This Row],[Camp Name]],CL,3,0),\"\")","v":"Close"}]
[13.2,"2012-10-31","UNHCR",null,"Rakhine","Mrauk_U","Pa Rein",null,null,null,null,100,null,null,null,null,null,{"$f":"IF(NFI_Expiration=1,IF($A81<VLOOKUP(H$5,NFI,5,0),1,0)*Table_NFI[[#This Row],[Hygiene Kit]],0)","v":0},{"$f":"IF(NFI_Expiration=1,IF($A81<VLOOKUP(I$5,NFI,5,0),1,0)*Table_NFI[[#This Row],[NFI Core Kit]],0)","v":0},{"$f":"IF(NFI_Expiration=1,IF($A81<VLOOKUP(J$5,NFI,5,0),1,0)*Table_NFI[[#This Row],[Sanitary Kit]],0)","v":0},{"$f":"IF(NFI_Expiration=1,IF($A81<VLOOKUP(K$5,NFI,5,0),1,0)*Table_NFI[[#This Row],[Mosquito net]],0)","v":0},{"$f":"IF(NFI_Expiration=1,IF($A81<VLOOKUP(L$5,NFI,5,0),1,0)*Table_NFI[[#This Row],[Tarpaulin]],0)","v":0},{"$f":"IF(NFI_Expiration=1,IF($A81<VLOOKUP(M$5,NFI,5,0),1,0)*Table_NFI[[#This Row],[Blanket]],0)","v":0},{"$f":"IF(NFI_Expiration=1,IF($A81<VLOOKUP(N$5,NFI,5,0),1,0)*Table_NFI[[#This Row],[Kitchen Set]],0)","v":0},{"$f":"IF(NFI_Expiration=1,IF($A81<VLOOKUP(O$5,NFI,5,0),1,0)*Table_NFI[[#This Row],[Complementary Kit]],0)","v":0},{"$f":"IF(NFI_Expiration=1,IF($A81<VLOOKUP(P$5,NFI,5,0),1,0)*Table_NFI[[#This Row],[Plastic Bucket]],0)","v":0},{"$f":"IF(NFI_Expiration=1,IF($A81<VLOOKUP(Q$5,NFI,5,0),1,0)*Table_NFI[[#This Row],[Plastic Mat]],0)","v":0},{"$f":"IFERROR(VLOOKUP(Table_NFI[[#This Row],[Camp Name]],CL,2,0),\"\")","v":"MMR012CMP009"},{"$f":"IFERROR(VLOOKUP(Table_NFI[[#This Row],[Camp Name]],CL,3,0),\"\")","v":"Open"}]
[13.2,"2012-10-31","UNHCR",null,"Rakhine","Minbya","Aung Taing",null,null,null,null,40,null,null,null,null,null,{"$f":"IF(NFI_Expiration=1,IF($A82<VLOOKUP(H$5,NFI,5,0),1,0)*Table_NFI[[#This Row],[Hygiene Kit]],0)","v":0},{"$f":"IF(NFI_Expiration=1,IF($A82<VLOOKUP(I$5,NFI,5,0),1,0)*Table_NFI[[#This Row],[NFI Core Kit]],0)","v":0},{"$f":"IF(NFI_Expiration=1,IF($A82<VLOOKUP(J$5,NFI,5,0),1,0)*Table_NFI[[#This Row],[Sanitary Kit]],0)","v":0},{"$f":"IF(NFI_Expiration=1,IF($A82<VLOOKUP(K$5,NFI,5,0),1,0)*Table_NFI[[#This Row],[Mosquito net]],0)","v":0},{"$f":"IF(NFI_Expiration=1,IF($A82<VLOOKUP(L$5,NFI,5,0),1,0)*Table_NFI[[#This Row],[Tarpaulin]],0)","v":0},{"$f":"IF(NFI_Expiration=1,IF($A82<VLOOKUP(M$5,NFI,5,0),1,0)*Table_NFI[[#This Row],[Blanket]],0)","v":0},{"$f":"IF(NFI_Expiration=1,IF($A82<VLOOKUP(N$5,NFI,5,0),1,0)*Table_NFI[[#This Row],[Kitchen Set]],0)","v":0},{"$f":"IF(NFI_Expiration=1,IF($A82<VLOOKUP(O$5,NFI,5,0),1,0)*Table_NFI[[#This Row],[Complementary Kit]],0)","v":0},{"$f":"IF(NFI_Expiration=1,IF($A82<VLOOKUP(P$5,NFI,5,0),1,0)*Table_NFI[[#This Row],[Plastic Bucket]],0)","v":0},{"$f":"IF(NFI_Expiration=1,IF($A82<VLOOKUP(Q$5,NFI,5,0),1,0)*Table_NFI[[#This Row],[Plastic Mat]],0)","v":0},{"$f":"IFERROR(VLOOKUP(Table_NFI[[#This Row],[Camp Name]],CL,2,0),\"\")","v":"MMR012CMP006"},{"$f":"IFERROR(VLOOKUP(Table_NFI[[#This Row],[Camp Name]],CL,3,0),\"\")","v":"Open"}]
[13.166666666666666,"2012-11-01","UNHCR",null,"Rakhine","Meybon","Taung Paw ",null,null,null,null,400,null,null,null,null,null,{"$f":"IF(NFI_Expiration=1,IF($A83<VLOOKUP(H$5,NFI,5,0),1,0)*Table_NFI[[#This Row],[Hygiene Kit]],0)","v":0},{"$f":"IF(NFI_Expiration=1,IF($A83<VLOOKUP(I$5,NFI,5,0),1,0)*Table_NFI[[#This Row],[NFI Core Kit]],0)","v":0},{"$f":"IF(NFI_Expiration=1,IF($A83<VLOOKUP(J$5,NFI,5,0),1,0)*Table_NFI[[#This Row],[Sanitary Kit]],0)","v":0},{"$f":"IF(NFI_Expiration=1,IF($A83<VLOOKUP(K$5,NFI,5,0),1,0)*Table_NFI[[#This Row],[Mosquito net]],0)","v":0},{"$f":"IF(NFI_Expiration=1,IF($A83<VLOOKUP(L$5,NFI,5,0),1,0)*Table_NFI[[#This Row],[Tarpaulin]],0)","v":0},{"$f":"IF(NFI_Expiration=1,IF($A83<VLOOKUP(M$5,NFI,5,0),1,0)*Table_NFI[[#This Row],[Blanket]],0)","v":0},{"$f":"IF(NFI_Expiration=1,IF($A83<VLOOKUP(N$5,NFI,5,0),1,0)*Table_NFI[[#This Row],[Kitchen Set]],0)","v":0},{"$f":"IF(NFI_Expiration=1,IF($A83<VLOOKUP(O$5,NFI,5,0),1,0)*Table_NFI[[#This Row],[Complementary Kit]],0)","v":0},{"$f":"IF(NFI_Expiration=1,IF($A83<VLOOKUP(P$5,NFI,5,0),1,0)*Table_NFI[[#This Row],[Plastic Bucket]],0)","v":0},{"$f":"IF(NFI_Expiration=1,IF($A83<VLOOKUP(Q$5,NFI,5,0),1,0)*Table_NFI[[#This Row],[Plastic Mat]],0)","v":0},{"$f":"IFERROR(VLOOKUP(Table_NFI[[#This Row],[Camp Name]],CL,2,0),\"\")","v":"MMR012CMP014"},{"$f":"IFERROR(VLOOKUP(Table_NFI[[#This Row],[Camp Name]],CL,3,0),\"\")","v":"Open"}]
[13.133333333333333,"2012-11-02","UNHCR",null,"Rakhine","Kyauktaw",null,null,null,null,null,99,null,null,null,null,null,{"$f":"IF(NFI_Expiration=1,IF($A84<VLOOKUP(H$5,NFI,5,0),1,0)*Table_NFI[[#This Row],[Hygiene Kit]],0)","v":0},{"$f":"IF(NFI_Expiration=1,IF($A84<VLOOKUP(I$5,NFI,5,0),1,0)*Table_NFI[[#This Row],[NFI Core Kit]],0)","v":0},{"$f":"IF(NFI_Expiration=1,IF($A84<VLOOKUP(J$5,NFI,5,0),1,0)*Table_NFI[[#This Row],[Sanitary Kit]],0)","v":0},{"$f":"IF(NFI_Expiration=1,IF($A84<VLOOKUP(K$5,NFI,5,0),1,0)*Table_NFI[[#This Row],[Mosquito net]],0)","v":0},{"$f":"IF(NFI_Expiration=1,IF($A84<VLOOKUP(L$5,NFI,5,0),1,0)*Table_NFI[[#This Row],[Tarpaulin]],0)","v":0},{"$f":"IF(NFI_Expiration=1,IF($A84<VLOOKUP(M$5,NFI,5,0),1,0)*Table_NFI[[#This Row],[Blanket]],0)","v":0},{"$f":"IF(NFI_Expiration=1,IF($A84<VLOOKUP(N$5,NFI,5,0),1,0)*Table_NFI[[#This Row],[Kitchen Set]],0)","v":0},{"$f":"IF(NFI_Expiration=1,IF($A84<VLOOKUP(O$5,NFI,5,0),1,0)*Table_NFI[[#This Row],[Complementary Kit]],0)","v":0},{"$f":"IF(NFI_Expiration=1,IF($A84<VLOOKUP(P$5,NFI,5,0),1,0)*Table_NFI[[#This Row],[Plastic Bucket]],0)","v":0},{"$f":"IF(NFI_Expiration=1,IF($A84<VLOOKUP(Q$5,NFI,5,0),1,0)*Table_NFI[[#This Row],[Plastic Mat]],0)","v":0},{"$f":"IFERROR(VLOOKUP(Table_NFI[[#This Row],[Camp Name]],CL,2,0),\"\")","v":""},{"$f":"IFERROR(VLOOKUP(Table_NFI[[#This Row],[Camp Name]],CL,3,0),\"\")","v":""}]
[13.1,"2012-11-03","UNHCR",null,"Rakhine","Pauktaw",null,null,null,null,null,500,null,null,null,null,null,{"$f":"IF(NFI_Expiration=1,IF($A85<VLOOKUP(H$5,NFI,5,0),1,0)*Table_NFI[[#This Row],[Hygiene Kit]],0)","v":0},{"$f":"IF(NFI_Expiration=1,IF($A85<VLOOKUP(I$5,NFI,5,0),1,0)*Table_NFI[[#This Row],[NFI Core Kit]],0)","v":0},{"$f":"IF(NFI_Expiration=1,IF($A85<VLOOKUP(J$5,NFI,5,0),1,0)*Table_NFI[[#This Row],[Sanitary Kit]],0)","v":0},{"$f":"IF(NFI_Expiration=1,IF($A85<VLOOKUP(K$5,NFI,5,0),1,0)*Table_NFI[[#This Row],[Mosquito net]],0)","v":0},{"$f":"IF(NFI_Expiration=1,IF($A85<VLOOKUP(L$5,NFI,5,0),1,0)*Table_NFI[[#This Row],[Tarpaulin]],0)","v":0},{"$f":"IF(NFI_Expiration=1,IF($A85<VLOOKUP(M$5,NFI,5,0),1,0)*Table_NFI[[#This Row],[Blanket]],0)","v":0},{"$f":"IF(NFI_Expiration=1,IF($A85<VLOOKUP(N$5,NFI,5,0),1,0)*Table_NFI[[#This Row],[Kitchen Set]],0)","v":0},{"$f":"IF(NFI_Expiration=1,IF($A85<VLOOKUP(O$5,NFI,5,0),1,0)*Table_NFI[[#This Row],[Complementary Kit]],0)","v":0},{"$f":"IF(NFI_Expiration=1,IF($A85<VLOOKUP(P$5,NFI,5,0),1,0)*Table_NFI[[#This Row],[Plastic Bucket]],0)","v":0},{"$f":"IF(NFI_Expiration=1,IF($A85<VLOOKUP(Q$5,NFI,5,0),1,0)*Table_NFI[[#This Row],[Plastic Mat]],0)","v":0},{"$f":"IFERROR(VLOOKUP(Table_NFI[[#This Row],[Camp Name]],CL,2,0),\"\")","v":""},{"$f":"IFERROR(VLOOKUP(Table_NFI[[#This Row],[Camp Name]],CL,3,0),\"\")","v":""}]
[13.1,"2012-11-03","UNHCR",null,"Rakhine","Pauktaw","Sin Tet Maw",null,null,null,null,500,null,null,null,null,null,{"$f":"IF(NFI_Expiration=1,IF($A86<VLOOKUP(H$5,NFI,5,0),1,0)*Table_NFI[[#This Row],[Hygiene Kit]],0)","v":0},{"$f":"IF(NFI_Expiration=1,IF($A86<VLOOKUP(I$5,NFI,5,0),1,0)*Table_NFI[[#This Row],[NFI Core Kit]],0)","v":0},{"$f":"IF(NFI_Expiration=1,IF($A86<VLOOKUP(J$5,NFI,5,0),1,0)*Table_NFI[[#This Row],[Sanitary Kit]],0)","v":0},{"$f":"IF(NFI_Expiration=1,IF($A86<VLOOKUP(K$5,NFI,5,0),1,0)*Table_NFI[[#This Row],[Mosquito net]],0)","v":0},{"$f":"IF(NFI_Expiration=1,IF($A86<VLOOKUP(L$5,NFI,5,0),1,0)*Table_NFI[[#This Row],[Tarpaulin]],0)","v":0},{"$f":"IF(NFI_Expiration=1,IF($A86<VLOOKUP(M$5,NFI,5,0),1,0)*Table_NFI[[#This Row],[Blanket]],0)","v":0},{"$f":"IF(NFI_Expiration=1,IF($A86<VLOOKUP(N$5,NFI,5,0),1,0)*Table_NFI[[#This Row],[Kitchen Set]],0)","v":0},{"$f":"IF(NFI_Expiration=1,IF($A86<VLOOKUP(O$5,NFI,5,0),1,0)*Table_NFI[[#This Row],[Complementary Kit]],0)","v":0},{"$f":"IF(NFI_Expiration=1,IF($A86<VLOOKUP(P$5,NFI,5,0),1,0)*Table_NFI[[#This Row],[Plastic Bucket]],0)","v":0},{"$f":"IF(NFI_Expiration=1,IF($A86<VLOOKUP(Q$5,NFI,5,0),1,0)*Table_NFI[[#This Row],[Plastic Mat]],0)","v":0},{"$f":"IFERROR(VLOOKUP(Table_NFI[[#This Row],[Camp Name]],CL,2,0),\"\")","v":"MMR012CMP019"},{"$f":"IFERROR(VLOOKUP(Table_NFI[[#This Row],[Camp Name]],CL,3,0),\"\")","v":"Open"}]
[12.566666666666666,"2012-11-19","UNHCR",null,"Rakhine","Pauktaw","Ah Nauk Ywe",null,null,null,null,458,null,null,null,null,null,{"$f":"IF(NFI_Expiration=1,IF($A87<VLOOKUP(H$5,NFI,5,0),1,0)*Table_NFI[[#This Row],[Hygiene Kit]],0)","v":0},{"$f":"IF(NFI_Expiration=1,IF($A87<VLOOKUP(I$5,NFI,5,0),1,0)*Table_NFI[[#This Row],[NFI Core Kit]],0)","v":0},{"$f":"IF(NFI_Expiration=1,IF($A87<VLOOKUP(J$5,NFI,5,0),1,0)*Table_NFI[[#This Row],[Sanitary Kit]],0)","v":0},{"$f":"IF(NFI_Expiration=1,IF($A87<VLOOKUP(K$5,NFI,5,0),1,0)*Table_NFI[[#This Row],[Mosquito net]],0)","v":0},{"$f":"IF(NFI_Expiration=1,IF($A87<VLOOKUP(L$5,NFI,5,0),1,0)*Table_NFI[[#This Row],[Tarpaulin]],0)","v":0},{"$f":"IF(NFI_Expiration=1,IF($A87<VLOOKUP(M$5,NFI,5,0),1,0)*Table_NFI[[#This Row],[Blanket]],0)","v":0},{"$f":"IF(NFI_Expiration=1,IF($A87<VLOOKUP(N$5,NFI,5,0),1,0)*Table_NFI[[#This Row],[Kitchen Set]],0)","v":0},{"$f":"IF(NFI_Expiration=1,IF($A87<VLOOKUP(O$5,NFI,5,0),1,0)*Table_NFI[[#This Row],[Complementary Kit]],0)","v":0},{"$f":"IF(NFI_Expiration=1,IF($A87<VLOOKUP(P$5,NFI,5,0),1,0)*Table_NFI[[#This Row],[Plastic Bucket]],0)","v":0},{"$f":"IF(NFI_Expiration=1,IF($A87<VLOOKUP(Q$5,NFI,5,0),1,0)*Table_NFI[[#This Row],[Plastic Mat]],0)","v":0},{"$f":"IFERROR(VLOOKUP(Table_NFI[[#This Row],[Camp Name]],CL,2,0),\"\")","v":"MMR012CMP016"},{"$f":"IFERROR(VLOOKUP(Table_NFI[[#This Row],[Camp Name]],CL,3,0),\"\")","v":"Open"}]
[12.566666666666666,"2012-11-19","UNHCR",null,"Rakhine","Pauktaw","Nget Chaung",null,null,null,null,506,null,null,null,null,null,{"$f":"IF(NFI_Expiration=1,IF($A88<VLOOKUP(H$5,NFI,5,0),1,0)*Table_NFI[[#This Row],[Hygiene Kit]],0)","v":0},{"$f":"IF(NFI_Expiration=1,IF($A88<VLOOKUP(I$5,NFI,5,0),1,0)*Table_NFI[[#This Row],[NFI Core Kit]],0)","v":0},{"$f":"IF(NFI_Expiration=1,IF($A88<VLOOKUP(J$5,NFI,5,0),1,0)*Table_NFI[[#This Row],[Sanitary Kit]],0)","v":0},{"$f":"IF(NFI_Expiration=1,IF($A88<VLOOKUP(K$5,NFI,5,0),1,0)*Table_NFI[[#This Row],[Mosquito net]],0)","v":0},{"$f":"IF(NFI_Expiration=1,IF($A88<VLOOKUP(L$5,NFI,5,0),1,0)*Table_NFI[[#This Row],[Tarpaulin]],0)","v":0},{"$f":"IF(NFI_Expiration=1,IF($A88<VLOOKUP(M$5,NFI,5,0),1,0)*Table_NFI[[#This Row],[Blanket]],0)","v":0},{"$f":"IF(NFI_Expiration=1,IF($A88<VLOOKUP(N$5,NFI,5,0),1,0)*Table_NFI[[#This Row],[Kitchen Set]],0)","v":0},{"$f":"IF(NFI_Expiration=1,IF($A88<VLOOKUP(O$5,NFI,5,0),1,0)*Table_NFI[[#This Row],[Complementary Kit]],0)","v":0},{"$f":"IF(NFI_Expiration=1,IF($A88<VLOOKUP(P$5,NFI,5,0),1,0)*Table_NFI[[#This Row],[Plastic Bucket]],0)","v":0},{"$f":"IF(NFI_Expiration=1,IF($A88<VLOOKUP(Q$5,NFI,5,0),1,0)*Table_NFI[[#This Row],[Plastic Mat]],0)","v":0},{"$f":"IFERROR(VLOOKUP(Table_NFI[[#This Row],[Camp Name]],CL,2,0),\"\")","v":"MMR012CMP017"},{"$f":"IFERROR(VLOOKUP(Table_NFI[[#This Row],[Camp Name]],CL,3,0),\"\")","v":"Open"}]
[12.566666666666666,"2012-11-19","UNHCR",null,"Rakhine","Pauktaw","Kyein Ni Pyin",null,null,null,null,369,null,null,null,null,null,{"$f":"IF(NFI_Expiration=1,IF($A89<VLOOKUP(H$5,NFI,5,0),1,0)*Table_NFI[[#This Row],[Hygiene Kit]],0)","v":0},{"$f":"IF(NFI_Expiration=1,IF($A89<VLOOKUP(I$5,NFI,5,0),1,0)*Table_NFI[[#This Row],[NFI Core Kit]],0)","v":0},{"$f":"IF(NFI_Expiration=1,IF($A89<VLOOKUP(J$5,NFI,5,0),1,0)*Table_NFI[[#This Row],[Sanitary Kit]],0)","v":0},{"$f":"IF(NFI_Expiration=1,IF($A89<VLOOKUP(K$5,NFI,5,0),1,0)*Table_NFI[[#This Row],[Mosquito net]],0)","v":0},{"$f":"IF(NFI_Expiration=1,IF($A89<VLOOKUP(L$5,NFI,5,0),1,0)*Table_NFI[[#This Row],[Tarpaulin]],0)","v":0},{"$f":"IF(NFI_Expiration=1,IF($A89<VLOOKUP(M$5,NFI,5,0),1,0)*Table_NFI[[#This Row],[Blanket]],0)","v":0},{"$f":"IF(NFI_Expiration=1,IF($A89<VLOOKUP(N$5,NFI,5,0),1,0)*Table_NFI[[#This Row],[Kitchen Set]],0)","v":0},{"$f":"IF(NFI_Expiration=1,IF($A89<VLOOKUP(O$5,NFI,5,0),1,0)*Table_NFI[[#This Row],[Complementary Kit]],0)","v":0},{"$f":"IF(NFI_Expiration=1,IF($A89<VLOOKUP(P$5,NFI,5,0),1,0)*Table_NFI[[#This Row],[Plastic Bucket]],0)","v":0},{"$f":"IF(NFI_Expiration=1,IF($A89<VLOOKUP(Q$5,NFI,5,0),1,0)*Table_NFI[[#This Row],[Plastic Mat]],0)","v":0},{"$f":"IFERROR(VLOOKUP(Table_NFI[[#This Row],[Camp Name]],CL,2,0),\"\")","v":"MMR012CMP018"},{"$f":"IFERROR(VLOOKUP(Table_NFI[[#This Row],[Camp Name]],CL,3,0),\"\")","v":"Open"}]
[12.566666666666666,"2012-11-19","UNHCR",null,"Rakhine","Pauktaw","Sin Tet Maw",null,null,null,null,362,null,null,null,null,null,{"$f":"IF(NFI_Expiration=1,IF($A90<VLOOKUP(H$5,NFI,5,0),1,0)*Table_NFI[[#This Row],[Hygiene Kit]],0)","v":0},{"$f":"IF(NFI_Expiration=1,IF($A90<VLOOKUP(I$5,NFI,5,0),1,0)*Table_NFI[[#This Row],[NFI Core Kit]],0)","v":0},{"$f":"IF(NFI_Expiration=1,IF($A90<VLOOKUP(J$5,NFI,5,0),1,0)*Table_NFI[[#This Row],[Sanitary Kit]],0)","v":0},{"$f":"IF(NFI_Expiration=1,IF($A90<VLOOKUP(K$5,NFI,5,0),1,0)*Table_NFI[[#This Row],[Mosquito net]],0)","v":0},{"$f":"IF(NFI_Expiration=1,IF($A90<VLOOKUP(L$5,NFI,5,0),1,0)*Table_NFI[[#This Row],[Tarpaulin]],0)","v":0},{"$f":"IF(NFI_Expiration=1,IF($A90<VLOOKUP(M$5,NFI,5,0),1,0)*Table_NFI[[#This Row],[Blanket]],0)","v":0},{"$f":"IF(NFI_Expiration=1,IF($A90<VLOOKUP(N$5,NFI,5,0),1,0)*Table_NFI[[#This Row],[Kitchen Set]],0)","v":0},{"$f":"IF(NFI_Expiration=1,IF($A90<VLOOKUP(O$5,NFI,5,0),1,0)*Table_NFI[[#This Row],[Complementary Kit]],0)","v":0},{"$f":"IF(NFI_Expiration=1,IF($A90<VLOOKUP(P$5,NFI,5,0),1,0)*Table_NFI[[#This Row],[Plastic Bucket]],0)","v":0},{"$f":"IF(NFI_Expiration=1,IF($A90<VLOOKUP(Q$5,NFI,5,0),1,0)*Table_NFI[[#This Row],[Plastic Mat]],0)","v":0},{"$f":"IFERROR(VLOOKUP(Table_NFI[[#This Row],[Camp Name]],CL,2,0),\"\")","v":"MMR012CMP019"},{"$f":"IFERROR(VLOOKUP(Table_NFI[[#This Row],[Camp Name]],CL,3,0),\"\")","v":"Open"}]
[12.5,"2012-11-21","UNHCR",null,"Rakhine","Minbya","Tha Dar",null,null,null,null,145,null,null,null,null,null,{"$f":"IF(NFI_Expiration=1,IF($A91<VLOOKUP(H$5,NFI,5,0),1,0)*Table_NFI[[#This Row],[Hygiene Kit]],0)","v":0},{"$f":"IF(NFI_Expiration=1,IF($A91<VLOOKUP(I$5,NFI,5,0),1,0)*Table_NFI[[#This Row],[NFI Core Kit]],0)","v":0},{"$f":"IF(NFI_Expiration=1,IF($A91<VLOOKUP(J$5,NFI,5,0),1,0)*Table_NFI[[#This Row],[Sanitary Kit]],0)","v":0},{"$f":"IF(NFI_Expiration=1,IF($A91<VLOOKUP(K$5,NFI,5,0),1,0)*Table_NFI[[#This Row],[Mosquito net]],0)","v":0},{"$f":"IF(NFI_Expiration=1,IF($A91<VLOOKUP(L$5,NFI,5,0),1,0)*Table_NFI[[#This Row],[Tarpaulin]],0)","v":0},{"$f":"IF(NFI_Expiration=1,IF($A91<VLOOKUP(M$5,NFI,5,0),1,0)*Table_NFI[[#This Row],[Blanket]],0)","v":0},{"$f":"IF(NFI_Expiration=1,IF($A91<VLOOKUP(N$5,NFI,5,0),1,0)*Table_NFI[[#This Row],[Kitchen Set]],0)","v":0},{"$f":"IF(NFI_Expiration=1,IF($A91<VLOOKUP(O$5,NFI,5,0),1,0)*Table_NFI[[#This Row],[Complementary Kit]],0)","v":0},{"$f":"IF(NFI_Expiration=1,IF($A91<VLOOKUP(P$5,NFI,5,0),1,0)*Table_NFI[[#This Row],[Plastic Bucket]],0)","v":0},{"$f":"IF(NFI_Expiration=1,IF($A91<VLOOKUP(Q$5,NFI,5,0),1,0)*Table_NFI[[#This Row],[Plastic Mat]],0)","v":0},{"$f":"IFERROR(VLOOKUP(Table_NFI[[#This Row],[Camp Name]],CL,2,0),\"\")","v":"MMR012CMP002"},{"$f":"IFERROR(VLOOKUP(Table_NFI[[#This Row],[Camp Name]],CL,3,0),\"\")","v":"Open"}]
[12.5,"2012-11-21","UNHCR",null,"Rakhine","Minbya","San Htoe Tan",null,null,null,null,10,null,null,null,null,null,{"$f":"IF(NFI_Expiration=1,IF($A92<VLOOKUP(H$5,NFI,5,0),1,0)*Table_NFI[[#This Row],[Hygiene Kit]],0)","v":0},{"$f":"IF(NFI_Expiration=1,IF($A92<VLOOKUP(I$5,NFI,5,0),1,0)*Table_NFI[[#This Row],[NFI Core Kit]],0)","v":0},{"$f":"IF(NFI_Expiration=1,IF($A92<VLOOKUP(J$5,NFI,5,0),1,0)*Table_NFI[[#This Row],[Sanitary Kit]],0)","v":0},{"$f":"IF(NFI_Expiration=1,IF($A92<VLOOKUP(K$5,NFI,5,0),1,0)*Table_NFI[[#This Row],[Mosquito net]],0)","v":0},{"$f":"IF(NFI_Expiration=1,IF($A92<VLOOKUP(L$5,NFI,5,0),1,0)*Table_NFI[[#This Row],[Tarpaulin]],0)","v":0},{"$f":"IF(NFI_Expiration=1,IF($A92<VLOOKUP(M$5,NFI,5,0),1,0)*Table_NFI[[#This Row],[Blanket]],0)","v":0},{"$f":"IF(NFI_Expiration=1,IF($A92<VLOOKUP(N$5,NFI,5,0),1,0)*Table_NFI[[#This Row],[Kitchen Set]],0)","v":0},{"$f":"IF(NFI_Expiration=1,IF($A92<VLOOKUP(O$5,NFI,5,0),1,0)*Table_NFI[[#This Row],[Complementary Kit]],0)","v":0},{"$f":"IF(NFI_Expiration=1,IF($A92<VLOOKUP(P$5,NFI,5,0),1,0)*Table_NFI[[#This Row],[Plastic Bucket]],0)","v":0},{"$f":"IF(NFI_Expiration=1,IF($A92<VLOOKUP(Q$5,NFI,5,0),1,0)*Table_NFI[[#This Row],[Plastic Mat]],0)","v":0},{"$f":"IFERROR(VLOOKUP(Table_NFI[[#This Row],[Camp Name]],CL,2,0),\"\")","v":"MMR012CMP003"},{"$f":"IFERROR(VLOOKUP(Table_NFI[[#This Row],[Camp Name]],CL,3,0),\"\")","v":"Open"}]
[12.5,"2012-11-21","UNHCR",null,"Rakhine","Minbya","Nagara Pauktaw",null,null,null,null,129,null,null,null,null,null,{"$f":"IF(NFI_Expiration=1,IF($A93<VLOOKUP(H$5,NFI,5,0),1,0)*Table_NFI[[#This Row],[Hygiene Kit]],0)","v":0},{"$f":"IF(NFI_Expiration=1,IF($A93<VLOOKUP(I$5,NFI,5,0),1,0)*Table_NFI[[#This Row],[NFI Core Kit]],0)","v":0},{"$f":"IF(NFI_Expiration=1,IF($A93<VLOOKUP(J$5,NFI,5,0),1,0)*Table_NFI[[#This Row],[Sanitary Kit]],0)","v":0},{"$f":"IF(NFI_Expiration=1,IF($A93<VLOOKUP(K$5,NFI,5,0),1,0)*Table_NFI[[#This Row],[Mosquito net]],0)","v":0},{"$f":"IF(NFI_Expiration=1,IF($A93<VLOOKUP(L$5,NFI,5,0),1,0)*Table_NFI[[#This Row],[Tarpaulin]],0)","v":0},{"$f":"IF(NFI_Expiration=1,IF($A93<VLOOKUP(M$5,NFI,5,0),1,0)*Table_NFI[[#This Row],[Blanket]],0)","v":0},{"$f":"IF(NFI_Expiration=1,IF($A93<VLOOKUP(N$5,NFI,5,0),1,0)*Table_NFI[[#This Row],[Kitchen Set]],0)","v":0},{"$f":"IF(NFI_Expiration=1,IF($A93<VLOOKUP(O$5,NFI,5,0),1,0)*Table_NFI[[#This Row],[Complementary Kit]],0)","v":0},{"$f":"IF(NFI_Expiration=1,IF($A93<VLOOKUP(P$5,NFI,5,0),1,0)*Table_NFI[[#This Row],[Plastic Bucket]],0)","v":0},{"$f":"IF(NFI_Expiration=1,IF($A93<VLOOKUP(Q$5,NFI,5,0),1,0)*Table_NFI[[#This Row],[Plastic Mat]],0)","v":0},{"$f":"IFERROR(VLOOKUP(Table_NFI[[#This Row],[Camp Name]],CL,2,0),\"\")","v":"MMR012CMP004"},{"$f":"IFERROR(VLOOKUP(Table_NFI[[#This Row],[Camp Name]],CL,3,0),\"\")","v":"Close"}]
[12.5,"2012-11-21","UNHCR",null,"Rakhine","Minbya","Sam Ba Le",null,null,null,null,2,null,null,null,null,null,{"$f":"IF(NFI_Expiration=1,IF($A94<VLOOKUP(H$5,NFI,5,0),1,0)*Table_NFI[[#This Row],[Hygiene Kit]],0)","v":0},{"$f":"IF(NFI_Expiration=1,IF($A94<VLOOKUP(I$5,NFI,5,0),1,0)*Table_NFI[[#This Row],[NFI Core Kit]],0)","v":0},{"$f":"IF(NFI_Expiration=1,IF($A94<VLOOKUP(J$5,NFI,5,0),1,0)*Table_NFI[[#This Row],[Sanitary Kit]],0)","v":0},{"$f":"IF(NFI_Expiration=1,IF($A94<VLOOKUP(K$5,NFI,5,0),1,0)*Table_NFI[[#This Row],[Mosquito net]],0)","v":0},{"$f":"IF(NFI_Expiration=1,IF($A94<VLOOKUP(L$5,NFI,5,0),1,0)*Table_NFI[[#This Row],[Tarpaulin]],0)","v":0},{"$f":"IF(NFI_Expiration=1,IF($A94<VLOOKUP(M$5,NFI,5,0),1,0)*Table_NFI[[#This Row],[Blanket]],0)","v":0},{"$f":"IF(NFI_Expiration=1,IF($A94<VLOOKUP(N$5,NFI,5,0),1,0)*Table_NFI[[#This Row],[Kitchen Set]],0)","v":0},{"$f":"IF(NFI_Expiration=1,IF($A94<VLOOKUP(O$5,NFI,5,0),1,0)*Table_NFI[[#This Row],[Complementary Kit]],0)","v":0},{"$f":"IF(NFI_Expiration=1,IF($A94<VLOOKUP(P$5,NFI,5,0),1,0)*Table_NFI[[#This Row],[Plastic Bucket]],0)","v":0},{"$f":"IF(NFI_Expiration=1,IF($A94<VLOOKUP(Q$5,NFI,5,0),1,0)*Table_NFI[[#This Row],[Plastic Mat]],0)","v":0},{"$f":"IFERROR(VLOOKUP(Table_NFI[[#This Row],[Camp Name]],CL,2,0),\"\")","v":"MMR012CMP008"},{"$f":"IFERROR(VLOOKUP(Table_NFI[[#This Row],[Camp Name]],CL,3,0),\"\")","v":"Open"}]
[12.5,"2012-11-21","UNHCR",null,"Rakhine","Mrauk_U","Pa Rein",null,null,null,null,140,null,null,null,null,null,{"$f":"IF(NFI_Expiration=1,IF($A95<VLOOKUP(H$5,NFI,5,0),1,0)*Table_NFI[[#This Row],[Hygiene Kit]],0)","v":0},{"$f":"IF(NFI_Expiration=1,IF($A95<VLOOKUP(I$5,NFI,5,0),1,0)*Table_NFI[[#This Row],[NFI Core Kit]],0)","v":0},{"$f":"IF(NFI_Expiration=1,IF($A95<VLOOKUP(J$5,NFI,5,0),1,0)*Table_NFI[[#This Row],[Sanitary Kit]],0)","v":0},{"$f":"IF(NFI_Expiration=1,IF($A95<VLOOKUP(K$5,NFI,5,0),1,0)*Table_NFI[[#This Row],[Mosquito net]],0)","v":0},{"$f":"IF(NFI_Expiration=1,IF($A95<VLOOKUP(L$5,NFI,5,0),1,0)*Table_NFI[[#This Row],[Tarpaulin]],0)","v":0},{"$f":"IF(NFI_Expiration=1,IF($A95<VLOOKUP(M$5,NFI,5,0),1,0)*Table_NFI[[#This Row],[Blanket]],0)","v":0},{"$f":"IF(NFI_Expiration=1,IF($A95<VLOOKUP(N$5,NFI,5,0),1,0)*Table_NFI[[#This Row],[Kitchen Set]],0)","v":0},{"$f":"IF(NFI_Expiration=1,IF($A95<VLOOKUP(O$5,NFI,5,0),1,0)*Table_NFI[[#This Row],[Complementary Kit]],0)","v":0},{"$f":"IF(NFI_Expiration=1,IF($A95<VLOOKUP(P$5,NFI,5,0),1,0)*Table_NFI[[#This Row],[Plastic Bucket]],0)","v":0},{"$f":"IF(NFI_Expiration=1,IF($A95<VLOOKUP(Q$5,NFI,5,0),1,0)*Table_NFI[[#This Row],[Plastic Mat]],0)","v":0},{"$f":"IFERROR(VLOOKUP(Table_NFI[[#This Row],[Camp Name]],CL,2,0),\"\")","v":"MMR012CMP009"},{"$f":"IFERROR(VLOOKUP(Table_NFI[[#This Row],[Camp Name]],CL,3,0),\"\")","v":"Open"}]
[12.5,"2012-11-21","UNHCR",null,"Rakhine","Mrauk_U","Yai Thei-Muslim",null,null,null,null,83,null,null,null,null,null,{"$f":"IF(NFI_Expiration=1,IF($A96<VLOOKUP(H$5,NFI,5,0),1,0)*Table_NFI[[#This Row],[Hygiene Kit]],0)","v":0},{"$f":"IF(NFI_Expiration=1,IF($A96<VLOOKUP(I$5,NFI,5,0),1,0)*Table_NFI[[#This Row],[NFI Core Kit]],0)","v":0},{"$f":"IF(NFI_Expiration=1,IF($A96<VLOOKUP(J$5,NFI,5,0),1,0)*Table_NFI[[#This Row],[Sanitary Kit]],0)","v":0},{"$f":"IF(NFI_Expiration=1,IF($A96<VLOOKUP(K$5,NFI,5,0),1,0)*Table_NFI[[#This Row],[Mosquito net]],0)","v":0},{"$f":"IF(NFI_Expiration=1,IF($A96<VLOOKUP(L$5,NFI,5,0),1,0)*Table_NFI[[#This Row],[Tarpaulin]],0)","v":0},{"$f":"IF(NFI_Expiration=1,IF($A96<VLOOKUP(M$5,NFI,5,0),1,0)*Table_NFI[[#This Row],[Blanket]],0)","v":0},{"$f":"IF(NFI_Expiration=1,IF($A96<VLOOKUP(N$5,NFI,5,0),1,0)*Table_NFI[[#This Row],[Kitchen Set]],0)","v":0},{"$f":"IF(NFI_Expiration=1,IF($A96<VLOOKUP(O$5,NFI,5,0),1,0)*Table_NFI[[#This Row],[Complementary Kit]],0)","v":0},{"$f":"IF(NFI_Expiration=1,IF($A96<VLOOKUP(P$5,NFI,5,0),1,0)*Table_NFI[[#This Row],[Plastic Bucket]],0)","v":0},{"$f":"IF(NFI_Expiration=1,IF($A96<VLOOKUP(Q$5,NFI,5,0),1,0)*Table_NFI[[#This Row],[Plastic Mat]],0)","v":0},{"$f":"IFERROR(VLOOKUP(Table_NFI[[#This Row],[Camp Name]],CL,2,0),\"\")","v":"MMR012CMP010"},{"$f":"IFERROR(VLOOKUP(Table_NFI[[#This Row],[Camp Name]],CL,3,0),\"\")","v":"Open"}]
[12.2,"2012-11-30","KOICAT","UNHCR","Rakhine","Sittwe","Thet Kae Pyin ",null,null,null,null,null,100,null,null,null,null,{"$f":"IF(NFI_Expiration=1,IF($A97<VLOOKUP(H$5,NFI,5,0),1,0)*Table_NFI[[#This Row],[Hygiene Kit]],0)","v":0},{"$f":"IF(NFI_Expiration=1,IF($A97<VLOOKUP(I$5,NFI,5,0),1,0)*Table_NFI[[#This Row],[NFI Core Kit]],0)","v":0},{"$f":"IF(NFI_Expiration=1,IF($A97<VLOOKUP(J$5,NFI,5,0),1,0)*Table_NFI[[#This Row],[Sanitary Kit]],0)","v":0},{"$f":"IF(NFI_Expiration=1,IF($A97<VLOOKUP(K$5,NFI,5,0),1,0)*Table_NFI[[#This Row],[Mosquito net]],0)","v":0},{"$f":"IF(NFI_Expiration=1,IF($A97<VLOOKUP(L$5,NFI,5,0),1,0)*Table_NFI[[#This Row],[Tarpaulin]],0)","v":0},{"$f":"IF(NFI_Expiration=1,IF($A97<VLOOKUP(M$5,NFI,5,0),1,0)*Table_NFI[[#This Row],[Blanket]],0)","v":0},{"$f":"IF(NFI_Expiration=1,IF($A97<VLOOKUP(N$5,NFI,5,0),1,0)*Table_NFI[[#This Row],[Kitchen Set]],0)","v":0},{"$f":"IF(NFI_Expiration=1,IF($A97<VLOOKUP(O$5,NFI,5,0),1,0)*Table_NFI[[#This Row],[Complementary Kit]],0)","v":0},{"$f":"IF(NFI_Expiration=1,IF($A97<VLOOKUP(P$5,NFI,5,0),1,0)*Table_NFI[[#This Row],[Plastic Bucket]],0)","v":0},{"$f":"IF(NFI_Expiration=1,IF($A97<VLOOKUP(Q$5,NFI,5,0),1,0)*Table_NFI[[#This Row],[Plastic Mat]],0)","v":0},{"$f":"IFERROR(VLOOKUP(Table_NFI[[#This Row],[Camp Name]],CL,2,0),\"\")","v":"MMR012CMP048"},{"$f":"IFERROR(VLOOKUP(Table_NFI[[#This Row],[Camp Name]],CL,3,0),\"\")","v":"Open"}]
[12.2,"2012-11-30","UNHCR",null,"Rakhine","Meybon","Taung Paw ",null,null,null,null,232,null,null,null,null,null,{"$f":"IF(NFI_Expiration=1,IF($A98<VLOOKUP(H$5,NFI,5,0),1,0)*Table_NFI[[#This Row],[Hygiene Kit]],0)","v":0},{"$f":"IF(NFI_Expiration=1,IF($A98<VLOOKUP(I$5,NFI,5,0),1,0)*Table_NFI[[#This Row],[NFI Core Kit]],0)","v":0},{"$f":"IF(NFI_Expiration=1,IF($A98<VLOOKUP(J$5,NFI,5,0),1,0)*Table_NFI[[#This Row],[Sanitary Kit]],0)","v":0},{"$f":"IF(NFI_Expiration=1,IF($A98<VLOOKUP(K$5,NFI,5,0),1,0)*Table_NFI[[#This Row],[Mosquito net]],0)","v":0},{"$f":"IF(NFI_Expiration=1,IF($A98<VLOOKUP(L$5,NFI,5,0),1,0)*Table_NFI[[#This Row],[Tarpaulin]],0)","v":0},{"$f":"IF(NFI_Expiration=1,IF($A98<VLOOKUP(M$5,NFI,5,0),1,0)*Table_NFI[[#This Row],[Blanket]],0)","v":0},{"$f":"IF(NFI_Expiration=1,IF($A98<VLOOKUP(N$5,NFI,5,0),1,0)*Table_NFI[[#This Row],[Kitchen Set]],0)","v":0},{"$f":"IF(NFI_Expiration=1,IF($A98<VLOOKUP(O$5,NFI,5,0),1,0)*Table_NFI[[#This Row],[Complementary Kit]],0)","v":0},{"$f":"IF(NFI_Expiration=1,IF($A98<VLOOKUP(P$5,NFI,5,0),1,0)*Table_NFI[[#This Row],[Plastic Bucket]],0)","v":0},{"$f":"IF(NFI_Expiration=1,IF($A98<VLOOKUP(Q$5,NFI,5,0),1,0)*Table_NFI[[#This Row],[Plastic Mat]],0)","v":0},{"$f":"IFERROR(VLOOKUP(Table_NFI[[#This Row],[Camp Name]],CL,2,0),\"\")","v":"MMR012CMP014"},{"$f":"IFERROR(VLOOKUP(Table_NFI[[#This Row],[Camp Name]],CL,3,0),\"\")","v":"Open"}]
[12.2,"2012-11-30","UNHCR",null,"Rakhine","Meybon","Kan Thar Htwat Wa",null,null,null,null,44,null,null,null,null,null,{"$f":"IF(NFI_Expiration=1,IF($A99<VLOOKUP(H$5,NFI,5,0),1,0)*Table_NFI[[#This Row],[Hygiene Kit]],0)","v":0},{"$f":"IF(NFI_Expiration=1,IF($A99<VLOOKUP(I$5,NFI,5,0),1,0)*Table_NFI[[#This Row],[NFI Core Kit]],0)","v":0},{"$f":"IF(NFI_Expiration=1,IF($A99<VLOOKUP(J$5,NFI,5,0),1,0)*Table_NFI[[#This Row],[Sanitary Kit]],0)","v":0},{"$f":"IF(NFI_Expiration=1,IF($A99<VLOOKUP(K$5,NFI,5,0),1,0)*Table_NFI[[#This Row],[Mosquito net]],0)","v":0},{"$f":"IF(NFI_Expiration=1,IF($A99<VLOOKUP(L$5,NFI,5,0),1,0)*Table_NFI[[#This Row],[Tarpaulin]],0)","v":0},{"$f":"IF(NFI_Expiration=1,IF($A99<VLOOKUP(M$5,NFI,5,0),1,0)*Table_NFI[[#This Row],[Blanket]],0)","v":0},{"$f":"IF(NFI_Expiration=1,IF($A99<VLOOKUP(N$5,NFI,5,0),1,0)*Table_NFI[[#This Row],[Kitchen Set]],0)","v":0},{"$f":"IF(NFI_Expiration=1,IF($A99<VLOOKUP(O$5,NFI,5,0),1,0)*Table_NFI[[#This Row],[Complementary Kit]],0)","v":0},{"$f":"IF(NFI_Expiration=1,IF($A99<VLOOKUP(P$5,NFI,5,0),1,0)*Table_NFI[[#This Row],[Plastic Bucket]],0)","v":0},{"$f":"IF(NFI_Expiration=1,IF($A99<VLOOKUP(Q$5,NFI,5,0),1,0)*Table_NFI[[#This Row],[Plastic Mat]],0)","v":0},{"$f":"IFERROR(VLOOKUP(Table_NFI[[#This Row],[Camp Name]],CL,2,0),\"\")","v":"MMR012CMP013"},{"$f":"IFERROR(VLOOKUP(Table_NFI[[#This Row],[Camp Name]],CL,3,0),\"\")","v":"Open"}]
[12.2,"2012-11-30","UNHCR",null,"Rakhine","Sittwe","Bu May Ohn Taw",null,null,null,null,130,null,null,null,null,null,{"$f":"IF(NFI_Expiration=1,IF($A100<VLOOKUP(H$5,NFI,5,0),1,0)*Table_NFI[[#This Row],[Hygiene Kit]],0)","v":0},{"$f":"IF(NFI_Expiration=1,IF($A100<VLOOKUP(I$5,NFI,5,0),1,0)*Table_NFI[[#This Row],[NFI Core Kit]],0)","v":0},{"$f":"IF(NFI_Expiration=1,IF($A100<VLOOKUP(J$5,NFI,5,0),1,0)*Table_NFI[[#This Row],[Sanitary Kit]],0)","v":0},{"$f":"IF(NFI_Expiration=1,IF($A100<VLOOKUP(K$5,NFI,5,0),1,0)*Table_NFI[[#This Row],[Mosquito net]],0)","v":0},{"$f":"IF(NFI_Expiration=1,IF($A100<VLOOKUP(L$5,NFI,5,0),1,0)*Table_NFI[[#This Row],[Tarpaulin]],0)","v":0},{"$f":"IF(NFI_Expiration=1,IF($A100<VLOOKUP(M$5,NFI,5,0),1,0)*Table_NFI[[#This Row],[Blanket]],0)","v":0},{"$f":"IF(NFI_Expiration=1,IF($A100<VLOOKUP(N$5,NFI,5,0),1,0)*Table_NFI[[#This Row],[Kitchen Set]],0)","v":0},{"$f":"IF(NFI_Expiration=1,IF($A100<VLOOKUP(O$5,NFI,5,0),1,0)*Table_NFI[[#This Row],[Complementary Kit]],0)","v":0},{"$f":"IF(NFI_Expiration=1,IF($A100<VLOOKUP(P$5,NFI,5,0),1,0)*Table_NFI[[#This Row],[Plastic Bucket]],0)","v":0},{"$f":"IF(NFI_Expiration=1,IF($A100<VLOOKUP(Q$5,NFI,5,0),1,0)*Table_NFI[[#This Row],[Plastic Mat]],0)","v":0},{"$f":"IFERROR(VLOOKUP(Table_NFI[[#This Row],[Camp Name]],CL,2,0),\"\")","v":"MMR012CMP051"},{"$f":"IFERROR(VLOOKUP(Table_NFI[[#This Row],[Camp Name]],CL,3,0),\"\")","v":"Close"}]
[12.2,"2012-11-30","UNHCR",null,"Rakhine","Sittwe","Pa Lin Pyin Ywar Thit",null,null,null,null,822,null,null,null,null,null,{"$f":"IF(NFI_Expiration=1,IF($A101<VLOOKUP(H$5,NFI,5,0),1,0)*Table_NFI[[#This Row],[Hygiene Kit]],0)","v":0},{"$f":"IF(NFI_Expiration=1,IF($A101<VLOOKUP(I$5,NFI,5,0),1,0)*Table_NFI[[#This Row],[NFI Core Kit]],0)","v":0},{"$f":"IF(NFI_Expiration=1,IF($A101<VLOOKUP(J$5,NFI,5,0),1,0)*Table_NFI[[#This Row],[Sanitary Kit]],0)","v":0},{"$f":"IF(NFI_Expiration=1,IF($A101<VLOOKUP(K$5,NFI,5,0),1,0)*Table_NFI[[#This Row],[Mosquito net]],0)","v":0},{"$f":"IF(NFI_Expiration=1,IF($A101<VLOOKUP(L$5,NFI,5,0),1,0)*Table_NFI[[#This Row],[Tarpaulin]],0)","v":0},{"$f":"IF(NFI_Expiration=1,IF($A101<VLOOKUP(M$5,NFI,5,0),1,0)*Table_NFI[[#This Row],[Blanket]],0)","v":0},{"$f":"IF(NFI_Expiration=1,IF($A101<VLOOKUP(N$5,NFI,5,0),1,0)*Table_NFI[[#This Row],[Kitchen Set]],0)","v":0},{"$f":"IF(NFI_Expiration=1,IF($A101<VLOOKUP(O$5,NFI,5,0),1,0)*Table_NFI[[#This Row],[Complementary Kit]],0)","v":0},{"$f":"IF(NFI_Expiration=1,IF($A101<VLOOKUP(P$5,NFI,5,0),1,0)*Table_NFI[[#This Row],[Plastic Bucket]],0)","v":0},{"$f":"IF(NFI_Expiration=1,IF($A101<VLOOKUP(Q$5,NFI,5,0),1,0)*Table_NFI[[#This Row],[Plastic Mat]],0)","v":0},{"$f":"IFERROR(VLOOKUP(Table_NFI[[#This Row],[Camp Name]],CL,2,0),\"\")","v":"MMR012CMP050"},{"$f":"IFERROR(VLOOKUP(Table_NFI[[#This Row],[Camp Name]],CL,3,0),\"\")","v":"Close"}]
[12.2,"2012-11-30","UNHCR",null,"Rakhine","Sittwe","Bu May Ohn Taw",null,null,null,null,314,null,null,null,null,null,{"$f":"IF(NFI_Expiration=1,IF($A102<VLOOKUP(H$5,NFI,5,0),1,0)*Table_NFI[[#This Row],[Hygiene Kit]],0)","v":0},{"$f":"IF(NFI_Expiration=1,IF($A102<VLOOKUP(I$5,NFI,5,0),1,0)*Table_NFI[[#This Row],[NFI Core Kit]],0)","v":0},{"$f":"IF(NFI_Expiration=1,IF($A102<VLOOKUP(J$5,NFI,5,0),1,0)*Table_NFI[[#This Row],[Sanitary Kit]],0)","v":0},{"$f":"IF(NFI_Expiration=1,IF($A102<VLOOKUP(K$5,NFI,5,0),1,0)*Table_NFI[[#This Row],[Mosquito net]],0)","v":0},{"$f":"IF(NFI_Expiration=1,IF($A102<VLOOKUP(L$5,NFI,5,0),1,0)*Table_NFI[[#This Row],[Tarpaulin]],0)","v":0},{"$f":"IF(NFI_Expiration=1,IF($A102<VLOOKUP(M$5,NFI,5,0),1,0)*Table_NFI[[#This Row],[Blanket]],0)","v":0},{"$f":"IF(NFI_Expiration=1,IF($A102<VLOOKUP(N$5,NFI,5,0),1,0)*Table_NFI[[#This Row],[Kitchen Set]],0)","v":0},{"$f":"IF(NFI_Expiration=1,IF($A102<VLOOKUP(O$5,NFI,5,0),1,0)*Table_NFI[[#This Row],[Complementary Kit]],0)","v":0},{"$f":"IF(NFI_Expiration=1,IF($A102<VLOOKUP(P$5,NFI,5,0),1,0)*Table_NFI[[#This Row],[Plastic Bucket]],0)","v":0},{"$f":"IF(NFI_Expiration=1,IF($A102<VLOOKUP(Q$5,NFI,5,0),1,0)*Table_NFI[[#This Row],[Plastic Mat]],0)","v":0},{"$f":"IFERROR(VLOOKUP(Table_NFI[[#This Row],[Camp Name]],CL,2,0),\"\")","v":"MMR012CMP051"},{"$f":"IFERROR(VLOOKUP(Table_NFI[[#This Row],[Camp Name]],CL,3,0),\"\")","v":"Close"}]
[12.2,"2012-11-30","UNHCR",null,"Rakhine","Minbya","Aung Taing",null,null,null,null,46,null,null,null,null,null,{"$f":"IF(NFI_Expiration=1,IF($A103<VLOOKUP(H$5,NFI,5,0),1,0)*Table_NFI[[#This Row],[Hygiene Kit]],0)","v":0},{"$f":"IF(NFI_Expiration=1,IF($A103<VLOOKUP(I$5,NFI,5,0),1,0)*Table_NFI[[#This Row],[NFI Core Kit]],0)","v":0},{"$f":"IF(NFI_Expiration=1,IF($A103<VLOOKUP(J$5,NFI,5,0),1,0)*Table_NFI[[#This Row],[Sanitary Kit]],0)","v":0},{"$f":"IF(NFI_Expiration=1,IF($A103<VLOOKUP(K$5,NFI,5,0),1,0)*Table_NFI[[#This Row],[Mosquito net]],0)","v":0},{"$f":"IF(NFI_Expiration=1,IF($A103<VLOOKUP(L$5,NFI,5,0),1,0)*Table_NFI[[#This Row],[Tarpaulin]],0)","v":0},{"$f":"IF(NFI_Expiration=1,IF($A103<VLOOKUP(M$5,NFI,5,0),1,0)*Table_NFI[[#This Row],[Blanket]],0)","v":0},{"$f":"IF(NFI_Expiration=1,IF($A103<VLOOKUP(N$5,NFI,5,0),1,0)*Table_NFI[[#This Row],[Kitchen Set]],0)","v":0},{"$f":"IF(NFI_Expiration=1,IF($A103<VLOOKUP(O$5,NFI,5,0),1,0)*Table_NFI[[#This Row],[Complementary Kit]],0)","v":0},{"$f":"IF(NFI_Expiration=1,IF($A103<VLOOKUP(P$5,NFI,5,0),1,0)*Table_NFI[[#This Row],[Plastic Bucket]],0)","v":0},{"$f":"IF(NFI_Expiration=1,IF($A103<VLOOKUP(Q$5,NFI,5,0),1,0)*Table_NFI[[#This Row],[Plastic Mat]],0)","v":0},{"$f":"IFERROR(VLOOKUP(Table_NFI[[#This Row],[Camp Name]],CL,2,0),\"\")","v":"MMR012CMP006"},{"$f":"IFERROR(VLOOKUP(Table_NFI[[#This Row],[Camp Name]],CL,3,0),\"\")","v":"Open"}]
[12.1,"2012-12-03","KOICAT","UNHCR","Rakhine","Sittwe","Thet Kae Pyin ",null,null,null,null,null,92,null,null,null,null,{"$f":"IF(NFI_Expiration=1,IF($A104<VLOOKUP(H$5,NFI,5,0),1,0)*Table_NFI[[#This Row],[Hygiene Kit]],0)","v":0},{"$f":"IF(NFI_Expiration=1,IF($A104<VLOOKUP(I$5,NFI,5,0),1,0)*Table_NFI[[#This Row],[NFI Core Kit]],0)","v":0},{"$f":"IF(NFI_Expiration=1,IF($A104<VLOOKUP(J$5,NFI,5,0),1,0)*Table_NFI[[#This Row],[Sanitary Kit]],0)","v":0},{"$f":"IF(NFI_Expiration=1,IF($A104<VLOOKUP(K$5,NFI,5,0),1,0)*Table_NFI[[#This Row],[Mosquito net]],0)","v":0},{"$f":"IF(NFI_Expiration=1,IF($A104<VLOOKUP(L$5,NFI,5,0),1,0)*Table_NFI[[#This Row],[Tarpaulin]],0)","v":0},{"$f":"IF(NFI_Expiration=1,IF($A104<VLOOKUP(M$5,NFI,5,0),1,0)*Table_NFI[[#This Row],[Blanket]],0)","v":0},{"$f":"IF(NFI_Expiration=1,IF($A104<VLOOKUP(N$5,NFI,5,0),1,0)*Table_NFI[[#This Row],[Kitchen Set]],0)","v":0},{"$f":"IF(NFI_Expiration=1,IF($A104<VLOOKUP(O$5,NFI,5,0),1,0)*Table_NFI[[#This Row],[Complementary Kit]],0)","v":0},{"$f":"IF(NFI_Expiration=1,IF($A104<VLOOKUP(P$5,NFI,5,0),1,0)*Table_NFI[[#This Row],[Plastic Bucket]],0)","v":0},{"$f":"IF(NFI_Expiration=1,IF($A104<VLOOKUP(Q$5,NFI,5,0),1,0)*Table_NFI[[#This Row],[Plastic Mat]],0)","v":0},{"$f":"IFERROR(VLOOKUP(Table_NFI[[#This Row],[Camp Name]],CL,2,0),\"\")","v":"MMR012CMP048"},{"$f":"IFERROR(VLOOKUP(Table_NFI[[#This Row],[Camp Name]],CL,3,0),\"\")","v":"Open"}]
[12.033333333333333,"2012-12-05","KOICAT","UNHCR","Rakhine","Sittwe","Hmanzi Junction",null,null,null,null,null,50,null,null,null,null,{"$f":"IF(NFI_Expiration=1,IF($A105<VLOOKUP(H$5,NFI,5,0),1,0)*Table_NFI[[#This Row],[Hygiene Kit]],0)","v":0},{"$f":"IF(NFI_Expiration=1,IF($A105<VLOOKUP(I$5,NFI,5,0),1,0)*Table_NFI[[#This Row],[NFI Core Kit]],0)","v":0},{"$f":"IF(NFI_Expiration=1,IF($A105<VLOOKUP(J$5,NFI,5,0),1,0)*Table_NFI[[#This Row],[Sanitary Kit]],0)","v":0},{"$f":"IF(NFI_Expiration=1,IF($A105<VLOOKUP(K$5,NFI,5,0),1,0)*Table_NFI[[#This Row],[Mosquito net]],0)","v":0},{"$f":"IF(NFI_Expiration=1,IF($A105<VLOOKUP(L$5,NFI,5,0),1,0)*Table_NFI[[#This Row],[Tarpaulin]],0)","v":0},{"$f":"IF(NFI_Expiration=1,IF($A105<VLOOKUP(M$5,NFI,5,0),1,0)*Table_NFI[[#This Row],[Blanket]],0)","v":0},{"$f":"IF(NFI_Expiration=1,IF($A105<VLOOKUP(N$5,NFI,5,0),1,0)*Table_NFI[[#This Row],[Kitchen Set]],0)","v":0},{"$f":"IF(NFI_Expiration=1,IF($A105<VLOOKUP(O$5,NFI,5,0),1,0)*Table_NFI[[#This Row],[Complementary Kit]],0)","v":0},{"$f":"IF(NFI_Expiration=1,IF($A105<VLOOKUP(P$5,NFI,5,0),1,0)*Table_NFI[[#This Row],[Plastic Bucket]],0)","v":0},{"$f":"IF(NFI_Expiration=1,IF($A105<VLOOKUP(Q$5,NFI,5,0),1,0)*Table_NFI[[#This Row],[Plastic Mat]],0)","v":0},{"$f":"IFERROR(VLOOKUP(Table_NFI[[#This Row],[Camp Name]],CL,2,0),\"\")","v":"MMR012CMP049"},{"$f":"IFERROR(VLOOKUP(Table_NFI[[#This Row],[Camp Name]],CL,3,0),\"\")","v":"Close"}]
[11.8,"2012-12-12","UNHCR",null,"Rakhine","Sittwe","Ma Gyi Myaing",null,null,85,null,null,null,null,null,null,null,{"$f":"IF(NFI_Expiration=1,IF($A106<VLOOKUP(H$5,NFI,5,0),1,0)*Table_NFI[[#This Row],[Hygiene Kit]],0)","v":0},{"$f":"IF(NFI_Expiration=1,IF($A106<VLOOKUP(I$5,NFI,5,0),1,0)*Table_NFI[[#This Row],[NFI Core Kit]],0)","v":0},{"$f":"IF(NFI_Expiration=1,IF($A106<VLOOKUP(J$5,NFI,5,0),1,0)*Table_NFI[[#This Row],[Sanitary Kit]],0)","v":85},{"$f":"IF(NFI_Expiration=1,IF($A106<VLOOKUP(K$5,NFI,5,0),1,0)*Table_NFI[[#This Row],[Mosquito net]],0)","v":0},{"$f":"IF(NFI_Expiration=1,IF($A106<VLOOKUP(L$5,NFI,5,0),1,0)*Table_NFI[[#This Row],[Tarpaulin]],0)","v":0},{"$f":"IF(NFI_Expiration=1,IF($A106<VLOOKUP(M$5,NFI,5,0),1,0)*Table_NFI[[#This Row],[Blanket]],0)","v":0},{"$f":"IF(NFI_Expiration=1,IF($A106<VLOOKUP(N$5,NFI,5,0),1,0)*Table_NFI[[#This Row],[Kitchen Set]],0)","v":0},{"$f":"IF(NFI_Expiration=1,IF($A106<VLOOKUP(O$5,NFI,5,0),1,0)*Table_NFI[[#This Row],[Complementary Kit]],0)","v":0},{"$f":"IF(NFI_Expiration=1,IF($A106<VLOOKUP(P$5,NFI,5,0),1,0)*Table_NFI[[#This Row],[Plastic Bucket]],0)","v":0},{"$f":"IF(NFI_Expiration=1,IF($A106<VLOOKUP(Q$5,NFI,5,0),1,0)*Table_NFI[[#This Row],[Plastic Mat]],0)","v":0},{"$f":"IFERROR(VLOOKUP(Table_NFI[[#This Row],[Camp Name]],CL,2,0),\"\")","v":"MMR012CMP053"},{"$f":"IFERROR(VLOOKUP(Table_NFI[[#This Row],[Camp Name]],CL,3,0),\"\")","v":"Close"}]
[11.8,"2012-12-12","UNHCR",null,"Rakhine","Sittwe","Set Yone Su",null,null,195,null,null,null,null,null,null,null,{"$f":"IF(NFI_Expiration=1,IF($A107<VLOOKUP(H$5,NFI,5,0),1,0)*Table_NFI[[#This Row],[Hygiene Kit]],0)","v":0},{"$f":"IF(NFI_Expiration=1,IF($A107<VLOOKUP(I$5,NFI,5,0),1,0)*Table_NFI[[#This Row],[NFI Core Kit]],0)","v":0},{"$f":"IF(NFI_Expiration=1,IF($A107<VLOOKUP(J$5,NFI,5,0),1,0)*Table_NFI[[#This Row],[Sanitary Kit]],0)","v":195},{"$f":"IF(NFI_Expiration=1,IF($A107<VLOOKUP(K$5,NFI,5,0),1,0)*Table_NFI[[#This Row],[Mosquito net]],0)","v":0},{"$f":"IF(NFI_Expiration=1,IF($A107<VLOOKUP(L$5,NFI,5,0),1,0)*Table_NFI[[#This Row],[Tarpaulin]],0)","v":0},{"$f":"IF(NFI_Expiration=1,IF($A107<VLOOKUP(M$5,NFI,5,0),1,0)*Table_NFI[[#This Row],[Blanket]],0)","v":0},{"$f":"IF(NFI_Expiration=1,IF($A107<VLOOKUP(N$5,NFI,5,0),1,0)*Table_NFI[[#This Row],[Kitchen Set]],0)","v":0},{"$f":"IF(NFI_Expiration=1,IF($A107<VLOOKUP(O$5,NFI,5,0),1,0)*Table_NFI[[#This Row],[Complementary Kit]],0)","v":0},{"$f":"IF(NFI_Expiration=1,IF($A107<VLOOKUP(P$5,NFI,5,0),1,0)*Table_NFI[[#This Row],[Plastic Bucket]],0)","v":0},{"$f":"IF(NFI_Expiration=1,IF($A107<VLOOKUP(Q$5,NFI,5,0),1,0)*Table_NFI[[#This Row],[Plastic Mat]],0)","v":0},{"$f":"IFERROR(VLOOKUP(Table_NFI[[#This Row],[Camp Name]],CL,2,0),\"\")","v":"MMR012CMP056"},{"$f":"IFERROR(VLOOKUP(Table_NFI[[#This Row],[Camp Name]],CL,3,0),\"\")","v":"Open"}]
[11.8,"2012-12-12","UNHCR",null,"Rakhine","Sittwe","Mingan",null,null,53,null,null,null,null,null,null,null,{"$f":"IF(NFI_Expiration=1,IF($A108<VLOOKUP(H$5,NFI,5,0),1,0)*Table_NFI[[#This Row],[Hygiene Kit]],0)","v":0},{"$f":"IF(NFI_Expiration=1,IF($A108<VLOOKUP(I$5,NFI,5,0),1,0)*Table_NFI[[#This Row],[NFI Core Kit]],0)","v":0},{"$f":"IF(NFI_Expiration=1,IF($A108<VLOOKUP(J$5,NFI,5,0),1,0)*Table_NFI[[#This Row],[Sanitary Kit]],0)","v":53},{"$f":"IF(NFI_Expiration=1,IF($A108<VLOOKUP(K$5,NFI,5,0),1,0)*Table_NFI[[#This Row],[Mosquito net]],0)","v":0},{"$f":"IF(NFI_Expiration=1,IF($A108<VLOOKUP(L$5,NFI,5,0),1,0)*Table_NFI[[#This Row],[Tarpaulin]],0)","v":0},{"$f":"IF(NFI_Expiration=1,IF($A108<VLOOKUP(M$5,NFI,5,0),1,0)*Table_NFI[[#This Row],[Blanket]],0)","v":0},{"$f":"IF(NFI_Expiration=1,IF($A108<VLOOKUP(N$5,NFI,5,0),1,0)*Table_NFI[[#This Row],[Kitchen Set]],0)","v":0},{"$f":"IF(NFI_Expiration=1,IF($A108<VLOOKUP(O$5,NFI,5,0),1,0)*Table_NFI[[#This Row],[Complementary Kit]],0)","v":0},{"$f":"IF(NFI_Expiration=1,IF($A108<VLOOKUP(P$5,NFI,5,0),1,0)*Table_NFI[[#This Row],[Plastic Bucket]],0)","v":0},{"$f":"IF(NFI_Expiration=1,IF($A108<VLOOKUP(Q$5,NFI,5,0),1,0)*Table_NFI[[#This Row],[Plastic Mat]],0)","v":0},{"$f":"IFERROR(VLOOKUP(Table_NFI[[#This Row],[Camp Name]],CL,2,0),\"\")","v":"MMR012CMP054"},{"$f":"IFERROR(VLOOKUP(Table_NFI[[#This Row],[Camp Name]],CL,3,0),\"\")","v":"Close"}]
[11.8,"2012-12-12","KOICAT","UNHCR","Rakhine","Sittwe","Hmanzi Junction",null,null,null,null,null,50,null,null,null,null,{"$f":"IF(NFI_Expiration=1,IF($A109<VLOOKUP(H$5,NFI,5,0),1,0)*Table_NFI[[#This Row],[Hygiene Kit]],0)","v":0},{"$f":"IF(NFI_Expiration=1,IF($A109<VLOOKUP(I$5,NFI,5,0),1,0)*Table_NFI[[#This Row],[NFI Core Kit]],0)","v":0},{"$f":"IF(NFI_Expiration=1,IF($A109<VLOOKUP(J$5,NFI,5,0),1,0)*Table_NFI[[#This Row],[Sanitary Kit]],0)","v":0},{"$f":"IF(NFI_Expiration=1,IF($A109<VLOOKUP(K$5,NFI,5,0),1,0)*Table_NFI[[#This Row],[Mosquito net]],0)","v":0},{"$f":"IF(NFI_Expiration=1,IF($A109<VLOOKUP(L$5,NFI,5,0),1,0)*Table_NFI[[#This Row],[Tarpaulin]],0)","v":0},{"$f":"IF(NFI_Expiration=1,IF($A109<VLOOKUP(M$5,NFI,5,0),1,0)*Table_NFI[[#This Row],[Blanket]],0)","v":50},{"$f":"IF(NFI_Expiration=1,IF($A109<VLOOKUP(N$5,NFI,5,0),1,0)*Table_NFI[[#This Row],[Kitchen Set]],0)","v":0},{"$f":"IF(NFI_Expiration=1,IF($A109<VLOOKUP(O$5,NFI,5,0),1,0)*Table_NFI[[#This Row],[Complementary Kit]],0)","v":0},{"$f":"IF(NFI_Expiration=1,IF($A109<VLOOKUP(P$5,NFI,5,0),1,0)*Table_NFI[[#This Row],[Plastic Bucket]],0)","v":0},{"$f":"IF(NFI_Expiration=1,IF($A109<VLOOKUP(Q$5,NFI,5,0),1,0)*Table_NFI[[#This Row],[Plastic Mat]],0)","v":0},{"$f":"IFERROR(VLOOKUP(Table_NFI[[#This Row],[Camp Name]],CL,2,0),\"\")","v":"MMR012CMP049"},{"$f":"IFERROR(VLOOKUP(Table_NFI[[#This Row],[Camp Name]],CL,3,0),\"\")","v":"Close"}]
[11.766666666666667,"2012-12-13","UNHCR",null,"Rakhine","Sittwe","Thet Kae Pyin ",null,null,1900,null,null,null,null,null,null,null,{"$f":"IF(NFI_Expiration=1,IF($A110<VLOOKUP(H$5,NFI,5,0),1,0)*Table_NFI[[#This Row],[Hygiene Kit]],0)","v":0},{"$f":"IF(NFI_Expiration=1,IF($A110<VLOOKUP(I$5,NFI,5,0),1,0)*Table_NFI[[#This Row],[NFI Core Kit]],0)","v":0},{"$f":"IF(NFI_Expiration=1,IF($A110<VLOOKUP(J$5,NFI,5,0),1,0)*Table_NFI[[#This Row],[Sanitary Kit]],0)","v":1900},{"$f":"IF(NFI_Expiration=1,IF($A110<VLOOKUP(K$5,NFI,5,0),1,0)*Table_NFI[[#This Row],[Mosquito net]],0)","v":0},{"$f":"IF(NFI_Expiration=1,IF($A110<VLOOKUP(L$5,NFI,5,0),1,0)*Table_NFI[[#This Row],[Tarpaulin]],0)","v":0},{"$f":"IF(NFI_Expiration=1,IF($A110<VLOOKUP(M$5,NFI,5,0),1,0)*Table_NFI[[#This Row],[Blanket]],0)","v":0},{"$f":"IF(NFI_Expiration=1,IF($A110<VLOOKUP(N$5,NFI,5,0),1,0)*Table_NFI[[#This Row],[Kitchen Set]],0)","v":0},{"$f":"IF(NFI_Expiration=1,IF($A110<VLOOKUP(O$5,NFI,5,0),1,0)*Table_NFI[[#This Row],[Complementary Kit]],0)","v":0},{"$f":"IF(NFI_Expiration=1,IF($A110<VLOOKUP(P$5,NFI,5,0),1,0)*Table_NFI[[#This Row],[Plastic Bucket]],0)","v":0},{"$f":"IF(NFI_Expiration=1,IF($A110<VLOOKUP(Q$5,NFI,5,0),1,0)*Table_NFI[[#This Row],[Plastic Mat]],0)","v":0},{"$f":"IFERROR(VLOOKUP(Table_NFI[[#This Row],[Camp Name]],CL,2,0),\"\")","v":"MMR012CMP048"},{"$f":"IFERROR(VLOOKUP(Table_NFI[[#This Row],[Camp Name]],CL,3,0),\"\")","v":"Open"}]
[11.766666666666667,"2012-12-13","UNHCR",null,"Rakhine","Sittwe","Khaung Doke Khar ",null,null,310,null,null,null,null,null,null,null,{"$f":"IF(NFI_Expiration=1,IF($A111<VLOOKUP(H$5,NFI,5,0),1,0)*Table_NFI[[#This Row],[Hygiene Kit]],0)","v":0},{"$f":"IF(NFI_Expiration=1,IF($A111<VLOOKUP(I$5,NFI,5,0),1,0)*Table_NFI[[#This Row],[NFI Core Kit]],0)","v":0},{"$f":"IF(NFI_Expiration=1,IF($A111<VLOOKUP(J$5,NFI,5,0),1,0)*Table_NFI[[#This Row],[Sanitary Kit]],0)","v":310},{"$f":"IF(NFI_Expiration=1,IF($A111<VLOOKUP(K$5,NFI,5,0),1,0)*Table_NFI[[#This Row],[Mosquito net]],0)","v":0},{"$f":"IF(NFI_Expiration=1,IF($A111<VLOOKUP(L$5,NFI,5,0),1,0)*Table_NFI[[#This Row],[Tarpaulin]],0)","v":0},{"$f":"IF(NFI_Expiration=1,IF($A111<VLOOKUP(M$5,NFI,5,0),1,0)*Table_NFI[[#This Row],[Blanket]],0)","v":0},{"$f":"IF(NFI_Expiration=1,IF($A111<VLOOKUP(N$5,NFI,5,0),1,0)*Table_NFI[[#This Row],[Kitchen Set]],0)","v":0},{"$f":"IF(NFI_Expiration=1,IF($A111<VLOOKUP(O$5,NFI,5,0),1,0)*Table_NFI[[#This Row],[Complementary Kit]],0)","v":0},{"$f":"IF(NFI_Expiration=1,IF($A111<VLOOKUP(P$5,NFI,5,0),1,0)*Table_NFI[[#This Row],[Plastic Bucket]],0)","v":0},{"$f":"IF(NFI_Expiration=1,IF($A111<VLOOKUP(Q$5,NFI,5,0),1,0)*Table_NFI[[#This Row],[Plastic Mat]],0)","v":0},{"$f":"IFERROR(VLOOKUP(Table_NFI[[#This Row],[Camp Name]],CL,2,0),\"\")","v":"MMR012CMP042"},{"$f":"IFERROR(VLOOKUP(Table_NFI[[#This Row],[Camp Name]],CL,3,0),\"\")","v":"Open"}]
[11.766666666666667,"2012-12-13","UNHCR",null,"Rakhine","Sittwe","Dar Pai",null,null,1707,null,null,null,null,null,null,null,{"$f":"IF(NFI_Expiration=1,IF($A112<VLOOKUP(H$5,NFI,5,0),1,0)*Table_NFI[[#This Row],[Hygiene Kit]],0)","v":0},{"$f":"IF(NFI_Expiration=1,IF($A112<VLOOKUP(I$5,NFI,5,0),1,0)*Table_NFI[[#This Row],[NFI Core Kit]],0)","v":0},{"$f":"IF(NFI_Expiration=1,IF($A112<VLOOKUP(J$5,NFI,5,0),1,0)*Table_NFI[[#This Row],[Sanitary Kit]],0)","v":1707},{"$f":"IF(NFI_Expiration=1,IF($A112<VLOOKUP(K$5,NFI,5,0),1,0)*Table_NFI[[#This Row],[Mosquito net]],0)","v":0},{"$f":"IF(NFI_Expiration=1,IF($A112<VLOOKUP(L$5,NFI,5,0),1,0)*Table_NFI[[#This Row],[Tarpaulin]],0)","v":0},{"$f":"IF(NFI_Expiration=1,IF($A112<VLOOKUP(M$5,NFI,5,0),1,0)*Table_NFI[[#This Row],[Blanket]],0)","v":0},{"$f":"IF(NFI_Expiration=1,IF($A112<VLOOKUP(N$5,NFI,5,0),1,0)*Table_NFI[[#This Row],[Kitchen Set]],0)","v":0},{"$f":"IF(NFI_Expiration=1,IF($A112<VLOOKUP(O$5,NFI,5,0),1,0)*Table_NFI[[#This Row],[Complementary Kit]],0)","v":0},{"$f":"IF(NFI_Expiration=1,IF($A112<VLOOKUP(P$5,NFI,5,0),1,0)*Table_NFI[[#This Row],[Plastic Bucket]],0)","v":0},{"$f":"IF(NFI_Expiration=1,IF($A112<VLOOKUP(Q$5,NFI,5,0),1,0)*Table_NFI[[#This Row],[Plastic Mat]],0)","v":0},{"$f":"IFERROR(VLOOKUP(Table_NFI[[#This Row],[Camp Name]],CL,2,0),\"\")","v":"MMR012CMP041"},{"$f":"IFERROR(VLOOKUP(Table_NFI[[#This Row],[Camp Name]],CL,3,0),\"\")","v":"Open"}]
[11.766666666666667,"2012-12-13","UNHCR",null,"Rakhine","Sittwe","Thae Chaung",null,null,2813,null,null,null,null,null,null,null,{"$f":"IF(NFI_Expiration=1,IF($A113<VLOOKUP(H$5,NFI,5,0),1,0)*Table_NFI[[#This Row],[Hygiene Kit]],0)","v":0},{"$f":"IF(NFI_Expiration=1,IF($A113<VLOOKUP(I$5,NFI,5,0),1,0)*Table_NFI[[#This Row],[NFI Core Kit]],0)","v":0},{"$f":"IF(NFI_Expiration=1,IF($A113<VLOOKUP(J$5,NFI,5,0),1,0)*Table_NFI[[#This Row],[Sanitary Kit]],0)","v":2813},{"$f":"IF(NFI_Expiration=1,IF($A113<VLOOKUP(K$5,NFI,5,0),1,0)*Table_NFI[[#This Row],[Mosquito net]],0)","v":0},{"$f":"IF(NFI_Expiration=1,IF($A113<VLOOKUP(L$5,NFI,5,0),1,0)*Table_NFI[[#This Row],[Tarpaulin]],0)","v":0},{"$f":"IF(NFI_Expiration=1,IF($A113<VLOOKUP(M$5,NFI,5,0),1,0)*Table_NFI[[#This Row],[Blanket]],0)","v":0},{"$f":"IF(NFI_Expiration=1,IF($A113<VLOOKUP(N$5,NFI,5,0),1,0)*Table_NFI[[#This Row],[Kitchen Set]],0)","v":0},{"$f":"IF(NFI_Expiration=1,IF($A113<VLOOKUP(O$5,NFI,5,0),1,0)*Table_NFI[[#This Row],[Complementary Kit]],0)","v":0},{"$f":"IF(NFI_Expiration=1,IF($A113<VLOOKUP(P$5,NFI,5,0),1,0)*Table_NFI[[#This Row],[Plastic Bucket]],0)","v":0},{"$f":"IF(NFI_Expiration=1,IF($A113<VLOOKUP(Q$5,NFI,5,0),1,0)*Table_NFI[[#This Row],[Plastic Mat]],0)","v":0},{"$f":"IFERROR(VLOOKUP(Table_NFI[[#This Row],[Camp Name]],CL,2,0),\"\")","v":"MMR012CMP046"},{"$f":"IFERROR(VLOOKUP(Table_NFI[[#This Row],[Camp Name]],CL,3,0),\"\")","v":"Open"}]
[11.766666666666667,"2012-12-13","UNHCR",null,"Rakhine","Sittwe","Say Tha Mar Gyi",null,null,1460,null,null,null,null,null,null,null,{"$f":"IF(NFI_Expiration=1,IF($A114<VLOOKUP(H$5,NFI,5,0),1,0)*Table_NFI[[#This Row],[Hygiene Kit]],0)","v":0},{"$f":"IF(NFI_Expiration=1,IF($A114<VLOOKUP(I$5,NFI,5,0),1,0)*Table_NFI[[#This Row],[NFI Core Kit]],0)","v":0},{"$f":"IF(NFI_Expiration=1,IF($A114<VLOOKUP(J$5,NFI,5,0),1,0)*Table_NFI[[#This Row],[Sanitary Kit]],0)","v":1460},{"$f":"IF(NFI_Expiration=1,IF($A114<VLOOKUP(K$5,NFI,5,0),1,0)*Table_NFI[[#This Row],[Mosquito net]],0)","v":0},{"$f":"IF(NFI_Expiration=1,IF($A114<VLOOKUP(L$5,NFI,5,0),1,0)*Table_NFI[[#This Row],[Tarpaulin]],0)","v":0},{"$f":"IF(NFI_Expiration=1,IF($A114<VLOOKUP(M$5,NFI,5,0),1,0)*Table_NFI[[#This Row],[Blanket]],0)","v":0},{"$f":"IF(NFI_Expiration=1,IF($A114<VLOOKUP(N$5,NFI,5,0),1,0)*Table_NFI[[#This Row],[Kitchen Set]],0)","v":0},{"$f":"IF(NFI_Expiration=1,IF($A114<VLOOKUP(O$5,NFI,5,0),1,0)*Table_NFI[[#This Row],[Complementary Kit]],0)","v":0},{"$f":"IF(NFI_Expiration=1,IF($A114<VLOOKUP(P$5,NFI,5,0),1,0)*Table_NFI[[#This Row],[Plastic Bucket]],0)","v":0},{"$f":"IF(NFI_Expiration=1,IF($A114<VLOOKUP(Q$5,NFI,5,0),1,0)*Table_NFI[[#This Row],[Plastic Mat]],0)","v":0},{"$f":"IFERROR(VLOOKUP(Table_NFI[[#This Row],[Camp Name]],CL,2,0),\"\")","v":"MMR012CMP045"},{"$f":"IFERROR(VLOOKUP(Table_NFI[[#This Row],[Camp Name]],CL,3,0),\"\")","v":"Open"}]
[11.766666666666667,"2012-12-13","UNHCR",null,"Rakhine","Sittwe","Phwe Yar Kone",null,null,374,null,null,null,null,null,null,null,{"$f":"IF(NFI_Expiration=1,IF($A115<VLOOKUP(H$5,NFI,5,0),1,0)*Table_NFI[[#This Row],[Hygiene Kit]],0)","v":0},{"$f":"IF(NFI_Expiration=1,IF($A115<VLOOKUP(I$5,NFI,5,0),1,0)*Table_NFI[[#This Row],[NFI Core Kit]],0)","v":0},{"$f":"IF(NFI_Expiration=1,IF($A115<VLOOKUP(J$5,NFI,5,0),1,0)*Table_NFI[[#This Row],[Sanitary Kit]],0)","v":374},{"$f":"IF(NFI_Expiration=1,IF($A115<VLOOKUP(K$5,NFI,5,0),1,0)*Table_NFI[[#This Row],[Mosquito net]],0)","v":0},{"$f":"IF(NFI_Expiration=1,IF($A115<VLOOKUP(L$5,NFI,5,0),1,0)*Table_NFI[[#This Row],[Tarpaulin]],0)","v":0},{"$f":"IF(NFI_Expiration=1,IF($A115<VLOOKUP(M$5,NFI,5,0),1,0)*Table_NFI[[#This Row],[Blanket]],0)","v":0},{"$f":"IF(NFI_Expiration=1,IF($A115<VLOOKUP(N$5,NFI,5,0),1,0)*Table_NFI[[#This Row],[Kitchen Set]],0)","v":0},{"$f":"IF(NFI_Expiration=1,IF($A115<VLOOKUP(O$5,NFI,5,0),1,0)*Table_NFI[[#This Row],[Complementary Kit]],0)","v":0},{"$f":"IF(NFI_Expiration=1,IF($A115<VLOOKUP(P$5,NFI,5,0),1,0)*Table_NFI[[#This Row],[Plastic Bucket]],0)","v":0},{"$f":"IF(NFI_Expiration=1,IF($A115<VLOOKUP(Q$5,NFI,5,0),1,0)*Table_NFI[[#This Row],[Plastic Mat]],0)","v":0},{"$f":"IFERROR(VLOOKUP(Table_NFI[[#This Row],[Camp Name]],CL,2,0),\"\")","v":"MMR012CMP044"},{"$f":"IFERROR(VLOOKUP(Table_NFI[[#This Row],[Camp Name]],CL,3,0),\"\")","v":"Close"}]
[11.766666666666667,"2012-12-13","UNHCR",null,"Rakhine","Sittwe","Baw Du Pha",null,null,2142,null,null,null,null,null,null,null,{"$f":"IF(NFI_Expiration=1,IF($A116<VLOOKUP(H$5,NFI,5,0),1,0)*Table_NFI[[#This Row],[Hygiene Kit]],0)","v":0},{"$f":"IF(NFI_Expiration=1,IF($A116<VLOOKUP(I$5,NFI,5,0),1,0)*Table_NFI[[#This Row],[NFI Core Kit]],0)","v":0},{"$f":"IF(NFI_Expiration=1,IF($A116<VLOOKUP(J$5,NFI,5,0),1,0)*Table_NFI[[#This Row],[Sanitary Kit]],0)","v":2142},{"$f":"IF(NFI_Expiration=1,IF($A116<VLOOKUP(K$5,NFI,5,0),1,0)*Table_NFI[[#This Row],[Mosquito net]],0)","v":0},{"$f":"IF(NFI_Expiration=1,IF($A116<VLOOKUP(L$5,NFI,5,0),1,0)*Table_NFI[[#This Row],[Tarpaulin]],0)","v":0},{"$f":"IF(NFI_Expiration=1,IF($A116<VLOOKUP(M$5,NFI,5,0),1,0)*Table_NFI[[#This Row],[Blanket]],0)","v":0},{"$f":"IF(NFI_Expiration=1,IF($A116<VLOOKUP(N$5,NFI,5,0),1,0)*Table_NFI[[#This Row],[Kitchen Set]],0)","v":0},{"$f":"IF(NFI_Expiration=1,IF($A116<VLOOKUP(O$5,NFI,5,0),1,0)*Table_NFI[[#This Row],[Complementary Kit]],0)","v":0},{"$f":"IF(NFI_Expiration=1,IF($A116<VLOOKUP(P$5,NFI,5,0),1,0)*Table_NFI[[#This Row],[Plastic Bucket]],0)","v":0},{"$f":"IF(NFI_Expiration=1,IF($A116<VLOOKUP(Q$5,NFI,5,0),1,0)*Table_NFI[[#This Row],[Plastic Mat]],0)","v":0},{"$f":"IFERROR(VLOOKUP(Table_NFI[[#This Row],[Camp Name]],CL,2,0),\"\")","v":"MMR012CMP040"},{"$f":"IFERROR(VLOOKUP(Table_NFI[[#This Row],[Camp Name]],CL,3,0),\"\")","v":"Close"}]
[11.766666666666667,"2012-12-13","UNHCR",null,"Rakhine","Sittwe","Ohn Taw Gyi 1",null,null,65,null,null,null,null,null,null,null,{"$f":"IF(NFI_Expiration=1,IF($A117<VLOOKUP(H$5,NFI,5,0),1,0)*Table_NFI[[#This Row],[Hygiene Kit]],0)","v":0},{"$f":"IF(NFI_Expiration=1,IF($A117<VLOOKUP(I$5,NFI,5,0),1,0)*Table_NFI[[#This Row],[NFI Core Kit]],0)","v":0},{"$f":"IF(NFI_Expiration=1,IF($A117<VLOOKUP(J$5,NFI,5,0),1,0)*Table_NFI[[#This Row],[Sanitary Kit]],0)","v":65},{"$f":"IF(NFI_Expiration=1,IF($A117<VLOOKUP(K$5,NFI,5,0),1,0)*Table_NFI[[#This Row],[Mosquito net]],0)","v":0},{"$f":"IF(NFI_Expiration=1,IF($A117<VLOOKUP(L$5,NFI,5,0),1,0)*Table_NFI[[#This Row],[Tarpaulin]],0)","v":0},{"$f":"IF(NFI_Expiration=1,IF($A117<VLOOKUP(M$5,NFI,5,0),1,0)*Table_NFI[[#This Row],[Blanket]],0)","v":0},{"$f":"IF(NFI_Expiration=1,IF($A117<VLOOKUP(N$5,NFI,5,0),1,0)*Table_NFI[[#This Row],[Kitchen Set]],0)","v":0},{"$f":"IF(NFI_Expiration=1,IF($A117<VLOOKUP(O$5,NFI,5,0),1,0)*Table_NFI[[#This Row],[Complementary Kit]],0)","v":0},{"$f":"IF(NFI_Expiration=1,IF($A117<VLOOKUP(P$5,NFI,5,0),1,0)*Table_NFI[[#This Row],[Plastic Bucket]],0)","v":0},{"$f":"IF(NFI_Expiration=1,IF($A117<VLOOKUP(Q$5,NFI,5,0),1,0)*Table_NFI[[#This Row],[Plastic Mat]],0)","v":0},{"$f":"IFERROR(VLOOKUP(Table_NFI[[#This Row],[Camp Name]],CL,2,0),\"\")","v":"MMR012CMP043"},{"$f":"IFERROR(VLOOKUP(Table_NFI[[#This Row],[Camp Name]],CL,3,0),\"\")","v":"Close"}]
[11.766666666666667,"2012-12-13","UNHCR",null,"Rakhine","Sittwe","Basare",null,null,302,null,null,null,null,null,null,null,{"$f":"IF(NFI_Expiration=1,IF($A118<VLOOKUP(H$5,NFI,5,0),1,0)*Table_NFI[[#This Row],[Hygiene Kit]],0)","v":0},{"$f":"IF(NFI_Expiration=1,IF($A118<VLOOKUP(I$5,NFI,5,0),1,0)*Table_NFI[[#This Row],[NFI Core Kit]],0)","v":0},{"$f":"IF(NFI_Expiration=1,IF($A118<VLOOKUP(J$5,NFI,5,0),1,0)*Table_NFI[[#This Row],[Sanitary Kit]],0)","v":302},{"$f":"IF(NFI_Expiration=1,IF($A118<VLOOKUP(K$5,NFI,5,0),1,0)*Table_NFI[[#This Row],[Mosquito net]],0)","v":0},{"$f":"IF(NFI_Expiration=1,IF($A118<VLOOKUP(L$5,NFI,5,0),1,0)*Table_NFI[[#This Row],[Tarpaulin]],0)","v":0},{"$f":"IF(NFI_Expiration=1,IF($A118<VLOOKUP(M$5,NFI,5,0),1,0)*Table_NFI[[#This Row],[Blanket]],0)","v":0},{"$f":"IF(NFI_Expiration=1,IF($A118<VLOOKUP(N$5,NFI,5,0),1,0)*Table_NFI[[#This Row],[Kitchen Set]],0)","v":0},{"$f":"IF(NFI_Expiration=1,IF($A118<VLOOKUP(O$5,NFI,5,0),1,0)*Table_NFI[[#This Row],[Complementary Kit]],0)","v":0},{"$f":"IF(NFI_Expiration=1,IF($A118<VLOOKUP(P$5,NFI,5,0),1,0)*Table_NFI[[#This Row],[Plastic Bucket]],0)","v":0},{"$f":"IF(NFI_Expiration=1,IF($A118<VLOOKUP(Q$5,NFI,5,0),1,0)*Table_NFI[[#This Row],[Plastic Mat]],0)","v":0},{"$f":"IFERROR(VLOOKUP(Table_NFI[[#This Row],[Camp Name]],CL,2,0),\"\")","v":"MMR012CMP039"},{"$f":"IFERROR(VLOOKUP(Table_NFI[[#This Row],[Camp Name]],CL,3,0),\"\")","v":"Open"}]
[{"$f":"IF(ISBLANK(B119),\"\",(Report_Date-B119)/30)","v":11.766666666666667},"2012-12-13","UNHCR",null,"Rakhine","Kyauktaw","Let Saung Kauk",null,null,null,null,null,18,null,null,null,null,{"$f":"IF(NFI_Expiration=1,IF($A119<VLOOKUP(H$5,NFI,5,0),1,0)*Table_NFI[[#This Row],[Hygiene Kit]],0)","v":0},{"$f":"IF(NFI_Expiration=1,IF($A119<VLOOKUP(I$5,NFI,5,0),1,0)*Table_NFI[[#This Row],[NFI Core Kit]],0)","v":0},{"$f":"IF(NFI_Expiration=1,IF($A119<VLOOKUP(J$5,NFI,5,0),1,0)*Table_NFI[[#This Row],[Sanitary Kit]],0)","v":0},{"$f":"IF(NFI_Expiration=1,IF($A119<VLOOKUP(K$5,NFI,5,0),1,0)*Table_NFI[[#This Row],[Mosquito net]],0)","v":0},{"$f":"IF(NFI_Expiration=1,IF($A119<VLOOKUP(L$5,NFI,5,0),1,0)*Table_NFI[[#This Row],[Tarpaulin]],0)","v":0},{"$f":"IF(NFI_Expiration=1,IF($A119<VLOOKUP(M$5,NFI,5,0),1,0)*Table_NFI[[#This Row],[Blanket]],0)","v":18},{"$f":"IF(NFI_Expiration=1,IF($A119<VLOOKUP(N$5,NFI,5,0),1,0)*Table_NFI[[#This Row],[Kitchen Set]],0)","v":0},{"$f":"IF(NFI_Expiration=1,IF($A119<VLOOKUP(O$5,NFI,5,0),1,0)*Table_NFI[[#This Row],[Complementary Kit]],0)","v":0},{"$f":"IF(NFI_Expiration=1,IF($A119<VLOOKUP(P$5,NFI,5,0),1,0)*Table_NFI[[#This Row],[Plastic Bucket]],0)","v":0},{"$f":"IF(NFI_Expiration=1,IF($A119<VLOOKUP(Q$5,NFI,5,0),1,0)*Table_NFI[[#This Row],[Plastic Mat]],0)","v":0},{"$f":"IFERROR(VLOOKUP(Table_NFI[[#This Row],[Camp Name]],CL,2,0),\"\")","v":"MMR012CMP020"},{"$f":"IFERROR(VLOOKUP(Table_NFI[[#This Row],[Camp Name]],CL,3,0),\"\")","v":"Open"}]
[11.766666666666667,"2012-12-13","UNHCR",null,"Rakhine","Kyauktaw","Ah Lel",null,null,null,null,null,87,null,null,null,null,{"$f":"IF(NFI_Expiration=1,IF($A120<VLOOKUP(H$5,NFI,5,0),1,0)*Table_NFI[[#This Row],[Hygiene Kit]],0)","v":0},{"$f":"IF(NFI_Expiration=1,IF($A120<VLOOKUP(I$5,NFI,5,0),1,0)*Table_NFI[[#This Row],[NFI Core Kit]],0)","v":0},{"$f":"IF(NFI_Expiration=1,IF($A120<VLOOKUP(J$5,NFI,5,0),1,0)*Table_NFI[[#This Row],[Sanitary Kit]],0)","v":0},{"$f":"IF(NFI_Expiration=1,IF($A120<VLOOKUP(K$5,NFI,5,0),1,0)*Table_NFI[[#This Row],[Mosquito net]],0)","v":0},{"$f":"IF(NFI_Expiration=1,IF($A120<VLOOKUP(L$5,NFI,5,0),1,0)*Table_NFI[[#This Row],[Tarpaulin]],0)","v":0},{"$f":"IF(NFI_Expiration=1,IF($A120<VLOOKUP(M$5,NFI,5,0),1,0)*Table_NFI[[#This Row],[Blanket]],0)","v":87},{"$f":"IF(NFI_Expiration=1,IF($A120<VLOOKUP(N$5,NFI,5,0),1,0)*Table_NFI[[#This Row],[Kitchen Set]],0)","v":0},{"$f":"IF(NFI_Expiration=1,IF($A120<VLOOKUP(O$5,NFI,5,0),1,0)*Table_NFI[[#This Row],[Complementary Kit]],0)","v":0},{"$f":"IF(NFI_Expiration=1,IF($A120<VLOOKUP(P$5,NFI,5,0),1,0)*Table_NFI[[#This Row],[Plastic Bucket]],0)","v":0},{"$f":"IF(NFI_Expiration=1,IF($A120<VLOOKUP(Q$5,NFI,5,0),1,0)*Table_NFI[[#This Row],[Plastic Mat]],0)","v":0},{"$f":"IFERROR(VLOOKUP(Table_NFI[[#This Row],[Camp Name]],CL,2,0),\"\")","v":"MMR012CMP022"},{"$f":"IFERROR(VLOOKUP(Table_NFI[[#This Row],[Camp Name]],CL,3,0),\"\")","v":"Open"}]
[11.766666666666667,"2012-12-13","UNHCR",null,"Rakhine","Kyauktaw","In Bar Yi",null,null,null,null,null,60,null,null,null,null,{"$f":"IF(NFI_Expiration=1,IF($A121<VLOOKUP(H$5,NFI,5,0),1,0)*Table_NFI[[#This Row],[Hygiene Kit]],0)","v":0},{"$f":"IF(NFI_Expiration=1,IF($A121<VLOOKUP(I$5,NFI,5,0),1,0)*Table_NFI[[#This Row],[NFI Core Kit]],0)","v":0},{"$f":"IF(NFI_Expiration=1,IF($A121<VLOOKUP(J$5,NFI,5,0),1,0)*Table_NFI[[#This Row],[Sanitary Kit]],0)","v":0},{"$f":"IF(NFI_Expiration=1,IF($A121<VLOOKUP(K$5,NFI,5,0),1,0)*Table_NFI[[#This Row],[Mosquito net]],0)","v":0},{"$f":"IF(NFI_Expiration=1,IF($A121<VLOOKUP(L$5,NFI,5,0),1,0)*Table_NFI[[#This Row],[Tarpaulin]],0)","v":0},{"$f":"IF(NFI_Expiration=1,IF($A121<VLOOKUP(M$5,NFI,5,0),1,0)*Table_NFI[[#This Row],[Blanket]],0)","v":60},{"$f":"IF(NFI_Expiration=1,IF($A121<VLOOKUP(N$5,NFI,5,0),1,0)*Table_NFI[[#This Row],[Kitchen Set]],0)","v":0},{"$f":"IF(NFI_Expiration=1,IF($A121<VLOOKUP(O$5,NFI,5,0),1,0)*Table_NFI[[#This Row],[Complementary Kit]],0)","v":0},{"$f":"IF(NFI_Expiration=1,IF($A121<VLOOKUP(P$5,NFI,5,0),1,0)*Table_NFI[[#This Row],[Plastic Bucket]],0)","v":0},{"$f":"IF(NFI_Expiration=1,IF($A121<VLOOKUP(Q$5,NFI,5,0),1,0)*Table_NFI[[#This Row],[Plastic Mat]],0)","v":0},{"$f":"IFERROR(VLOOKUP(Table_NFI[[#This Row],[Camp Name]],CL,2,0),\"\")","v":"MMR012CMP026"},{"$f":"IFERROR(VLOOKUP(Table_NFI[[#This Row],[Camp Name]],CL,3,0),\"\")","v":"Open"}]
[11.766666666666667,"2012-12-13","UNHCR",null,"Rakhine","Kyauktaw","Goke Pi Htaunt",null,null,null,null,null,86,null,null,null,null,{"$f":"IF(NFI_Expiration=1,IF($A122<VLOOKUP(H$5,NFI,5,0),1,0)*Table_NFI[[#This Row],[Hygiene Kit]],0)","v":0},{"$f":"IF(NFI_Expiration=1,IF($A122<VLOOKUP(I$5,NFI,5,0),1,0)*Table_NFI[[#This Row],[NFI Core Kit]],0)","v":0},{"$f":"IF(NFI_Expiration=1,IF($A122<VLOOKUP(J$5,NFI,5,0),1,0)*Table_NFI[[#This Row],[Sanitary Kit]],0)","v":0},{"$f":"IF(NFI_Expiration=1,IF($A122<VLOOKUP(K$5,NFI,5,0),1,0)*Table_NFI[[#This Row],[Mosquito net]],0)","v":0},{"$f":"IF(NFI_Expiration=1,IF($A122<VLOOKUP(L$5,NFI,5,0),1,0)*Table_NFI[[#This Row],[Tarpaulin]],0)","v":0},{"$f":"IF(NFI_Expiration=1,IF($A122<VLOOKUP(M$5,NFI,5,0),1,0)*Table_NFI[[#This Row],[Blanket]],0)","v":86},{"$f":"IF(NFI_Expiration=1,IF($A122<VLOOKUP(N$5,NFI,5,0),1,0)*Table_NFI[[#This Row],[Kitchen Set]],0)","v":0},{"$f":"IF(NFI_Expiration=1,IF($A122<VLOOKUP(O$5,NFI,5,0),1,0)*Table_NFI[[#This Row],[Complementary Kit]],0)","v":0},{"$f":"IF(NFI_Expiration=1,IF($A122<VLOOKUP(P$5,NFI,5,0),1,0)*Table_NFI[[#This Row],[Plastic Bucket]],0)","v":0},{"$f":"IF(NFI_Expiration=1,IF($A122<VLOOKUP(Q$5,NFI,5,0),1,0)*Table_NFI[[#This Row],[Plastic Mat]],0)","v":0},{"$f":"IFERROR(VLOOKUP(Table_NFI[[#This Row],[Camp Name]],CL,2,0),\"\")","v":"MMR012CMP027"},{"$f":"IFERROR(VLOOKUP(Table_NFI[[#This Row],[Camp Name]],CL,3,0),\"\")","v":"Open"}]
[11.766666666666667,"2012-12-13","UNHCR",null,"Rakhine","Kyauktaw","Ah Pauk Wa ",null,null,null,null,null,90,null,null,null,null,{"$f":"IF(NFI_Expiration=1,IF($A123<VLOOKUP(H$5,NFI,5,0),1,0)*Table_NFI[[#This Row],[Hygiene Kit]],0)","v":0},{"$f":"IF(NFI_Expiration=1,IF($A123<VLOOKUP(I$5,NFI,5,0),1,0)*Table_NFI[[#This Row],[NFI Core Kit]],0)","v":0},{"$f":"IF(NFI_Expiration=1,IF($A123<VLOOKUP(J$5,NFI,5,0),1,0)*Table_NFI[[#This Row],[Sanitary Kit]],0)","v":0},{"$f":"IF(NFI_Expiration=1,IF($A123<VLOOKUP(K$5,NFI,5,0),1,0)*Table_NFI[[#This Row],[Mosquito net]],0)","v":0},{"$f":"IF(NFI_Expiration=1,IF($A123<VLOOKUP(L$5,NFI,5,0),1,0)*Table_NFI[[#This Row],[Tarpaulin]],0)","v":0},{"$f":"IF(NFI_Expiration=1,IF($A123<VLOOKUP(M$5,NFI,5,0),1,0)*Table_NFI[[#This Row],[Blanket]],0)","v":90},{"$f":"IF(NFI_Expiration=1,IF($A123<VLOOKUP(N$5,NFI,5,0),1,0)*Table_NFI[[#This Row],[Kitchen Set]],0)","v":0},{"$f":"IF(NFI_Expiration=1,IF($A123<VLOOKUP(O$5,NFI,5,0),1,0)*Table_NFI[[#This Row],[Complementary Kit]],0)","v":0},{"$f":"IF(NFI_Expiration=1,IF($A123<VLOOKUP(P$5,NFI,5,0),1,0)*Table_NFI[[#This Row],[Plastic Bucket]],0)","v":0},{"$f":"IF(NFI_Expiration=1,IF($A123<VLOOKUP(Q$5,NFI,5,0),1,0)*Table_NFI[[#This Row],[Plastic Mat]],0)","v":0},{"$f":"IFERROR(VLOOKUP(Table_NFI[[#This Row],[Camp Name]],CL,2,0),\"\")","v":"MMR012CMP024"},{"$f":"IFERROR(VLOOKUP(Table_NFI[[#This Row],[Camp Name]],CL,3,0),\"\")","v":"Open"}]
[11.766666666666667,"2012-12-13","UNHCR",null,"Rakhine","Kyauktaw","Yun Nyar",null,null,null,null,null,57,null,null,null,null,{"$f":"IF(NFI_Expiration=1,IF($A124<VLOOKUP(H$5,NFI,5,0),1,0)*Table_NFI[[#This Row],[Hygiene Kit]],0)","v":0},{"$f":"IF(NFI_Expiration=1,IF($A124<VLOOKUP(I$5,NFI,5,0),1,0)*Table_NFI[[#This Row],[NFI Core Kit]],0)","v":0},{"$f":"IF(NFI_Expiration=1,IF($A124<VLOOKUP(J$5,NFI,5,0),1,0)*Table_NFI[[#This Row],[Sanitary Kit]],0)","v":0},{"$f":"IF(NFI_Expiration=1,IF($A124<VLOOKUP(K$5,NFI,5,0),1,0)*Table_NFI[[#This Row],[Mosquito net]],0)","v":0},{"$f":"IF(NFI_Expiration=1,IF($A124<VLOOKUP(L$5,NFI,5,0),1,0)*Table_NFI[[#This Row],[Tarpaulin]],0)","v":0},{"$f":"IF(NFI_Expiration=1,IF($A124<VLOOKUP(M$5,NFI,5,0),1,0)*Table_NFI[[#This Row],[Blanket]],0)","v":57},{"$f":"IF(NFI_Expiration=1,IF($A124<VLOOKUP(N$5,NFI,5,0),1,0)*Table_NFI[[#This Row],[Kitchen Set]],0)","v":0},{"$f":"IF(NFI_Expiration=1,IF($A124<VLOOKUP(O$5,NFI,5,0),1,0)*Table_NFI[[#This Row],[Complementary Kit]],0)","v":0},{"$f":"IF(NFI_Expiration=1,IF($A124<VLOOKUP(P$5,NFI,5,0),1,0)*Table_NFI[[#This Row],[Plastic Bucket]],0)","v":0},{"$f":"IF(NFI_Expiration=1,IF($A124<VLOOKUP(Q$5,NFI,5,0),1,0)*Table_NFI[[#This Row],[Plastic Mat]],0)","v":0},{"$f":"IFERROR(VLOOKUP(Table_NFI[[#This Row],[Camp Name]],CL,2,0),\"\")","v":"MMR012CMP028"},{"$f":"IFERROR(VLOOKUP(Table_NFI[[#This Row],[Camp Name]],CL,3,0),\"\")","v":"Open"}]
[11.766666666666667,"2012-12-13","UNHCR",null,"Rakhine","Kyauktaw","Shwe Hlaing",null,null,null,null,null,128,null,null,null,null,{"$f":"IF(NFI_Expiration=1,IF($A125<VLOOKUP(H$5,NFI,5,0),1,0)*Table_NFI[[#This Row],[Hygiene Kit]],0)","v":0},{"$f":"IF(NFI_Expiration=1,IF($A125<VLOOKUP(I$5,NFI,5,0),1,0)*Table_NFI[[#This Row],[NFI Core Kit]],0)","v":0},{"$f":"IF(NFI_Expiration=1,IF($A125<VLOOKUP(J$5,NFI,5,0),1,0)*Table_NFI[[#This Row],[Sanitary Kit]],0)","v":0},{"$f":"IF(NFI_Expiration=1,IF($A125<VLOOKUP(K$5,NFI,5,0),1,0)*Table_NFI[[#This Row],[Mosquito net]],0)","v":0},{"$f":"IF(NFI_Expiration=1,IF($A125<VLOOKUP(L$5,NFI,5,0),1,0)*Table_NFI[[#This Row],[Tarpaulin]],0)","v":0},{"$f":"IF(NFI_Expiration=1,IF($A125<VLOOKUP(M$5,NFI,5,0),1,0)*Table_NFI[[#This Row],[Blanket]],0)","v":128},{"$f":"IF(NFI_Expiration=1,IF($A125<VLOOKUP(N$5,NFI,5,0),1,0)*Table_NFI[[#This Row],[Kitchen Set]],0)","v":0},{"$f":"IF(NFI_Expiration=1,IF($A125<VLOOKUP(O$5,NFI,5,0),1,0)*Table_NFI[[#This Row],[Complementary Kit]],0)","v":0},{"$f":"IF(NFI_Expiration=1,IF($A125<VLOOKUP(P$5,NFI,5,0),1,0)*Table_NFI[[#This Row],[Plastic Bucket]],0)","v":0},{"$f":"IF(NFI_Expiration=1,IF($A125<VLOOKUP(Q$5,NFI,5,0),1,0)*Table_NFI[[#This Row],[Plastic Mat]],0)","v":0},{"$f":"IFERROR(VLOOKUP(Table_NFI[[#This Row],[Camp Name]],CL,2,0),\"\")","v":"MMR012CMP029"},{"$f":"IFERROR(VLOOKUP(Table_NFI[[#This Row],[Camp Name]],CL,3,0),\"\")","v":"Open"}]
[11.766666666666667,"2012-12-13","UNHCR",null,"Rakhine","Kyauktaw",null,null,null,null,null,null,21,null,null,null,null,{"$f":"IF(NFI_Expiration=1,IF($A126<VLOOKUP(H$5,NFI,5,0),1,0)*Table_NFI[[#This Row],[Hygiene Kit]],0)","v":0},{"$f":"IF(NFI_Expiration=1,IF($A126<VLOOKUP(I$5,NFI,5,0),1,0)*Table_NFI[[#This Row],[NFI Core Kit]],0)","v":0},{"$f":"IF(NFI_Expiration=1,IF($A126<VLOOKUP(J$5,NFI,5,0),1,0)*Table_NFI[[#This Row],[Sanitary Kit]],0)","v":0},{"$f":"IF(NFI_Expiration=1,IF($A126<VLOOKUP(K$5,NFI,5,0),1,0)*Table_NFI[[#This Row],[Mosquito net]],0)","v":0},{"$f":"IF(NFI_Expiration=1,IF($A126<VLOOKUP(L$5,NFI,5,0),1,0)*Table_NFI[[#This Row],[Tarpaulin]],0)","v":0},{"$f":"IF(NFI_Expiration=1,IF($A126<VLOOKUP(M$5,NFI,5,0),1,0)*Table_NFI[[#This Row],[Blanket]],0)","v":21},{"$f":"IF(NFI_Expiration=1,IF($A126<VLOOKUP(N$5,NFI,5,0),1,0)*Table_NFI[[#This Row],[Kitchen Set]],0)","v":0},{"$f":"IF(NFI_Expiration=1,IF($A126<VLOOKUP(O$5,NFI,5,0),1,0)*Table_NFI[[#This Row],[Complementary Kit]],0)","v":0},{"$f":"IF(NFI_Expiration=1,IF($A126<VLOOKUP(P$5,NFI,5,0),1,0)*Table_NFI[[#This Row],[Plastic Bucket]],0)","v":0},{"$f":"IF(NFI_Expiration=1,IF($A126<VLOOKUP(Q$5,NFI,5,0),1,0)*Table_NFI[[#This Row],[Plastic Mat]],0)","v":0},{"$f":"IFERROR(VLOOKUP(Table_NFI[[#This Row],[Camp Name]],CL,2,0),\"\")","v":""},{"$f":"IFERROR(VLOOKUP(Table_NFI[[#This Row],[Camp Name]],CL,3,0),\"\")","v":""}]
[11.766666666666667,"2012-12-13","UNHCR",null,"Rakhine","Minbya","Paik Thay",null,null,null,null,null,2,null,null,null,null,{"$f":"IF(NFI_Expiration=1,IF($A127<VLOOKUP(H$5,NFI,5,0),1,0)*Table_NFI[[#This Row],[Hygiene Kit]],0)","v":0},{"$f":"IF(NFI_Expiration=1,IF($A127<VLOOKUP(I$5,NFI,5,0),1,0)*Table_NFI[[#This Row],[NFI Core Kit]],0)","v":0},{"$f":"IF(NFI_Expiration=1,IF($A127<VLOOKUP(J$5,NFI,5,0),1,0)*Table_NFI[[#This Row],[Sanitary Kit]],0)","v":0},{"$f":"IF(NFI_Expiration=1,IF($A127<VLOOKUP(K$5,NFI,5,0),1,0)*Table_NFI[[#This Row],[Mosquito net]],0)","v":0},{"$f":"IF(NFI_Expiration=1,IF($A127<VLOOKUP(L$5,NFI,5,0),1,0)*Table_NFI[[#This Row],[Tarpaulin]],0)","v":0},{"$f":"IF(NFI_Expiration=1,IF($A127<VLOOKUP(M$5,NFI,5,0),1,0)*Table_NFI[[#This Row],[Blanket]],0)","v":2},{"$f":"IF(NFI_Expiration=1,IF($A127<VLOOKUP(N$5,NFI,5,0),1,0)*Table_NFI[[#This Row],[Kitchen Set]],0)","v":0},{"$f":"IF(NFI_Expiration=1,IF($A127<VLOOKUP(O$5,NFI,5,0),1,0)*Table_NFI[[#This Row],[Complementary Kit]],0)","v":0},{"$f":"IF(NFI_Expiration=1,IF($A127<VLOOKUP(P$5,NFI,5,0),1,0)*Table_NFI[[#This Row],[Plastic Bucket]],0)","v":0},{"$f":"IF(NFI_Expiration=1,IF($A127<VLOOKUP(Q$5,NFI,5,0),1,0)*Table_NFI[[#This Row],[Plastic Mat]],0)","v":0},{"$f":"IFERROR(VLOOKUP(Table_NFI[[#This Row],[Camp Name]],CL,2,0),\"\")","v":"MMR012CMP001"},{"$f":"IFERROR(VLOOKUP(Table_NFI[[#This Row],[Camp Name]],CL,3,0),\"\")","v":"Open"}]
[11.766666666666667,"2012-12-13","UNHCR",null,"Rakhine","Minbya","Tha Dar",null,null,null,null,null,153,null,null,null,null,{"$f":"IF(NFI_Expiration=1,IF($A128<VLOOKUP(H$5,NFI,5,0),1,0)*Table_NFI[[#This Row],[Hygiene Kit]],0)","v":0},{"$f":"IF(NFI_Expiration=1,IF($A128<VLOOKUP(I$5,NFI,5,0),1,0)*Table_NFI[[#This Row],[NFI Core Kit]],0)","v":0},{"$f":"IF(NFI_Expiration=1,IF($A128<VLOOKUP(J$5,NFI,5,0),1,0)*Table_NFI[[#This Row],[Sanitary Kit]],0)","v":0},{"$f":"IF(NFI_Expiration=1,IF($A128<VLOOKUP(K$5,NFI,5,0),1,0)*Table_NFI[[#This Row],[Mosquito net]],0)","v":0},{"$f":"IF(NFI_Expiration=1,IF($A128<VLOOKUP(L$5,NFI,5,0),1,0)*Table_NFI[[#This Row],[Tarpaulin]],0)","v":0},{"$f":"IF(NFI_Expiration=1,IF($A128<VLOOKUP(M$5,NFI,5,0),1,0)*Table_NFI[[#This Row],[Blanket]],0)","v":153},{"$f":"IF(NFI_Expiration=1,IF($A128<VLOOKUP(N$5,NFI,5,0),1,0)*Table_NFI[[#This Row],[Kitchen Set]],0)","v":0},{"$f":"IF(NFI_Expiration=1,IF($A128<VLOOKUP(O$5,NFI,5,0),1,0)*Table_NFI[[#This Row],[Complementary Kit]],0)","v":0},{"$f":"IF(NFI_Expiration=1,IF($A128<VLOOKUP(P$5,NFI,5,0),1,0)*Table_NFI[[#This Row],[Plastic Bucket]],0)","v":0},{"$f":"IF(NFI_Expiration=1,IF($A128<VLOOKUP(Q$5,NFI,5,0),1,0)*Table_NFI[[#This Row],[Plastic Mat]],0)","v":0},{"$f":"IFERROR(VLOOKUP(Table_NFI[[#This Row],[Camp Name]],CL,2,0),\"\")","v":"MMR012CMP002"},{"$f":"IFERROR(VLOOKUP(Table_NFI[[#This Row],[Camp Name]],CL,3,0),\"\")","v":"Open"}]
[11.733333333333333,"2012-12-14","KOICAT","UNHCR","Rakhine","Sittwe","Hmanzi Junction",null,null,null,null,null,55,null,null,null,null,{"$f":"IF(NFI_Expiration=1,IF($A129<VLOOKUP(H$5,NFI,5,0),1,0)*Table_NFI[[#This Row],[Hygiene Kit]],0)","v":0},{"$f":"IF(NFI_Expiration=1,IF($A129<VLOOKUP(I$5,NFI,5,0),1,0)*Table_NFI[[#This Row],[NFI Core Kit]],0)","v":0},{"$f":"IF(NFI_Expiration=1,IF($A129<VLOOKUP(J$5,NFI,5,0),1,0)*Table_NFI[[#This Row],[Sanitary Kit]],0)","v":0},{"$f":"IF(NFI_Expiration=1,IF($A129<VLOOKUP(K$5,NFI,5,0),1,0)*Table_NFI[[#This Row],[Mosquito net]],0)","v":0},{"$f":"IF(NFI_Expiration=1,IF($A129<VLOOKUP(L$5,NFI,5,0),1,0)*Table_NFI[[#This Row],[Tarpaulin]],0)","v":0},{"$f":"IF(NFI_Expiration=1,IF($A129<VLOOKUP(M$5,NFI,5,0),1,0)*Table_NFI[[#This Row],[Blanket]],0)","v":55},{"$f":"IF(NFI_Expiration=1,IF($A129<VLOOKUP(N$5,NFI,5,0),1,0)*Table_NFI[[#This Row],[Kitchen Set]],0)","v":0},{"$f":"IF(NFI_Expiration=1,IF($A129<VLOOKUP(O$5,NFI,5,0),1,0)*Table_NFI[[#This Row],[Complementary Kit]],0)","v":0},{"$f":"IF(NFI_Expiration=1,IF($A129<VLOOKUP(P$5,NFI,5,0),1,0)*Table_NFI[[#This Row],[Plastic Bucket]],0)","v":0},{"$f":"IF(NFI_Expiration=1,IF($A129<VLOOKUP(Q$5,NFI,5,0),1,0)*Table_NFI[[#This Row],[Plastic Mat]],0)","v":0},{"$f":"IFERROR(VLOOKUP(Table_NFI[[#This Row],[Camp Name]],CL,2,0),\"\")","v":"MMR012CMP049"},{"$f":"IFERROR(VLOOKUP(Table_NFI[[#This Row],[Camp Name]],CL,3,0),\"\")","v":"Close"}]
[11.7,"2012-12-15","UNHCR",null,"Rakhine","Minbya","San Htoe Tan",null,null,null,null,null,53,null,null,null,null,{"$f":"IF(NFI_Expiration=1,IF($A130<VLOOKUP(H$5,NFI,5,0),1,0)*Table_NFI[[#This Row],[Hygiene Kit]],0)","v":0},{"$f":"IF(NFI_Expiration=1,IF($A130<VLOOKUP(I$5,NFI,5,0),1,0)*Table_NFI[[#This Row],[NFI Core Kit]],0)","v":0},{"$f":"IF(NFI_Expiration=1,IF($A130<VLOOKUP(J$5,NFI,5,0),1,0)*Table_NFI[[#This Row],[Sanitary Kit]],0)","v":0},{"$f":"IF(NFI_Expiration=1,IF($A130<VLOOKUP(K$5,NFI,5,0),1,0)*Table_NFI[[#This Row],[Mosquito net]],0)","v":0},{"$f":"IF(NFI_Expiration=1,IF($A130<VLOOKUP(L$5,NFI,5,0),1,0)*Table_NFI[[#This Row],[Tarpaulin]],0)","v":0},{"$f":"IF(NFI_Expiration=1,IF($A130<VLOOKUP(M$5,NFI,5,0),1,0)*Table_NFI[[#This Row],[Blanket]],0)","v":53},{"$f":"IF(NFI_Expiration=1,IF($A130<VLOOKUP(N$5,NFI,5,0),1,0)*Table_NFI[[#This Row],[Kitchen Set]],0)","v":0},{"$f":"IF(NFI_Expiration=1,IF($A130<VLOOKUP(O$5,NFI,5,0),1,0)*Table_NFI[[#This Row],[Complementary Kit]],0)","v":0},{"$f":"IF(NFI_Expiration=1,IF($A130<VLOOKUP(P$5,NFI,5,0),1,0)*Table_NFI[[#This Row],[Plastic Bucket]],0)","v":0},{"$f":"IF(NFI_Expiration=1,IF($A130<VLOOKUP(Q$5,NFI,5,0),1,0)*Table_NFI[[#This Row],[Plastic Mat]],0)","v":0},{"$f":"IFERROR(VLOOKUP(Table_NFI[[#This Row],[Camp Name]],CL,2,0),\"\")","v":"MMR012CMP003"},{"$f":"IFERROR(VLOOKUP(Table_NFI[[#This Row],[Camp Name]],CL,3,0),\"\")","v":"Open"}]
[11.7,"2012-12-15","UNHCR",null,"Rakhine","Minbya","Nagara Pauktaw",null,null,null,null,null,156,null,null,null,null,{"$f":"IF(NFI_Expiration=1,IF($A131<VLOOKUP(H$5,NFI,5,0),1,0)*Table_NFI[[#This Row],[Hygiene Kit]],0)","v":0},{"$f":"IF(NFI_Expiration=1,IF($A131<VLOOKUP(I$5,NFI,5,0),1,0)*Table_NFI[[#This Row],[NFI Core Kit]],0)","v":0},{"$f":"IF(NFI_Expiration=1,IF($A131<VLOOKUP(J$5,NFI,5,0),1,0)*Table_NFI[[#This Row],[Sanitary Kit]],0)","v":0},{"$f":"IF(NFI_Expiration=1,IF($A131<VLOOKUP(K$5,NFI,5,0),1,0)*Table_NFI[[#This Row],[Mosquito net]],0)","v":0},{"$f":"IF(NFI_Expiration=1,IF($A131<VLOOKUP(L$5,NFI,5,0),1,0)*Table_NFI[[#This Row],[Tarpaulin]],0)","v":0},{"$f":"IF(NFI_Expiration=1,IF($A131<VLOOKUP(M$5,NFI,5,0),1,0)*Table_NFI[[#This Row],[Blanket]],0)","v":156},{"$f":"IF(NFI_Expiration=1,IF($A131<VLOOKUP(N$5,NFI,5,0),1,0)*Table_NFI[[#This Row],[Kitchen Set]],0)","v":0},{"$f":"IF(NFI_Expiration=1,IF($A131<VLOOKUP(O$5,NFI,5,0),1,0)*Table_NFI[[#This Row],[Complementary Kit]],0)","v":0},{"$f":"IF(NFI_Expiration=1,IF($A131<VLOOKUP(P$5,NFI,5,0),1,0)*Table_NFI[[#This Row],[Plastic Bucket]],0)","v":0},{"$f":"IF(NFI_Expiration=1,IF($A131<VLOOKUP(Q$5,NFI,5,0),1,0)*Table_NFI[[#This Row],[Plastic Mat]],0)","v":0},{"$f":"IFERROR(VLOOKUP(Table_NFI[[#This Row],[Camp Name]],CL,2,0),\"\")","v":"MMR012CMP004"},{"$f":"IFERROR(VLOOKUP(Table_NFI[[#This Row],[Camp Name]],CL,3,0),\"\")","v":"Close"}]
[11.7,"2012-12-15","UNHCR",null,"Rakhine","Minbya","Tha Yet Oak",null,null,null,null,null,35,null,null,null,null,{"$f":"IF(NFI_Expiration=1,IF($A132<VLOOKUP(H$5,NFI,5,0),1,0)*Table_NFI[[#This Row],[Hygiene Kit]],0)","v":0},{"$f":"IF(NFI_Expiration=1,IF($A132<VLOOKUP(I$5,NFI,5,0),1,0)*Table_NFI[[#This Row],[NFI Core Kit]],0)","v":0},{"$f":"IF(NFI_Expiration=1,IF($A132<VLOOKUP(J$5,NFI,5,0),1,0)*Table_NFI[[#This Row],[Sanitary Kit]],0)","v":0},{"$f":"IF(NFI_Expiration=1,IF($A132<VLOOKUP(K$5,NFI,5,0),1,0)*Table_NFI[[#This Row],[Mosquito net]],0)","v":0},{"$f":"IF(NFI_Expiration=1,IF($A132<VLOOKUP(L$5,NFI,5,0),1,0)*Table_NFI[[#This Row],[Tarpaulin]],0)","v":0},{"$f":"IF(NFI_Expiration=1,IF($A132<VLOOKUP(M$5,NFI,5,0),1,0)*Table_NFI[[#This Row],[Blanket]],0)","v":35},{"$f":"IF(NFI_Expiration=1,IF($A132<VLOOKUP(N$5,NFI,5,0),1,0)*Table_NFI[[#This Row],[Kitchen Set]],0)","v":0},{"$f":"IF(NFI_Expiration=1,IF($A132<VLOOKUP(O$5,NFI,5,0),1,0)*Table_NFI[[#This Row],[Complementary Kit]],0)","v":0},{"$f":"IF(NFI_Expiration=1,IF($A132<VLOOKUP(P$5,NFI,5,0),1,0)*Table_NFI[[#This Row],[Plastic Bucket]],0)","v":0},{"$f":"IF(NFI_Expiration=1,IF($A132<VLOOKUP(Q$5,NFI,5,0),1,0)*Table_NFI[[#This Row],[Plastic Mat]],0)","v":0},{"$f":"IFERROR(VLOOKUP(Table_NFI[[#This Row],[Camp Name]],CL,2,0),\"\")","v":"MMR012CMP005"},{"$f":"IFERROR(VLOOKUP(Table_NFI[[#This Row],[Camp Name]],CL,3,0),\"\")","v":"Open"}]
[11.7,"2012-12-15","UNHCR",null,"Rakhine","Minbya","Aung Taing",null,null,null,null,null,65,null,null,null,null,{"$f":"IF(NFI_Expiration=1,IF($A133<VLOOKUP(H$5,NFI,5,0),1,0)*Table_NFI[[#This Row],[Hygiene Kit]],0)","v":0},{"$f":"IF(NFI_Expiration=1,IF($A133<VLOOKUP(I$5,NFI,5,0),1,0)*Table_NFI[[#This Row],[NFI Core Kit]],0)","v":0},{"$f":"IF(NFI_Expiration=1,IF($A133<VLOOKUP(J$5,NFI,5,0),1,0)*Table_NFI[[#This Row],[Sanitary Kit]],0)","v":0},{"$f":"IF(NFI_Expiration=1,IF($A133<VLOOKUP(K$5,NFI,5,0),1,0)*Table_NFI[[#This Row],[Mosquito net]],0)","v":0},{"$f":"IF(NFI_Expiration=1,IF($A133<VLOOKUP(L$5,NFI,5,0),1,0)*Table_NFI[[#This Row],[Tarpaulin]],0)","v":0},{"$f":"IF(NFI_Expiration=1,IF($A133<VLOOKUP(M$5,NFI,5,0),1,0)*Table_NFI[[#This Row],[Blanket]],0)","v":65},{"$f":"IF(NFI_Expiration=1,IF($A133<VLOOKUP(N$5,NFI,5,0),1,0)*Table_NFI[[#This Row],[Kitchen Set]],0)","v":0},{"$f":"IF(NFI_Expiration=1,IF($A133<VLOOKUP(O$5,NFI,5,0),1,0)*Table_NFI[[#This Row],[Complementary Kit]],0)","v":0},{"$f":"IF(NFI_Expiration=1,IF($A133<VLOOKUP(P$5,NFI,5,0),1,0)*Table_NFI[[#This Row],[Plastic Bucket]],0)","v":0},{"$f":"IF(NFI_Expiration=1,IF($A133<VLOOKUP(Q$5,NFI,5,0),1,0)*Table_NFI[[#This Row],[Plastic Mat]],0)","v":0},{"$f":"IFERROR(VLOOKUP(Table_NFI[[#This Row],[Camp Name]],CL,2,0),\"\")","v":"MMR012CMP006"},{"$f":"IFERROR(VLOOKUP(Table_NFI[[#This Row],[Camp Name]],CL,3,0),\"\")","v":"Open"}]
[11.7,"2012-12-15","UNHCR",null,"Rakhine","Minbya","Sam Ba Le",null,null,null,null,null,109,null,null,null,null,{"$f":"IF(NFI_Expiration=1,IF($A134<VLOOKUP(H$5,NFI,5,0),1,0)*Table_NFI[[#This Row],[Hygiene Kit]],0)","v":0},{"$f":"IF(NFI_Expiration=1,IF($A134<VLOOKUP(I$5,NFI,5,0),1,0)*Table_NFI[[#This Row],[NFI Core Kit]],0)","v":0},{"$f":"IF(NFI_Expiration=1,IF($A134<VLOOKUP(J$5,NFI,5,0),1,0)*Table_NFI[[#This Row],[Sanitary Kit]],0)","v":0},{"$f":"IF(NFI_Expiration=1,IF($A134<VLOOKUP(K$5,NFI,5,0),1,0)*Table_NFI[[#This Row],[Mosquito net]],0)","v":0},{"$f":"IF(NFI_Expiration=1,IF($A134<VLOOKUP(L$5,NFI,5,0),1,0)*Table_NFI[[#This Row],[Tarpaulin]],0)","v":0},{"$f":"IF(NFI_Expiration=1,IF($A134<VLOOKUP(M$5,NFI,5,0),1,0)*Table_NFI[[#This Row],[Blanket]],0)","v":109},{"$f":"IF(NFI_Expiration=1,IF($A134<VLOOKUP(N$5,NFI,5,0),1,0)*Table_NFI[[#This Row],[Kitchen Set]],0)","v":0},{"$f":"IF(NFI_Expiration=1,IF($A134<VLOOKUP(O$5,NFI,5,0),1,0)*Table_NFI[[#This Row],[Complementary Kit]],0)","v":0},{"$f":"IF(NFI_Expiration=1,IF($A134<VLOOKUP(P$5,NFI,5,0),1,0)*Table_NFI[[#This Row],[Plastic Bucket]],0)","v":0},{"$f":"IF(NFI_Expiration=1,IF($A134<VLOOKUP(Q$5,NFI,5,0),1,0)*Table_NFI[[#This Row],[Plastic Mat]],0)","v":0},{"$f":"IFERROR(VLOOKUP(Table_NFI[[#This Row],[Camp Name]],CL,2,0),\"\")","v":"MMR012CMP008"},{"$f":"IFERROR(VLOOKUP(Table_NFI[[#This Row],[Camp Name]],CL,3,0),\"\")","v":"Open"}]
[11.7,"2012-12-15","UNHCR",null,"Rakhine","Mrauk_U","Pa Rein",null,null,null,null,null,240,null,null,null,null,{"$f":"IF(NFI_Expiration=1,IF($A135<VLOOKUP(H$5,NFI,5,0),1,0)*Table_NFI[[#This Row],[Hygiene Kit]],0)","v":0},{"$f":"IF(NFI_Expiration=1,IF($A135<VLOOKUP(I$5,NFI,5,0),1,0)*Table_NFI[[#This Row],[NFI Core Kit]],0)","v":0},{"$f":"IF(NFI_Expiration=1,IF($A135<VLOOKUP(J$5,NFI,5,0),1,0)*Table_NFI[[#This Row],[Sanitary Kit]],0)","v":0},{"$f":"IF(NFI_Expiration=1,IF($A135<VLOOKUP(K$5,NFI,5,0),1,0)*Table_NFI[[#This Row],[Mosquito net]],0)","v":0},{"$f":"IF(NFI_Expiration=1,IF($A135<VLOOKUP(L$5,NFI,5,0),1,0)*Table_NFI[[#This Row],[Tarpaulin]],0)","v":0},{"$f":"IF(NFI_Expiration=1,IF($A135<VLOOKUP(M$5,NFI,5,0),1,0)*Table_NFI[[#This Row],[Blanket]],0)","v":240},{"$f":"IF(NFI_Expiration=1,IF($A135<VLOOKUP(N$5,NFI,5,0),1,0)*Table_NFI[[#This Row],[Kitchen Set]],0)","v":0},{"$f":"IF(NFI_Expiration=1,IF($A135<VLOOKUP(O$5,NFI,5,0),1,0)*Table_NFI[[#This Row],[Complementary Kit]],0)","v":0},{"$f":"IF(NFI_Expiration=1,IF($A135<VLOOKUP(P$5,NFI,5,0),1,0)*Table_NFI[[#This Row],[Plastic Bucket]],0)","v":0},{"$f":"IF(NFI_Expiration=1,IF($A135<VLOOKUP(Q$5,NFI,5,0),1,0)*Table_NFI[[#This Row],[Plastic Mat]],0)","v":0},{"$f":"IFERROR(VLOOKUP(Table_NFI[[#This Row],[Camp Name]],CL,2,0),\"\")","v":"MMR012CMP009"},{"$f":"IFERROR(VLOOKUP(Table_NFI[[#This Row],[Camp Name]],CL,3,0),\"\")","v":"Open"}]
[11.7,"2012-12-15","UNHCR",null,"Rakhine","Mrauk_U","Yai Thei-Muslim",null,null,null,null,null,260,null,null,null,null,{"$f":"IF(NFI_Expiration=1,IF($A136<VLOOKUP(H$5,NFI,5,0),1,0)*Table_NFI[[#This Row],[Hygiene Kit]],0)","v":0},{"$f":"IF(NFI_Expiration=1,IF($A136<VLOOKUP(I$5,NFI,5,0),1,0)*Table_NFI[[#This Row],[NFI Core Kit]],0)","v":0},{"$f":"IF(NFI_Expiration=1,IF($A136<VLOOKUP(J$5,NFI,5,0),1,0)*Table_NFI[[#This Row],[Sanitary Kit]],0)","v":0},{"$f":"IF(NFI_Expiration=1,IF($A136<VLOOKUP(K$5,NFI,5,0),1,0)*Table_NFI[[#This Row],[Mosquito net]],0)","v":0},{"$f":"IF(NFI_Expiration=1,IF($A136<VLOOKUP(L$5,NFI,5,0),1,0)*Table_NFI[[#This Row],[Tarpaulin]],0)","v":0},{"$f":"IF(NFI_Expiration=1,IF($A136<VLOOKUP(M$5,NFI,5,0),1,0)*Table_NFI[[#This Row],[Blanket]],0)","v":260},{"$f":"IF(NFI_Expiration=1,IF($A136<VLOOKUP(N$5,NFI,5,0),1,0)*Table_NFI[[#This Row],[Kitchen Set]],0)","v":0},{"$f":"IF(NFI_Expiration=1,IF($A136<VLOOKUP(O$5,NFI,5,0),1,0)*Table_NFI[[#This Row],[Complementary Kit]],0)","v":0},{"$f":"IF(NFI_Expiration=1,IF($A136<VLOOKUP(P$5,NFI,5,0),1,0)*Table_NFI[[#This Row],[Plastic Bucket]],0)","v":0},{"$f":"IF(NFI_Expiration=1,IF($A136<VLOOKUP(Q$5,NFI,5,0),1,0)*Table_NFI[[#This Row],[Plastic Mat]],0)","v":0},{"$f":"IFERROR(VLOOKUP(Table_NFI[[#This Row],[Camp Name]],CL,2,0),\"\")","v":"MMR012CMP010"},{"$f":"IFERROR(VLOOKUP(Table_NFI[[#This Row],[Camp Name]],CL,3,0),\"\")","v":"Open"}]
[11.666666666666666,"2012-12-16","KOICAT","UNHCR","Rakhine","Sittwe","Hmanzi Junction",null,null,null,null,null,49,null,null,null,null,{"$f":"IF(NFI_Expiration=1,IF($A137<VLOOKUP(H$5,NFI,5,0),1,0)*Table_NFI[[#This Row],[Hygiene Kit]],0)","v":0},{"$f":"IF(NFI_Expiration=1,IF($A137<VLOOKUP(I$5,NFI,5,0),1,0)*Table_NFI[[#This Row],[NFI Core Kit]],0)","v":0},{"$f":"IF(NFI_Expiration=1,IF($A137<VLOOKUP(J$5,NFI,5,0),1,0)*Table_NFI[[#This Row],[Sanitary Kit]],0)","v":0},{"$f":"IF(NFI_Expiration=1,IF($A137<VLOOKUP(K$5,NFI,5,0),1,0)*Table_NFI[[#This Row],[Mosquito net]],0)","v":0},{"$f":"IF(NFI_Expiration=1,IF($A137<VLOOKUP(L$5,NFI,5,0),1,0)*Table_NFI[[#This Row],[Tarpaulin]],0)","v":0},{"$f":"IF(NFI_Expiration=1,IF($A137<VLOOKUP(M$5,NFI,5,0),1,0)*Table_NFI[[#This Row],[Blanket]],0)","v":49},{"$f":"IF(NFI_Expiration=1,IF($A137<VLOOKUP(N$5,NFI,5,0),1,0)*Table_NFI[[#This Row],[Kitchen Set]],0)","v":0},{"$f":"IF(NFI_Expiration=1,IF($A137<VLOOKUP(O$5,NFI,5,0),1,0)*Table_NFI[[#This Row],[Complementary Kit]],0)","v":0},{"$f":"IF(NFI_Expiration=1,IF($A137<VLOOKUP(P$5,NFI,5,0),1,0)*Table_NFI[[#This Row],[Plastic Bucket]],0)","v":0},{"$f":"IF(NFI_Expiration=1,IF($A137<VLOOKUP(Q$5,NFI,5,0),1,0)*Table_NFI[[#This Row],[Plastic Mat]],0)","v":0},{"$f":"IFERROR(VLOOKUP(Table_NFI[[#This Row],[Camp Name]],CL,2,0),\"\")","v":"MMR012CMP049"},{"$f":"IFERROR(VLOOKUP(Table_NFI[[#This Row],[Camp Name]],CL,3,0),\"\")","v":"Close"}]
[11.666666666666666,"2012-12-16","KOICAT","UNHCR","Rakhine","Sittwe","Hmanzi Junction",null,null,null,null,null,11,null,null,null,null,{"$f":"IF(NFI_Expiration=1,IF($A138<VLOOKUP(H$5,NFI,5,0),1,0)*Table_NFI[[#This Row],[Hygiene Kit]],0)","v":0},{"$f":"IF(NFI_Expiration=1,IF($A138<VLOOKUP(I$5,NFI,5,0),1,0)*Table_NFI[[#This Row],[NFI Core Kit]],0)","v":0},{"$f":"IF(NFI_Expiration=1,IF($A138<VLOOKUP(J$5,NFI,5,0),1,0)*Table_NFI[[#This Row],[Sanitary Kit]],0)","v":0},{"$f":"IF(NFI_Expiration=1,IF($A138<VLOOKUP(K$5,NFI,5,0),1,0)*Table_NFI[[#This Row],[Mosquito net]],0)","v":0},{"$f":"IF(NFI_Expiration=1,IF($A138<VLOOKUP(L$5,NFI,5,0),1,0)*Table_NFI[[#This Row],[Tarpaulin]],0)","v":0},{"$f":"IF(NFI_Expiration=1,IF($A138<VLOOKUP(M$5,NFI,5,0),1,0)*Table_NFI[[#This Row],[Blanket]],0)","v":11},{"$f":"IF(NFI_Expiration=1,IF($A138<VLOOKUP(N$5,NFI,5,0),1,0)*Table_NFI[[#This Row],[Kitchen Set]],0)","v":0},{"$f":"IF(NFI_Expiration=1,IF($A138<VLOOKUP(O$5,NFI,5,0),1,0)*Table_NFI[[#This Row],[Complementary Kit]],0)","v":0},{"$f":"IF(NFI_Expiration=1,IF($A138<VLOOKUP(P$5,NFI,5,0),1,0)*Table_NFI[[#This Row],[Plastic Bucket]],0)","v":0},{"$f":"IF(NFI_Expiration=1,IF($A138<VLOOKUP(Q$5,NFI,5,0),1,0)*Table_NFI[[#This Row],[Plastic Mat]],0)","v":0},{"$f":"IFERROR(VLOOKUP(Table_NFI[[#This Row],[Camp Name]],CL,2,0),\"\")","v":"MMR012CMP049"},{"$f":"IFERROR(VLOOKUP(Table_NFI[[#This Row],[Camp Name]],CL,3,0),\"\")","v":"Close"}]
[11.633333333333333,"2012-12-17","UNHCR",null,"Rakhine","Minbya","Thay Kan",null,null,null,null,33,null,null,null,null,null,{"$f":"IF(NFI_Expiration=1,IF($A139<VLOOKUP(H$5,NFI,5,0),1,0)*Table_NFI[[#This Row],[Hygiene Kit]],0)","v":0},{"$f":"IF(NFI_Expiration=1,IF($A139<VLOOKUP(I$5,NFI,5,0),1,0)*Table_NFI[[#This Row],[NFI Core Kit]],0)","v":0},{"$f":"IF(NFI_Expiration=1,IF($A139<VLOOKUP(J$5,NFI,5,0),1,0)*Table_NFI[[#This Row],[Sanitary Kit]],0)","v":0},{"$f":"IF(NFI_Expiration=1,IF($A139<VLOOKUP(K$5,NFI,5,0),1,0)*Table_NFI[[#This Row],[Mosquito net]],0)","v":0},{"$f":"IF(NFI_Expiration=1,IF($A139<VLOOKUP(L$5,NFI,5,0),1,0)*Table_NFI[[#This Row],[Tarpaulin]],0)","v":33},{"$f":"IF(NFI_Expiration=1,IF($A139<VLOOKUP(M$5,NFI,5,0),1,0)*Table_NFI[[#This Row],[Blanket]],0)","v":0},{"$f":"IF(NFI_Expiration=1,IF($A139<VLOOKUP(N$5,NFI,5,0),1,0)*Table_NFI[[#This Row],[Kitchen Set]],0)","v":0},{"$f":"IF(NFI_Expiration=1,IF($A139<VLOOKUP(O$5,NFI,5,0),1,0)*Table_NFI[[#This Row],[Complementary Kit]],0)","v":0},{"$f":"IF(NFI_Expiration=1,IF($A139<VLOOKUP(P$5,NFI,5,0),1,0)*Table_NFI[[#This Row],[Plastic Bucket]],0)","v":0},{"$f":"IF(NFI_Expiration=1,IF($A139<VLOOKUP(Q$5,NFI,5,0),1,0)*Table_NFI[[#This Row],[Plastic Mat]],0)","v":0},{"$f":"IFERROR(VLOOKUP(Table_NFI[[#This Row],[Camp Name]],CL,2,0),\"\")","v":"MMR012CMP007"},{"$f":"IFERROR(VLOOKUP(Table_NFI[[#This Row],[Camp Name]],CL,3,0),\"\")","v":"Close"}]
[11.633333333333333,"2012-12-17","UNHCR",null,"Rakhine","Meybon","Taung Paw ",null,null,null,null,73,null,null,null,null,null,{"$f":"IF(NFI_Expiration=1,IF($A140<VLOOKUP(H$5,NFI,5,0),1,0)*Table_NFI[[#This Row],[Hygiene Kit]],0)","v":0},{"$f":"IF(NFI_Expiration=1,IF($A140<VLOOKUP(I$5,NFI,5,0),1,0)*Table_NFI[[#This Row],[NFI Core Kit]],0)","v":0},{"$f":"IF(NFI_Expiration=1,IF($A140<VLOOKUP(J$5,NFI,5,0),1,0)*Table_NFI[[#This Row],[Sanitary Kit]],0)","v":0},{"$f":"IF(NFI_Expiration=1,IF($A140<VLOOKUP(K$5,NFI,5,0),1,0)*Table_NFI[[#This Row],[Mosquito net]],0)","v":0},{"$f":"IF(NFI_Expiration=1,IF($A140<VLOOKUP(L$5,NFI,5,0),1,0)*Table_NFI[[#This Row],[Tarpaulin]],0)","v":73},{"$f":"IF(NFI_Expiration=1,IF($A140<VLOOKUP(M$5,NFI,5,0),1,0)*Table_NFI[[#This Row],[Blanket]],0)","v":0},{"$f":"IF(NFI_Expiration=1,IF($A140<VLOOKUP(N$5,NFI,5,0),1,0)*Table_NFI[[#This Row],[Kitchen Set]],0)","v":0},{"$f":"IF(NFI_Expiration=1,IF($A140<VLOOKUP(O$5,NFI,5,0),1,0)*Table_NFI[[#This Row],[Complementary Kit]],0)","v":0},{"$f":"IF(NFI_Expiration=1,IF($A140<VLOOKUP(P$5,NFI,5,0),1,0)*Table_NFI[[#This Row],[Plastic Bucket]],0)","v":0},{"$f":"IF(NFI_Expiration=1,IF($A140<VLOOKUP(Q$5,NFI,5,0),1,0)*Table_NFI[[#This Row],[Plastic Mat]],0)","v":0},{"$f":"IFERROR(VLOOKUP(Table_NFI[[#This Row],[Camp Name]],CL,2,0),\"\")","v":"MMR012CMP014"},{"$f":"IFERROR(VLOOKUP(Table_NFI[[#This Row],[Camp Name]],CL,3,0),\"\")","v":"Open"}]
[11.6,"2012-12-18","UNHCR",null,"Rakhine","Kyauktaw","Ah Lel",null,null,null,null,23,null,null,null,null,null,{"$f":"IF(NFI_Expiration=1,IF($A141<VLOOKUP(H$5,NFI,5,0),1,0)*Table_NFI[[#This Row],[Hygiene Kit]],0)","v":0},{"$f":"IF(NFI_Expiration=1,IF($A141<VLOOKUP(I$5,NFI,5,0),1,0)*Table_NFI[[#This Row],[NFI Core Kit]],0)","v":0},{"$f":"IF(NFI_Expiration=1,IF($A141<VLOOKUP(J$5,NFI,5,0),1,0)*Table_NFI[[#This Row],[Sanitary Kit]],0)","v":0},{"$f":"IF(NFI_Expiration=1,IF($A141<VLOOKUP(K$5,NFI,5,0),1,0)*Table_NFI[[#This Row],[Mosquito net]],0)","v":0},{"$f":"IF(NFI_Expiration=1,IF($A141<VLOOKUP(L$5,NFI,5,0),1,0)*Table_NFI[[#This Row],[Tarpaulin]],0)","v":23},{"$f":"IF(NFI_Expiration=1,IF($A141<VLOOKUP(M$5,NFI,5,0),1,0)*Table_NFI[[#This Row],[Blanket]],0)","v":0},{"$f":"IF(NFI_Expiration=1,IF($A141<VLOOKUP(N$5,NFI,5,0),1,0)*Table_NFI[[#This Row],[Kitchen Set]],0)","v":0},{"$f":"IF(NFI_Expiration=1,IF($A141<VLOOKUP(O$5,NFI,5,0),1,0)*Table_NFI[[#This Row],[Complementary Kit]],0)","v":0},{"$f":"IF(NFI_Expiration=1,IF($A141<VLOOKUP(P$5,NFI,5,0),1,0)*Table_NFI[[#This Row],[Plastic Bucket]],0)","v":0},{"$f":"IF(NFI_Expiration=1,IF($A141<VLOOKUP(Q$5,NFI,5,0),1,0)*Table_NFI[[#This Row],[Plastic Mat]],0)","v":0},{"$f":"IFERROR(VLOOKUP(Table_NFI[[#This Row],[Camp Name]],CL,2,0),\"\")","v":"MMR012CMP022"},{"$f":"IFERROR(VLOOKUP(Table_NFI[[#This Row],[Camp Name]],CL,3,0),\"\")","v":"Open"}]
[11.6,"2012-12-18","UNHCR",null,"Rakhine","Kyauktaw","Nidin",null,null,null,null,80,null,null,null,null,null,{"$f":"IF(NFI_Expiration=1,IF($A142<VLOOKUP(H$5,NFI,5,0),1,0)*Table_NFI[[#This Row],[Hygiene Kit]],0)","v":0},{"$f":"IF(NFI_Expiration=1,IF($A142<VLOOKUP(I$5,NFI,5,0),1,0)*Table_NFI[[#This Row],[NFI Core Kit]],0)","v":0},{"$f":"IF(NFI_Expiration=1,IF($A142<VLOOKUP(J$5,NFI,5,0),1,0)*Table_NFI[[#This Row],[Sanitary Kit]],0)","v":0},{"$f":"IF(NFI_Expiration=1,IF($A142<VLOOKUP(K$5,NFI,5,0),1,0)*Table_NFI[[#This Row],[Mosquito net]],0)","v":0},{"$f":"IF(NFI_Expiration=1,IF($A142<VLOOKUP(L$5,NFI,5,0),1,0)*Table_NFI[[#This Row],[Tarpaulin]],0)","v":80},{"$f":"IF(NFI_Expiration=1,IF($A142<VLOOKUP(M$5,NFI,5,0),1,0)*Table_NFI[[#This Row],[Blanket]],0)","v":0},{"$f":"IF(NFI_Expiration=1,IF($A142<VLOOKUP(N$5,NFI,5,0),1,0)*Table_NFI[[#This Row],[Kitchen Set]],0)","v":0},{"$f":"IF(NFI_Expiration=1,IF($A142<VLOOKUP(O$5,NFI,5,0),1,0)*Table_NFI[[#This Row],[Complementary Kit]],0)","v":0},{"$f":"IF(NFI_Expiration=1,IF($A142<VLOOKUP(P$5,NFI,5,0),1,0)*Table_NFI[[#This Row],[Plastic Bucket]],0)","v":0},{"$f":"IF(NFI_Expiration=1,IF($A142<VLOOKUP(Q$5,NFI,5,0),1,0)*Table_NFI[[#This Row],[Plastic Mat]],0)","v":0},{"$f":"IFERROR(VLOOKUP(Table_NFI[[#This Row],[Camp Name]],CL,2,0),\"\")","v":"MMR012CMP023"},{"$f":"IFERROR(VLOOKUP(Table_NFI[[#This Row],[Camp Name]],CL,3,0),\"\")","v":"Open"}]
[11.433333333333334,"2012-12-23","UNHCR",null,"Rakhine","Maungdaw",null,null,null,3000,null,null,null,null,null,null,null,{"$f":"IF(NFI_Expiration=1,IF($A143<VLOOKUP(H$5,NFI,5,0),1,0)*Table_NFI[[#This Row],[Hygiene Kit]],0)","v":0},{"$f":"IF(NFI_Expiration=1,IF($A143<VLOOKUP(I$5,NFI,5,0),1,0)*Table_NFI[[#This Row],[NFI Core Kit]],0)","v":0},{"$f":"IF(NFI_Expiration=1,IF($A143<VLOOKUP(J$5,NFI,5,0),1,0)*Table_NFI[[#This Row],[Sanitary Kit]],0)","v":3000},{"$f":"IF(NFI_Expiration=1,IF($A143<VLOOKUP(K$5,NFI,5,0),1,0)*Table_NFI[[#This Row],[Mosquito net]],0)","v":0},{"$f":"IF(NFI_Expiration=1,IF($A143<VLOOKUP(L$5,NFI,5,0),1,0)*Table_NFI[[#This Row],[Tarpaulin]],0)","v":0},{"$f":"IF(NFI_Expiration=1,IF($A143<VLOOKUP(M$5,NFI,5,0),1,0)*Table_NFI[[#This Row],[Blanket]],0)","v":0},{"$f":"IF(NFI_Expiration=1,IF($A143<VLOOKUP(N$5,NFI,5,0),1,0)*Table_NFI[[#This Row],[Kitchen Set]],0)","v":0},{"$f":"IF(NFI_Expiration=1,IF($A143<VLOOKUP(O$5,NFI,5,0),1,0)*Table_NFI[[#This Row],[Complementary Kit]],0)","v":0},{"$f":"IF(NFI_Expiration=1,IF($A143<VLOOKUP(P$5,NFI,5,0),1,0)*Table_NFI[[#This Row],[Plastic Bucket]],0)","v":0},{"$f":"IF(NFI_Expiration=1,IF($A143<VLOOKUP(Q$5,NFI,5,0),1,0)*Table_NFI[[#This Row],[Plastic Mat]],0)","v":0},{"$f":"IFERROR(VLOOKUP(Table_NFI[[#This Row],[Camp Name]],CL,2,0),\"\")","v":""},{"$f":"IFERROR(VLOOKUP(Table_NFI[[#This Row],[Camp Name]],CL,3,0),\"\")","v":""}]
[11.433333333333334,"2012-12-23","UNHCR",null,"Rakhine","Maungdaw",null,null,null,null,null,1180,null,null,null,null,null,{"$f":"IF(NFI_Expiration=1,IF($A144<VLOOKUP(H$5,NFI,5,0),1,0)*Table_NFI[[#This Row],[Hygiene Kit]],0)","v":0},{"$f":"IF(NFI_Expiration=1,IF($A144<VLOOKUP(I$5,NFI,5,0),1,0)*Table_NFI[[#This Row],[NFI Core Kit]],0)","v":0},{"$f":"IF(NFI_Expiration=1,IF($A144<VLOOKUP(J$5,NFI,5,0),1,0)*Table_NFI[[#This Row],[Sanitary Kit]],0)","v":0},{"$f":"IF(NFI_Expiration=1,IF($A144<VLOOKUP(K$5,NFI,5,0),1,0)*Table_NFI[[#This Row],[Mosquito net]],0)","v":0},{"$f":"IF(NFI_Expiration=1,IF($A144<VLOOKUP(L$5,NFI,5,0),1,0)*Table_NFI[[#This Row],[Tarpaulin]],0)","v":1180},{"$f":"IF(NFI_Expiration=1,IF($A144<VLOOKUP(M$5,NFI,5,0),1,0)*Table_NFI[[#This Row],[Blanket]],0)","v":0},{"$f":"IF(NFI_Expiration=1,IF($A144<VLOOKUP(N$5,NFI,5,0),1,0)*Table_NFI[[#This Row],[Kitchen Set]],0)","v":0},{"$f":"IF(NFI_Expiration=1,IF($A144<VLOOKUP(O$5,NFI,5,0),1,0)*Table_NFI[[#This Row],[Complementary Kit]],0)","v":0},{"$f":"IF(NFI_Expiration=1,IF($A144<VLOOKUP(P$5,NFI,5,0),1,0)*Table_NFI[[#This Row],[Plastic Bucket]],0)","v":0},{"$f":"IF(NFI_Expiration=1,IF($A144<VLOOKUP(Q$5,NFI,5,0),1,0)*Table_NFI[[#This Row],[Plastic Mat]],0)","v":0},{"$f":"IFERROR(VLOOKUP(Table_NFI[[#This Row],[Camp Name]],CL,2,0),\"\")","v":""},{"$f":"IFERROR(VLOOKUP(Table_NFI[[#This Row],[Camp Name]],CL,3,0),\"\")","v":""}]
[11.4,"2012-12-24","UNHCR",null,"Rakhine","Pauktaw","Ah Nauk Ywe",null,null,null,null,758,null,null,null,null,null,{"$f":"IF(NFI_Expiration=1,IF($A145<VLOOKUP(H$5,NFI,5,0),1,0)*Table_NFI[[#This Row],[Hygiene Kit]],0)","v":0},{"$f":"IF(NFI_Expiration=1,IF($A145<VLOOKUP(I$5,NFI,5,0),1,0)*Table_NFI[[#This Row],[NFI Core Kit]],0)","v":0},{"$f":"IF(NFI_Expiration=1,IF($A145<VLOOKUP(J$5,NFI,5,0),1,0)*Table_NFI[[#This Row],[Sanitary Kit]],0)","v":0},{"$f":"IF(NFI_Expiration=1,IF($A145<VLOOKUP(K$5,NFI,5,0),1,0)*Table_NFI[[#This Row],[Mosquito net]],0)","v":0},{"$f":"IF(NFI_Expiration=1,IF($A145<VLOOKUP(L$5,NFI,5,0),1,0)*Table_NFI[[#This Row],[Tarpaulin]],0)","v":758},{"$f":"IF(NFI_Expiration=1,IF($A145<VLOOKUP(M$5,NFI,5,0),1,0)*Table_NFI[[#This Row],[Blanket]],0)","v":0},{"$f":"IF(NFI_Expiration=1,IF($A145<VLOOKUP(N$5,NFI,5,0),1,0)*Table_NFI[[#This Row],[Kitchen Set]],0)","v":0},{"$f":"IF(NFI_Expiration=1,IF($A145<VLOOKUP(O$5,NFI,5,0),1,0)*Table_NFI[[#This Row],[Complementary Kit]],0)","v":0},{"$f":"IF(NFI_Expiration=1,IF($A145<VLOOKUP(P$5,NFI,5,0),1,0)*Table_NFI[[#This Row],[Plastic Bucket]],0)","v":0},{"$f":"IF(NFI_Expiration=1,IF($A145<VLOOKUP(Q$5,NFI,5,0),1,0)*Table_NFI[[#This Row],[Plastic Mat]],0)","v":0},{"$f":"IFERROR(VLOOKUP(Table_NFI[[#This Row],[Camp Name]],CL,2,0),\"\")","v":"MMR012CMP016"},{"$f":"IFERROR(VLOOKUP(Table_NFI[[#This Row],[Camp Name]],CL,3,0),\"\")","v":"Open"}]
[11.4,"2012-12-24","UNHCR",null,"Rakhine","Pauktaw","Nget Chaung",null,null,null,null,1306,null,null,null,null,null,{"$f":"IF(NFI_Expiration=1,IF($A146<VLOOKUP(H$5,NFI,5,0),1,0)*Table_NFI[[#This Row],[Hygiene Kit]],0)","v":0},{"$f":"IF(NFI_Expiration=1,IF($A146<VLOOKUP(I$5,NFI,5,0),1,0)*Table_NFI[[#This Row],[NFI Core Kit]],0)","v":0},{"$f":"IF(NFI_Expiration=1,IF($A146<VLOOKUP(J$5,NFI,5,0),1,0)*Table_NFI[[#This Row],[Sanitary Kit]],0)","v":0},{"$f":"IF(NFI_Expiration=1,IF($A146<VLOOKUP(K$5,NFI,5,0),1,0)*Table_NFI[[#This Row],[Mosquito net]],0)","v":0},{"$f":"IF(NFI_Expiration=1,IF($A146<VLOOKUP(L$5,NFI,5,0),1,0)*Table_NFI[[#This Row],[Tarpaulin]],0)","v":1306},{"$f":"IF(NFI_Expiration=1,IF($A146<VLOOKUP(M$5,NFI,5,0),1,0)*Table_NFI[[#This Row],[Blanket]],0)","v":0},{"$f":"IF(NFI_Expiration=1,IF($A146<VLOOKUP(N$5,NFI,5,0),1,0)*Table_NFI[[#This Row],[Kitchen Set]],0)","v":0},{"$f":"IF(NFI_Expiration=1,IF($A146<VLOOKUP(O$5,NFI,5,0),1,0)*Table_NFI[[#This Row],[Complementary Kit]],0)","v":0},{"$f":"IF(NFI_Expiration=1,IF($A146<VLOOKUP(P$5,NFI,5,0),1,0)*Table_NFI[[#This Row],[Plastic Bucket]],0)","v":0},{"$f":"IF(NFI_Expiration=1,IF($A146<VLOOKUP(Q$5,NFI,5,0),1,0)*Table_NFI[[#This Row],[Plastic Mat]],0)","v":0},{"$f":"IFERROR(VLOOKUP(Table_NFI[[#This Row],[Camp Name]],CL,2,0),\"\")","v":"MMR012CMP017"},{"$f":"IFERROR(VLOOKUP(Table_NFI[[#This Row],[Camp Name]],CL,3,0),\"\")","v":"Open"}]
[11.4,"2012-12-24","UNHCR",null,"Rakhine","Pauktaw","Sin Tet Maw",null,null,null,null,796,null,null,null,null,null,{"$f":"IF(NFI_Expiration=1,IF($A147<VLOOKUP(H$5,NFI,5,0),1,0)*Table_NFI[[#This Row],[Hygiene Kit]],0)","v":0},{"$f":"IF(NFI_Expiration=1,IF($A147<VLOOKUP(I$5,NFI,5,0),1,0)*Table_NFI[[#This Row],[NFI Core Kit]],0)","v":0},{"$f":"IF(NFI_Expiration=1,IF($A147<VLOOKUP(J$5,NFI,5,0),1,0)*Table_NFI[[#This Row],[Sanitary Kit]],0)","v":0},{"$f":"IF(NFI_Expiration=1,IF($A147<VLOOKUP(K$5,NFI,5,0),1,0)*Table_NFI[[#This Row],[Mosquito net]],0)","v":0},{"$f":"IF(NFI_Expiration=1,IF($A147<VLOOKUP(L$5,NFI,5,0),1,0)*Table_NFI[[#This Row],[Tarpaulin]],0)","v":796},{"$f":"IF(NFI_Expiration=1,IF($A147<VLOOKUP(M$5,NFI,5,0),1,0)*Table_NFI[[#This Row],[Blanket]],0)","v":0},{"$f":"IF(NFI_Expiration=1,IF($A147<VLOOKUP(N$5,NFI,5,0),1,0)*Table_NFI[[#This Row],[Kitchen Set]],0)","v":0},{"$f":"IF(NFI_Expiration=1,IF($A147<VLOOKUP(O$5,NFI,5,0),1,0)*Table_NFI[[#This Row],[Complementary Kit]],0)","v":0},{"$f":"IF(NFI_Expiration=1,IF($A147<VLOOKUP(P$5,NFI,5,0),1,0)*Table_NFI[[#This Row],[Plastic Bucket]],0)","v":0},{"$f":"IF(NFI_Expiration=1,IF($A147<VLOOKUP(Q$5,NFI,5,0),1,0)*Table_NFI[[#This Row],[Plastic Mat]],0)","v":0},{"$f":"IFERROR(VLOOKUP(Table_NFI[[#This Row],[Camp Name]],CL,2,0),\"\")","v":"MMR012CMP019"},{"$f":"IFERROR(VLOOKUP(Table_NFI[[#This Row],[Camp Name]],CL,3,0),\"\")","v":"Open"}]
[11.133333333333333,"2013-01-01","ABCD","ABCD","Rakhine","Minbya","Myat Buddha Mandine Monastery",50,null,null,null,null,null,null,null,null,null,{"$f":"IF(NFI_Expiration=1,IF($A148<VLOOKUP(H$5,NFI,5,0),1,0)*Table_NFI[[#This Row],[Hygiene Kit]],0)","v":50},{"$f":"IF(NFI_Expiration=1,IF($A148<VLOOKUP(I$5,NFI,5,0),1,0)*Table_NFI[[#This Row],[NFI Core Kit]],0)","v":0},{"$f":"IF(NFI_Expiration=1,IF($A148<VLOOKUP(J$5,NFI,5,0),1,0)*Table_NFI[[#This Row],[Sanitary Kit]],0)","v":0},{"$f":"IF(NFI_Expiration=1,IF($A148<VLOOKUP(K$5,NFI,5,0),1,0)*Table_NFI[[#This Row],[Mosquito net]],0)","v":0},{"$f":"IF(NFI_Expiration=1,IF($A148<VLOOKUP(L$5,NFI,5,0),1,0)*Table_NFI[[#This Row],[Tarpaulin]],0)","v":0},{"$f":"IF(NFI_Expiration=1,IF($A148<VLOOKUP(M$5,NFI,5,0),1,0)*Table_NFI[[#This Row],[Blanket]],0)","v":0},{"$f":"IF(NFI_Expiration=1,IF($A148<VLOOKUP(N$5,NFI,5,0),1,0)*Table_NFI[[#This Row],[Kitchen Set]],0)","v":0},{"$f":"IF(NFI_Expiration=1,IF($A148<VLOOKUP(O$5,NFI,5,0),1,0)*Table_NFI[[#This Row],[Complementary Kit]],0)","v":0},{"$f":"IF(NFI_Expiration=1,IF($A148<VLOOKUP(P$5,NFI,5,0),1,0)*Table_NFI[[#This Row],[Plastic Bucket]],0)","v":0},{"$f":"IF(NFI_Expiration=1,IF($A148<VLOOKUP(Q$5,NFI,5,0),1,0)*Table_NFI[[#This Row],[Plastic Mat]],0)","v":0},{"$f":"IFERROR(VLOOKUP(Table_NFI[[#This Row],[Camp Name]],CL,2,0),\"\")","v":"MMR012CMP011"},{"$f":"IFERROR(VLOOKUP(Table_NFI[[#This Row],[Camp Name]],CL,3,0),\"\")","v":"Close"}]
[11.133333333333333,"2013-01-01","ABCD","ABCD","Rakhine","Sittwe","Mingan",80,null,null,null,null,null,null,null,null,null,{"$f":"IF(NFI_Expiration=1,IF($A149<VLOOKUP(H$5,NFI,5,0),1,0)*Table_NFI[[#This Row],[Hygiene Kit]],0)","v":80},{"$f":"IF(NFI_Expiration=1,IF($A149<VLOOKUP(I$5,NFI,5,0),1,0)*Table_NFI[[#This Row],[NFI Core Kit]],0)","v":0},{"$f":"IF(NFI_Expiration=1,IF($A149<VLOOKUP(J$5,NFI,5,0),1,0)*Table_NFI[[#This Row],[Sanitary Kit]],0)","v":0},{"$f":"IF(NFI_Expiration=1,IF($A149<VLOOKUP(K$5,NFI,5,0),1,0)*Table_NFI[[#This Row],[Mosquito net]],0)","v":0},{"$f":"IF(NFI_Expiration=1,IF($A149<VLOOKUP(L$5,NFI,5,0),1,0)*Table_NFI[[#This Row],[Tarpaulin]],0)","v":0},{"$f":"IF(NFI_Expiration=1,IF($A149<VLOOKUP(M$5,NFI,5,0),1,0)*Table_NFI[[#This Row],[Blanket]],0)","v":0},{"$f":"IF(NFI_Expiration=1,IF($A149<VLOOKUP(N$5,NFI,5,0),1,0)*Table_NFI[[#This Row],[Kitchen Set]],0)","v":0},{"$f":"IF(NFI_Expiration=1,IF($A149<VLOOKUP(O$5,NFI,5,0),1,0)*Table_NFI[[#This Row],[Complementary Kit]],0)","v":0},{"$f":"IF(NFI_Expiration=1,IF($A149<VLOOKUP(P$5,NFI,5,0),1,0)*Table_NFI[[#This Row],[Plastic Bucket]],0)","v":0},{"$f":"IF(NFI_Expiration=1,IF($A149<VLOOKUP(Q$5,NFI,5,0),1,0)*Table_NFI[[#This Row],[Plastic Mat]],0)","v":0},{"$f":"IFERROR(VLOOKUP(Table_NFI[[#This Row],[Camp Name]],CL,2,0),\"\")","v":"MMR012CMP054"},{"$f":"IFERROR(VLOOKUP(Table_NFI[[#This Row],[Camp Name]],CL,3,0),\"\")","v":"Close"}]
[11.133333333333333,"2013-01-01","ABCD","ABCD","Rakhine","Sittwe","Set Yone Su",220,null,null,null,null,null,null,null,null,null,{"$f":"IF(NFI_Expiration=1,IF($A150<VLOOKUP(H$5,NFI,5,0),1,0)*Table_NFI[[#This Row],[Hygiene Kit]],0)","v":220},{"$f":"IF(NFI_Expiration=1,IF($A150<VLOOKUP(I$5,NFI,5,0),1,0)*Table_NFI[[#This Row],[NFI Core Kit]],0)","v":0},{"$f":"IF(NFI_Expiration=1,IF($A150<VLOOKUP(J$5,NFI,5,0),1,0)*Table_NFI[[#This Row],[Sanitary Kit]],0)","v":0},{"$f":"IF(NFI_Expiration=1,IF($A150<VLOOKUP(K$5,NFI,5,0),1,0)*Table_NFI[[#This Row],[Mosquito net]],0)","v":0},{"$f":"IF(NFI_Expiration=1,IF($A150<VLOOKUP(L$5,NFI,5,0),1,0)*Table_NFI[[#This Row],[Tarpaulin]],0)","v":0},{"$f":"IF(NFI_Expiration=1,IF($A150<VLOOKUP(M$5,NFI,5,0),1,0)*Table_NFI[[#This Row],[Blanket]],0)","v":0},{"$f":"IF(NFI_Expiration=1,IF($A150<VLOOKUP(N$5,NFI,5,0),1,0)*Table_NFI[[#This Row],[Kitchen Set]],0)","v":0},{"$f":"IF(NFI_Expiration=1,IF($A150<VLOOKUP(O$5,NFI,5,0),1,0)*Table_NFI[[#This Row],[Complementary Kit]],0)","v":0},{"$f":"IF(NFI_Expiration=1,IF($A150<VLOOKUP(P$5,NFI,5,0),1,0)*Table_NFI[[#This Row],[Plastic Bucket]],0)","v":0},{"$f":"IF(NFI_Expiration=1,IF($A150<VLOOKUP(Q$5,NFI,5,0),1,0)*Table_NFI[[#This Row],[Plastic Mat]],0)","v":0},{"$f":"IFERROR(VLOOKUP(Table_NFI[[#This Row],[Camp Name]],CL,2,0),\"\")","v":"MMR012CMP056"},{"$f":"IFERROR(VLOOKUP(Table_NFI[[#This Row],[Camp Name]],CL,3,0),\"\")","v":"Open"}]
[11.133333333333333,"2013-01-01","Solidarites International","Solidarities International","Rakhine","Sittwe","Set Yone Su",220,null,null,null,null,null,null,null,null,null,{"$f":"IF(NFI_Expiration=1,IF($A151<VLOOKUP(H$5,NFI,5,0),1,0)*Table_NFI[[#This Row],[Hygiene Kit]],0)","v":220},{"$f":"IF(NFI_Expiration=1,IF($A151<VLOOKUP(I$5,NFI,5,0),1,0)*Table_NFI[[#This Row],[NFI Core Kit]],0)","v":0},{"$f":"IF(NFI_Expiration=1,IF($A151<VLOOKUP(J$5,NFI,5,0),1,0)*Table_NFI[[#This Row],[Sanitary Kit]],0)","v":0},{"$f":"IF(NFI_Expiration=1,IF($A151<VLOOKUP(K$5,NFI,5,0),1,0)*Table_NFI[[#This Row],[Mosquito net]],0)","v":0},{"$f":"IF(NFI_Expiration=1,IF($A151<VLOOKUP(L$5,NFI,5,0),1,0)*Table_NFI[[#This Row],[Tarpaulin]],0)","v":0},{"$f":"IF(NFI_Expiration=1,IF($A151<VLOOKUP(M$5,NFI,5,0),1,0)*Table_NFI[[#This Row],[Blanket]],0)","v":0},{"$f":"IF(NFI_Expiration=1,IF($A151<VLOOKUP(N$5,NFI,5,0),1,0)*Table_NFI[[#This Row],[Kitchen Set]],0)","v":0},{"$f":"IF(NFI_Expiration=1,IF($A151<VLOOKUP(O$5,NFI,5,0),1,0)*Table_NFI[[#This Row],[Complementary Kit]],0)","v":0},{"$f":"IF(NFI_Expiration=1,IF($A151<VLOOKUP(P$5,NFI,5,0),1,0)*Table_NFI[[#This Row],[Plastic Bucket]],0)","v":0},{"$f":"IF(NFI_Expiration=1,IF($A151<VLOOKUP(Q$5,NFI,5,0),1,0)*Table_NFI[[#This Row],[Plastic Mat]],0)","v":0},{"$f":"IFERROR(VLOOKUP(Table_NFI[[#This Row],[Camp Name]],CL,2,0),\"\")","v":"MMR012CMP056"},{"$f":"IFERROR(VLOOKUP(Table_NFI[[#This Row],[Camp Name]],CL,3,0),\"\")","v":"Open"}]
[11.133333333333333,"2013-01-01","CDN","CDN","Rakhine","Sittwe","Basare",20,null,null,null,null,null,null,null,null,null,{"$f":"IF(NFI_Expiration=1,IF($A152<VLOOKUP(H$5,NFI,5,0),1,0)*Table_NFI[[#This Row],[Hygiene Kit]],0)","v":20},{"$f":"IF(NFI_Expiration=1,IF($A152<VLOOKUP(I$5,NFI,5,0),1,0)*Table_NFI[[#This Row],[NFI Core Kit]],0)","v":0},{"$f":"IF(NFI_Expiration=1,IF($A152<VLOOKUP(J$5,NFI,5,0),1,0)*Table_NFI[[#This Row],[Sanitary Kit]],0)","v":0},{"$f":"IF(NFI_Expiration=1,IF($A152<VLOOKUP(K$5,NFI,5,0),1,0)*Table_NFI[[#This Row],[Mosquito net]],0)","v":0},{"$f":"IF(NFI_Expiration=1,IF($A152<VLOOKUP(L$5,NFI,5,0),1,0)*Table_NFI[[#This Row],[Tarpaulin]],0)","v":0},{"$f":"IF(NFI_Expiration=1,IF($A152<VLOOKUP(M$5,NFI,5,0),1,0)*Table_NFI[[#This Row],[Blanket]],0)","v":0},{"$f":"IF(NFI_Expiration=1,IF($A152<VLOOKUP(N$5,NFI,5,0),1,0)*Table_NFI[[#This Row],[Kitchen Set]],0)","v":0},{"$f":"IF(NFI_Expiration=1,IF($A152<VLOOKUP(O$5,NFI,5,0),1,0)*Table_NFI[[#This Row],[Complementary Kit]],0)","v":0},{"$f":"IF(NFI_Expiration=1,IF($A152<VLOOKUP(P$5,NFI,5,0),1,0)*Table_NFI[[#This Row],[Plastic Bucket]],0)","v":0},{"$f":"IF(NFI_Expiration=1,IF($A152<VLOOKUP(Q$5,NFI,5,0),1,0)*Table_NFI[[#This Row],[Plastic Mat]],0)","v":0},{"$f":"IFERROR(VLOOKUP(Table_NFI[[#This Row],[Camp Name]],CL,2,0),\"\")","v":"MMR012CMP039"},{"$f":"IFERROR(VLOOKUP(Table_NFI[[#This Row],[Camp Name]],CL,3,0),\"\")","v":"Open"}]
[11.133333333333333,"2013-01-01","Solidarites International","Solidarities International","Rakhine","Sittwe","Dar Pai",3758,null,null,null,null,null,null,null,null,null,{"$f":"IF(NFI_Expiration=1,IF($A153<VLOOKUP(H$5,NFI,5,0),1,0)*Table_NFI[[#This Row],[Hygiene Kit]],0)","v":3758},{"$f":"IF(NFI_Expiration=1,IF($A153<VLOOKUP(I$5,NFI,5,0),1,0)*Table_NFI[[#This Row],[NFI Core Kit]],0)","v":0},{"$f":"IF(NFI_Expiration=1,IF($A153<VLOOKUP(J$5,NFI,5,0),1,0)*Table_NFI[[#This Row],[Sanitary Kit]],0)","v":0},{"$f":"IF(NFI_Expiration=1,IF($A153<VLOOKUP(K$5,NFI,5,0),1,0)*Table_NFI[[#This Row],[Mosquito net]],0)","v":0},{"$f":"IF(NFI_Expiration=1,IF($A153<VLOOKUP(L$5,NFI,5,0),1,0)*Table_NFI[[#This Row],[Tarpaulin]],0)","v":0},{"$f":"IF(NFI_Expiration=1,IF($A153<VLOOKUP(M$5,NFI,5,0),1,0)*Table_NFI[[#This Row],[Blanket]],0)","v":0},{"$f":"IF(NFI_Expiration=1,IF($A153<VLOOKUP(N$5,NFI,5,0),1,0)*Table_NFI[[#This Row],[Kitchen Set]],0)","v":0},{"$f":"IF(NFI_Expiration=1,IF($A153<VLOOKUP(O$5,NFI,5,0),1,0)*Table_NFI[[#This Row],[Complementary Kit]],0)","v":0},{"$f":"IF(NFI_Expiration=1,IF($A153<VLOOKUP(P$5,NFI,5,0),1,0)*Table_NFI[[#This Row],[Plastic Bucket]],0)","v":0},{"$f":"IF(NFI_Expiration=1,IF($A153<VLOOKUP(Q$5,NFI,5,0),1,0)*Table_NFI[[#This Row],[Plastic Mat]],0)","v":0},{"$f":"IFERROR(VLOOKUP(Table_NFI[[#This Row],[Camp Name]],CL,2,0),\"\")","v":"MMR012CMP041"},{"$f":"IFERROR(VLOOKUP(Table_NFI[[#This Row],[Camp Name]],CL,3,0),\"\")","v":"Open"}]
[11.133333333333333,"2013-01-01","CDN","CDN","Rakhine","Sittwe","Khaung Doke Khar ",722,null,null,null,null,null,null,null,null,null,{"$f":"IF(NFI_Expiration=1,IF($A154<VLOOKUP(H$5,NFI,5,0),1,0)*Table_NFI[[#This Row],[Hygiene Kit]],0)","v":722},{"$f":"IF(NFI_Expiration=1,IF($A154<VLOOKUP(I$5,NFI,5,0),1,0)*Table_NFI[[#This Row],[NFI Core Kit]],0)","v":0},{"$f":"IF(NFI_Expiration=1,IF($A154<VLOOKUP(J$5,NFI,5,0),1,0)*Table_NFI[[#This Row],[Sanitary Kit]],0)","v":0},{"$f":"IF(NFI_Expiration=1,IF($A154<VLOOKUP(K$5,NFI,5,0),1,0)*Table_NFI[[#This Row],[Mosquito net]],0)","v":0},{"$f":"IF(NFI_Expiration=1,IF($A154<VLOOKUP(L$5,NFI,5,0),1,0)*Table_NFI[[#This Row],[Tarpaulin]],0)","v":0},{"$f":"IF(NFI_Expiration=1,IF($A154<VLOOKUP(M$5,NFI,5,0),1,0)*Table_NFI[[#This Row],[Blanket]],0)","v":0},{"$f":"IF(NFI_Expiration=1,IF($A154<VLOOKUP(N$5,NFI,5,0),1,0)*Table_NFI[[#This Row],[Kitchen Set]],0)","v":0},{"$f":"IF(NFI_Expiration=1,IF($A154<VLOOKUP(O$5,NFI,5,0),1,0)*Table_NFI[[#This Row],[Complementary Kit]],0)","v":0},{"$f":"IF(NFI_Expiration=1,IF($A154<VLOOKUP(P$5,NFI,5,0),1,0)*Table_NFI[[#This Row],[Plastic Bucket]],0)","v":0},{"$f":"IF(NFI_Expiration=1,IF($A154<VLOOKUP(Q$5,NFI,5,0),1,0)*Table_NFI[[#This Row],[Plastic Mat]],0)","v":0},{"$f":"IFERROR(VLOOKUP(Table_NFI[[#This Row],[Camp Name]],CL,2,0),\"\")","v":"MMR012CMP042"},{"$f":"IFERROR(VLOOKUP(Table_NFI[[#This Row],[Camp Name]],CL,3,0),\"\")","v":"Open"}]
[11.133333333333333,"2013-01-01","Solidarites International","Solidarities International","Rakhine","Sittwe","Baw Du Pha",4390,null,null,null,null,null,null,null,null,null,{"$f":"IF(NFI_Expiration=1,IF($A155<VLOOKUP(H$5,NFI,5,0),1,0)*Table_NFI[[#This Row],[Hygiene Kit]],0)","v":4390},{"$f":"IF(NFI_Expiration=1,IF($A155<VLOOKUP(I$5,NFI,5,0),1,0)*Table_NFI[[#This Row],[NFI Core Kit]],0)","v":0},{"$f":"IF(NFI_Expiration=1,IF($A155<VLOOKUP(J$5,NFI,5,0),1,0)*Table_NFI[[#This Row],[Sanitary Kit]],0)","v":0},{"$f":"IF(NFI_Expiration=1,IF($A155<VLOOKUP(K$5,NFI,5,0),1,0)*Table_NFI[[#This Row],[Mosquito net]],0)","v":0},{"$f":"IF(NFI_Expiration=1,IF($A155<VLOOKUP(L$5,NFI,5,0),1,0)*Table_NFI[[#This Row],[Tarpaulin]],0)","v":0},{"$f":"IF(NFI_Expiration=1,IF($A155<VLOOKUP(M$5,NFI,5,0),1,0)*Table_NFI[[#This Row],[Blanket]],0)","v":0},{"$f":"IF(NFI_Expiration=1,IF($A155<VLOOKUP(N$5,NFI,5,0),1,0)*Table_NFI[[#This Row],[Kitchen Set]],0)","v":0},{"$f":"IF(NFI_Expiration=1,IF($A155<VLOOKUP(O$5,NFI,5,0),1,0)*Table_NFI[[#This Row],[Complementary Kit]],0)","v":0},{"$f":"IF(NFI_Expiration=1,IF($A155<VLOOKUP(P$5,NFI,5,0),1,0)*Table_NFI[[#This Row],[Plastic Bucket]],0)","v":0},{"$f":"IF(NFI_Expiration=1,IF($A155<VLOOKUP(Q$5,NFI,5,0),1,0)*Table_NFI[[#This Row],[Plastic Mat]],0)","v":0},{"$f":"IFERROR(VLOOKUP(Table_NFI[[#This Row],[Camp Name]],CL,2,0),\"\")","v":"MMR012CMP040"},{"$f":"IFERROR(VLOOKUP(Table_NFI[[#This Row],[Camp Name]],CL,3,0),\"\")","v":"Close"}]
[11.133333333333333,"2013-01-01","Solidarites International","Solidarities International","Rakhine","Sittwe","Thae Chaung",2939,null,null,null,null,null,null,null,null,null,{"$f":"IF(NFI_Expiration=1,IF($A156<VLOOKUP(H$5,NFI,5,0),1,0)*Table_NFI[[#This Row],[Hygiene Kit]],0)","v":2939},{"$f":"IF(NFI_Expiration=1,IF($A156<VLOOKUP(I$5,NFI,5,0),1,0)*Table_NFI[[#This Row],[NFI Core Kit]],0)","v":0},{"$f":"IF(NFI_Expiration=1,IF($A156<VLOOKUP(J$5,NFI,5,0),1,0)*Table_NFI[[#This Row],[Sanitary Kit]],0)","v":0},{"$f":"IF(NFI_Expiration=1,IF($A156<VLOOKUP(K$5,NFI,5,0),1,0)*Table_NFI[[#This Row],[Mosquito net]],0)","v":0},{"$f":"IF(NFI_Expiration=1,IF($A156<VLOOKUP(L$5,NFI,5,0),1,0)*Table_NFI[[#This Row],[Tarpaulin]],0)","v":0},{"$f":"IF(NFI_Expiration=1,IF($A156<VLOOKUP(M$5,NFI,5,0),1,0)*Table_NFI[[#This Row],[Blanket]],0)","v":0},{"$f":"IF(NFI_Expiration=1,IF($A156<VLOOKUP(N$5,NFI,5,0),1,0)*Table_NFI[[#This Row],[Kitchen Set]],0)","v":0},{"$f":"IF(NFI_Expiration=1,IF($A156<VLOOKUP(O$5,NFI,5,0),1,0)*Table_NFI[[#This Row],[Complementary Kit]],0)","v":0},{"$f":"IF(NFI_Expiration=1,IF($A156<VLOOKUP(P$5,NFI,5,0),1,0)*Table_NFI[[#This Row],[Plastic Bucket]],0)","v":0},{"$f":"IF(NFI_Expiration=1,IF($A156<VLOOKUP(Q$5,NFI,5,0),1,0)*Table_NFI[[#This Row],[Plastic Mat]],0)","v":0},{"$f":"IFERROR(VLOOKUP(Table_NFI[[#This Row],[Camp Name]],CL,2,0),\"\")","v":"MMR012CMP046"},{"$f":"IFERROR(VLOOKUP(Table_NFI[[#This Row],[Camp Name]],CL,3,0),\"\")","v":"Open"}]
[10.933333333333334,"2013-01-07","UNHCR",null,"Rakhine","Maungdaw","Myoma Myauk",null,93,null,186,93,186,93,93,93,186,{"$f":"IF(NFI_Expiration=1,IF($A157<VLOOKUP(H$5,NFI,5,0),1,0)*Table_NFI[[#This Row],[Hygiene Kit]],0)","v":0},{"$f":"IF(NFI_Expiration=1,IF($A157<VLOOKUP(I$5,NFI,5,0),1,0)*Table_NFI[[#This Row],[NFI Core Kit]],0)","v":93},{"$f":"IF(NFI_Expiration=1,IF($A157<VLOOKUP(J$5,NFI,5,0),1,0)*Table_NFI[[#This Row],[Sanitary Kit]],0)","v":0},{"$f":"IF(NFI_Expiration=1,IF($A157<VLOOKUP(K$5,NFI,5,0),1,0)*Table_NFI[[#This Row],[Mosquito net]],0)","v":186},{"$f":"IF(NFI_Expiration=1,IF($A157<VLOOKUP(L$5,NFI,5,0),1,0)*Table_NFI[[#This Row],[Tarpaulin]],0)","v":93},{"$f":"IF(NFI_Expiration=1,IF($A157<VLOOKUP(M$5,NFI,5,0),1,0)*Table_NFI[[#This Row],[Blanket]],0)","v":186},{"$f":"IF(NFI_Expiration=1,IF($A157<VLOOKUP(N$5,NFI,5,0),1,0)*Table_NFI[[#This Row],[Kitchen Set]],0)","v":93},{"$f":"IF(NFI_Expiration=1,IF($A157<VLOOKUP(O$5,NFI,5,0),1,0)*Table_NFI[[#This Row],[Complementary Kit]],0)","v":93},{"$f":"IF(NFI_Expiration=1,IF($A157<VLOOKUP(P$5,NFI,5,0),1,0)*Table_NFI[[#This Row],[Plastic Bucket]],0)","v":93},{"$f":"IF(NFI_Expiration=1,IF($A157<VLOOKUP(Q$5,NFI,5,0),1,0)*Table_NFI[[#This Row],[Plastic Mat]],0)","v":186},{"$f":"IFERROR(VLOOKUP(Table_NFI[[#This Row],[Camp Name]],CL,2,0),\"\")","v":"MMR012CMP083"},{"$f":"IFERROR(VLOOKUP(Table_NFI[[#This Row],[Camp Name]],CL,3,0),\"\")","v":"Open"}]
[10.933333333333334,"2013-01-07","UNHCR",null,"Rakhine","Rathedaung","Ah Htet Nan Yar",null,228,null,456,228,456,228,228,228,456,{"$f":"IF(NFI_Expiration=1,IF($A158<VLOOKUP(H$5,NFI,5,0),1,0)*Table_NFI[[#This Row],[Hygiene Kit]],0)","v":0},{"$f":"IF(NFI_Expiration=1,IF($A158<VLOOKUP(I$5,NFI,5,0),1,0)*Table_NFI[[#This Row],[NFI Core Kit]],0)","v":228},{"$f":"IF(NFI_Expiration=1,IF($A158<VLOOKUP(J$5,NFI,5,0),1,0)*Table_NFI[[#This Row],[Sanitary Kit]],0)","v":0},{"$f":"IF(NFI_Expiration=1,IF($A158<VLOOKUP(K$5,NFI,5,0),1,0)*Table_NFI[[#This Row],[Mosquito net]],0)","v":456},{"$f":"IF(NFI_Expiration=1,IF($A158<VLOOKUP(L$5,NFI,5,0),1,0)*Table_NFI[[#This Row],[Tarpaulin]],0)","v":228},{"$f":"IF(NFI_Expiration=1,IF($A158<VLOOKUP(M$5,NFI,5,0),1,0)*Table_NFI[[#This Row],[Blanket]],0)","v":456},{"$f":"IF(NFI_Expiration=1,IF($A158<VLOOKUP(N$5,NFI,5,0),1,0)*Table_NFI[[#This Row],[Kitchen Set]],0)","v":228},{"$f":"IF(NFI_Expiration=1,IF($A158<VLOOKUP(O$5,NFI,5,0),1,0)*Table_NFI[[#This Row],[Complementary Kit]],0)","v":228},{"$f":"IF(NFI_Expiration=1,IF($A158<VLOOKUP(P$5,NFI,5,0),1,0)*Table_NFI[[#This Row],[Plastic Bucket]],0)","v":228},{"$f":"IF(NFI_Expiration=1,IF($A158<VLOOKUP(Q$5,NFI,5,0),1,0)*Table_NFI[[#This Row],[Plastic Mat]],0)","v":456},{"$f":"IFERROR(VLOOKUP(Table_NFI[[#This Row],[Camp Name]],CL,2,0),\"\")","v":"MMR012CMP034"},{"$f":"IFERROR(VLOOKUP(Table_NFI[[#This Row],[Camp Name]],CL,3,0),\"\")","v":"Open"}]
[10.933333333333334,"2013-01-07","UNHCR",null,"Rakhine","Maungdaw","Myoma Myauk",null,null,186,186,93,0,null,null,null,null,{"$f":"IF(NFI_Expiration=1,IF($A159<VLOOKUP(H$5,NFI,5,0),1,0)*Table_NFI[[#This Row],[Hygiene Kit]],0)","v":0},{"$f":"IF(NFI_Expiration=1,IF($A159<VLOOKUP(I$5,NFI,5,0),1,0)*Table_NFI[[#This Row],[NFI Core Kit]],0)","v":0},{"$f":"IF(NFI_Expiration=1,IF($A159<VLOOKUP(J$5,NFI,5,0),1,0)*Table_NFI[[#This Row],[Sanitary Kit]],0)","v":186},{"$f":"IF(NFI_Expiration=1,IF($A159<VLOOKUP(K$5,NFI,5,0),1,0)*Table_NFI[[#This Row],[Mosquito net]],0)","v":186},{"$f":"IF(NFI_Expiration=1,IF($A159<VLOOKUP(L$5,NFI,5,0),1,0)*Table_NFI[[#This Row],[Tarpaulin]],0)","v":93},{"$f":"IF(NFI_Expiration=1,IF($A159<VLOOKUP(M$5,NFI,5,0),1,0)*Table_NFI[[#This Row],[Blanket]],0)","v":0},{"$f":"IF(NFI_Expiration=1,IF($A159<VLOOKUP(N$5,NFI,5,0),1,0)*Table_NFI[[#This Row],[Kitchen Set]],0)","v":0},{"$f":"IF(NFI_Expiration=1,IF($A159<VLOOKUP(O$5,NFI,5,0),1,0)*Table_NFI[[#This Row],[Complementary Kit]],0)","v":0},{"$f":"IF(NFI_Expiration=1,IF($A159<VLOOKUP(P$5,NFI,5,0),1,0)*Table_NFI[[#This Row],[Plastic Bucket]],0)","v":0},{"$f":"IF(NFI_Expiration=1,IF($A159<VLOOKUP(Q$5,NFI,5,0),1,0)*Table_NFI[[#This Row],[Plastic Mat]],0)","v":0},{"$f":"IFERROR(VLOOKUP(Table_NFI[[#This Row],[Camp Name]],CL,2,0),\"\")","v":"MMR012CMP083"},{"$f":"IFERROR(VLOOKUP(Table_NFI[[#This Row],[Camp Name]],CL,3,0),\"\")","v":"Open"}]
[10.933333333333334,"2013-01-07","UNHCR",null,"Rakhine","Rathedaung","Ah Htet Nan Yar",null,null,228,443,228,0,null,null,null,null,{"$f":"IF(NFI_Expiration=1,IF($A160<VLOOKUP(H$5,NFI,5,0),1,0)*Table_NFI[[#This Row],[Hygiene Kit]],0)","v":0},{"$f":"IF(NFI_Expiration=1,IF($A160<VLOOKUP(I$5,NFI,5,0),1,0)*Table_NFI[[#This Row],[NFI Core Kit]],0)","v":0},{"$f":"IF(NFI_Expiration=1,IF($A160<VLOOKUP(J$5,NFI,5,0),1,0)*Table_NFI[[#This Row],[Sanitary Kit]],0)","v":228},{"$f":"IF(NFI_Expiration=1,IF($A160<VLOOKUP(K$5,NFI,5,0),1,0)*Table_NFI[[#This Row],[Mosquito net]],0)","v":443},{"$f":"IF(NFI_Expiration=1,IF($A160<VLOOKUP(L$5,NFI,5,0),1,0)*Table_NFI[[#This Row],[Tarpaulin]],0)","v":228},{"$f":"IF(NFI_Expiration=1,IF($A160<VLOOKUP(M$5,NFI,5,0),1,0)*Table_NFI[[#This Row],[Blanket]],0)","v":0},{"$f":"IF(NFI_Expiration=1,IF($A160<VLOOKUP(N$5,NFI,5,0),1,0)*Table_NFI[[#This Row],[Kitchen Set]],0)","v":0},{"$f":"IF(NFI_Expiration=1,IF($A160<VLOOKUP(O$5,NFI,5,0),1,0)*Table_NFI[[#This Row],[Complementary Kit]],0)","v":0},{"$f":"IF(NFI_Expiration=1,IF($A160<VLOOKUP(P$5,NFI,5,0),1,0)*Table_NFI[[#This Row],[Plastic Bucket]],0)","v":0},{"$f":"IF(NFI_Expiration=1,IF($A160<VLOOKUP(Q$5,NFI,5,0),1,0)*Table_NFI[[#This Row],[Plastic Mat]],0)","v":0},{"$f":"IFERROR(VLOOKUP(Table_NFI[[#This Row],[Camp Name]],CL,2,0),\"\")","v":"MMR012CMP034"},{"$f":"IFERROR(VLOOKUP(Table_NFI[[#This Row],[Camp Name]],CL,3,0),\"\")","v":"Open"}]
[10.866666666666667,"2013-01-09","KOICAT","UNHCR","Rakhine","Sittwe","Ohn Taw Gyi 3",null,null,null,null,null,50,null,null,null,null,{"$f":"IF(NFI_Expiration=1,IF($A161<VLOOKUP(H$5,NFI,5,0),1,0)*Table_NFI[[#This Row],[Hygiene Kit]],0)","v":0},{"$f":"IF(NFI_Expiration=1,IF($A161<VLOOKUP(I$5,NFI,5,0),1,0)*Table_NFI[[#This Row],[NFI Core Kit]],0)","v":0},{"$f":"IF(NFI_Expiration=1,IF($A161<VLOOKUP(J$5,NFI,5,0),1,0)*Table_NFI[[#This Row],[Sanitary Kit]],0)","v":0},{"$f":"IF(NFI_Expiration=1,IF($A161<VLOOKUP(K$5,NFI,5,0),1,0)*Table_NFI[[#This Row],[Mosquito net]],0)","v":0},{"$f":"IF(NFI_Expiration=1,IF($A161<VLOOKUP(L$5,NFI,5,0),1,0)*Table_NFI[[#This Row],[Tarpaulin]],0)","v":0},{"$f":"IF(NFI_Expiration=1,IF($A161<VLOOKUP(M$5,NFI,5,0),1,0)*Table_NFI[[#This Row],[Blanket]],0)","v":50},{"$f":"IF(NFI_Expiration=1,IF($A161<VLOOKUP(N$5,NFI,5,0),1,0)*Table_NFI[[#This Row],[Kitchen Set]],0)","v":0},{"$f":"IF(NFI_Expiration=1,IF($A161<VLOOKUP(O$5,NFI,5,0),1,0)*Table_NFI[[#This Row],[Complementary Kit]],0)","v":0},{"$f":"IF(NFI_Expiration=1,IF($A161<VLOOKUP(P$5,NFI,5,0),1,0)*Table_NFI[[#This Row],[Plastic Bucket]],0)","v":0},{"$f":"IF(NFI_Expiration=1,IF($A161<VLOOKUP(Q$5,NFI,5,0),1,0)*Table_NFI[[#This Row],[Plastic Mat]],0)","v":0},{"$f":"IFERROR(VLOOKUP(Table_NFI[[#This Row],[Camp Name]],CL,2,0),\"\")","v":"MMR012CMP090"},{"$f":"IFERROR(VLOOKUP(Table_NFI[[#This Row],[Camp Name]],CL,3,0),\"\")","v":"Close"}]
[10.833333333333334,"2013-01-10","UNHCR",null,"Rakhine","Maungdaw","Lamber Gone Nah",null,56,null,112,56,112,56,56,56,112,{"$f":"IF(NFI_Expiration=1,IF($A162<VLOOKUP(H$5,NFI,5,0),1,0)*Table_NFI[[#This Row],[Hygiene Kit]],0)","v":0},{"$f":"IF(NFI_Expiration=1,IF($A162<VLOOKUP(I$5,NFI,5,0),1,0)*Table_NFI[[#This Row],[NFI Core Kit]],0)","v":56},{"$f":"IF(NFI_Expiration=1,IF($A162<VLOOKUP(J$5,NFI,5,0),1,0)*Table_NFI[[#This Row],[Sanitary Kit]],0)","v":0},{"$f":"IF(NFI_Expiration=1,IF($A162<VLOOKUP(K$5,NFI,5,0),1,0)*Table_NFI[[#This Row],[Mosquito net]],0)","v":112},{"$f":"IF(NFI_Expiration=1,IF($A162<VLOOKUP(L$5,NFI,5,0),1,0)*Table_NFI[[#This Row],[Tarpaulin]],0)","v":56},{"$f":"IF(NFI_Expiration=1,IF($A162<VLOOKUP(M$5,NFI,5,0),1,0)*Table_NFI[[#This Row],[Blanket]],0)","v":112},{"$f":"IF(NFI_Expiration=1,IF($A162<VLOOKUP(N$5,NFI,5,0),1,0)*Table_NFI[[#This Row],[Kitchen Set]],0)","v":56},{"$f":"IF(NFI_Expiration=1,IF($A162<VLOOKUP(O$5,NFI,5,0),1,0)*Table_NFI[[#This Row],[Complementary Kit]],0)","v":56},{"$f":"IF(NFI_Expiration=1,IF($A162<VLOOKUP(P$5,NFI,5,0),1,0)*Table_NFI[[#This Row],[Plastic Bucket]],0)","v":56},{"$f":"IF(NFI_Expiration=1,IF($A162<VLOOKUP(Q$5,NFI,5,0),1,0)*Table_NFI[[#This Row],[Plastic Mat]],0)","v":112},{"$f":"IFERROR(VLOOKUP(Table_NFI[[#This Row],[Camp Name]],CL,2,0),\"\")","v":"MMR012CMP087"},{"$f":"IFERROR(VLOOKUP(Table_NFI[[#This Row],[Camp Name]],CL,3,0),\"\")","v":"Close"}]
[10.833333333333334,"2013-01-10","KOICAT","UNHCR","Rakhine","Sittwe","Ohn Taw Gyi 3",null,null,null,null,null,45,null,null,null,null,{"$f":"IF(NFI_Expiration=1,IF($A163<VLOOKUP(H$5,NFI,5,0),1,0)*Table_NFI[[#This Row],[Hygiene Kit]],0)","v":0},{"$f":"IF(NFI_Expiration=1,IF($A163<VLOOKUP(I$5,NFI,5,0),1,0)*Table_NFI[[#This Row],[NFI Core Kit]],0)","v":0},{"$f":"IF(NFI_Expiration=1,IF($A163<VLOOKUP(J$5,NFI,5,0),1,0)*Table_NFI[[#This Row],[Sanitary Kit]],0)","v":0},{"$f":"IF(NFI_Expiration=1,IF($A163<VLOOKUP(K$5,NFI,5,0),1,0)*Table_NFI[[#This Row],[Mosquito net]],0)","v":0},{"$f":"IF(NFI_Expiration=1,IF($A163<VLOOKUP(L$5,NFI,5,0),1,0)*Table_NFI[[#This Row],[Tarpaulin]],0)","v":0},{"$f":"IF(NFI_Expiration=1,IF($A163<VLOOKUP(M$5,NFI,5,0),1,0)*Table_NFI[[#This Row],[Blanket]],0)","v":45},{"$f":"IF(NFI_Expiration=1,IF($A163<VLOOKUP(N$5,NFI,5,0),1,0)*Table_NFI[[#This Row],[Kitchen Set]],0)","v":0},{"$f":"IF(NFI_Expiration=1,IF($A163<VLOOKUP(O$5,NFI,5,0),1,0)*Table_NFI[[#This Row],[Complementary Kit]],0)","v":0},{"$f":"IF(NFI_Expiration=1,IF($A163<VLOOKUP(P$5,NFI,5,0),1,0)*Table_NFI[[#This Row],[Plastic Bucket]],0)","v":0},{"$f":"IF(NFI_Expiration=1,IF($A163<VLOOKUP(Q$5,NFI,5,0),1,0)*Table_NFI[[#This Row],[Plastic Mat]],0)","v":0},{"$f":"IFERROR(VLOOKUP(Table_NFI[[#This Row],[Camp Name]],CL,2,0),\"\")","v":"MMR012CMP090"},{"$f":"IFERROR(VLOOKUP(Table_NFI[[#This Row],[Camp Name]],CL,3,0),\"\")","v":"Close"}]
[10.833333333333334,"2013-01-10","UNHCR",null,"Rakhine","Maungdaw","Lamber Gone Nah",null,null,112,112,56,0,null,null,null,null,{"$f":"IF(NFI_Expiration=1,IF($A164<VLOOKUP(H$5,NFI,5,0),1,0)*Table_NFI[[#This Row],[Hygiene Kit]],0)","v":0},{"$f":"IF(NFI_Expiration=1,IF($A164<VLOOKUP(I$5,NFI,5,0),1,0)*Table_NFI[[#This Row],[NFI Core Kit]],0)","v":0},{"$f":"IF(NFI_Expiration=1,IF($A164<VLOOKUP(J$5,NFI,5,0),1,0)*Table_NFI[[#This Row],[Sanitary Kit]],0)","v":112},{"$f":"IF(NFI_Expiration=1,IF($A164<VLOOKUP(K$5,NFI,5,0),1,0)*Table_NFI[[#This Row],[Mosquito net]],0)","v":112},{"$f":"IF(NFI_Expiration=1,IF($A164<VLOOKUP(L$5,NFI,5,0),1,0)*Table_NFI[[#This Row],[Tarpaulin]],0)","v":56},{"$f":"IF(NFI_Expiration=1,IF($A164<VLOOKUP(M$5,NFI,5,0),1,0)*Table_NFI[[#This Row],[Blanket]],0)","v":0},{"$f":"IF(NFI_Expiration=1,IF($A164<VLOOKUP(N$5,NFI,5,0),1,0)*Table_NFI[[#This Row],[Kitchen Set]],0)","v":0},{"$f":"IF(NFI_Expiration=1,IF($A164<VLOOKUP(O$5,NFI,5,0),1,0)*Table_NFI[[#This Row],[Complementary Kit]],0)","v":0},{"$f":"IF(NFI_Expiration=1,IF($A164<VLOOKUP(P$5,NFI,5,0),1,0)*Table_NFI[[#This Row],[Plastic Bucket]],0)","v":0},{"$f":"IF(NFI_Expiration=1,IF($A164<VLOOKUP(Q$5,NFI,5,0),1,0)*Table_NFI[[#This Row],[Plastic Mat]],0)","v":0},{"$f":"IFERROR(VLOOKUP(Table_NFI[[#This Row],[Camp Name]],CL,2,0),\"\")","v":"MMR012CMP087"},{"$f":"IFERROR(VLOOKUP(Table_NFI[[#This Row],[Camp Name]],CL,3,0),\"\")","v":"Close"}]
[10.6,"2013-01-17","KOICAT","UNHCR","Rakhine","Sittwe","Ohn Taw Gyi 3",null,null,null,null,null,50,null,null,null,null,{"$f":"IF(NFI_Expiration=1,IF($A165<VLOOKUP(H$5,NFI,5,0),1,0)*Table_NFI[[#This Row],[Hygiene Kit]],0)","v":0},{"$f":"IF(NFI_Expiration=1,IF($A165<VLOOKUP(I$5,NFI,5,0),1,0)*Table_NFI[[#This Row],[NFI Core Kit]],0)","v":0},{"$f":"IF(NFI_Expiration=1,IF($A165<VLOOKUP(J$5,NFI,5,0),1,0)*Table_NFI[[#This Row],[Sanitary Kit]],0)","v":0},{"$f":"IF(NFI_Expiration=1,IF($A165<VLOOKUP(K$5,NFI,5,0),1,0)*Table_NFI[[#This Row],[Mosquito net]],0)","v":0},{"$f":"IF(NFI_Expiration=1,IF($A165<VLOOKUP(L$5,NFI,5,0),1,0)*Table_NFI[[#This Row],[Tarpaulin]],0)","v":0},{"$f":"IF(NFI_Expiration=1,IF($A165<VLOOKUP(M$5,NFI,5,0),1,0)*Table_NFI[[#This Row],[Blanket]],0)","v":50},{"$f":"IF(NFI_Expiration=1,IF($A165<VLOOKUP(N$5,NFI,5,0),1,0)*Table_NFI[[#This Row],[Kitchen Set]],0)","v":0},{"$f":"IF(NFI_Expiration=1,IF($A165<VLOOKUP(O$5,NFI,5,0),1,0)*Table_NFI[[#This Row],[Complementary Kit]],0)","v":0},{"$f":"IF(NFI_Expiration=1,IF($A165<VLOOKUP(P$5,NFI,5,0),1,0)*Table_NFI[[#This Row],[Plastic Bucket]],0)","v":0},{"$f":"IF(NFI_Expiration=1,IF($A165<VLOOKUP(Q$5,NFI,5,0),1,0)*Table_NFI[[#This Row],[Plastic Mat]],0)","v":0},{"$f":"IFERROR(VLOOKUP(Table_NFI[[#This Row],[Camp Name]],CL,2,0),\"\")","v":"MMR012CMP090"},{"$f":"IFERROR(VLOOKUP(Table_NFI[[#This Row],[Camp Name]],CL,3,0),\"\")","v":"Close"}]
[10.566666666666666,"2013-01-18","UNHCR",null,"Rakhine","Maungdaw","Du Than Dar",null,63,null,126,63,126,63,63,63,126,{"$f":"IF(NFI_Expiration=1,IF($A166<VLOOKUP(H$5,NFI,5,0),1,0)*Table_NFI[[#This Row],[Hygiene Kit]],0)","v":0},{"$f":"IF(NFI_Expiration=1,IF($A166<VLOOKUP(I$5,NFI,5,0),1,0)*Table_NFI[[#This Row],[NFI Core Kit]],0)","v":63},{"$f":"IF(NFI_Expiration=1,IF($A166<VLOOKUP(J$5,NFI,5,0),1,0)*Table_NFI[[#This Row],[Sanitary Kit]],0)","v":0},{"$f":"IF(NFI_Expiration=1,IF($A166<VLOOKUP(K$5,NFI,5,0),1,0)*Table_NFI[[#This Row],[Mosquito net]],0)","v":126},{"$f":"IF(NFI_Expiration=1,IF($A166<VLOOKUP(L$5,NFI,5,0),1,0)*Table_NFI[[#This Row],[Tarpaulin]],0)","v":63},{"$f":"IF(NFI_Expiration=1,IF($A166<VLOOKUP(M$5,NFI,5,0),1,0)*Table_NFI[[#This Row],[Blanket]],0)","v":126},{"$f":"IF(NFI_Expiration=1,IF($A166<VLOOKUP(N$5,NFI,5,0),1,0)*Table_NFI[[#This Row],[Kitchen Set]],0)","v":63},{"$f":"IF(NFI_Expiration=1,IF($A166<VLOOKUP(O$5,NFI,5,0),1,0)*Table_NFI[[#This Row],[Complementary Kit]],0)","v":63},{"$f":"IF(NFI_Expiration=1,IF($A166<VLOOKUP(P$5,NFI,5,0),1,0)*Table_NFI[[#This Row],[Plastic Bucket]],0)","v":63},{"$f":"IF(NFI_Expiration=1,IF($A166<VLOOKUP(Q$5,NFI,5,0),1,0)*Table_NFI[[#This Row],[Plastic Mat]],0)","v":126},{"$f":"IFERROR(VLOOKUP(Table_NFI[[#This Row],[Camp Name]],CL,2,0),\"\")","v":"MMR012CMP088"},{"$f":"IFERROR(VLOOKUP(Table_NFI[[#This Row],[Camp Name]],CL,3,0),\"\")","v":"Open"}]
[10.566666666666666,"2013-01-18","KOICAT","UNHCR","Rakhine","Sittwe","Ohn Taw Gyi 3",null,null,null,null,null,50,null,null,null,null,{"$f":"IF(NFI_Expiration=1,IF($A167<VLOOKUP(H$5,NFI,5,0),1,0)*Table_NFI[[#This Row],[Hygiene Kit]],0)","v":0},{"$f":"IF(NFI_Expiration=1,IF($A167<VLOOKUP(I$5,NFI,5,0),1,0)*Table_NFI[[#This Row],[NFI Core Kit]],0)","v":0},{"$f":"IF(NFI_Expiration=1,IF($A167<VLOOKUP(J$5,NFI,5,0),1,0)*Table_NFI[[#This Row],[Sanitary Kit]],0)","v":0},{"$f":"IF(NFI_Expiration=1,IF($A167<VLOOKUP(K$5,NFI,5,0),1,0)*Table_NFI[[#This Row],[Mosquito net]],0)","v":0},{"$f":"IF(NFI_Expiration=1,IF($A167<VLOOKUP(L$5,NFI,5,0),1,0)*Table_NFI[[#This Row],[Tarpaulin]],0)","v":0},{"$f":"IF(NFI_Expiration=1,IF($A167<VLOOKUP(M$5,NFI,5,0),1,0)*Table_NFI[[#This Row],[Blanket]],0)","v":50},{"$f":"IF(NFI_Expiration=1,IF($A167<VLOOKUP(N$5,NFI,5,0),1,0)*Table_NFI[[#This Row],[Kitchen Set]],0)","v":0},{"$f":"IF(NFI_Expiration=1,IF($A167<VLOOKUP(O$5,NFI,5,0),1,0)*Table_NFI[[#This Row],[Complementary Kit]],0)","v":0},{"$f":"IF(NFI_Expiration=1,IF($A167<VLOOKUP(P$5,NFI,5,0),1,0)*Table_NFI[[#This Row],[Plastic Bucket]],0)","v":0},{"$f":"IF(NFI_Expiration=1,IF($A167<VLOOKUP(Q$5,NFI,5,0),1,0)*Table_NFI[[#This Row],[Plastic Mat]],0)","v":0},{"$f":"IFERROR(VLOOKUP(Table_NFI[[#This Row],[Camp Name]],CL,2,0),\"\")","v":"MMR012CMP090"},{"$f":"IFERROR(VLOOKUP(Table_NFI[[#This Row],[Camp Name]],CL,3,0),\"\")","v":"Close"}]
[10.566666666666666,"2013-01-18","UNHCR",null,"Rakhine","Maungdaw","Du Than Dar",null,null,63,126,63,0,null,null,null,null,{"$f":"IF(NFI_Expiration=1,IF($A168<VLOOKUP(H$5,NFI,5,0),1,0)*Table_NFI[[#This Row],[Hygiene Kit]],0)","v":0},{"$f":"IF(NFI_Expiration=1,IF($A168<VLOOKUP(I$5,NFI,5,0),1,0)*Table_NFI[[#This Row],[NFI Core Kit]],0)","v":0},{"$f":"IF(NFI_Expiration=1,IF($A168<VLOOKUP(J$5,NFI,5,0),1,0)*Table_NFI[[#This Row],[Sanitary Kit]],0)","v":63},{"$f":"IF(NFI_Expiration=1,IF($A168<VLOOKUP(K$5,NFI,5,0),1,0)*Table_NFI[[#This Row],[Mosquito net]],0)","v":126},{"$f":"IF(NFI_Expiration=1,IF($A168<VLOOKUP(L$5,NFI,5,0),1,0)*Table_NFI[[#This Row],[Tarpaulin]],0)","v":63},{"$f":"IF(NFI_Expiration=1,IF($A168<VLOOKUP(M$5,NFI,5,0),1,0)*Table_NFI[[#This Row],[Blanket]],0)","v":0},{"$f":"IF(NFI_Expiration=1,IF($A168<VLOOKUP(N$5,NFI,5,0),1,0)*Table_NFI[[#This Row],[Kitchen Set]],0)","v":0},{"$f":"IF(NFI_Expiration=1,IF($A168<VLOOKUP(O$5,NFI,5,0),1,0)*Table_NFI[[#This Row],[Complementary Kit]],0)","v":0},{"$f":"IF(NFI_Expiration=1,IF($A168<VLOOKUP(P$5,NFI,5,0),1,0)*Table_NFI[[#This Row],[Plastic Bucket]],0)","v":0},{"$f":"IF(NFI_Expiration=1,IF($A168<VLOOKUP(Q$5,NFI,5,0),1,0)*Table_NFI[[#This Row],[Plastic Mat]],0)","v":0},{"$f":"IFERROR(VLOOKUP(Table_NFI[[#This Row],[Camp Name]],CL,2,0),\"\")","v":"MMR012CMP088"},{"$f":"IFERROR(VLOOKUP(Table_NFI[[#This Row],[Camp Name]],CL,3,0),\"\")","v":"Open"}]
[10.466666666666667,"2013-01-21","KOICAT","UNHCR","Rakhine","Sittwe","Ohn Taw Gyi 3",null,null,null,null,null,38,null,null,null,null,{"$f":"IF(NFI_Expiration=1,IF($A169<VLOOKUP(H$5,NFI,5,0),1,0)*Table_NFI[[#This Row],[Hygiene Kit]],0)","v":0},{"$f":"IF(NFI_Expiration=1,IF($A169<VLOOKUP(I$5,NFI,5,0),1,0)*Table_NFI[[#This Row],[NFI Core Kit]],0)","v":0},{"$f":"IF(NFI_Expiration=1,IF($A169<VLOOKUP(J$5,NFI,5,0),1,0)*Table_NFI[[#This Row],[Sanitary Kit]],0)","v":0},{"$f":"IF(NFI_Expiration=1,IF($A169<VLOOKUP(K$5,NFI,5,0),1,0)*Table_NFI[[#This Row],[Mosquito net]],0)","v":0},{"$f":"IF(NFI_Expiration=1,IF($A169<VLOOKUP(L$5,NFI,5,0),1,0)*Table_NFI[[#This Row],[Tarpaulin]],0)","v":0},{"$f":"IF(NFI_Expiration=1,IF($A169<VLOOKUP(M$5,NFI,5,0),1,0)*Table_NFI[[#This Row],[Blanket]],0)","v":38},{"$f":"IF(NFI_Expiration=1,IF($A169<VLOOKUP(N$5,NFI,5,0),1,0)*Table_NFI[[#This Row],[Kitchen Set]],0)","v":0},{"$f":"IF(NFI_Expiration=1,IF($A169<VLOOKUP(O$5,NFI,5,0),1,0)*Table_NFI[[#This Row],[Complementary Kit]],0)","v":0},{"$f":"IF(NFI_Expiration=1,IF($A169<VLOOKUP(P$5,NFI,5,0),1,0)*Table_NFI[[#This Row],[Plastic Bucket]],0)","v":0},{"$f":"IF(NFI_Expiration=1,IF($A169<VLOOKUP(Q$5,NFI,5,0),1,0)*Table_NFI[[#This Row],[Plastic Mat]],0)","v":0},{"$f":"IFERROR(VLOOKUP(Table_NFI[[#This Row],[Camp Name]],CL,2,0),\"\")","v":"MMR012CMP090"},{"$f":"IFERROR(VLOOKUP(Table_NFI[[#This Row],[Camp Name]],CL,3,0),\"\")","v":"Close"}]
[10.366666666666667,"2013-01-24","Save the Children","Save the Children","Rakhine","Sittwe","Thet Kae Pyin ",3100,null,null,null,null,null,null,null,null,null,{"$f":"IF(NFI_Expiration=1,IF($A170<VLOOKUP(H$5,NFI,5,0),1,0)*Table_NFI[[#This Row],[Hygiene Kit]],0)","v":3100},{"$f":"IF(NFI_Expiration=1,IF($A170<VLOOKUP(I$5,NFI,5,0),1,0)*Table_NFI[[#This Row],[NFI Core Kit]],0)","v":0},{"$f":"IF(NFI_Expiration=1,IF($A170<VLOOKUP(J$5,NFI,5,0),1,0)*Table_NFI[[#This Row],[Sanitary Kit]],0)","v":0},{"$f":"IF(NFI_Expiration=1,IF($A170<VLOOKUP(K$5,NFI,5,0),1,0)*Table_NFI[[#This Row],[Mosquito net]],0)","v":0},{"$f":"IF(NFI_Expiration=1,IF($A170<VLOOKUP(L$5,NFI,5,0),1,0)*Table_NFI[[#This Row],[Tarpaulin]],0)","v":0},{"$f":"IF(NFI_Expiration=1,IF($A170<VLOOKUP(M$5,NFI,5,0),1,0)*Table_NFI[[#This Row],[Blanket]],0)","v":0},{"$f":"IF(NFI_Expiration=1,IF($A170<VLOOKUP(N$5,NFI,5,0),1,0)*Table_NFI[[#This Row],[Kitchen Set]],0)","v":0},{"$f":"IF(NFI_Expiration=1,IF($A170<VLOOKUP(O$5,NFI,5,0),1,0)*Table_NFI[[#This Row],[Complementary Kit]],0)","v":0},{"$f":"IF(NFI_Expiration=1,IF($A170<VLOOKUP(P$5,NFI,5,0),1,0)*Table_NFI[[#This Row],[Plastic Bucket]],0)","v":0},{"$f":"IF(NFI_Expiration=1,IF($A170<VLOOKUP(Q$5,NFI,5,0),1,0)*Table_NFI[[#This Row],[Plastic Mat]],0)","v":0},{"$f":"IFERROR(VLOOKUP(Table_NFI[[#This Row],[Camp Name]],CL,2,0),\"\")","v":"MMR012CMP048"},{"$f":"IFERROR(VLOOKUP(Table_NFI[[#This Row],[Camp Name]],CL,3,0),\"\")","v":"Open"}]
[10.166666666666666,"2013-01-30","Save the Children","Save the Children","Rakhine","Pauktaw","Sin Tet Maw",810,null,null,null,null,null,null,null,null,null,{"$f":"IF(NFI_Expiration=1,IF($A171<VLOOKUP(H$5,NFI,5,0),1,0)*Table_NFI[[#This Row],[Hygiene Kit]],0)","v":810},{"$f":"IF(NFI_Expiration=1,IF($A171<VLOOKUP(I$5,NFI,5,0),1,0)*Table_NFI[[#This Row],[NFI Core Kit]],0)","v":0},{"$f":"IF(NFI_Expiration=1,IF($A171<VLOOKUP(J$5,NFI,5,0),1,0)*Table_NFI[[#This Row],[Sanitary Kit]],0)","v":0},{"$f":"IF(NFI_Expiration=1,IF($A171<VLOOKUP(K$5,NFI,5,0),1,0)*Table_NFI[[#This Row],[Mosquito net]],0)","v":0},{"$f":"IF(NFI_Expiration=1,IF($A171<VLOOKUP(L$5,NFI,5,0),1,0)*Table_NFI[[#This Row],[Tarpaulin]],0)","v":0},{"$f":"IF(NFI_Expiration=1,IF($A171<VLOOKUP(M$5,NFI,5,0),1,0)*Table_NFI[[#This Row],[Blanket]],0)","v":0},{"$f":"IF(NFI_Expiration=1,IF($A171<VLOOKUP(N$5,NFI,5,0),1,0)*Table_NFI[[#This Row],[Kitchen Set]],0)","v":0},{"$f":"IF(NFI_Expiration=1,IF($A171<VLOOKUP(O$5,NFI,5,0),1,0)*Table_NFI[[#This Row],[Complementary Kit]],0)","v":0},{"$f":"IF(NFI_Expiration=1,IF($A171<VLOOKUP(P$5,NFI,5,0),1,0)*Table_NFI[[#This Row],[Plastic Bucket]],0)","v":0},{"$f":"IF(NFI_Expiration=1,IF($A171<VLOOKUP(Q$5,NFI,5,0),1,0)*Table_NFI[[#This Row],[Plastic Mat]],0)","v":0},{"$f":"IFERROR(VLOOKUP(Table_NFI[[#This Row],[Camp Name]],CL,2,0),\"\")","v":"MMR012CMP019"},{"$f":"IFERROR(VLOOKUP(Table_NFI[[#This Row],[Camp Name]],CL,3,0),\"\")","v":"Open"}]
[10.1,"2013-02-01","Save the Children","Save the Children","Rakhine","Pauktaw","Kyein Ni Pyin",858,null,null,null,null,null,null,null,null,null,{"$f":"IF(NFI_Expiration=1,IF($A172<VLOOKUP(H$5,NFI,5,0),1,0)*Table_NFI[[#This Row],[Hygiene Kit]],0)","v":858},{"$f":"IF(NFI_Expiration=1,IF($A172<VLOOKUP(I$5,NFI,5,0),1,0)*Table_NFI[[#This Row],[NFI Core Kit]],0)","v":0},{"$f":"IF(NFI_Expiration=1,IF($A172<VLOOKUP(J$5,NFI,5,0),1,0)*Table_NFI[[#This Row],[Sanitary Kit]],0)","v":0},{"$f":"IF(NFI_Expiration=1,IF($A172<VLOOKUP(K$5,NFI,5,0),1,0)*Table_NFI[[#This Row],[Mosquito net]],0)","v":0},{"$f":"IF(NFI_Expiration=1,IF($A172<VLOOKUP(L$5,NFI,5,0),1,0)*Table_NFI[[#This Row],[Tarpaulin]],0)","v":0},{"$f":"IF(NFI_Expiration=1,IF($A172<VLOOKUP(M$5,NFI,5,0),1,0)*Table_NFI[[#This Row],[Blanket]],0)","v":0},{"$f":"IF(NFI_Expiration=1,IF($A172<VLOOKUP(N$5,NFI,5,0),1,0)*Table_NFI[[#This Row],[Kitchen Set]],0)","v":0},{"$f":"IF(NFI_Expiration=1,IF($A172<VLOOKUP(O$5,NFI,5,0),1,0)*Table_NFI[[#This Row],[Complementary Kit]],0)","v":0},{"$f":"IF(NFI_Expiration=1,IF($A172<VLOOKUP(P$5,NFI,5,0),1,0)*Table_NFI[[#This Row],[Plastic Bucket]],0)","v":0},{"$f":"IF(NFI_Expiration=1,IF($A172<VLOOKUP(Q$5,NFI,5,0),1,0)*Table_NFI[[#This Row],[Plastic Mat]],0)","v":0},{"$f":"IFERROR(VLOOKUP(Table_NFI[[#This Row],[Camp Name]],CL,2,0),\"\")","v":"MMR012CMP018"},{"$f":"IFERROR(VLOOKUP(Table_NFI[[#This Row],[Camp Name]],CL,3,0),\"\")","v":"Open"}]
[10.1,"2013-02-01","Save the Children","Save the Children","Rakhine","Pauktaw","Ah Nauk Ywe",803,null,null,null,null,null,null,null,null,null,{"$f":"IF(NFI_Expiration=1,IF($A173<VLOOKUP(H$5,NFI,5,0),1,0)*Table_NFI[[#This Row],[Hygiene Kit]],0)","v":803},{"$f":"IF(NFI_Expiration=1,IF($A173<VLOOKUP(I$5,NFI,5,0),1,0)*Table_NFI[[#This Row],[NFI Core Kit]],0)","v":0},{"$f":"IF(NFI_Expiration=1,IF($A173<VLOOKUP(J$5,NFI,5,0),1,0)*Table_NFI[[#This Row],[Sanitary Kit]],0)","v":0},{"$f":"IF(NFI_Expiration=1,IF($A173<VLOOKUP(K$5,NFI,5,0),1,0)*Table_NFI[[#This Row],[Mosquito net]],0)","v":0},{"$f":"IF(NFI_Expiration=1,IF($A173<VLOOKUP(L$5,NFI,5,0),1,0)*Table_NFI[[#This Row],[Tarpaulin]],0)","v":0},{"$f":"IF(NFI_Expiration=1,IF($A173<VLOOKUP(M$5,NFI,5,0),1,0)*Table_NFI[[#This Row],[Blanket]],0)","v":0},{"$f":"IF(NFI_Expiration=1,IF($A173<VLOOKUP(N$5,NFI,5,0),1,0)*Table_NFI[[#This Row],[Kitchen Set]],0)","v":0},{"$f":"IF(NFI_Expiration=1,IF($A173<VLOOKUP(O$5,NFI,5,0),1,0)*Table_NFI[[#This Row],[Complementary Kit]],0)","v":0},{"$f":"IF(NFI_Expiration=1,IF($A173<VLOOKUP(P$5,NFI,5,0),1,0)*Table_NFI[[#This Row],[Plastic Bucket]],0)","v":0},{"$f":"IF(NFI_Expiration=1,IF($A173<VLOOKUP(Q$5,NFI,5,0),1,0)*Table_NFI[[#This Row],[Plastic Mat]],0)","v":0},{"$f":"IFERROR(VLOOKUP(Table_NFI[[#This Row],[Camp Name]],CL,2,0),\"\")","v":"MMR012CMP016"},{"$f":"IFERROR(VLOOKUP(Table_NFI[[#This Row],[Camp Name]],CL,3,0),\"\")","v":"Open"}]
[9.9,"2013-02-07","UNHCR",null,"Rakhine","Pauktaw","Ah Nauk Ywe",null,null,null,null,null,500,null,null,null,null,{"$f":"IF(NFI_Expiration=1,IF($A174<VLOOKUP(H$5,NFI,5,0),1,0)*Table_NFI[[#This Row],[Hygiene Kit]],0)","v":0},{"$f":"IF(NFI_Expiration=1,IF($A174<VLOOKUP(I$5,NFI,5,0),1,0)*Table_NFI[[#This Row],[NFI Core Kit]],0)","v":0},{"$f":"IF(NFI_Expiration=1,IF($A174<VLOOKUP(J$5,NFI,5,0),1,0)*Table_NFI[[#This Row],[Sanitary Kit]],0)","v":0},{"$f":"IF(NFI_Expiration=1,IF($A174<VLOOKUP(K$5,NFI,5,0),1,0)*Table_NFI[[#This Row],[Mosquito net]],0)","v":0},{"$f":"IF(NFI_Expiration=1,IF($A174<VLOOKUP(L$5,NFI,5,0),1,0)*Table_NFI[[#This Row],[Tarpaulin]],0)","v":0},{"$f":"IF(NFI_Expiration=1,IF($A174<VLOOKUP(M$5,NFI,5,0),1,0)*Table_NFI[[#This Row],[Blanket]],0)","v":500},{"$f":"IF(NFI_Expiration=1,IF($A174<VLOOKUP(N$5,NFI,5,0),1,0)*Table_NFI[[#This Row],[Kitchen Set]],0)","v":0},{"$f":"IF(NFI_Expiration=1,IF($A174<VLOOKUP(O$5,NFI,5,0),1,0)*Table_NFI[[#This Row],[Complementary Kit]],0)","v":0},{"$f":"IF(NFI_Expiration=1,IF($A174<VLOOKUP(P$5,NFI,5,0),1,0)*Table_NFI[[#This Row],[Plastic Bucket]],0)","v":0},{"$f":"IF(NFI_Expiration=1,IF($A174<VLOOKUP(Q$5,NFI,5,0),1,0)*Table_NFI[[#This Row],[Plastic Mat]],0)","v":0},{"$f":"IFERROR(VLOOKUP(Table_NFI[[#This Row],[Camp Name]],CL,2,0),\"\")","v":"MMR012CMP016"},{"$f":"IFERROR(VLOOKUP(Table_NFI[[#This Row],[Camp Name]],CL,3,0),\"\")","v":"Open"}]
[9.8666666666666671,"2013-02-08","UNICEF ",null,"Rakhine","Meybon","Kan Thar Htwat Wa",45,null,null,null,null,null,null,null,null,null,{"$f":"IF(NFI_Expiration=1,IF($A175<VLOOKUP(H$5,NFI,5,0),1,0)*Table_NFI[[#This Row],[Hygiene Kit]],0)","v":45},{"$f":"IF(NFI_Expiration=1,IF($A175<VLOOKUP(I$5,NFI,5,0),1,0)*Table_NFI[[#This Row],[NFI Core Kit]],0)","v":0},{"$f":"IF(NFI_Expiration=1,IF($A175<VLOOKUP(J$5,NFI,5,0),1,0)*Table_NFI[[#This Row],[Sanitary Kit]],0)","v":0},{"$f":"IF(NFI_Expiration=1,IF($A175<VLOOKUP(K$5,NFI,5,0),1,0)*Table_NFI[[#This Row],[Mosquito net]],0)","v":0},{"$f":"IF(NFI_Expiration=1,IF($A175<VLOOKUP(L$5,NFI,5,0),1,0)*Table_NFI[[#This Row],[Tarpaulin]],0)","v":0},{"$f":"IF(NFI_Expiration=1,IF($A175<VLOOKUP(M$5,NFI,5,0),1,0)*Table_NFI[[#This Row],[Blanket]],0)","v":0},{"$f":"IF(NFI_Expiration=1,IF($A175<VLOOKUP(N$5,NFI,5,0),1,0)*Table_NFI[[#This Row],[Kitchen Set]],0)","v":0},{"$f":"IF(NFI_Expiration=1,IF($A175<VLOOKUP(O$5,NFI,5,0),1,0)*Table_NFI[[#This Row],[Complementary Kit]],0)","v":0},{"$f":"IF(NFI_Expiration=1,IF($A175<VLOOKUP(P$5,NFI,5,0),1,0)*Table_NFI[[#This Row],[Plastic Bucket]],0)","v":0},{"$f":"IF(NFI_Expiration=1,IF($A175<VLOOKUP(Q$5,NFI,5,0),1,0)*Table_NFI[[#This Row],[Plastic Mat]],0)","v":0},{"$f":"IFERROR(VLOOKUP(Table_NFI[[#This Row],[Camp Name]],CL,2,0),\"\")","v":"MMR012CMP013"},{"$f":"IFERROR(VLOOKUP(Table_NFI[[#This Row],[Camp Name]],CL,3,0),\"\")","v":"Open"}]
[9.8666666666666671,"2013-02-08","UNICEF ",null,"Rakhine","Meybon","Taung Paw ",705,null,null,null,null,null,null,null,null,null,{"$f":"IF(NFI_Expiration=1,IF($A176<VLOOKUP(H$5,NFI,5,0),1,0)*Table_NFI[[#This Row],[Hygiene Kit]],0)","v":705},{"$f":"IF(NFI_Expiration=1,IF($A176<VLOOKUP(I$5,NFI,5,0),1,0)*Table_NFI[[#This Row],[NFI Core Kit]],0)","v":0},{"$f":"IF(NFI_Expiration=1,IF($A176<VLOOKUP(J$5,NFI,5,0),1,0)*Table_NFI[[#This Row],[Sanitary Kit]],0)","v":0},{"$f":"IF(NFI_Expiration=1,IF($A176<VLOOKUP(K$5,NFI,5,0),1,0)*Table_NFI[[#This Row],[Mosquito net]],0)","v":0},{"$f":"IF(NFI_Expiration=1,IF($A176<VLOOKUP(L$5,NFI,5,0),1,0)*Table_NFI[[#This Row],[Tarpaulin]],0)","v":0},{"$f":"IF(NFI_Expiration=1,IF($A176<VLOOKUP(M$5,NFI,5,0),1,0)*Table_NFI[[#This Row],[Blanket]],0)","v":0},{"$f":"IF(NFI_Expiration=1,IF($A176<VLOOKUP(N$5,NFI,5,0),1,0)*Table_NFI[[#This Row],[Kitchen Set]],0)","v":0},{"$f":"IF(NFI_Expiration=1,IF($A176<VLOOKUP(O$5,NFI,5,0),1,0)*Table_NFI[[#This Row],[Complementary Kit]],0)","v":0},{"$f":"IF(NFI_Expiration=1,IF($A176<VLOOKUP(P$5,NFI,5,0),1,0)*Table_NFI[[#This Row],[Plastic Bucket]],0)","v":0},{"$f":"IF(NFI_Expiration=1,IF($A176<VLOOKUP(Q$5,NFI,5,0),1,0)*Table_NFI[[#This Row],[Plastic Mat]],0)","v":0},{"$f":"IFERROR(VLOOKUP(Table_NFI[[#This Row],[Camp Name]],CL,2,0),\"\")","v":"MMR012CMP014"},{"$f":"IFERROR(VLOOKUP(Table_NFI[[#This Row],[Camp Name]],CL,3,0),\"\")","v":"Open"}]
[9.8666666666666671,"2013-02-08","UNICEF ",null,"Rakhine","Kyauk_Phyu","Kyauk Ta Lone",418,null,null,null,null,null,null,null,null,null,{"$f":"IF(NFI_Expiration=1,IF($A177<VLOOKUP(H$5,NFI,5,0),1,0)*Table_NFI[[#This Row],[Hygiene Kit]],0)","v":418},{"$f":"IF(NFI_Expiration=1,IF($A177<VLOOKUP(I$5,NFI,5,0),1,0)*Table_NFI[[#This Row],[NFI Core Kit]],0)","v":0},{"$f":"IF(NFI_Expiration=1,IF($A177<VLOOKUP(J$5,NFI,5,0),1,0)*Table_NFI[[#This Row],[Sanitary Kit]],0)","v":0},{"$f":"IF(NFI_Expiration=1,IF($A177<VLOOKUP(K$5,NFI,5,0),1,0)*Table_NFI[[#This Row],[Mosquito net]],0)","v":0},{"$f":"IF(NFI_Expiration=1,IF($A177<VLOOKUP(L$5,NFI,5,0),1,0)*Table_NFI[[#This Row],[Tarpaulin]],0)","v":0},{"$f":"IF(NFI_Expiration=1,IF($A177<VLOOKUP(M$5,NFI,5,0),1,0)*Table_NFI[[#This Row],[Blanket]],0)","v":0},{"$f":"IF(NFI_Expiration=1,IF($A177<VLOOKUP(N$5,NFI,5,0),1,0)*Table_NFI[[#This Row],[Kitchen Set]],0)","v":0},{"$f":"IF(NFI_Expiration=1,IF($A177<VLOOKUP(O$5,NFI,5,0),1,0)*Table_NFI[[#This Row],[Complementary Kit]],0)","v":0},{"$f":"IF(NFI_Expiration=1,IF($A177<VLOOKUP(P$5,NFI,5,0),1,0)*Table_NFI[[#This Row],[Plastic Bucket]],0)","v":0},{"$f":"IF(NFI_Expiration=1,IF($A177<VLOOKUP(Q$5,NFI,5,0),1,0)*Table_NFI[[#This Row],[Plastic Mat]],0)","v":0},{"$f":"IFERROR(VLOOKUP(Table_NFI[[#This Row],[Camp Name]],CL,2,0),\"\")","v":"MMR012CMP035"},{"$f":"IFERROR(VLOOKUP(Table_NFI[[#This Row],[Camp Name]],CL,3,0),\"\")","v":"Open"}]
[9.8666666666666671,"2013-02-08","UNICEF ",null,"Rakhine","Kyauk_Phyu","Pha Yar Gyi Kwin",71,null,null,null,null,null,null,null,null,null,{"$f":"IF(NFI_Expiration=1,IF($A178<VLOOKUP(H$5,NFI,5,0),1,0)*Table_NFI[[#This Row],[Hygiene Kit]],0)","v":71},{"$f":"IF(NFI_Expiration=1,IF($A178<VLOOKUP(I$5,NFI,5,0),1,0)*Table_NFI[[#This Row],[NFI Core Kit]],0)","v":0},{"$f":"IF(NFI_Expiration=1,IF($A178<VLOOKUP(J$5,NFI,5,0),1,0)*Table_NFI[[#This Row],[Sanitary Kit]],0)","v":0},{"$f":"IF(NFI_Expiration=1,IF($A178<VLOOKUP(K$5,NFI,5,0),1,0)*Table_NFI[[#This Row],[Mosquito net]],0)","v":0},{"$f":"IF(NFI_Expiration=1,IF($A178<VLOOKUP(L$5,NFI,5,0),1,0)*Table_NFI[[#This Row],[Tarpaulin]],0)","v":0},{"$f":"IF(NFI_Expiration=1,IF($A178<VLOOKUP(M$5,NFI,5,0),1,0)*Table_NFI[[#This Row],[Blanket]],0)","v":0},{"$f":"IF(NFI_Expiration=1,IF($A178<VLOOKUP(N$5,NFI,5,0),1,0)*Table_NFI[[#This Row],[Kitchen Set]],0)","v":0},{"$f":"IF(NFI_Expiration=1,IF($A178<VLOOKUP(O$5,NFI,5,0),1,0)*Table_NFI[[#This Row],[Complementary Kit]],0)","v":0},{"$f":"IF(NFI_Expiration=1,IF($A178<VLOOKUP(P$5,NFI,5,0),1,0)*Table_NFI[[#This Row],[Plastic Bucket]],0)","v":0},{"$f":"IF(NFI_Expiration=1,IF($A178<VLOOKUP(Q$5,NFI,5,0),1,0)*Table_NFI[[#This Row],[Plastic Mat]],0)","v":0},{"$f":"IFERROR(VLOOKUP(Table_NFI[[#This Row],[Camp Name]],CL,2,0),\"\")","v":"MMR012CMP036"},{"$f":"IFERROR(VLOOKUP(Table_NFI[[#This Row],[Camp Name]],CL,3,0),\"\")","v":"Open"}]
[9.8666666666666671,"2013-02-08","UNICEF ",null,"Rakhine","Ramree","Ramree Ward 6",97,null,null,null,null,null,null,null,null,null,{"$f":"IF(NFI_Expiration=1,IF($A179<VLOOKUP(H$5,NFI,5,0),1,0)*Table_NFI[[#This Row],[Hygiene Kit]],0)","v":97},{"$f":"IF(NFI_Expiration=1,IF($A179<VLOOKUP(I$5,NFI,5,0),1,0)*Table_NFI[[#This Row],[NFI Core Kit]],0)","v":0},{"$f":"IF(NFI_Expiration=1,IF($A179<VLOOKUP(J$5,NFI,5,0),1,0)*Table_NFI[[#This Row],[Sanitary Kit]],0)","v":0},{"$f":"IF(NFI_Expiration=1,IF($A179<VLOOKUP(K$5,NFI,5,0),1,0)*Table_NFI[[#This Row],[Mosquito net]],0)","v":0},{"$f":"IF(NFI_Expiration=1,IF($A179<VLOOKUP(L$5,NFI,5,0),1,0)*Table_NFI[[#This Row],[Tarpaulin]],0)","v":0},{"$f":"IF(NFI_Expiration=1,IF($A179<VLOOKUP(M$5,NFI,5,0),1,0)*Table_NFI[[#This Row],[Blanket]],0)","v":0},{"$f":"IF(NFI_Expiration=1,IF($A179<VLOOKUP(N$5,NFI,5,0),1,0)*Table_NFI[[#This Row],[Kitchen Set]],0)","v":0},{"$f":"IF(NFI_Expiration=1,IF($A179<VLOOKUP(O$5,NFI,5,0),1,0)*Table_NFI[[#This Row],[Complementary Kit]],0)","v":0},{"$f":"IF(NFI_Expiration=1,IF($A179<VLOOKUP(P$5,NFI,5,0),1,0)*Table_NFI[[#This Row],[Plastic Bucket]],0)","v":0},{"$f":"IF(NFI_Expiration=1,IF($A179<VLOOKUP(Q$5,NFI,5,0),1,0)*Table_NFI[[#This Row],[Plastic Mat]],0)","v":0},{"$f":"IFERROR(VLOOKUP(Table_NFI[[#This Row],[Camp Name]],CL,2,0),\"\")","v":"MMR012CMP037"},{"$f":"IFERROR(VLOOKUP(Table_NFI[[#This Row],[Camp Name]],CL,3,0),\"\")","v":"Open"}]
[9.8666666666666671,"2013-02-08","UNICEF ",null,"Rakhine","Ramree","Ramree Town",24,null,null,null,null,null,null,null,null,null,{"$f":"IF(NFI_Expiration=1,IF($A180<VLOOKUP(H$5,NFI,5,0),1,0)*Table_NFI[[#This Row],[Hygiene Kit]],0)","v":24},{"$f":"IF(NFI_Expiration=1,IF($A180<VLOOKUP(I$5,NFI,5,0),1,0)*Table_NFI[[#This Row],[NFI Core Kit]],0)","v":0},{"$f":"IF(NFI_Expiration=1,IF($A180<VLOOKUP(J$5,NFI,5,0),1,0)*Table_NFI[[#This Row],[Sanitary Kit]],0)","v":0},{"$f":"IF(NFI_Expiration=1,IF($A180<VLOOKUP(K$5,NFI,5,0),1,0)*Table_NFI[[#This Row],[Mosquito net]],0)","v":0},{"$f":"IF(NFI_Expiration=1,IF($A180<VLOOKUP(L$5,NFI,5,0),1,0)*Table_NFI[[#This Row],[Tarpaulin]],0)","v":0},{"$f":"IF(NFI_Expiration=1,IF($A180<VLOOKUP(M$5,NFI,5,0),1,0)*Table_NFI[[#This Row],[Blanket]],0)","v":0},{"$f":"IF(NFI_Expiration=1,IF($A180<VLOOKUP(N$5,NFI,5,0),1,0)*Table_NFI[[#This Row],[Kitchen Set]],0)","v":0},{"$f":"IF(NFI_Expiration=1,IF($A180<VLOOKUP(O$5,NFI,5,0),1,0)*Table_NFI[[#This Row],[Complementary Kit]],0)","v":0},{"$f":"IF(NFI_Expiration=1,IF($A180<VLOOKUP(P$5,NFI,5,0),1,0)*Table_NFI[[#This Row],[Plastic Bucket]],0)","v":0},{"$f":"IF(NFI_Expiration=1,IF($A180<VLOOKUP(Q$5,NFI,5,0),1,0)*Table_NFI[[#This Row],[Plastic Mat]],0)","v":0},{"$f":"IFERROR(VLOOKUP(Table_NFI[[#This Row],[Camp Name]],CL,2,0),\"\")","v":"MMR012CMP038"},{"$f":"IFERROR(VLOOKUP(Table_NFI[[#This Row],[Camp Name]],CL,3,0),\"\")","v":"Open"}]
[9.8000000000000007,"2013-02-10","UNHCR",null,"Rakhine","Pauktaw","Ah Nauk Ywe",null,null,null,null,null,273,null,null,null,null,{"$f":"IF(NFI_Expiration=1,IF($A181<VLOOKUP(H$5,NFI,5,0),1,0)*Table_NFI[[#This Row],[Hygiene Kit]],0)","v":0},{"$f":"IF(NFI_Expiration=1,IF($A181<VLOOKUP(I$5,NFI,5,0),1,0)*Table_NFI[[#This Row],[NFI Core Kit]],0)","v":0},{"$f":"IF(NFI_Expiration=1,IF($A181<VLOOKUP(J$5,NFI,5,0),1,0)*Table_NFI[[#This Row],[Sanitary Kit]],0)","v":0},{"$f":"IF(NFI_Expiration=1,IF($A181<VLOOKUP(K$5,NFI,5,0),1,0)*Table_NFI[[#This Row],[Mosquito net]],0)","v":0},{"$f":"IF(NFI_Expiration=1,IF($A181<VLOOKUP(L$5,NFI,5,0),1,0)*Table_NFI[[#This Row],[Tarpaulin]],0)","v":0},{"$f":"IF(NFI_Expiration=1,IF($A181<VLOOKUP(M$5,NFI,5,0),1,0)*Table_NFI[[#This Row],[Blanket]],0)","v":273},{"$f":"IF(NFI_Expiration=1,IF($A181<VLOOKUP(N$5,NFI,5,0),1,0)*Table_NFI[[#This Row],[Kitchen Set]],0)","v":0},{"$f":"IF(NFI_Expiration=1,IF($A181<VLOOKUP(O$5,NFI,5,0),1,0)*Table_NFI[[#This Row],[Complementary Kit]],0)","v":0},{"$f":"IF(NFI_Expiration=1,IF($A181<VLOOKUP(P$5,NFI,5,0),1,0)*Table_NFI[[#This Row],[Plastic Bucket]],0)","v":0},{"$f":"IF(NFI_Expiration=1,IF($A181<VLOOKUP(Q$5,NFI,5,0),1,0)*Table_NFI[[#This Row],[Plastic Mat]],0)","v":0},{"$f":"IFERROR(VLOOKUP(Table_NFI[[#This Row],[Camp Name]],CL,2,0),\"\")","v":"MMR012CMP016"},{"$f":"IFERROR(VLOOKUP(Table_NFI[[#This Row],[Camp Name]],CL,3,0),\"\")","v":"Open"}]
[9.6666666666666661,"2013-02-14","UNHCR",null,"Rakhine","Maungdaw","Ywa thit Kay",null,20,null,40,20,40,20,20,20,40,{"$f":"IF(NFI_Expiration=1,IF($A182<VLOOKUP(H$5,NFI,5,0),1,0)*Table_NFI[[#This Row],[Hygiene Kit]],0)","v":0},{"$f":"IF(NFI_Expiration=1,IF($A182<VLOOKUP(I$5,NFI,5,0),1,0)*Table_NFI[[#This Row],[NFI Core Kit]],0)","v":20},{"$f":"IF(NFI_Expiration=1,IF($A182<VLOOKUP(J$5,NFI,5,0),1,0)*Table_NFI[[#This Row],[Sanitary Kit]],0)","v":0},{"$f":"IF(NFI_Expiration=1,IF($A182<VLOOKUP(K$5,NFI,5,0),1,0)*Table_NFI[[#This Row],[Mosquito net]],0)","v":40},{"$f":"IF(NFI_Expiration=1,IF($A182<VLOOKUP(L$5,NFI,5,0),1,0)*Table_NFI[[#This Row],[Tarpaulin]],0)","v":20},{"$f":"IF(NFI_Expiration=1,IF($A182<VLOOKUP(M$5,NFI,5,0),1,0)*Table_NFI[[#This Row],[Blanket]],0)","v":40},{"$f":"IF(NFI_Expiration=1,IF($A182<VLOOKUP(N$5,NFI,5,0),1,0)*Table_NFI[[#This Row],[Kitchen Set]],0)","v":20},{"$f":"IF(NFI_Expiration=1,IF($A182<VLOOKUP(O$5,NFI,5,0),1,0)*Table_NFI[[#This Row],[Complementary Kit]],0)","v":20},{"$f":"IF(NFI_Expiration=1,IF($A182<VLOOKUP(P$5,NFI,5,0),1,0)*Table_NFI[[#This Row],[Plastic Bucket]],0)","v":20},{"$f":"IF(NFI_Expiration=1,IF($A182<VLOOKUP(Q$5,NFI,5,0),1,0)*Table_NFI[[#This Row],[Plastic Mat]],0)","v":40},{"$f":"IFERROR(VLOOKUP(Table_NFI[[#This Row],[Camp Name]],CL,2,0),\"\")","v":"MMR012CMP085"},{"$f":"IFERROR(VLOOKUP(Table_NFI[[#This Row],[Camp Name]],CL,3,0),\"\")","v":"Open"}]
[{"$f":"IF(ISBLANK(B183),\"\",(Report_Date-B183)/30)","v":9.6666666666666661},"2013-02-14","UNHCR",null,"Rakhine","Pauktaw","Ah Nauk Ywe",null,null,null,null,null,500,null,null,null,null,{"$f":"IF(NFI_Expiration=1,IF($A183<VLOOKUP(H$5,NFI,5,0),1,0)*Table_NFI[[#This Row],[Hygiene Kit]],0)","v":0},{"$f":"IF(NFI_Expiration=1,IF($A183<VLOOKUP(I$5,NFI,5,0),1,0)*Table_NFI[[#This Row],[NFI Core Kit]],0)","v":0},{"$f":"IF(NFI_Expiration=1,IF($A183<VLOOKUP(J$5,NFI,5,0),1,0)*Table_NFI[[#This Row],[Sanitary Kit]],0)","v":0},{"$f":"IF(NFI_Expiration=1,IF($A183<VLOOKUP(K$5,NFI,5,0),1,0)*Table_NFI[[#This Row],[Mosquito net]],0)","v":0},{"$f":"IF(NFI_Expiration=1,IF($A183<VLOOKUP(L$5,NFI,5,0),1,0)*Table_NFI[[#This Row],[Tarpaulin]],0)","v":0},{"$f":"IF(NFI_Expiration=1,IF($A183<VLOOKUP(M$5,NFI,5,0),1,0)*Table_NFI[[#This Row],[Blanket]],0)","v":500},{"$f":"IF(NFI_Expiration=1,IF($A183<VLOOKUP(N$5,NFI,5,0),1,0)*Table_NFI[[#This Row],[Kitchen Set]],0)","v":0},{"$f":"IF(NFI_Expiration=1,IF($A183<VLOOKUP(O$5,NFI,5,0),1,0)*Table_NFI[[#This Row],[Complementary Kit]],0)","v":0},{"$f":"IF(NFI_Expiration=1,IF($A183<VLOOKUP(P$5,NFI,5,0),1,0)*Table_NFI[[#This Row],[Plastic Bucket]],0)","v":0},{"$f":"IF(NFI_Expiration=1,IF($A183<VLOOKUP(Q$5,NFI,5,0),1,0)*Table_NFI[[#This Row],[Plastic Mat]],0)","v":0},{"$f":"IFERROR(VLOOKUP(Table_NFI[[#This Row],[Camp Name]],CL,2,0),\"\")","v":"MMR012CMP016"},{"$f":"IFERROR(VLOOKUP(Table_NFI[[#This Row],[Camp Name]],CL,3,0),\"\")","v":"Open"}]
[9.6666666666666661,"2013-02-14","UNHCR",null,"Rakhine","Maungdaw","Ywa thit Kay",null,null,40,81,20,null,null,null,null,null,{"$f":"IF(NFI_Expiration=1,IF($A184<VLOOKUP(H$5,NFI,5,0),1,0)*Table_NFI[[#This Row],[Hygiene Kit]],0)","v":0},{"$f":"IF(NFI_Expiration=1,IF($A184<VLOOKUP(I$5,NFI,5,0),1,0)*Table_NFI[[#This Row],[NFI Core Kit]],0)","v":0},{"$f":"IF(NFI_Expiration=1,IF($A184<VLOOKUP(J$5,NFI,5,0),1,0)*Table_NFI[[#This Row],[Sanitary Kit]],0)","v":40},{"$f":"IF(NFI_Expiration=1,IF($A184<VLOOKUP(K$5,NFI,5,0),1,0)*Table_NFI[[#This Row],[Mosquito net]],0)","v":81},{"$f":"IF(NFI_Expiration=1,IF($A184<VLOOKUP(L$5,NFI,5,0),1,0)*Table_NFI[[#This Row],[Tarpaulin]],0)","v":20},{"$f":"IF(NFI_Expiration=1,IF($A184<VLOOKUP(M$5,NFI,5,0),1,0)*Table_NFI[[#This Row],[Blanket]],0)","v":0},{"$f":"IF(NFI_Expiration=1,IF($A184<VLOOKUP(N$5,NFI,5,0),1,0)*Table_NFI[[#This Row],[Kitchen Set]],0)","v":0},{"$f":"IF(NFI_Expiration=1,IF($A184<VLOOKUP(O$5,NFI,5,0),1,0)*Table_NFI[[#This Row],[Complementary Kit]],0)","v":0},{"$f":"IF(NFI_Expiration=1,IF($A184<VLOOKUP(P$5,NFI,5,0),1,0)*Table_NFI[[#This Row],[Plastic Bucket]],0)","v":0},{"$f":"IF(NFI_Expiration=1,IF($A184<VLOOKUP(Q$5,NFI,5,0),1,0)*Table_NFI[[#This Row],[Plastic Mat]],0)","v":0},{"$f":"IFERROR(VLOOKUP(Table_NFI[[#This Row],[Camp Name]],CL,2,0),\"\")","v":"MMR012CMP085"},{"$f":"IFERROR(VLOOKUP(Table_NFI[[#This Row],[Camp Name]],CL,3,0),\"\")","v":"Open"}]
[9.6333333333333329,"2013-02-15","UNICEF ",null,"Rakhine","Mrauk_U","Yai Thei-Muslim",360,null,null,null,null,null,null,null,null,null,{"$f":"IF(NFI_Expiration=1,IF($A185<VLOOKUP(H$5,NFI,5,0),1,0)*Table_NFI[[#This Row],[Hygiene Kit]],0)","v":360},{"$f":"IF(NFI_Expiration=1,IF($A185<VLOOKUP(I$5,NFI,5,0),1,0)*Table_NFI[[#This Row],[NFI Core Kit]],0)","v":0},{"$f":"IF(NFI_Expiration=1,IF($A185<VLOOKUP(J$5,NFI,5,0),1,0)*Table_NFI[[#This Row],[Sanitary Kit]],0)","v":0},{"$f":"IF(NFI_Expiration=1,IF($A185<VLOOKUP(K$5,NFI,5,0),1,0)*Table_NFI[[#This Row],[Mosquito net]],0)","v":0},{"$f":"IF(NFI_Expiration=1,IF($A185<VLOOKUP(L$5,NFI,5,0),1,0)*Table_NFI[[#This Row],[Tarpaulin]],0)","v":0},{"$f":"IF(NFI_Expiration=1,IF($A185<VLOOKUP(M$5,NFI,5,0),1,0)*Table_NFI[[#This Row],[Blanket]],0)","v":0},{"$f":"IF(NFI_Expiration=1,IF($A185<VLOOKUP(N$5,NFI,5,0),1,0)*Table_NFI[[#This Row],[Kitchen Set]],0)","v":0},{"$f":"IF(NFI_Expiration=1,IF($A185<VLOOKUP(O$5,NFI,5,0),1,0)*Table_NFI[[#This Row],[Complementary Kit]],0)","v":0},{"$f":"IF(NFI_Expiration=1,IF($A185<VLOOKUP(P$5,NFI,5,0),1,0)*Table_NFI[[#This Row],[Plastic Bucket]],0)","v":0},{"$f":"IF(NFI_Expiration=1,IF($A185<VLOOKUP(Q$5,NFI,5,0),1,0)*Table_NFI[[#This Row],[Plastic Mat]],0)","v":0},{"$f":"IFERROR(VLOOKUP(Table_NFI[[#This Row],[Camp Name]],CL,2,0),\"\")","v":"MMR012CMP010"},{"$f":"IFERROR(VLOOKUP(Table_NFI[[#This Row],[Camp Name]],CL,3,0),\"\")","v":"Open"}]
[9.6333333333333329,"2013-02-15","UNICEF ",null,"Rakhine","Mrauk_U","Pa Rein",245,null,null,null,null,null,null,null,null,null,{"$f":"IF(NFI_Expiration=1,IF($A186<VLOOKUP(H$5,NFI,5,0),1,0)*Table_NFI[[#This Row],[Hygiene Kit]],0)","v":245},{"$f":"IF(NFI_Expiration=1,IF($A186<VLOOKUP(I$5,NFI,5,0),1,0)*Table_NFI[[#This Row],[NFI Core Kit]],0)","v":0},{"$f":"IF(NFI_Expiration=1,IF($A186<VLOOKUP(J$5,NFI,5,0),1,0)*Table_NFI[[#This Row],[Sanitary Kit]],0)","v":0},{"$f":"IF(NFI_Expiration=1,IF($A186<VLOOKUP(K$5,NFI,5,0),1,0)*Table_NFI[[#This Row],[Mosquito net]],0)","v":0},{"$f":"IF(NFI_Expiration=1,IF($A186<VLOOKUP(L$5,NFI,5,0),1,0)*Table_NFI[[#This Row],[Tarpaulin]],0)","v":0},{"$f":"IF(NFI_Expiration=1,IF($A186<VLOOKUP(M$5,NFI,5,0),1,0)*Table_NFI[[#This Row],[Blanket]],0)","v":0},{"$f":"IF(NFI_Expiration=1,IF($A186<VLOOKUP(N$5,NFI,5,0),1,0)*Table_NFI[[#This Row],[Kitchen Set]],0)","v":0},{"$f":"IF(NFI_Expiration=1,IF($A186<VLOOKUP(O$5,NFI,5,0),1,0)*Table_NFI[[#This Row],[Complementary Kit]],0)","v":0},{"$f":"IF(NFI_Expiration=1,IF($A186<VLOOKUP(P$5,NFI,5,0),1,0)*Table_NFI[[#This Row],[Plastic Bucket]],0)","v":0},{"$f":"IF(NFI_Expiration=1,IF($A186<VLOOKUP(Q$5,NFI,5,0),1,0)*Table_NFI[[#This Row],[Plastic Mat]],0)","v":0},{"$f":"IFERROR(VLOOKUP(Table_NFI[[#This Row],[Camp Name]],CL,2,0),\"\")","v":"MMR012CMP009"},{"$f":"IFERROR(VLOOKUP(Table_NFI[[#This Row],[Camp Name]],CL,3,0),\"\")","v":"Open"}]
[9.6333333333333329,"2013-02-15","UNICEF ",null,"Rakhine","Minbya","Tha Dar",205,null,null,null,null,null,null,null,null,null,{"$f":"IF(NFI_Expiration=1,IF($A187<VLOOKUP(H$5,NFI,5,0),1,0)*Table_NFI[[#This Row],[Hygiene Kit]],0)","v":205},{"$f":"IF(NFI_Expiration=1,IF($A187<VLOOKUP(I$5,NFI,5,0),1,0)*Table_NFI[[#This Row],[NFI Core Kit]],0)","v":0},{"$f":"IF(NFI_Expiration=1,IF($A187<VLOOKUP(J$5,NFI,5,0),1,0)*Table_NFI[[#This Row],[Sanitary Kit]],0)","v":0},{"$f":"IF(NFI_Expiration=1,IF($A187<VLOOKUP(K$5,NFI,5,0),1,0)*Table_NFI[[#This Row],[Mosquito net]],0)","v":0},{"$f":"IF(NFI_Expiration=1,IF($A187<VLOOKUP(L$5,NFI,5,0),1,0)*Table_NFI[[#This Row],[Tarpaulin]],0)","v":0},{"$f":"IF(NFI_Expiration=1,IF($A187<VLOOKUP(M$5,NFI,5,0),1,0)*Table_NFI[[#This Row],[Blanket]],0)","v":0},{"$f":"IF(NFI_Expiration=1,IF($A187<VLOOKUP(N$5,NFI,5,0),1,0)*Table_NFI[[#This Row],[Kitchen Set]],0)","v":0},{"$f":"IF(NFI_Expiration=1,IF($A187<VLOOKUP(O$5,NFI,5,0),1,0)*Table_NFI[[#This Row],[Complementary Kit]],0)","v":0},{"$f":"IF(NFI_Expiration=1,IF($A187<VLOOKUP(P$5,NFI,5,0),1,0)*Table_NFI[[#This Row],[Plastic Bucket]],0)","v":0},{"$f":"IF(NFI_Expiration=1,IF($A187<VLOOKUP(Q$5,NFI,5,0),1,0)*Table_NFI[[#This Row],[Plastic Mat]],0)","v":0},{"$f":"IFERROR(VLOOKUP(Table_NFI[[#This Row],[Camp Name]],CL,2,0),\"\")","v":"MMR012CMP002"},{"$f":"IFERROR(VLOOKUP(Table_NFI[[#This Row],[Camp Name]],CL,3,0),\"\")","v":"Open"}]
[9.6333333333333329,"2013-02-15","UNICEF ",null,"Rakhine","Minbya","Paik Thay",20,null,null,null,null,null,null,null,null,null,{"$f":"IF(NFI_Expiration=1,IF($A188<VLOOKUP(H$5,NFI,5,0),1,0)*Table_NFI[[#This Row],[Hygiene Kit]],0)","v":20},{"$f":"IF(NFI_Expiration=1,IF($A188<VLOOKUP(I$5,NFI,5,0),1,0)*Table_NFI[[#This Row],[NFI Core Kit]],0)","v":0},{"$f":"IF(NFI_Expiration=1,IF($A188<VLOOKUP(J$5,NFI,5,0),1,0)*Table_NFI[[#This Row],[Sanitary Kit]],0)","v":0},{"$f":"IF(NFI_Expiration=1,IF($A188<VLOOKUP(K$5,NFI,5,0),1,0)*Table_NFI[[#This Row],[Mosquito net]],0)","v":0},{"$f":"IF(NFI_Expiration=1,IF($A188<VLOOKUP(L$5,NFI,5,0),1,0)*Table_NFI[[#This Row],[Tarpaulin]],0)","v":0},{"$f":"IF(NFI_Expiration=1,IF($A188<VLOOKUP(M$5,NFI,5,0),1,0)*Table_NFI[[#This Row],[Blanket]],0)","v":0},{"$f":"IF(NFI_Expiration=1,IF($A188<VLOOKUP(N$5,NFI,5,0),1,0)*Table_NFI[[#This Row],[Kitchen Set]],0)","v":0},{"$f":"IF(NFI_Expiration=1,IF($A188<VLOOKUP(O$5,NFI,5,0),1,0)*Table_NFI[[#This Row],[Complementary Kit]],0)","v":0},{"$f":"IF(NFI_Expiration=1,IF($A188<VLOOKUP(P$5,NFI,5,0),1,0)*Table_NFI[[#This Row],[Plastic Bucket]],0)","v":0},{"$f":"IF(NFI_Expiration=1,IF($A188<VLOOKUP(Q$5,NFI,5,0),1,0)*Table_NFI[[#This Row],[Plastic Mat]],0)","v":0},{"$f":"IFERROR(VLOOKUP(Table_NFI[[#This Row],[Camp Name]],CL,2,0),\"\")","v":"MMR012CMP001"},{"$f":"IFERROR(VLOOKUP(Table_NFI[[#This Row],[Camp Name]],CL,3,0),\"\")","v":"Open"}]
[9.6333333333333329,"2013-02-15","UNICEF ",null,"Rakhine","Minbya","Nagara Pauktaw",230,null,null,null,null,null,null,null,null,null,{"$f":"IF(NFI_Expiration=1,IF($A189<VLOOKUP(H$5,NFI,5,0),1,0)*Table_NFI[[#This Row],[Hygiene Kit]],0)","v":230},{"$f":"IF(NFI_Expiration=1,IF($A189<VLOOKUP(I$5,NFI,5,0),1,0)*Table_NFI[[#This Row],[NFI Core Kit]],0)","v":0},{"$f":"IF(NFI_Expiration=1,IF($A189<VLOOKUP(J$5,NFI,5,0),1,0)*Table_NFI[[#This Row],[Sanitary Kit]],0)","v":0},{"$f":"IF(NFI_Expiration=1,IF($A189<VLOOKUP(K$5,NFI,5,0),1,0)*Table_NFI[[#This Row],[Mosquito net]],0)","v":0},{"$f":"IF(NFI_Expiration=1,IF($A189<VLOOKUP(L$5,NFI,5,0),1,0)*Table_NFI[[#This Row],[Tarpaulin]],0)","v":0},{"$f":"IF(NFI_Expiration=1,IF($A189<VLOOKUP(M$5,NFI,5,0),1,0)*Table_NFI[[#This Row],[Blanket]],0)","v":0},{"$f":"IF(NFI_Expiration=1,IF($A189<VLOOKUP(N$5,NFI,5,0),1,0)*Table_NFI[[#This Row],[Kitchen Set]],0)","v":0},{"$f":"IF(NFI_Expiration=1,IF($A189<VLOOKUP(O$5,NFI,5,0),1,0)*Table_NFI[[#This Row],[Complementary Kit]],0)","v":0},{"$f":"IF(NFI_Expiration=1,IF($A189<VLOOKUP(P$5,NFI,5,0),1,0)*Table_NFI[[#This Row],[Plastic Bucket]],0)","v":0},{"$f":"IF(NFI_Expiration=1,IF($A189<VLOOKUP(Q$5,NFI,5,0),1,0)*Table_NFI[[#This Row],[Plastic Mat]],0)","v":0},{"$f":"IFERROR(VLOOKUP(Table_NFI[[#This Row],[Camp Name]],CL,2,0),\"\")","v":"MMR012CMP004"},{"$f":"IFERROR(VLOOKUP(Table_NFI[[#This Row],[Camp Name]],CL,3,0),\"\")","v":"Close"}]
[9.6333333333333329,"2013-02-15","UNICEF ",null,"Rakhine","Minbya","Thay Kan",35,null,null,null,null,null,null,null,null,null,{"$f":"IF(NFI_Expiration=1,IF($A190<VLOOKUP(H$5,NFI,5,0),1,0)*Table_NFI[[#This Row],[Hygiene Kit]],0)","v":35},{"$f":"IF(NFI_Expiration=1,IF($A190<VLOOKUP(I$5,NFI,5,0),1,0)*Table_NFI[[#This Row],[NFI Core Kit]],0)","v":0},{"$f":"IF(NFI_Expiration=1,IF($A190<VLOOKUP(J$5,NFI,5,0),1,0)*Table_NFI[[#This Row],[Sanitary Kit]],0)","v":0},{"$f":"IF(NFI_Expiration=1,IF($A190<VLOOKUP(K$5,NFI,5,0),1,0)*Table_NFI[[#This Row],[Mosquito net]],0)","v":0},{"$f":"IF(NFI_Expiration=1,IF($A190<VLOOKUP(L$5,NFI,5,0),1,0)*Table_NFI[[#This Row],[Tarpaulin]],0)","v":0},{"$f":"IF(NFI_Expiration=1,IF($A190<VLOOKUP(M$5,NFI,5,0),1,0)*Table_NFI[[#This Row],[Blanket]],0)","v":0},{"$f":"IF(NFI_Expiration=1,IF($A190<VLOOKUP(N$5,NFI,5,0),1,0)*Table_NFI[[#This Row],[Kitchen Set]],0)","v":0},{"$f":"IF(NFI_Expiration=1,IF($A190<VLOOKUP(O$5,NFI,5,0),1,0)*Table_NFI[[#This Row],[Complementary Kit]],0)","v":0},{"$f":"IF(NFI_Expiration=1,IF($A190<VLOOKUP(P$5,NFI,5,0),1,0)*Table_NFI[[#This Row],[Plastic Bucket]],0)","v":0},{"$f":"IF(NFI_Expiration=1,IF($A190<VLOOKUP(Q$5,NFI,5,0),1,0)*Table_NFI[[#This Row],[Plastic Mat]],0)","v":0},{"$f":"IFERROR(VLOOKUP(Table_NFI[[#This Row],[Camp Name]],CL,2,0),\"\")","v":"MMR012CMP007"},{"$f":"IFERROR(VLOOKUP(Table_NFI[[#This Row],[Camp Name]],CL,3,0),\"\")","v":"Close"}]
[9.6333333333333329,"2013-02-15","UNICEF ",null,"Rakhine","Minbya","Aung Taing",90,null,null,null,null,null,null,null,null,null,{"$f":"IF(NFI_Expiration=1,IF($A191<VLOOKUP(H$5,NFI,5,0),1,0)*Table_NFI[[#This Row],[Hygiene Kit]],0)","v":90},{"$f":"IF(NFI_Expiration=1,IF($A191<VLOOKUP(I$5,NFI,5,0),1,0)*Table_NFI[[#This Row],[NFI Core Kit]],0)","v":0},{"$f":"IF(NFI_Expiration=1,IF($A191<VLOOKUP(J$5,NFI,5,0),1,0)*Table_NFI[[#This Row],[Sanitary Kit]],0)","v":0},{"$f":"IF(NFI_Expiration=1,IF($A191<VLOOKUP(K$5,NFI,5,0),1,0)*Table_NFI[[#This Row],[Mosquito net]],0)","v":0},{"$f":"IF(NFI_Expiration=1,IF($A191<VLOOKUP(L$5,NFI,5,0),1,0)*Table_NFI[[#This Row],[Tarpaulin]],0)","v":0},{"$f":"IF(NFI_Expiration=1,IF($A191<VLOOKUP(M$5,NFI,5,0),1,0)*Table_NFI[[#This Row],[Blanket]],0)","v":0},{"$f":"IF(NFI_Expiration=1,IF($A191<VLOOKUP(N$5,NFI,5,0),1,0)*Table_NFI[[#This Row],[Kitchen Set]],0)","v":0},{"$f":"IF(NFI_Expiration=1,IF($A191<VLOOKUP(O$5,NFI,5,0),1,0)*Table_NFI[[#This Row],[Complementary Kit]],0)","v":0},{"$f":"IF(NFI_Expiration=1,IF($A191<VLOOKUP(P$5,NFI,5,0),1,0)*Table_NFI[[#This Row],[Plastic Bucket]],0)","v":0},{"$f":"IF(NFI_Expiration=1,IF($A191<VLOOKUP(Q$5,NFI,5,0),1,0)*Table_NFI[[#This Row],[Plastic Mat]],0)","v":0},{"$f":"IFERROR(VLOOKUP(Table_NFI[[#This Row],[Camp Name]],CL,2,0),\"\")","v":"MMR012CMP006"},{"$f":"IFERROR(VLOOKUP(Table_NFI[[#This Row],[Camp Name]],CL,3,0),\"\")","v":"Open"}]
[9.6333333333333329,"2013-02-15","UNICEF ",null,"Rakhine","Minbya","San Htoe Tan",90,null,null,null,null,null,null,null,null,null,{"$f":"IF(NFI_Expiration=1,IF($A192<VLOOKUP(H$5,NFI,5,0),1,0)*Table_NFI[[#This Row],[Hygiene Kit]],0)","v":90},{"$f":"IF(NFI_Expiration=1,IF($A192<VLOOKUP(I$5,NFI,5,0),1,0)*Table_NFI[[#This Row],[NFI Core Kit]],0)","v":0},{"$f":"IF(NFI_Expiration=1,IF($A192<VLOOKUP(J$5,NFI,5,0),1,0)*Table_NFI[[#This Row],[Sanitary Kit]],0)","v":0},{"$f":"IF(NFI_Expiration=1,IF($A192<VLOOKUP(K$5,NFI,5,0),1,0)*Table_NFI[[#This Row],[Mosquito net]],0)","v":0},{"$f":"IF(NFI_Expiration=1,IF($A192<VLOOKUP(L$5,NFI,5,0),1,0)*Table_NFI[[#This Row],[Tarpaulin]],0)","v":0},{"$f":"IF(NFI_Expiration=1,IF($A192<VLOOKUP(M$5,NFI,5,0),1,0)*Table_NFI[[#This Row],[Blanket]],0)","v":0},{"$f":"IF(NFI_Expiration=1,IF($A192<VLOOKUP(N$5,NFI,5,0),1,0)*Table_NFI[[#This Row],[Kitchen Set]],0)","v":0},{"$f":"IF(NFI_Expiration=1,IF($A192<VLOOKUP(O$5,NFI,5,0),1,0)*Table_NFI[[#This Row],[Complementary Kit]],0)","v":0},{"$f":"IF(NFI_Expiration=1,IF($A192<VLOOKUP(P$5,NFI,5,0),1,0)*Table_NFI[[#This Row],[Plastic Bucket]],0)","v":0},{"$f":"IF(NFI_Expiration=1,IF($A192<VLOOKUP(Q$5,NFI,5,0),1,0)*Table_NFI[[#This Row],[Plastic Mat]],0)","v":0},{"$f":"IFERROR(VLOOKUP(Table_NFI[[#This Row],[Camp Name]],CL,2,0),\"\")","v":"MMR012CMP003"},{"$f":"IFERROR(VLOOKUP(Table_NFI[[#This Row],[Camp Name]],CL,3,0),\"\")","v":"Open"}]
[9.6333333333333329,"2013-02-15","UNICEF ",null,"Rakhine","Minbya","Sam Ba Le",230,null,null,null,null,null,null,null,null,null,{"$f":"IF(NFI_Expiration=1,IF($A193<VLOOKUP(H$5,NFI,5,0),1,0)*Table_NFI[[#This Row],[Hygiene Kit]],0)","v":230},{"$f":"IF(NFI_Expiration=1,IF($A193<VLOOKUP(I$5,NFI,5,0),1,0)*Table_NFI[[#This Row],[NFI Core Kit]],0)","v":0},{"$f":"IF(NFI_Expiration=1,IF($A193<VLOOKUP(J$5,NFI,5,0),1,0)*Table_NFI[[#This Row],[Sanitary Kit]],0)","v":0},{"$f":"IF(NFI_Expiration=1,IF($A193<VLOOKUP(K$5,NFI,5,0),1,0)*Table_NFI[[#This Row],[Mosquito net]],0)","v":0},{"$f":"IF(NFI_Expiration=1,IF($A193<VLOOKUP(L$5,NFI,5,0),1,0)*Table_NFI[[#This Row],[Tarpaulin]],0)","v":0},{"$f":"IF(NFI_Expiration=1,IF($A193<VLOOKUP(M$5,NFI,5,0),1,0)*Table_NFI[[#This Row],[Blanket]],0)","v":0},{"$f":"IF(NFI_Expiration=1,IF($A193<VLOOKUP(N$5,NFI,5,0),1,0)*Table_NFI[[#This Row],[Kitchen Set]],0)","v":0},{"$f":"IF(NFI_Expiration=1,IF($A193<VLOOKUP(O$5,NFI,5,0),1,0)*Table_NFI[[#This Row],[Complementary Kit]],0)","v":0},{"$f":"IF(NFI_Expiration=1,IF($A193<VLOOKUP(P$5,NFI,5,0),1,0)*Table_NFI[[#This Row],[Plastic Bucket]],0)","v":0},{"$f":"IF(NFI_Expiration=1,IF($A193<VLOOKUP(Q$5,NFI,5,0),1,0)*Table_NFI[[#This Row],[Plastic Mat]],0)","v":0},{"$f":"IFERROR(VLOOKUP(Table_NFI[[#This Row],[Camp Name]],CL,2,0),\"\")","v":"MMR012CMP008"},{"$f":"IFERROR(VLOOKUP(Table_NFI[[#This Row],[Camp Name]],CL,3,0),\"\")","v":"Open"}]
[9.6333333333333329,"2013-02-15","UNICEF ",null,"Rakhine","Mrauk_U","Myat Buddha Mandine Monastery",35,null,null,null,null,null,null,null,null,null,{"$f":"IF(NFI_Expiration=1,IF($A194<VLOOKUP(H$5,NFI,5,0),1,0)*Table_NFI[[#This Row],[Hygiene Kit]],0)","v":35},{"$f":"IF(NFI_Expiration=1,IF($A194<VLOOKUP(I$5,NFI,5,0),1,0)*Table_NFI[[#This Row],[NFI Core Kit]],0)","v":0},{"$f":"IF(NFI_Expiration=1,IF($A194<VLOOKUP(J$5,NFI,5,0),1,0)*Table_NFI[[#This Row],[Sanitary Kit]],0)","v":0},{"$f":"IF(NFI_Expiration=1,IF($A194<VLOOKUP(K$5,NFI,5,0),1,0)*Table_NFI[[#This Row],[Mosquito net]],0)","v":0},{"$f":"IF(NFI_Expiration=1,IF($A194<VLOOKUP(L$5,NFI,5,0),1,0)*Table_NFI[[#This Row],[Tarpaulin]],0)","v":0},{"$f":"IF(NFI_Expiration=1,IF($A194<VLOOKUP(M$5,NFI,5,0),1,0)*Table_NFI[[#This Row],[Blanket]],0)","v":0},{"$f":"IF(NFI_Expiration=1,IF($A194<VLOOKUP(N$5,NFI,5,0),1,0)*Table_NFI[[#This Row],[Kitchen Set]],0)","v":0},{"$f":"IF(NFI_Expiration=1,IF($A194<VLOOKUP(O$5,NFI,5,0),1,0)*Table_NFI[[#This Row],[Complementary Kit]],0)","v":0},{"$f":"IF(NFI_Expiration=1,IF($A194<VLOOKUP(P$5,NFI,5,0),1,0)*Table_NFI[[#This Row],[Plastic Bucket]],0)","v":0},{"$f":"IF(NFI_Expiration=1,IF($A194<VLOOKUP(Q$5,NFI,5,0),1,0)*Table_NFI[[#This Row],[Plastic Mat]],0)","v":0},{"$f":"IFERROR(VLOOKUP(Table_NFI[[#This Row],[Camp Name]],CL,2,0),\"\")","v":"MMR012CMP011"},{"$f":"IFERROR(VLOOKUP(Table_NFI[[#This Row],[Camp Name]],CL,3,0),\"\")","v":"Close"}]
[9.4333333333333336,"2013-02-21","Solidarites International","Solidarities International","Rakhine","Sittwe","Thae Chaung",1542,null,null,null,null,null,null,null,null,null,{"$f":"IF(NFI_Expiration=1,IF($A195<VLOOKUP(H$5,NFI,5,0),1,0)*Table_NFI[[#This Row],[Hygiene Kit]],0)","v":1542},{"$f":"IF(NFI_Expiration=1,IF($A195<VLOOKUP(I$5,NFI,5,0),1,0)*Table_NFI[[#This Row],[NFI Core Kit]],0)","v":0},{"$f":"IF(NFI_Expiration=1,IF($A195<VLOOKUP(J$5,NFI,5,0),1,0)*Table_NFI[[#This Row],[Sanitary Kit]],0)","v":0},{"$f":"IF(NFI_Expiration=1,IF($A195<VLOOKUP(K$5,NFI,5,0),1,0)*Table_NFI[[#This Row],[Mosquito net]],0)","v":0},{"$f":"IF(NFI_Expiration=1,IF($A195<VLOOKUP(L$5,NFI,5,0),1,0)*Table_NFI[[#This Row],[Tarpaulin]],0)","v":0},{"$f":"IF(NFI_Expiration=1,IF($A195<VLOOKUP(M$5,NFI,5,0),1,0)*Table_NFI[[#This Row],[Blanket]],0)","v":0},{"$f":"IF(NFI_Expiration=1,IF($A195<VLOOKUP(N$5,NFI,5,0),1,0)*Table_NFI[[#This Row],[Kitchen Set]],0)","v":0},{"$f":"IF(NFI_Expiration=1,IF($A195<VLOOKUP(O$5,NFI,5,0),1,0)*Table_NFI[[#This Row],[Complementary Kit]],0)","v":0},{"$f":"IF(NFI_Expiration=1,IF($A195<VLOOKUP(P$5,NFI,5,0),1,0)*Table_NFI[[#This Row],[Plastic Bucket]],0)","v":0},{"$f":"IF(NFI_Expiration=1,IF($A195<VLOOKUP(Q$5,NFI,5,0),1,0)*Table_NFI[[#This Row],[Plastic Mat]],0)","v":0},{"$f":"IFERROR(VLOOKUP(Table_NFI[[#This Row],[Camp Name]],CL,2,0),\"\")","v":"MMR012CMP046"},{"$f":"IFERROR(VLOOKUP(Table_NFI[[#This Row],[Camp Name]],CL,3,0),\"\")","v":"Open"}]
[9.4,"2013-02-22","UNICEF ",null,"Rakhine","Pauktaw","Nget Chaung",1306,0,null,null,null,null,null,null,null,null,{"$f":"IF(NFI_Expiration=1,IF($A196<VLOOKUP(H$5,NFI,5,0),1,0)*Table_NFI[[#This Row],[Hygiene Kit]],0)","v":1306},{"$f":"IF(NFI_Expiration=1,IF($A196<VLOOKUP(I$5,NFI,5,0),1,0)*Table_NFI[[#This Row],[NFI Core Kit]],0)","v":0},{"$f":"IF(NFI_Expiration=1,IF($A196<VLOOKUP(J$5,NFI,5,0),1,0)*Table_NFI[[#This Row],[Sanitary Kit]],0)","v":0},{"$f":"IF(NFI_Expiration=1,IF($A196<VLOOKUP(K$5,NFI,5,0),1,0)*Table_NFI[[#This Row],[Mosquito net]],0)","v":0},{"$f":"IF(NFI_Expiration=1,IF($A196<VLOOKUP(L$5,NFI,5,0),1,0)*Table_NFI[[#This Row],[Tarpaulin]],0)","v":0},{"$f":"IF(NFI_Expiration=1,IF($A196<VLOOKUP(M$5,NFI,5,0),1,0)*Table_NFI[[#This Row],[Blanket]],0)","v":0},{"$f":"IF(NFI_Expiration=1,IF($A196<VLOOKUP(N$5,NFI,5,0),1,0)*Table_NFI[[#This Row],[Kitchen Set]],0)","v":0},{"$f":"IF(NFI_Expiration=1,IF($A196<VLOOKUP(O$5,NFI,5,0),1,0)*Table_NFI[[#This Row],[Complementary Kit]],0)","v":0},{"$f":"IF(NFI_Expiration=1,IF($A196<VLOOKUP(P$5,NFI,5,0),1,0)*Table_NFI[[#This Row],[Plastic Bucket]],0)","v":0},{"$f":"IF(NFI_Expiration=1,IF($A196<VLOOKUP(Q$5,NFI,5,0),1,0)*Table_NFI[[#This Row],[Plastic Mat]],0)","v":0},{"$f":"IFERROR(VLOOKUP(Table_NFI[[#This Row],[Camp Name]],CL,2,0),\"\")","v":"MMR012CMP017"},{"$f":"IFERROR(VLOOKUP(Table_NFI[[#This Row],[Camp Name]],CL,3,0),\"\")","v":"Open"}]
[9.4,"2013-02-22","UNICEF ",null,"Rakhine","Pauktaw","Ba Wan Chaung Wa Su",23,0,null,null,null,null,null,null,null,null,{"$f":"IF(NFI_Expiration=1,IF($A197<VLOOKUP(H$5,NFI,5,0),1,0)*Table_NFI[[#This Row],[Hygiene Kit]],0)","v":23},{"$f":"IF(NFI_Expiration=1,IF($A197<VLOOKUP(I$5,NFI,5,0),1,0)*Table_NFI[[#This Row],[NFI Core Kit]],0)","v":0},{"$f":"IF(NFI_Expiration=1,IF($A197<VLOOKUP(J$5,NFI,5,0),1,0)*Table_NFI[[#This Row],[Sanitary Kit]],0)","v":0},{"$f":"IF(NFI_Expiration=1,IF($A197<VLOOKUP(K$5,NFI,5,0),1,0)*Table_NFI[[#This Row],[Mosquito net]],0)","v":0},{"$f":"IF(NFI_Expiration=1,IF($A197<VLOOKUP(L$5,NFI,5,0),1,0)*Table_NFI[[#This Row],[Tarpaulin]],0)","v":0},{"$f":"IF(NFI_Expiration=1,IF($A197<VLOOKUP(M$5,NFI,5,0),1,0)*Table_NFI[[#This Row],[Blanket]],0)","v":0},{"$f":"IF(NFI_Expiration=1,IF($A197<VLOOKUP(N$5,NFI,5,0),1,0)*Table_NFI[[#This Row],[Kitchen Set]],0)","v":0},{"$f":"IF(NFI_Expiration=1,IF($A197<VLOOKUP(O$5,NFI,5,0),1,0)*Table_NFI[[#This Row],[Complementary Kit]],0)","v":0},{"$f":"IF(NFI_Expiration=1,IF($A197<VLOOKUP(P$5,NFI,5,0),1,0)*Table_NFI[[#This Row],[Plastic Bucket]],0)","v":0},{"$f":"IF(NFI_Expiration=1,IF($A197<VLOOKUP(Q$5,NFI,5,0),1,0)*Table_NFI[[#This Row],[Plastic Mat]],0)","v":0},{"$f":"IFERROR(VLOOKUP(Table_NFI[[#This Row],[Camp Name]],CL,2,0),\"\")","v":"MMR012CMP015"},{"$f":"IFERROR(VLOOKUP(Table_NFI[[#This Row],[Camp Name]],CL,3,0),\"\")","v":"Open"}]
[9.4,"2013-02-22","UNHCR",null,"Rakhine","Maungdaw","Nyaung Pin Hla",0,15,null,30,15,30,15,15,15,30,{"$f":"IF(NFI_Expiration=1,IF($A198<VLOOKUP(H$5,NFI,5,0),1,0)*Table_NFI[[#This Row],[Hygiene Kit]],0)","v":0},{"$f":"IF(NFI_Expiration=1,IF($A198<VLOOKUP(I$5,NFI,5,0),1,0)*Table_NFI[[#This Row],[NFI Core Kit]],0)","v":15},{"$f":"IF(NFI_Expiration=1,IF($A198<VLOOKUP(J$5,NFI,5,0),1,0)*Table_NFI[[#This Row],[Sanitary Kit]],0)","v":0},{"$f":"IF(NFI_Expiration=1,IF($A198<VLOOKUP(K$5,NFI,5,0),1,0)*Table_NFI[[#This Row],[Mosquito net]],0)","v":30},{"$f":"IF(NFI_Expiration=1,IF($A198<VLOOKUP(L$5,NFI,5,0),1,0)*Table_NFI[[#This Row],[Tarpaulin]],0)","v":15},{"$f":"IF(NFI_Expiration=1,IF($A198<VLOOKUP(M$5,NFI,5,0),1,0)*Table_NFI[[#This Row],[Blanket]],0)","v":30},{"$f":"IF(NFI_Expiration=1,IF($A198<VLOOKUP(N$5,NFI,5,0),1,0)*Table_NFI[[#This Row],[Kitchen Set]],0)","v":15},{"$f":"IF(NFI_Expiration=1,IF($A198<VLOOKUP(O$5,NFI,5,0),1,0)*Table_NFI[[#This Row],[Complementary Kit]],0)","v":15},{"$f":"IF(NFI_Expiration=1,IF($A198<VLOOKUP(P$5,NFI,5,0),1,0)*Table_NFI[[#This Row],[Plastic Bucket]],0)","v":15},{"$f":"IF(NFI_Expiration=1,IF($A198<VLOOKUP(Q$5,NFI,5,0),1,0)*Table_NFI[[#This Row],[Plastic Mat]],0)","v":30},{"$f":"IFERROR(VLOOKUP(Table_NFI[[#This Row],[Camp Name]],CL,2,0),\"\")","v":"MMR012CMP082"},{"$f":"IFERROR(VLOOKUP(Table_NFI[[#This Row],[Camp Name]],CL,3,0),\"\")","v":"Open"}]
[9.4,"2013-02-22","UNHCR",null,"Rakhine","Maungdaw","Nyaung Pin Hla",0,null,30,52,15,0,null,null,null,null,{"$f":"IF(NFI_Expiration=1,IF($A199<VLOOKUP(H$5,NFI,5,0),1,0)*Table_NFI[[#This Row],[Hygiene Kit]],0)","v":0},{"$f":"IF(NFI_Expiration=1,IF($A199<VLOOKUP(I$5,NFI,5,0),1,0)*Table_NFI[[#This Row],[NFI Core Kit]],0)","v":0},{"$f":"IF(NFI_Expiration=1,IF($A199<VLOOKUP(J$5,NFI,5,0),1,0)*Table_NFI[[#This Row],[Sanitary Kit]],0)","v":30},{"$f":"IF(NFI_Expiration=1,IF($A199<VLOOKUP(K$5,NFI,5,0),1,0)*Table_NFI[[#This Row],[Mosquito net]],0)","v":52},{"$f":"IF(NFI_Expiration=1,IF($A199<VLOOKUP(L$5,NFI,5,0),1,0)*Table_NFI[[#This Row],[Tarpaulin]],0)","v":15},{"$f":"IF(NFI_Expiration=1,IF($A199<VLOOKUP(M$5,NFI,5,0),1,0)*Table_NFI[[#This Row],[Blanket]],0)","v":0},{"$f":"IF(NFI_Expiration=1,IF($A199<VLOOKUP(N$5,NFI,5,0),1,0)*Table_NFI[[#This Row],[Kitchen Set]],0)","v":0},{"$f":"IF(NFI_Expiration=1,IF($A199<VLOOKUP(O$5,NFI,5,0),1,0)*Table_NFI[[#This Row],[Complementary Kit]],0)","v":0},{"$f":"IF(NFI_Expiration=1,IF($A199<VLOOKUP(P$5,NFI,5,0),1,0)*Table_NFI[[#This Row],[Plastic Bucket]],0)","v":0},{"$f":"IF(NFI_Expiration=1,IF($A199<VLOOKUP(Q$5,NFI,5,0),1,0)*Table_NFI[[#This Row],[Plastic Mat]],0)","v":0},{"$f":"IFERROR(VLOOKUP(Table_NFI[[#This Row],[Camp Name]],CL,2,0),\"\")","v":"MMR012CMP082"},{"$f":"IFERROR(VLOOKUP(Table_NFI[[#This Row],[Camp Name]],CL,3,0),\"\")","v":"Open"}]
[9.2333333333333325,"2013-02-27","UNHCR",null,"Rakhine","Maungdaw","Bomu Ywa",0,50,null,100,50,100,50,50,50,100,{"$f":"IF(NFI_Expiration=1,IF($A200<VLOOKUP(H$5,NFI,5,0),1,0)*Table_NFI[[#This Row],[Hygiene Kit]],0)","v":0},{"$f":"IF(NFI_Expiration=1,IF($A200<VLOOKUP(I$5,NFI,5,0),1,0)*Table_NFI[[#This Row],[NFI Core Kit]],0)","v":50},{"$f":"IF(NFI_Expiration=1,IF($A200<VLOOKUP(J$5,NFI,5,0),1,0)*Table_NFI[[#This Row],[Sanitary Kit]],0)","v":0},{"$f":"IF(NFI_Expiration=1,IF($A200<VLOOKUP(K$5,NFI,5,0),1,0)*Table_NFI[[#This Row],[Mosquito net]],0)","v":100},{"$f":"IF(NFI_Expiration=1,IF($A200<VLOOKUP(L$5,NFI,5,0),1,0)*Table_NFI[[#This Row],[Tarpaulin]],0)","v":50},{"$f":"IF(NFI_Expiration=1,IF($A200<VLOOKUP(M$5,NFI,5,0),1,0)*Table_NFI[[#This Row],[Blanket]],0)","v":100},{"$f":"IF(NFI_Expiration=1,IF($A200<VLOOKUP(N$5,NFI,5,0),1,0)*Table_NFI[[#This Row],[Kitchen Set]],0)","v":50},{"$f":"IF(NFI_Expiration=1,IF($A200<VLOOKUP(O$5,NFI,5,0),1,0)*Table_NFI[[#This Row],[Complementary Kit]],0)","v":50},{"$f":"IF(NFI_Expiration=1,IF($A200<VLOOKUP(P$5,NFI,5,0),1,0)*Table_NFI[[#This Row],[Plastic Bucket]],0)","v":50},{"$f":"IF(NFI_Expiration=1,IF($A200<VLOOKUP(Q$5,NFI,5,0),1,0)*Table_NFI[[#This Row],[Plastic Mat]],0)","v":100},{"$f":"IFERROR(VLOOKUP(Table_NFI[[#This Row],[Camp Name]],CL,2,0),\"\")","v":"MMR012CMP084"},{"$f":"IFERROR(VLOOKUP(Table_NFI[[#This Row],[Camp Name]],CL,3,0),\"\")","v":"Open"}]
[9.2333333333333325,"2013-02-27","Muslim Aid",null,"Rakhine","Sittwe","Set Yone Su",0,200,null,400,200,400,200,200,200,400,{"$f":"IF(NFI_Expiration=1,IF($A201<VLOOKUP(H$5,NFI,5,0),1,0)*Table_NFI[[#This Row],[Hygiene Kit]],0)","v":0},{"$f":"IF(NFI_Expiration=1,IF($A201<VLOOKUP(I$5,NFI,5,0),1,0)*Table_NFI[[#This Row],[NFI Core Kit]],0)","v":200},{"$f":"IF(NFI_Expiration=1,IF($A201<VLOOKUP(J$5,NFI,5,0),1,0)*Table_NFI[[#This Row],[Sanitary Kit]],0)","v":0},{"$f":"IF(NFI_Expiration=1,IF($A201<VLOOKUP(K$5,NFI,5,0),1,0)*Table_NFI[[#This Row],[Mosquito net]],0)","v":400},{"$f":"IF(NFI_Expiration=1,IF($A201<VLOOKUP(L$5,NFI,5,0),1,0)*Table_NFI[[#This Row],[Tarpaulin]],0)","v":200},{"$f":"IF(NFI_Expiration=1,IF($A201<VLOOKUP(M$5,NFI,5,0),1,0)*Table_NFI[[#This Row],[Blanket]],0)","v":400},{"$f":"IF(NFI_Expiration=1,IF($A201<VLOOKUP(N$5,NFI,5,0),1,0)*Table_NFI[[#This Row],[Kitchen Set]],0)","v":200},{"$f":"IF(NFI_Expiration=1,IF($A201<VLOOKUP(O$5,NFI,5,0),1,0)*Table_NFI[[#This Row],[Complementary Kit]],0)","v":200},{"$f":"IF(NFI_Expiration=1,IF($A201<VLOOKUP(P$5,NFI,5,0),1,0)*Table_NFI[[#This Row],[Plastic Bucket]],0)","v":200},{"$f":"IF(NFI_Expiration=1,IF($A201<VLOOKUP(Q$5,NFI,5,0),1,0)*Table_NFI[[#This Row],[Plastic Mat]],0)","v":400},{"$f":"IFERROR(VLOOKUP(Table_NFI[[#This Row],[Camp Name]],CL,2,0),\"\")","v":"MMR012CMP056"},{"$f":"IFERROR(VLOOKUP(Table_NFI[[#This Row],[Camp Name]],CL,3,0),\"\")","v":"Open"}]
[9.2333333333333325,"2013-02-27","Muslim Aid",null,"Rakhine","Sittwe","Ohn Taw Gyi 1",0,800,null,1600,800,1600,800,800,800,1600,{"$f":"IF(NFI_Expiration=1,IF($A202<VLOOKUP(H$5,NFI,5,0),1,0)*Table_NFI[[#This Row],[Hygiene Kit]],0)","v":0},{"$f":"IF(NFI_Expiration=1,IF($A202<VLOOKUP(I$5,NFI,5,0),1,0)*Table_NFI[[#This Row],[NFI Core Kit]],0)","v":800},{"$f":"IF(NFI_Expiration=1,IF($A202<VLOOKUP(J$5,NFI,5,0),1,0)*Table_NFI[[#This Row],[Sanitary Kit]],0)","v":0},{"$f":"IF(NFI_Expiration=1,IF($A202<VLOOKUP(K$5,NFI,5,0),1,0)*Table_NFI[[#This Row],[Mosquito net]],0)","v":1600},{"$f":"IF(NFI_Expiration=1,IF($A202<VLOOKUP(L$5,NFI,5,0),1,0)*Table_NFI[[#This Row],[Tarpaulin]],0)","v":800},{"$f":"IF(NFI_Expiration=1,IF($A202<VLOOKUP(M$5,NFI,5,0),1,0)*Table_NFI[[#This Row],[Blanket]],0)","v":1600},{"$f":"IF(NFI_Expiration=1,IF($A202<VLOOKUP(N$5,NFI,5,0),1,0)*Table_NFI[[#This Row],[Kitchen Set]],0)","v":800},{"$f":"IF(NFI_Expiration=1,IF($A202<VLOOKUP(O$5,NFI,5,0),1,0)*Table_NFI[[#This Row],[Complementary Kit]],0)","v":800},{"$f":"IF(NFI_Expiration=1,IF($A202<VLOOKUP(P$5,NFI,5,0),1,0)*Table_NFI[[#This Row],[Plastic Bucket]],0)","v":800},{"$f":"IF(NFI_Expiration=1,IF($A202<VLOOKUP(Q$5,NFI,5,0),1,0)*Table_NFI[[#This Row],[Plastic Mat]],0)","v":1600},{"$f":"IFERROR(VLOOKUP(Table_NFI[[#This Row],[Camp Name]],CL,2,0),\"\")","v":"MMR012CMP043"},{"$f":"IFERROR(VLOOKUP(Table_NFI[[#This Row],[Camp Name]],CL,3,0),\"\")","v":"Close"}]
[9.2333333333333325,"2013-02-27","UNHCR",null,"Rakhine","Maungdaw","Bomu Ywa",0,null,100,171,50,0,null,null,null,null,{"$f":"IF(NFI_Expiration=1,IF($A203<VLOOKUP(H$5,NFI,5,0),1,0)*Table_NFI[[#This Row],[Hygiene Kit]],0)","v":0},{"$f":"IF(NFI_Expiration=1,IF($A203<VLOOKUP(I$5,NFI,5,0),1,0)*Table_NFI[[#This Row],[NFI Core Kit]],0)","v":0},{"$f":"IF(NFI_Expiration=1,IF($A203<VLOOKUP(J$5,NFI,5,0),1,0)*Table_NFI[[#This Row],[Sanitary Kit]],0)","v":100},{"$f":"IF(NFI_Expiration=1,IF($A203<VLOOKUP(K$5,NFI,5,0),1,0)*Table_NFI[[#This Row],[Mosquito net]],0)","v":171},{"$f":"IF(NFI_Expiration=1,IF($A203<VLOOKUP(L$5,NFI,5,0),1,0)*Table_NFI[[#This Row],[Tarpaulin]],0)","v":50},{"$f":"IF(NFI_Expiration=1,IF($A203<VLOOKUP(M$5,NFI,5,0),1,0)*Table_NFI[[#This Row],[Blanket]],0)","v":0},{"$f":"IF(NFI_Expiration=1,IF($A203<VLOOKUP(N$5,NFI,5,0),1,0)*Table_NFI[[#This Row],[Kitchen Set]],0)","v":0},{"$f":"IF(NFI_Expiration=1,IF($A203<VLOOKUP(O$5,NFI,5,0),1,0)*Table_NFI[[#This Row],[Complementary Kit]],0)","v":0},{"$f":"IF(NFI_Expiration=1,IF($A203<VLOOKUP(P$5,NFI,5,0),1,0)*Table_NFI[[#This Row],[Plastic Bucket]],0)","v":0},{"$f":"IF(NFI_Expiration=1,IF($A203<VLOOKUP(Q$5,NFI,5,0),1,0)*Table_NFI[[#This Row],[Plastic Mat]],0)","v":0},{"$f":"IFERROR(VLOOKUP(Table_NFI[[#This Row],[Camp Name]],CL,2,0),\"\")","v":"MMR012CMP084"},{"$f":"IFERROR(VLOOKUP(Table_NFI[[#This Row],[Camp Name]],CL,3,0),\"\")","v":"Open"}]
[9.2333333333333325,"2013-02-27","Muslim Aid",null,"Rakhine","Sittwe","Set Yone Su",0,null,null,null,null,null,null,null,null,null,{"$f":"IF(NFI_Expiration=1,IF($A204<VLOOKUP(H$5,NFI,5,0),1,0)*Table_NFI[[#This Row],[Hygiene Kit]],0)","v":0},{"$f":"IF(NFI_Expiration=1,IF($A204<VLOOKUP(I$5,NFI,5,0),1,0)*Table_NFI[[#This Row],[NFI Core Kit]],0)","v":0},{"$f":"IF(NFI_Expiration=1,IF($A204<VLOOKUP(J$5,NFI,5,0),1,0)*Table_NFI[[#This Row],[Sanitary Kit]],0)","v":0},{"$f":"IF(NFI_Expiration=1,IF($A204<VLOOKUP(K$5,NFI,5,0),1,0)*Table_NFI[[#This Row],[Mosquito net]],0)","v":0},{"$f":"IF(NFI_Expiration=1,IF($A204<VLOOKUP(L$5,NFI,5,0),1,0)*Table_NFI[[#This Row],[Tarpaulin]],0)","v":0},{"$f":"IF(NFI_Expiration=1,IF($A204<VLOOKUP(M$5,NFI,5,0),1,0)*Table_NFI[[#This Row],[Blanket]],0)","v":0},{"$f":"IF(NFI_Expiration=1,IF($A204<VLOOKUP(N$5,NFI,5,0),1,0)*Table_NFI[[#This Row],[Kitchen Set]],0)","v":0},{"$f":"IF(NFI_Expiration=1,IF($A204<VLOOKUP(O$5,NFI,5,0),1,0)*Table_NFI[[#This Row],[Complementary Kit]],0)","v":0},{"$f":"IF(NFI_Expiration=1,IF($A204<VLOOKUP(P$5,NFI,5,0),1,0)*Table_NFI[[#This Row],[Plastic Bucket]],0)","v":0},{"$f":"IF(NFI_Expiration=1,IF($A204<VLOOKUP(Q$5,NFI,5,0),1,0)*Table_NFI[[#This Row],[Plastic Mat]],0)","v":0},{"$f":"IFERROR(VLOOKUP(Table_NFI[[#This Row],[Camp Name]],CL,2,0),\"\")","v":"MMR012CMP056"},{"$f":"IFERROR(VLOOKUP(Table_NFI[[#This Row],[Camp Name]],CL,3,0),\"\")","v":"Open"}]
[9.2333333333333325,"2013-02-27","Muslim Aid",null,"Rakhine","Sittwe","Ohn Taw Gyi 1",0,null,null,null,null,null,null,null,null,null,{"$f":"IF(NFI_Expiration=1,IF($A205<VLOOKUP(H$5,NFI,5,0),1,0)*Table_NFI[[#This Row],[Hygiene Kit]],0)","v":0},{"$f":"IF(NFI_Expiration=1,IF($A205<VLOOKUP(I$5,NFI,5,0),1,0)*Table_NFI[[#This Row],[NFI Core Kit]],0)","v":0},{"$f":"IF(NFI_Expiration=1,IF($A205<VLOOKUP(J$5,NFI,5,0),1,0)*Table_NFI[[#This Row],[Sanitary Kit]],0)","v":0},{"$f":"IF(NFI_Expiration=1,IF($A205<VLOOKUP(K$5,NFI,5,0),1,0)*Table_NFI[[#This Row],[Mosquito net]],0)","v":0},{"$f":"IF(NFI_Expiration=1,IF($A205<VLOOKUP(L$5,NFI,5,0),1,0)*Table_NFI[[#This Row],[Tarpaulin]],0)","v":0},{"$f":"IF(NFI_Expiration=1,IF($A205<VLOOKUP(M$5,NFI,5,0),1,0)*Table_NFI[[#This Row],[Blanket]],0)","v":0},{"$f":"IF(NFI_Expiration=1,IF($A205<VLOOKUP(N$5,NFI,5,0),1,0)*Table_NFI[[#This Row],[Kitchen Set]],0)","v":0},{"$f":"IF(NFI_Expiration=1,IF($A205<VLOOKUP(O$5,NFI,5,0),1,0)*Table_NFI[[#This Row],[Complementary Kit]],0)","v":0},{"$f":"IF(NFI_Expiration=1,IF($A205<VLOOKUP(P$5,NFI,5,0),1,0)*Table_NFI[[#This Row],[Plastic Bucket]],0)","v":0},{"$f":"IF(NFI_Expiration=1,IF($A205<VLOOKUP(Q$5,NFI,5,0),1,0)*Table_NFI[[#This Row],[Plastic Mat]],0)","v":0},{"$f":"IFERROR(VLOOKUP(Table_NFI[[#This Row],[Camp Name]],CL,2,0),\"\")","v":"MMR012CMP043"},{"$f":"IFERROR(VLOOKUP(Table_NFI[[#This Row],[Camp Name]],CL,3,0),\"\")","v":"Close"}]
[9.1666666666666661,"2013-03-01","UNHCR",null,"Rakhine","Maungdaw","Thaung Paing Nyar",0,51,null,102,51,102,51,51,51,102,{"$f":"IF(NFI_Expiration=1,IF($A206<VLOOKUP(H$5,NFI,5,0),1,0)*Table_NFI[[#This Row],[Hygiene Kit]],0)","v":0},{"$f":"IF(NFI_Expiration=1,IF($A206<VLOOKUP(I$5,NFI,5,0),1,0)*Table_NFI[[#This Row],[NFI Core Kit]],0)","v":51},{"$f":"IF(NFI_Expiration=1,IF($A206<VLOOKUP(J$5,NFI,5,0),1,0)*Table_NFI[[#This Row],[Sanitary Kit]],0)","v":0},{"$f":"IF(NFI_Expiration=1,IF($A206<VLOOKUP(K$5,NFI,5,0),1,0)*Table_NFI[[#This Row],[Mosquito net]],0)","v":102},{"$f":"IF(NFI_Expiration=1,IF($A206<VLOOKUP(L$5,NFI,5,0),1,0)*Table_NFI[[#This Row],[Tarpaulin]],0)","v":51},{"$f":"IF(NFI_Expiration=1,IF($A206<VLOOKUP(M$5,NFI,5,0),1,0)*Table_NFI[[#This Row],[Blanket]],0)","v":102},{"$f":"IF(NFI_Expiration=1,IF($A206<VLOOKUP(N$5,NFI,5,0),1,0)*Table_NFI[[#This Row],[Kitchen Set]],0)","v":51},{"$f":"IF(NFI_Expiration=1,IF($A206<VLOOKUP(O$5,NFI,5,0),1,0)*Table_NFI[[#This Row],[Complementary Kit]],0)","v":51},{"$f":"IF(NFI_Expiration=1,IF($A206<VLOOKUP(P$5,NFI,5,0),1,0)*Table_NFI[[#This Row],[Plastic Bucket]],0)","v":51},{"$f":"IF(NFI_Expiration=1,IF($A206<VLOOKUP(Q$5,NFI,5,0),1,0)*Table_NFI[[#This Row],[Plastic Mat]],0)","v":102},{"$f":"IFERROR(VLOOKUP(Table_NFI[[#This Row],[Camp Name]],CL,2,0),\"\")","v":"MMR012CMP086"},{"$f":"IFERROR(VLOOKUP(Table_NFI[[#This Row],[Camp Name]],CL,3,0),\"\")","v":"Open"}]
[9.1666666666666661,"2013-03-01","UNHCR",null,"Rakhine","Maungdaw","Thaung Paing Nyar",0,null,102,156,51,0,null,null,null,null,{"$f":"IF(NFI_Expiration=1,IF($A207<VLOOKUP(H$5,NFI,5,0),1,0)*Table_NFI[[#This Row],[Hygiene Kit]],0)","v":0},{"$f":"IF(NFI_Expiration=1,IF($A207<VLOOKUP(I$5,NFI,5,0),1,0)*Table_NFI[[#This Row],[NFI Core Kit]],0)","v":0},{"$f":"IF(NFI_Expiration=1,IF($A207<VLOOKUP(J$5,NFI,5,0),1,0)*Table_NFI[[#This Row],[Sanitary Kit]],0)","v":102},{"$f":"IF(NFI_Expiration=1,IF($A207<VLOOKUP(K$5,NFI,5,0),1,0)*Table_NFI[[#This Row],[Mosquito net]],0)","v":156},{"$f":"IF(NFI_Expiration=1,IF($A207<VLOOKUP(L$5,NFI,5,0),1,0)*Table_NFI[[#This Row],[Tarpaulin]],0)","v":51},{"$f":"IF(NFI_Expiration=1,IF($A207<VLOOKUP(M$5,NFI,5,0),1,0)*Table_NFI[[#This Row],[Blanket]],0)","v":0},{"$f":"IF(NFI_Expiration=1,IF($A207<VLOOKUP(N$5,NFI,5,0),1,0)*Table_NFI[[#This Row],[Kitchen Set]],0)","v":0},{"$f":"IF(NFI_Expiration=1,IF($A207<VLOOKUP(O$5,NFI,5,0),1,0)*Table_NFI[[#This Row],[Complementary Kit]],0)","v":0},{"$f":"IF(NFI_Expiration=1,IF($A207<VLOOKUP(P$5,NFI,5,0),1,0)*Table_NFI[[#This Row],[Plastic Bucket]],0)","v":0},{"$f":"IF(NFI_Expiration=1,IF($A207<VLOOKUP(Q$5,NFI,5,0),1,0)*Table_NFI[[#This Row],[Plastic Mat]],0)","v":0},{"$f":"IFERROR(VLOOKUP(Table_NFI[[#This Row],[Camp Name]],CL,2,0),\"\")","v":"MMR012CMP086"},{"$f":"IFERROR(VLOOKUP(Table_NFI[[#This Row],[Camp Name]],CL,3,0),\"\")","v":"Open"}]
[9.1,"2013-03-03","UNHCR",null,"Rakhine","Minbya","Thay Kan",null,null,null,null,null,33,null,null,null,null,{"$f":"IF(NFI_Expiration=1,IF($A208<VLOOKUP(H$5,NFI,5,0),1,0)*Table_NFI[[#This Row],[Hygiene Kit]],0)","v":0},{"$f":"IF(NFI_Expiration=1,IF($A208<VLOOKUP(I$5,NFI,5,0),1,0)*Table_NFI[[#This Row],[NFI Core Kit]],0)","v":0},{"$f":"IF(NFI_Expiration=1,IF($A208<VLOOKUP(J$5,NFI,5,0),1,0)*Table_NFI[[#This Row],[Sanitary Kit]],0)","v":0},{"$f":"IF(NFI_Expiration=1,IF($A208<VLOOKUP(K$5,NFI,5,0),1,0)*Table_NFI[[#This Row],[Mosquito net]],0)","v":0},{"$f":"IF(NFI_Expiration=1,IF($A208<VLOOKUP(L$5,NFI,5,0),1,0)*Table_NFI[[#This Row],[Tarpaulin]],0)","v":0},{"$f":"IF(NFI_Expiration=1,IF($A208<VLOOKUP(M$5,NFI,5,0),1,0)*Table_NFI[[#This Row],[Blanket]],0)","v":33},{"$f":"IF(NFI_Expiration=1,IF($A208<VLOOKUP(N$5,NFI,5,0),1,0)*Table_NFI[[#This Row],[Kitchen Set]],0)","v":0},{"$f":"IF(NFI_Expiration=1,IF($A208<VLOOKUP(O$5,NFI,5,0),1,0)*Table_NFI[[#This Row],[Complementary Kit]],0)","v":0},{"$f":"IF(NFI_Expiration=1,IF($A208<VLOOKUP(P$5,NFI,5,0),1,0)*Table_NFI[[#This Row],[Plastic Bucket]],0)","v":0},{"$f":"IF(NFI_Expiration=1,IF($A208<VLOOKUP(Q$5,NFI,5,0),1,0)*Table_NFI[[#This Row],[Plastic Mat]],0)","v":0},{"$f":"IFERROR(VLOOKUP(Table_NFI[[#This Row],[Camp Name]],CL,2,0),\"\")","v":"MMR012CMP007"},{"$f":"IFERROR(VLOOKUP(Table_NFI[[#This Row],[Camp Name]],CL,3,0),\"\")","v":"Close"}]
[9.1,"2013-03-03","UNHCR",null,"Rakhine","Kyauktaw","Nidin",null,null,null,null,null,83,null,null,null,null,{"$f":"IF(NFI_Expiration=1,IF($A209<VLOOKUP(H$5,NFI,5,0),1,0)*Table_NFI[[#This Row],[Hygiene Kit]],0)","v":0},{"$f":"IF(NFI_Expiration=1,IF($A209<VLOOKUP(I$5,NFI,5,0),1,0)*Table_NFI[[#This Row],[NFI Core Kit]],0)","v":0},{"$f":"IF(NFI_Expiration=1,IF($A209<VLOOKUP(J$5,NFI,5,0),1,0)*Table_NFI[[#This Row],[Sanitary Kit]],0)","v":0},{"$f":"IF(NFI_Expiration=1,IF($A209<VLOOKUP(K$5,NFI,5,0),1,0)*Table_NFI[[#This Row],[Mosquito net]],0)","v":0},{"$f":"IF(NFI_Expiration=1,IF($A209<VLOOKUP(L$5,NFI,5,0),1,0)*Table_NFI[[#This Row],[Tarpaulin]],0)","v":0},{"$f":"IF(NFI_Expiration=1,IF($A209<VLOOKUP(M$5,NFI,5,0),1,0)*Table_NFI[[#This Row],[Blanket]],0)","v":83},{"$f":"IF(NFI_Expiration=1,IF($A209<VLOOKUP(N$5,NFI,5,0),1,0)*Table_NFI[[#This Row],[Kitchen Set]],0)","v":0},{"$f":"IF(NFI_Expiration=1,IF($A209<VLOOKUP(O$5,NFI,5,0),1,0)*Table_NFI[[#This Row],[Complementary Kit]],0)","v":0},{"$f":"IF(NFI_Expiration=1,IF($A209<VLOOKUP(P$5,NFI,5,0),1,0)*Table_NFI[[#This Row],[Plastic Bucket]],0)","v":0},{"$f":"IF(NFI_Expiration=1,IF($A209<VLOOKUP(Q$5,NFI,5,0),1,0)*Table_NFI[[#This Row],[Plastic Mat]],0)","v":0},{"$f":"IFERROR(VLOOKUP(Table_NFI[[#This Row],[Camp Name]],CL,2,0),\"\")","v":"MMR012CMP023"},{"$f":"IFERROR(VLOOKUP(Table_NFI[[#This Row],[Camp Name]],CL,3,0),\"\")","v":"Open"}]
[9.0333333333333332,"2013-03-05","UNHCR",null,"Rakhine","Maungdaw","Myoma Myauk",0,0,0,34,0,0,null,null,null,null,{"$f":"IF(NFI_Expiration=1,IF($A210<VLOOKUP(H$5,NFI,5,0),1,0)*Table_NFI[[#This Row],[Hygiene Kit]],0)","v":0},{"$f":"IF(NFI_Expiration=1,IF($A210<VLOOKUP(I$5,NFI,5,0),1,0)*Table_NFI[[#This Row],[NFI Core Kit]],0)","v":0},{"$f":"IF(NFI_Expiration=1,IF($A210<VLOOKUP(J$5,NFI,5,0),1,0)*Table_NFI[[#This Row],[Sanitary Kit]],0)","v":0},{"$f":"IF(NFI_Expiration=1,IF($A210<VLOOKUP(K$5,NFI,5,0),1,0)*Table_NFI[[#This Row],[Mosquito net]],0)","v":34},{"$f":"IF(NFI_Expiration=1,IF($A210<VLOOKUP(L$5,NFI,5,0),1,0)*Table_NFI[[#This Row],[Tarpaulin]],0)","v":0},{"$f":"IF(NFI_Expiration=1,IF($A210<VLOOKUP(M$5,NFI,5,0),1,0)*Table_NFI[[#This Row],[Blanket]],0)","v":0},{"$f":"IF(NFI_Expiration=1,IF($A210<VLOOKUP(N$5,NFI,5,0),1,0)*Table_NFI[[#This Row],[Kitchen Set]],0)","v":0},{"$f":"IF(NFI_Expiration=1,IF($A210<VLOOKUP(O$5,NFI,5,0),1,0)*Table_NFI[[#This Row],[Complementary Kit]],0)","v":0},{"$f":"IF(NFI_Expiration=1,IF($A210<VLOOKUP(P$5,NFI,5,0),1,0)*Table_NFI[[#This Row],[Plastic Bucket]],0)","v":0},{"$f":"IF(NFI_Expiration=1,IF($A210<VLOOKUP(Q$5,NFI,5,0),1,0)*Table_NFI[[#This Row],[Plastic Mat]],0)","v":0},{"$f":"IFERROR(VLOOKUP(Table_NFI[[#This Row],[Camp Name]],CL,2,0),\"\")","v":"MMR012CMP083"},{"$f":"IFERROR(VLOOKUP(Table_NFI[[#This Row],[Camp Name]],CL,3,0),\"\")","v":"Open"}]
[8.7333333333333325,"2013-03-14","UNHCR",null,"Rakhine","Rathedaung","Ah Nauk Pyin",0,68,null,136,68,136,68,68,68,136,{"$f":"IF(NFI_Expiration=1,IF($A211<VLOOKUP(H$5,NFI,5,0),1,0)*Table_NFI[[#This Row],[Hygiene Kit]],0)","v":0},{"$f":"IF(NFI_Expiration=1,IF($A211<VLOOKUP(I$5,NFI,5,0),1,0)*Table_NFI[[#This Row],[NFI Core Kit]],0)","v":68},{"$f":"IF(NFI_Expiration=1,IF($A211<VLOOKUP(J$5,NFI,5,0),1,0)*Table_NFI[[#This Row],[Sanitary Kit]],0)","v":0},{"$f":"IF(NFI_Expiration=1,IF($A211<VLOOKUP(K$5,NFI,5,0),1,0)*Table_NFI[[#This Row],[Mosquito net]],0)","v":136},{"$f":"IF(NFI_Expiration=1,IF($A211<VLOOKUP(L$5,NFI,5,0),1,0)*Table_NFI[[#This Row],[Tarpaulin]],0)","v":68},{"$f":"IF(NFI_Expiration=1,IF($A211<VLOOKUP(M$5,NFI,5,0),1,0)*Table_NFI[[#This Row],[Blanket]],0)","v":136},{"$f":"IF(NFI_Expiration=1,IF($A211<VLOOKUP(N$5,NFI,5,0),1,0)*Table_NFI[[#This Row],[Kitchen Set]],0)","v":68},{"$f":"IF(NFI_Expiration=1,IF($A211<VLOOKUP(O$5,NFI,5,0),1,0)*Table_NFI[[#This Row],[Complementary Kit]],0)","v":68},{"$f":"IF(NFI_Expiration=1,IF($A211<VLOOKUP(P$5,NFI,5,0),1,0)*Table_NFI[[#This Row],[Plastic Bucket]],0)","v":68},{"$f":"IF(NFI_Expiration=1,IF($A211<VLOOKUP(Q$5,NFI,5,0),1,0)*Table_NFI[[#This Row],[Plastic Mat]],0)","v":136},{"$f":"IFERROR(VLOOKUP(Table_NFI[[#This Row],[Camp Name]],CL,2,0),\"\")","v":"MMR012CMP032"},{"$f":"IFERROR(VLOOKUP(Table_NFI[[#This Row],[Camp Name]],CL,3,0),\"\")","v":"Open"}]
[8.7333333333333325,"2013-03-14","UNHCR",null,"Rakhine","Maungdaw","Bomu Ywa",0,79,null,158,79,158,79,79,79,158,{"$f":"IF(NFI_Expiration=1,IF($A212<VLOOKUP(H$5,NFI,5,0),1,0)*Table_NFI[[#This Row],[Hygiene Kit]],0)","v":0},{"$f":"IF(NFI_Expiration=1,IF($A212<VLOOKUP(I$5,NFI,5,0),1,0)*Table_NFI[[#This Row],[NFI Core Kit]],0)","v":79},{"$f":"IF(NFI_Expiration=1,IF($A212<VLOOKUP(J$5,NFI,5,0),1,0)*Table_NFI[[#This Row],[Sanitary Kit]],0)","v":0},{"$f":"IF(NFI_Expiration=1,IF($A212<VLOOKUP(K$5,NFI,5,0),1,0)*Table_NFI[[#This Row],[Mosquito net]],0)","v":158},{"$f":"IF(NFI_Expiration=1,IF($A212<VLOOKUP(L$5,NFI,5,0),1,0)*Table_NFI[[#This Row],[Tarpaulin]],0)","v":79},{"$f":"IF(NFI_Expiration=1,IF($A212<VLOOKUP(M$5,NFI,5,0),1,0)*Table_NFI[[#This Row],[Blanket]],0)","v":158},{"$f":"IF(NFI_Expiration=1,IF($A212<VLOOKUP(N$5,NFI,5,0),1,0)*Table_NFI[[#This Row],[Kitchen Set]],0)","v":79},{"$f":"IF(NFI_Expiration=1,IF($A212<VLOOKUP(O$5,NFI,5,0),1,0)*Table_NFI[[#This Row],[Complementary Kit]],0)","v":79},{"$f":"IF(NFI_Expiration=1,IF($A212<VLOOKUP(P$5,NFI,5,0),1,0)*Table_NFI[[#This Row],[Plastic Bucket]],0)","v":79},{"$f":"IF(NFI_Expiration=1,IF($A212<VLOOKUP(Q$5,NFI,5,0),1,0)*Table_NFI[[#This Row],[Plastic Mat]],0)","v":158},{"$f":"IFERROR(VLOOKUP(Table_NFI[[#This Row],[Camp Name]],CL,2,0),\"\")","v":"MMR012CMP084"},{"$f":"IFERROR(VLOOKUP(Table_NFI[[#This Row],[Camp Name]],CL,3,0),\"\")","v":"Open"}]
[8.7333333333333325,"2013-03-14","DRC","DRC","Rakhine","Sittwe","Say Tha Mar Gyi",2907,null,null,null,null,null,null,null,null,null,{"$f":"IF(NFI_Expiration=1,IF($A213<VLOOKUP(H$5,NFI,5,0),1,0)*Table_NFI[[#This Row],[Hygiene Kit]],0)","v":2907},{"$f":"IF(NFI_Expiration=1,IF($A213<VLOOKUP(I$5,NFI,5,0),1,0)*Table_NFI[[#This Row],[NFI Core Kit]],0)","v":0},{"$f":"IF(NFI_Expiration=1,IF($A213<VLOOKUP(J$5,NFI,5,0),1,0)*Table_NFI[[#This Row],[Sanitary Kit]],0)","v":0},{"$f":"IF(NFI_Expiration=1,IF($A213<VLOOKUP(K$5,NFI,5,0),1,0)*Table_NFI[[#This Row],[Mosquito net]],0)","v":0},{"$f":"IF(NFI_Expiration=1,IF($A213<VLOOKUP(L$5,NFI,5,0),1,0)*Table_NFI[[#This Row],[Tarpaulin]],0)","v":0},{"$f":"IF(NFI_Expiration=1,IF($A213<VLOOKUP(M$5,NFI,5,0),1,0)*Table_NFI[[#This Row],[Blanket]],0)","v":0},{"$f":"IF(NFI_Expiration=1,IF($A213<VLOOKUP(N$5,NFI,5,0),1,0)*Table_NFI[[#This Row],[Kitchen Set]],0)","v":0},{"$f":"IF(NFI_Expiration=1,IF($A213<VLOOKUP(O$5,NFI,5,0),1,0)*Table_NFI[[#This Row],[Complementary Kit]],0)","v":0},{"$f":"IF(NFI_Expiration=1,IF($A213<VLOOKUP(P$5,NFI,5,0),1,0)*Table_NFI[[#This Row],[Plastic Bucket]],0)","v":0},{"$f":"IF(NFI_Expiration=1,IF($A213<VLOOKUP(Q$5,NFI,5,0),1,0)*Table_NFI[[#This Row],[Plastic Mat]],0)","v":0},{"$f":"IFERROR(VLOOKUP(Table_NFI[[#This Row],[Camp Name]],CL,2,0),\"\")","v":"MMR012CMP045"},{"$f":"IFERROR(VLOOKUP(Table_NFI[[#This Row],[Camp Name]],CL,3,0),\"\")","v":"Open"}]
[8.7333333333333325,"2013-03-14","UNHCR",null,"Rakhine","Rathedaung","Ah Nauk Pyin",0,null,136,136,68,0,null,null,null,null,{"$f":"IF(NFI_Expiration=1,IF($A214<VLOOKUP(H$5,NFI,5,0),1,0)*Table_NFI[[#This Row],[Hygiene Kit]],0)","v":0},{"$f":"IF(NFI_Expiration=1,IF($A214<VLOOKUP(I$5,NFI,5,0),1,0)*Table_NFI[[#This Row],[NFI Core Kit]],0)","v":0},{"$f":"IF(NFI_Expiration=1,IF($A214<VLOOKUP(J$5,NFI,5,0),1,0)*Table_NFI[[#This Row],[Sanitary Kit]],0)","v":136},{"$f":"IF(NFI_Expiration=1,IF($A214<VLOOKUP(K$5,NFI,5,0),1,0)*Table_NFI[[#This Row],[Mosquito net]],0)","v":136},{"$f":"IF(NFI_Expiration=1,IF($A214<VLOOKUP(L$5,NFI,5,0),1,0)*Table_NFI[[#This Row],[Tarpaulin]],0)","v":68},{"$f":"IF(NFI_Expiration=1,IF($A214<VLOOKUP(M$5,NFI,5,0),1,0)*Table_NFI[[#This Row],[Blanket]],0)","v":0},{"$f":"IF(NFI_Expiration=1,IF($A214<VLOOKUP(N$5,NFI,5,0),1,0)*Table_NFI[[#This Row],[Kitchen Set]],0)","v":0},{"$f":"IF(NFI_Expiration=1,IF($A214<VLOOKUP(O$5,NFI,5,0),1,0)*Table_NFI[[#This Row],[Complementary Kit]],0)","v":0},{"$f":"IF(NFI_Expiration=1,IF($A214<VLOOKUP(P$5,NFI,5,0),1,0)*Table_NFI[[#This Row],[Plastic Bucket]],0)","v":0},{"$f":"IF(NFI_Expiration=1,IF($A214<VLOOKUP(Q$5,NFI,5,0),1,0)*Table_NFI[[#This Row],[Plastic Mat]],0)","v":0},{"$f":"IFERROR(VLOOKUP(Table_NFI[[#This Row],[Camp Name]],CL,2,0),\"\")","v":"MMR012CMP032"},{"$f":"IFERROR(VLOOKUP(Table_NFI[[#This Row],[Camp Name]],CL,3,0),\"\")","v":"Open"}]
[8.7333333333333325,"2013-03-14","UNHCR",null,"Rakhine","Maungdaw","Bomu Ywa",0,null,158,292,79,0,null,null,null,null,{"$f":"IF(NFI_Expiration=1,IF($A215<VLOOKUP(H$5,NFI,5,0),1,0)*Table_NFI[[#This Row],[Hygiene Kit]],0)","v":0},{"$f":"IF(NFI_Expiration=1,IF($A215<VLOOKUP(I$5,NFI,5,0),1,0)*Table_NFI[[#This Row],[NFI Core Kit]],0)","v":0},{"$f":"IF(NFI_Expiration=1,IF($A215<VLOOKUP(J$5,NFI,5,0),1,0)*Table_NFI[[#This Row],[Sanitary Kit]],0)","v":158},{"$f":"IF(NFI_Expiration=1,IF($A215<VLOOKUP(K$5,NFI,5,0),1,0)*Table_NFI[[#This Row],[Mosquito net]],0)","v":292},{"$f":"IF(NFI_Expiration=1,IF($A215<VLOOKUP(L$5,NFI,5,0),1,0)*Table_NFI[[#This Row],[Tarpaulin]],0)","v":79},{"$f":"IF(NFI_Expiration=1,IF($A215<VLOOKUP(M$5,NFI,5,0),1,0)*Table_NFI[[#This Row],[Blanket]],0)","v":0},{"$f":"IF(NFI_Expiration=1,IF($A215<VLOOKUP(N$5,NFI,5,0),1,0)*Table_NFI[[#This Row],[Kitchen Set]],0)","v":0},{"$f":"IF(NFI_Expiration=1,IF($A215<VLOOKUP(O$5,NFI,5,0),1,0)*Table_NFI[[#This Row],[Complementary Kit]],0)","v":0},{"$f":"IF(NFI_Expiration=1,IF($A215<VLOOKUP(P$5,NFI,5,0),1,0)*Table_NFI[[#This Row],[Plastic Bucket]],0)","v":0},{"$f":"IF(NFI_Expiration=1,IF($A215<VLOOKUP(Q$5,NFI,5,0),1,0)*Table_NFI[[#This Row],[Plastic Mat]],0)","v":0},{"$f":"IFERROR(VLOOKUP(Table_NFI[[#This Row],[Camp Name]],CL,2,0),\"\")","v":"MMR012CMP084"},{"$f":"IFERROR(VLOOKUP(Table_NFI[[#This Row],[Camp Name]],CL,3,0),\"\")","v":"Open"}]
[8.1,"2013-04-02","Save the Children","Save the Children","Rakhine","Sittwe","Thet Kae Pyin ",3100,null,null,null,null,null,null,null,null,null,{"$f":"IF(NFI_Expiration=1,IF($A216<VLOOKUP(H$5,NFI,5,0),1,0)*Table_NFI[[#This Row],[Hygiene Kit]],0)","v":3100},{"$f":"IF(NFI_Expiration=1,IF($A216<VLOOKUP(I$5,NFI,5,0),1,0)*Table_NFI[[#This Row],[NFI Core Kit]],0)","v":0},{"$f":"IF(NFI_Expiration=1,IF($A216<VLOOKUP(J$5,NFI,5,0),1,0)*Table_NFI[[#This Row],[Sanitary Kit]],0)","v":0},{"$f":"IF(NFI_Expiration=1,IF($A216<VLOOKUP(K$5,NFI,5,0),1,0)*Table_NFI[[#This Row],[Mosquito net]],0)","v":0},{"$f":"IF(NFI_Expiration=1,IF($A216<VLOOKUP(L$5,NFI,5,0),1,0)*Table_NFI[[#This Row],[Tarpaulin]],0)","v":0},{"$f":"IF(NFI_Expiration=1,IF($A216<VLOOKUP(M$5,NFI,5,0),1,0)*Table_NFI[[#This Row],[Blanket]],0)","v":0},{"$f":"IF(NFI_Expiration=1,IF($A216<VLOOKUP(N$5,NFI,5,0),1,0)*Table_NFI[[#This Row],[Kitchen Set]],0)","v":0},{"$f":"IF(NFI_Expiration=1,IF($A216<VLOOKUP(O$5,NFI,5,0),1,0)*Table_NFI[[#This Row],[Complementary Kit]],0)","v":0},{"$f":"IF(NFI_Expiration=1,IF($A216<VLOOKUP(P$5,NFI,5,0),1,0)*Table_NFI[[#This Row],[Plastic Bucket]],0)","v":0},{"$f":"IF(NFI_Expiration=1,IF($A216<VLOOKUP(Q$5,NFI,5,0),1,0)*Table_NFI[[#This Row],[Plastic Mat]],0)","v":0},{"$f":"IFERROR(VLOOKUP(Table_NFI[[#This Row],[Camp Name]],CL,2,0),\"\")","v":"MMR012CMP048"},{"$f":"IFERROR(VLOOKUP(Table_NFI[[#This Row],[Camp Name]],CL,3,0),\"\")","v":"Open"}]
[8.0666666666666664,"2013-04-03","UNHCR",null,"Rakhine","Sittwe","Bu May Ohn Taw",null,null,null,null,null,45,null,null,null,null,{"$f":"IF(NFI_Expiration=1,IF($A217<VLOOKUP(H$5,NFI,5,0),1,0)*Table_NFI[[#This Row],[Hygiene Kit]],0)","v":0},{"$f":"IF(NFI_Expiration=1,IF($A217<VLOOKUP(I$5,NFI,5,0),1,0)*Table_NFI[[#This Row],[NFI Core Kit]],0)","v":0},{"$f":"IF(NFI_Expiration=1,IF($A217<VLOOKUP(J$5,NFI,5,0),1,0)*Table_NFI[[#This Row],[Sanitary Kit]],0)","v":0},{"$f":"IF(NFI_Expiration=1,IF($A217<VLOOKUP(K$5,NFI,5,0),1,0)*Table_NFI[[#This Row],[Mosquito net]],0)","v":0},{"$f":"IF(NFI_Expiration=1,IF($A217<VLOOKUP(L$5,NFI,5,0),1,0)*Table_NFI[[#This Row],[Tarpaulin]],0)","v":0},{"$f":"IF(NFI_Expiration=1,IF($A217<VLOOKUP(M$5,NFI,5,0),1,0)*Table_NFI[[#This Row],[Blanket]],0)","v":45},{"$f":"IF(NFI_Expiration=1,IF($A217<VLOOKUP(N$5,NFI,5,0),1,0)*Table_NFI[[#This Row],[Kitchen Set]],0)","v":0},{"$f":"IF(NFI_Expiration=1,IF($A217<VLOOKUP(O$5,NFI,5,0),1,0)*Table_NFI[[#This Row],[Complementary Kit]],0)","v":0},{"$f":"IF(NFI_Expiration=1,IF($A217<VLOOKUP(P$5,NFI,5,0),1,0)*Table_NFI[[#This Row],[Plastic Bucket]],0)","v":0},{"$f":"IF(NFI_Expiration=1,IF($A217<VLOOKUP(Q$5,NFI,5,0),1,0)*Table_NFI[[#This Row],[Plastic Mat]],0)","v":0},{"$f":"IFERROR(VLOOKUP(Table_NFI[[#This Row],[Camp Name]],CL,2,0),\"\")","v":"MMR012CMP051"},{"$f":"IFERROR(VLOOKUP(Table_NFI[[#This Row],[Camp Name]],CL,3,0),\"\")","v":"Close"}]
[8.0333333333333332,"2013-04-04","UNHCR",null,"Rakhine","Sittwe","Bu May Ohn Taw",null,null,null,null,null,45,null,null,null,null,{"$f":"IF(NFI_Expiration=1,IF($A218<VLOOKUP(H$5,NFI,5,0),1,0)*Table_NFI[[#This Row],[Hygiene Kit]],0)","v":0},{"$f":"IF(NFI_Expiration=1,IF($A218<VLOOKUP(I$5,NFI,5,0),1,0)*Table_NFI[[#This Row],[NFI Core Kit]],0)","v":0},{"$f":"IF(NFI_Expiration=1,IF($A218<VLOOKUP(J$5,NFI,5,0),1,0)*Table_NFI[[#This Row],[Sanitary Kit]],0)","v":0},{"$f":"IF(NFI_Expiration=1,IF($A218<VLOOKUP(K$5,NFI,5,0),1,0)*Table_NFI[[#This Row],[Mosquito net]],0)","v":0},{"$f":"IF(NFI_Expiration=1,IF($A218<VLOOKUP(L$5,NFI,5,0),1,0)*Table_NFI[[#This Row],[Tarpaulin]],0)","v":0},{"$f":"IF(NFI_Expiration=1,IF($A218<VLOOKUP(M$5,NFI,5,0),1,0)*Table_NFI[[#This Row],[Blanket]],0)","v":45},{"$f":"IF(NFI_Expiration=1,IF($A218<VLOOKUP(N$5,NFI,5,0),1,0)*Table_NFI[[#This Row],[Kitchen Set]],0)","v":0},{"$f":"IF(NFI_Expiration=1,IF($A218<VLOOKUP(O$5,NFI,5,0),1,0)*Table_NFI[[#This Row],[Complementary Kit]],0)","v":0},{"$f":"IF(NFI_Expiration=1,IF($A218<VLOOKUP(P$5,NFI,5,0),1,0)*Table_NFI[[#This Row],[Plastic Bucket]],0)","v":0},{"$f":"IF(NFI_Expiration=1,IF($A218<VLOOKUP(Q$5,NFI,5,0),1,0)*Table_NFI[[#This Row],[Plastic Mat]],0)","v":0},{"$f":"IFERROR(VLOOKUP(Table_NFI[[#This Row],[Camp Name]],CL,2,0),\"\")","v":"MMR012CMP051"},{"$f":"IFERROR(VLOOKUP(Table_NFI[[#This Row],[Camp Name]],CL,3,0),\"\")","v":"Close"}]
[8,"2013-04-05","UNHCR",null,"Rakhine","Sittwe","Bu May Ohn Taw",null,null,null,null,null,90,null,null,null,null,{"$f":"IF(NFI_Expiration=1,IF($A219<VLOOKUP(H$5,NFI,5,0),1,0)*Table_NFI[[#This Row],[Hygiene Kit]],0)","v":0},{"$f":"IF(NFI_Expiration=1,IF($A219<VLOOKUP(I$5,NFI,5,0),1,0)*Table_NFI[[#This Row],[NFI Core Kit]],0)","v":0},{"$f":"IF(NFI_Expiration=1,IF($A219<VLOOKUP(J$5,NFI,5,0),1,0)*Table_NFI[[#This Row],[Sanitary Kit]],0)","v":0},{"$f":"IF(NFI_Expiration=1,IF($A219<VLOOKUP(K$5,NFI,5,0),1,0)*Table_NFI[[#This Row],[Mosquito net]],0)","v":0},{"$f":"IF(NFI_Expiration=1,IF($A219<VLOOKUP(L$5,NFI,5,0),1,0)*Table_NFI[[#This Row],[Tarpaulin]],0)","v":0},{"$f":"IF(NFI_Expiration=1,IF($A219<VLOOKUP(M$5,NFI,5,0),1,0)*Table_NFI[[#This Row],[Blanket]],0)","v":90},{"$f":"IF(NFI_Expiration=1,IF($A219<VLOOKUP(N$5,NFI,5,0),1,0)*Table_NFI[[#This Row],[Kitchen Set]],0)","v":0},{"$f":"IF(NFI_Expiration=1,IF($A219<VLOOKUP(O$5,NFI,5,0),1,0)*Table_NFI[[#This Row],[Complementary Kit]],0)","v":0},{"$f":"IF(NFI_Expiration=1,IF($A219<VLOOKUP(P$5,NFI,5,0),1,0)*Table_NFI[[#This Row],[Plastic Bucket]],0)","v":0},{"$f":"IF(NFI_Expiration=1,IF($A219<VLOOKUP(Q$5,NFI,5,0),1,0)*Table_NFI[[#This Row],[Plastic Mat]],0)","v":0},{"$f":"IFERROR(VLOOKUP(Table_NFI[[#This Row],[Camp Name]],CL,2,0),\"\")","v":"MMR012CMP051"},{"$f":"IFERROR(VLOOKUP(Table_NFI[[#This Row],[Camp Name]],CL,3,0),\"\")","v":"Close"}]
[7.8666666666666663,"2013-04-09","UNHCR",null,"Rakhine","Sittwe","Bu May Ohn Taw",null,null,null,null,null,90,null,null,null,null,{"$f":"IF(NFI_Expiration=1,IF($A220<VLOOKUP(H$5,NFI,5,0),1,0)*Table_NFI[[#This Row],[Hygiene Kit]],0)","v":0},{"$f":"IF(NFI_Expiration=1,IF($A220<VLOOKUP(I$5,NFI,5,0),1,0)*Table_NFI[[#This Row],[NFI Core Kit]],0)","v":0},{"$f":"IF(NFI_Expiration=1,IF($A220<VLOOKUP(J$5,NFI,5,0),1,0)*Table_NFI[[#This Row],[Sanitary Kit]],0)","v":0},{"$f":"IF(NFI_Expiration=1,IF($A220<VLOOKUP(K$5,NFI,5,0),1,0)*Table_NFI[[#This Row],[Mosquito net]],0)","v":0},{"$f":"IF(NFI_Expiration=1,IF($A220<VLOOKUP(L$5,NFI,5,0),1,0)*Table_NFI[[#This Row],[Tarpaulin]],0)","v":0},{"$f":"IF(NFI_Expiration=1,IF($A220<VLOOKUP(M$5,NFI,5,0),1,0)*Table_NFI[[#This Row],[Blanket]],0)","v":90},{"$f":"IF(NFI_Expiration=1,IF($A220<VLOOKUP(N$5,NFI,5,0),1,0)*Table_NFI[[#This Row],[Kitchen Set]],0)","v":0},{"$f":"IF(NFI_Expiration=1,IF($A220<VLOOKUP(O$5,NFI,5,0),1,0)*Table_NFI[[#This Row],[Complementary Kit]],0)","v":0},{"$f":"IF(NFI_Expiration=1,IF($A220<VLOOKUP(P$5,NFI,5,0),1,0)*Table_NFI[[#This Row],[Plastic Bucket]],0)","v":0},{"$f":"IF(NFI_Expiration=1,IF($A220<VLOOKUP(Q$5,NFI,5,0),1,0)*Table_NFI[[#This Row],[Plastic Mat]],0)","v":0},{"$f":"IFERROR(VLOOKUP(Table_NFI[[#This Row],[Camp Name]],CL,2,0),\"\")","v":"MMR012CMP051"},{"$f":"IFERROR(VLOOKUP(Table_NFI[[#This Row],[Camp Name]],CL,3,0),\"\")","v":"Close"}]
[7.8666666666666663,"2013-04-09","Solidarites International","Solidarities International","Rakhine","Sittwe","Dar Pai",186,null,null,null,null,null,null,null,null,null,{"$f":"IF(NFI_Expiration=1,IF($A221<VLOOKUP(H$5,NFI,5,0),1,0)*Table_NFI[[#This Row],[Hygiene Kit]],0)","v":186},{"$f":"IF(NFI_Expiration=1,IF($A221<VLOOKUP(I$5,NFI,5,0),1,0)*Table_NFI[[#This Row],[NFI Core Kit]],0)","v":0},{"$f":"IF(NFI_Expiration=1,IF($A221<VLOOKUP(J$5,NFI,5,0),1,0)*Table_NFI[[#This Row],[Sanitary Kit]],0)","v":0},{"$f":"IF(NFI_Expiration=1,IF($A221<VLOOKUP(K$5,NFI,5,0),1,0)*Table_NFI[[#This Row],[Mosquito net]],0)","v":0},{"$f":"IF(NFI_Expiration=1,IF($A221<VLOOKUP(L$5,NFI,5,0),1,0)*Table_NFI[[#This Row],[Tarpaulin]],0)","v":0},{"$f":"IF(NFI_Expiration=1,IF($A221<VLOOKUP(M$5,NFI,5,0),1,0)*Table_NFI[[#This Row],[Blanket]],0)","v":0},{"$f":"IF(NFI_Expiration=1,IF($A221<VLOOKUP(N$5,NFI,5,0),1,0)*Table_NFI[[#This Row],[Kitchen Set]],0)","v":0},{"$f":"IF(NFI_Expiration=1,IF($A221<VLOOKUP(O$5,NFI,5,0),1,0)*Table_NFI[[#This Row],[Complementary Kit]],0)","v":0},{"$f":"IF(NFI_Expiration=1,IF($A221<VLOOKUP(P$5,NFI,5,0),1,0)*Table_NFI[[#This Row],[Plastic Bucket]],0)","v":0},{"$f":"IF(NFI_Expiration=1,IF($A221<VLOOKUP(Q$5,NFI,5,0),1,0)*Table_NFI[[#This Row],[Plastic Mat]],0)","v":0},{"$f":"IFERROR(VLOOKUP(Table_NFI[[#This Row],[Camp Name]],CL,2,0),\"\")","v":"MMR012CMP041"},{"$f":"IFERROR(VLOOKUP(Table_NFI[[#This Row],[Camp Name]],CL,3,0),\"\")","v":"Open"}]
[7.833333333333333,"2013-04-10","UNHCR",null,"Rakhine","Pauktaw","Sin Tet Maw",null,null,null,null,null,91,null,null,null,null,{"$f":"IF(NFI_Expiration=1,IF($A222<VLOOKUP(H$5,NFI,5,0),1,0)*Table_NFI[[#This Row],[Hygiene Kit]],0)","v":0},{"$f":"IF(NFI_Expiration=1,IF($A222<VLOOKUP(I$5,NFI,5,0),1,0)*Table_NFI[[#This Row],[NFI Core Kit]],0)","v":0},{"$f":"IF(NFI_Expiration=1,IF($A222<VLOOKUP(J$5,NFI,5,0),1,0)*Table_NFI[[#This Row],[Sanitary Kit]],0)","v":0},{"$f":"IF(NFI_Expiration=1,IF($A222<VLOOKUP(K$5,NFI,5,0),1,0)*Table_NFI[[#This Row],[Mosquito net]],0)","v":0},{"$f":"IF(NFI_Expiration=1,IF($A222<VLOOKUP(L$5,NFI,5,0),1,0)*Table_NFI[[#This Row],[Tarpaulin]],0)","v":0},{"$f":"IF(NFI_Expiration=1,IF($A222<VLOOKUP(M$5,NFI,5,0),1,0)*Table_NFI[[#This Row],[Blanket]],0)","v":91},{"$f":"IF(NFI_Expiration=1,IF($A222<VLOOKUP(N$5,NFI,5,0),1,0)*Table_NFI[[#This Row],[Kitchen Set]],0)","v":0},{"$f":"IF(NFI_Expiration=1,IF($A222<VLOOKUP(O$5,NFI,5,0),1,0)*Table_NFI[[#This Row],[Complementary Kit]],0)","v":0},{"$f":"IF(NFI_Expiration=1,IF($A222<VLOOKUP(P$5,NFI,5,0),1,0)*Table_NFI[[#This Row],[Plastic Bucket]],0)","v":0},{"$f":"IF(NFI_Expiration=1,IF($A222<VLOOKUP(Q$5,NFI,5,0),1,0)*Table_NFI[[#This Row],[Plastic Mat]],0)","v":0},{"$f":"IFERROR(VLOOKUP(Table_NFI[[#This Row],[Camp Name]],CL,2,0),\"\")","v":"MMR012CMP019"},{"$f":"IFERROR(VLOOKUP(Table_NFI[[#This Row],[Camp Name]],CL,3,0),\"\")","v":"Open"}]
[7.833333333333333,"2013-04-10","UNHCR",null,"Rakhine","Sittwe","Bu May Ohn Taw",null,null,null,null,null,90,null,null,null,null,{"$f":"IF(NFI_Expiration=1,IF($A223<VLOOKUP(H$5,NFI,5,0),1,0)*Table_NFI[[#This Row],[Hygiene Kit]],0)","v":0},{"$f":"IF(NFI_Expiration=1,IF($A223<VLOOKUP(I$5,NFI,5,0),1,0)*Table_NFI[[#This Row],[NFI Core Kit]],0)","v":0},{"$f":"IF(NFI_Expiration=1,IF($A223<VLOOKUP(J$5,NFI,5,0),1,0)*Table_NFI[[#This Row],[Sanitary Kit]],0)","v":0},{"$f":"IF(NFI_Expiration=1,IF($A223<VLOOKUP(K$5,NFI,5,0),1,0)*Table_NFI[[#This Row],[Mosquito net]],0)","v":0},{"$f":"IF(NFI_Expiration=1,IF($A223<VLOOKUP(L$5,NFI,5,0),1,0)*Table_NFI[[#This Row],[Tarpaulin]],0)","v":0},{"$f":"IF(NFI_Expiration=1,IF($A223<VLOOKUP(M$5,NFI,5,0),1,0)*Table_NFI[[#This Row],[Blanket]],0)","v":90},{"$f":"IF(NFI_Expiration=1,IF($A223<VLOOKUP(N$5,NFI,5,0),1,0)*Table_NFI[[#This Row],[Kitchen Set]],0)","v":0},{"$f":"IF(NFI_Expiration=1,IF($A223<VLOOKUP(O$5,NFI,5,0),1,0)*Table_NFI[[#This Row],[Complementary Kit]],0)","v":0},{"$f":"IF(NFI_Expiration=1,IF($A223<VLOOKUP(P$5,NFI,5,0),1,0)*Table_NFI[[#This Row],[Plastic Bucket]],0)","v":0},{"$f":"IF(NFI_Expiration=1,IF($A223<VLOOKUP(Q$5,NFI,5,0),1,0)*Table_NFI[[#This Row],[Plastic Mat]],0)","v":0},{"$f":"IFERROR(VLOOKUP(Table_NFI[[#This Row],[Camp Name]],CL,2,0),\"\")","v":"MMR012CMP051"},{"$f":"IFERROR(VLOOKUP(Table_NFI[[#This Row],[Camp Name]],CL,3,0),\"\")","v":"Close"}]
[7.7666666666666666,"2013-04-12","UNHCR",null,"Rakhine","Sittwe","Bu May Ohn Taw",null,null,null,null,null,54,null,null,null,null,{"$f":"IF(NFI_Expiration=1,IF($A224<VLOOKUP(H$5,NFI,5,0),1,0)*Table_NFI[[#This Row],[Hygiene Kit]],0)","v":0},{"$f":"IF(NFI_Expiration=1,IF($A224<VLOOKUP(I$5,NFI,5,0),1,0)*Table_NFI[[#This Row],[NFI Core Kit]],0)","v":0},{"$f":"IF(NFI_Expiration=1,IF($A224<VLOOKUP(J$5,NFI,5,0),1,0)*Table_NFI[[#This Row],[Sanitary Kit]],0)","v":0},{"$f":"IF(NFI_Expiration=1,IF($A224<VLOOKUP(K$5,NFI,5,0),1,0)*Table_NFI[[#This Row],[Mosquito net]],0)","v":0},{"$f":"IF(NFI_Expiration=1,IF($A224<VLOOKUP(L$5,NFI,5,0),1,0)*Table_NFI[[#This Row],[Tarpaulin]],0)","v":0},{"$f":"IF(NFI_Expiration=1,IF($A224<VLOOKUP(M$5,NFI,5,0),1,0)*Table_NFI[[#This Row],[Blanket]],0)","v":54},{"$f":"IF(NFI_Expiration=1,IF($A224<VLOOKUP(N$5,NFI,5,0),1,0)*Table_NFI[[#This Row],[Kitchen Set]],0)","v":0},{"$f":"IF(NFI_Expiration=1,IF($A224<VLOOKUP(O$5,NFI,5,0),1,0)*Table_NFI[[#This Row],[Complementary Kit]],0)","v":0},{"$f":"IF(NFI_Expiration=1,IF($A224<VLOOKUP(P$5,NFI,5,0),1,0)*Table_NFI[[#This Row],[Plastic Bucket]],0)","v":0},{"$f":"IF(NFI_Expiration=1,IF($A224<VLOOKUP(Q$5,NFI,5,0),1,0)*Table_NFI[[#This Row],[Plastic Mat]],0)","v":0},{"$f":"IFERROR(VLOOKUP(Table_NFI[[#This Row],[Camp Name]],CL,2,0),\"\")","v":"MMR012CMP051"},{"$f":"IFERROR(VLOOKUP(Table_NFI[[#This Row],[Camp Name]],CL,3,0),\"\")","v":"Close"}]
[7.3666666666666663,"2013-04-24","Save the Children","Save the Children","Rakhine","Pauktaw","Nget Chaung",1338,null,null,null,null,null,null,null,null,null,{"$f":"IF(NFI_Expiration=1,IF($A225<VLOOKUP(H$5,NFI,5,0),1,0)*Table_NFI[[#This Row],[Hygiene Kit]],0)","v":1338},{"$f":"IF(NFI_Expiration=1,IF($A225<VLOOKUP(I$5,NFI,5,0),1,0)*Table_NFI[[#This Row],[NFI Core Kit]],0)","v":0},{"$f":"IF(NFI_Expiration=1,IF($A225<VLOOKUP(J$5,NFI,5,0),1,0)*Table_NFI[[#This Row],[Sanitary Kit]],0)","v":0},{"$f":"IF(NFI_Expiration=1,IF($A225<VLOOKUP(K$5,NFI,5,0),1,0)*Table_NFI[[#This Row],[Mosquito net]],0)","v":0},{"$f":"IF(NFI_Expiration=1,IF($A225<VLOOKUP(L$5,NFI,5,0),1,0)*Table_NFI[[#This Row],[Tarpaulin]],0)","v":0},{"$f":"IF(NFI_Expiration=1,IF($A225<VLOOKUP(M$5,NFI,5,0),1,0)*Table_NFI[[#This Row],[Blanket]],0)","v":0},{"$f":"IF(NFI_Expiration=1,IF($A225<VLOOKUP(N$5,NFI,5,0),1,0)*Table_NFI[[#This Row],[Kitchen Set]],0)","v":0},{"$f":"IF(NFI_Expiration=1,IF($A225<VLOOKUP(O$5,NFI,5,0),1,0)*Table_NFI[[#This Row],[Complementary Kit]],0)","v":0},{"$f":"IF(NFI_Expiration=1,IF($A225<VLOOKUP(P$5,NFI,5,0),1,0)*Table_NFI[[#This Row],[Plastic Bucket]],0)","v":0},{"$f":"IF(NFI_Expiration=1,IF($A225<VLOOKUP(Q$5,NFI,5,0),1,0)*Table_NFI[[#This Row],[Plastic Mat]],0)","v":0},{"$f":"IFERROR(VLOOKUP(Table_NFI[[#This Row],[Camp Name]],CL,2,0),\"\")","v":"MMR012CMP017"},{"$f":"IFERROR(VLOOKUP(Table_NFI[[#This Row],[Camp Name]],CL,3,0),\"\")","v":"Open"}]
[7.3,"2013-04-26","Save the Children","Save the Children","Rakhine","Pauktaw","Kyein Ni Pyin",1028,null,null,null,null,null,null,null,null,null,{"$f":"IF(NFI_Expiration=1,IF($A226<VLOOKUP(H$5,NFI,5,0),1,0)*Table_NFI[[#This Row],[Hygiene Kit]],0)","v":1028},{"$f":"IF(NFI_Expiration=1,IF($A226<VLOOKUP(I$5,NFI,5,0),1,0)*Table_NFI[[#This Row],[NFI Core Kit]],0)","v":0},{"$f":"IF(NFI_Expiration=1,IF($A226<VLOOKUP(J$5,NFI,5,0),1,0)*Table_NFI[[#This Row],[Sanitary Kit]],0)","v":0},{"$f":"IF(NFI_Expiration=1,IF($A226<VLOOKUP(K$5,NFI,5,0),1,0)*Table_NFI[[#This Row],[Mosquito net]],0)","v":0},{"$f":"IF(NFI_Expiration=1,IF($A226<VLOOKUP(L$5,NFI,5,0),1,0)*Table_NFI[[#This Row],[Tarpaulin]],0)","v":0},{"$f":"IF(NFI_Expiration=1,IF($A226<VLOOKUP(M$5,NFI,5,0),1,0)*Table_NFI[[#This Row],[Blanket]],0)","v":0},{"$f":"IF(NFI_Expiration=1,IF($A226<VLOOKUP(N$5,NFI,5,0),1,0)*Table_NFI[[#This Row],[Kitchen Set]],0)","v":0},{"$f":"IF(NFI_Expiration=1,IF($A226<VLOOKUP(O$5,NFI,5,0),1,0)*Table_NFI[[#This Row],[Complementary Kit]],0)","v":0},{"$f":"IF(NFI_Expiration=1,IF($A226<VLOOKUP(P$5,NFI,5,0),1,0)*Table_NFI[[#This Row],[Plastic Bucket]],0)","v":0},{"$f":"IF(NFI_Expiration=1,IF($A226<VLOOKUP(Q$5,NFI,5,0),1,0)*Table_NFI[[#This Row],[Plastic Mat]],0)","v":0},{"$f":"IFERROR(VLOOKUP(Table_NFI[[#This Row],[Camp Name]],CL,2,0),\"\")","v":"MMR012CMP018"},{"$f":"IFERROR(VLOOKUP(Table_NFI[[#This Row],[Camp Name]],CL,3,0),\"\")","v":"Open"}]
[7.2,"2013-04-29","UNHCR",null,"Rakhine","Rathedaung","Nyaung Pin Gyi",0,64,null,128,64,128,64,64,64,128,{"$f":"IF(NFI_Expiration=1,IF($A227<VLOOKUP(H$5,NFI,5,0),1,0)*Table_NFI[[#This Row],[Hygiene Kit]],0)","v":0},{"$f":"IF(NFI_Expiration=1,IF($A227<VLOOKUP(I$5,NFI,5,0),1,0)*Table_NFI[[#This Row],[NFI Core Kit]],0)","v":64},{"$f":"IF(NFI_Expiration=1,IF($A227<VLOOKUP(J$5,NFI,5,0),1,0)*Table_NFI[[#This Row],[Sanitary Kit]],0)","v":0},{"$f":"IF(NFI_Expiration=1,IF($A227<VLOOKUP(K$5,NFI,5,0),1,0)*Table_NFI[[#This Row],[Mosquito net]],0)","v":128},{"$f":"IF(NFI_Expiration=1,IF($A227<VLOOKUP(L$5,NFI,5,0),1,0)*Table_NFI[[#This Row],[Tarpaulin]],0)","v":64},{"$f":"IF(NFI_Expiration=1,IF($A227<VLOOKUP(M$5,NFI,5,0),1,0)*Table_NFI[[#This Row],[Blanket]],0)","v":128},{"$f":"IF(NFI_Expiration=1,IF($A227<VLOOKUP(N$5,NFI,5,0),1,0)*Table_NFI[[#This Row],[Kitchen Set]],0)","v":64},{"$f":"IF(NFI_Expiration=1,IF($A227<VLOOKUP(O$5,NFI,5,0),1,0)*Table_NFI[[#This Row],[Complementary Kit]],0)","v":64},{"$f":"IF(NFI_Expiration=1,IF($A227<VLOOKUP(P$5,NFI,5,0),1,0)*Table_NFI[[#This Row],[Plastic Bucket]],0)","v":64},{"$f":"IF(NFI_Expiration=1,IF($A227<VLOOKUP(Q$5,NFI,5,0),1,0)*Table_NFI[[#This Row],[Plastic Mat]],0)","v":128},{"$f":"IFERROR(VLOOKUP(Table_NFI[[#This Row],[Camp Name]],CL,2,0),\"\")","v":"MMR012CMP031"},{"$f":"IFERROR(VLOOKUP(Table_NFI[[#This Row],[Camp Name]],CL,3,0),\"\")","v":"Open"}]
[7.2,"2013-04-29","UNHCR",null,"Rakhine","Rathedaung","Nyaung Pin Gyi",0,null,128,128,64,0,null,null,null,null,{"$f":"IF(NFI_Expiration=1,IF($A228<VLOOKUP(H$5,NFI,5,0),1,0)*Table_NFI[[#This Row],[Hygiene Kit]],0)","v":0},{"$f":"IF(NFI_Expiration=1,IF($A228<VLOOKUP(I$5,NFI,5,0),1,0)*Table_NFI[[#This Row],[NFI Core Kit]],0)","v":0},{"$f":"IF(NFI_Expiration=1,IF($A228<VLOOKUP(J$5,NFI,5,0),1,0)*Table_NFI[[#This Row],[Sanitary Kit]],0)","v":128},{"$f":"IF(NFI_Expiration=1,IF($A228<VLOOKUP(K$5,NFI,5,0),1,0)*Table_NFI[[#This Row],[Mosquito net]],0)","v":128},{"$f":"IF(NFI_Expiration=1,IF($A228<VLOOKUP(L$5,NFI,5,0),1,0)*Table_NFI[[#This Row],[Tarpaulin]],0)","v":64},{"$f":"IF(NFI_Expiration=1,IF($A228<VLOOKUP(M$5,NFI,5,0),1,0)*Table_NFI[[#This Row],[Blanket]],0)","v":0},{"$f":"IF(NFI_Expiration=1,IF($A228<VLOOKUP(N$5,NFI,5,0),1,0)*Table_NFI[[#This Row],[Kitchen Set]],0)","v":0},{"$f":"IF(NFI_Expiration=1,IF($A228<VLOOKUP(O$5,NFI,5,0),1,0)*Table_NFI[[#This Row],[Complementary Kit]],0)","v":0},{"$f":"IF(NFI_Expiration=1,IF($A228<VLOOKUP(P$5,NFI,5,0),1,0)*Table_NFI[[#This Row],[Plastic Bucket]],0)","v":0},{"$f":"IF(NFI_Expiration=1,IF($A228<VLOOKUP(Q$5,NFI,5,0),1,0)*Table_NFI[[#This Row],[Plastic Mat]],0)","v":0},{"$f":"IFERROR(VLOOKUP(Table_NFI[[#This Row],[Camp Name]],CL,2,0),\"\")","v":"MMR012CMP031"},{"$f":"IFERROR(VLOOKUP(Table_NFI[[#This Row],[Camp Name]],CL,3,0),\"\")","v":"Open"}]
[7.166666666666667,"2013-04-30","UNHCR",null,"Rakhine","Pauktaw",null,null,null,null,null,null,1,null,null,null,null,{"$f":"IF(NFI_Expiration=1,IF($A229<VLOOKUP(H$5,NFI,5,0),1,0)*Table_NFI[[#This Row],[Hygiene Kit]],0)","v":0},{"$f":"IF(NFI_Expiration=1,IF($A229<VLOOKUP(I$5,NFI,5,0),1,0)*Table_NFI[[#This Row],[NFI Core Kit]],0)","v":0},{"$f":"IF(NFI_Expiration=1,IF($A229<VLOOKUP(J$5,NFI,5,0),1,0)*Table_NFI[[#This Row],[Sanitary Kit]],0)","v":0},{"$f":"IF(NFI_Expiration=1,IF($A229<VLOOKUP(K$5,NFI,5,0),1,0)*Table_NFI[[#This Row],[Mosquito net]],0)","v":0},{"$f":"IF(NFI_Expiration=1,IF($A229<VLOOKUP(L$5,NFI,5,0),1,0)*Table_NFI[[#This Row],[Tarpaulin]],0)","v":0},{"$f":"IF(NFI_Expiration=1,IF($A229<VLOOKUP(M$5,NFI,5,0),1,0)*Table_NFI[[#This Row],[Blanket]],0)","v":1},{"$f":"IF(NFI_Expiration=1,IF($A229<VLOOKUP(N$5,NFI,5,0),1,0)*Table_NFI[[#This Row],[Kitchen Set]],0)","v":0},{"$f":"IF(NFI_Expiration=1,IF($A229<VLOOKUP(O$5,NFI,5,0),1,0)*Table_NFI[[#This Row],[Complementary Kit]],0)","v":0},{"$f":"IF(NFI_Expiration=1,IF($A229<VLOOKUP(P$5,NFI,5,0),1,0)*Table_NFI[[#This Row],[Plastic Bucket]],0)","v":0},{"$f":"IF(NFI_Expiration=1,IF($A229<VLOOKUP(Q$5,NFI,5,0),1,0)*Table_NFI[[#This Row],[Plastic Mat]],0)","v":0},{"$f":"IFERROR(VLOOKUP(Table_NFI[[#This Row],[Camp Name]],CL,2,0),\"\")","v":""},{"$f":"IFERROR(VLOOKUP(Table_NFI[[#This Row],[Camp Name]],CL,3,0),\"\")","v":""}]
[7.1,"2013-05-02","UNHCR",null,"Rakhine","Minbya","Aung Taing",null,null,null,null,null,1,null,null,null,null,{"$f":"IF(NFI_Expiration=1,IF($A230<VLOOKUP(H$5,NFI,5,0),1,0)*Table_NFI[[#This Row],[Hygiene Kit]],0)","v":0},{"$f":"IF(NFI_Expiration=1,IF($A230<VLOOKUP(I$5,NFI,5,0),1,0)*Table_NFI[[#This Row],[NFI Core Kit]],0)","v":0},{"$f":"IF(NFI_Expiration=1,IF($A230<VLOOKUP(J$5,NFI,5,0),1,0)*Table_NFI[[#This Row],[Sanitary Kit]],0)","v":0},{"$f":"IF(NFI_Expiration=1,IF($A230<VLOOKUP(K$5,NFI,5,0),1,0)*Table_NFI[[#This Row],[Mosquito net]],0)","v":0},{"$f":"IF(NFI_Expiration=1,IF($A230<VLOOKUP(L$5,NFI,5,0),1,0)*Table_NFI[[#This Row],[Tarpaulin]],0)","v":0},{"$f":"IF(NFI_Expiration=1,IF($A230<VLOOKUP(M$5,NFI,5,0),1,0)*Table_NFI[[#This Row],[Blanket]],0)","v":1},{"$f":"IF(NFI_Expiration=1,IF($A230<VLOOKUP(N$5,NFI,5,0),1,0)*Table_NFI[[#This Row],[Kitchen Set]],0)","v":0},{"$f":"IF(NFI_Expiration=1,IF($A230<VLOOKUP(O$5,NFI,5,0),1,0)*Table_NFI[[#This Row],[Complementary Kit]],0)","v":0},{"$f":"IF(NFI_Expiration=1,IF($A230<VLOOKUP(P$5,NFI,5,0),1,0)*Table_NFI[[#This Row],[Plastic Bucket]],0)","v":0},{"$f":"IF(NFI_Expiration=1,IF($A230<VLOOKUP(Q$5,NFI,5,0),1,0)*Table_NFI[[#This Row],[Plastic Mat]],0)","v":0},{"$f":"IFERROR(VLOOKUP(Table_NFI[[#This Row],[Camp Name]],CL,2,0),\"\")","v":"MMR012CMP006"},{"$f":"IFERROR(VLOOKUP(Table_NFI[[#This Row],[Camp Name]],CL,3,0),\"\")","v":"Open"}]
[7.1,"2013-05-02","UNHCR",null,"Rakhine","Minbya","Aung Taing",null,null,null,null,1,null,null,null,null,null,{"$f":"IF(NFI_Expiration=1,IF($A231<VLOOKUP(H$5,NFI,5,0),1,0)*Table_NFI[[#This Row],[Hygiene Kit]],0)","v":0},{"$f":"IF(NFI_Expiration=1,IF($A231<VLOOKUP(I$5,NFI,5,0),1,0)*Table_NFI[[#This Row],[NFI Core Kit]],0)","v":0},{"$f":"IF(NFI_Expiration=1,IF($A231<VLOOKUP(J$5,NFI,5,0),1,0)*Table_NFI[[#This Row],[Sanitary Kit]],0)","v":0},{"$f":"IF(NFI_Expiration=1,IF($A231<VLOOKUP(K$5,NFI,5,0),1,0)*Table_NFI[[#This Row],[Mosquito net]],0)","v":0},{"$f":"IF(NFI_Expiration=1,IF($A231<VLOOKUP(L$5,NFI,5,0),1,0)*Table_NFI[[#This Row],[Tarpaulin]],0)","v":1},{"$f":"IF(NFI_Expiration=1,IF($A231<VLOOKUP(M$5,NFI,5,0),1,0)*Table_NFI[[#This Row],[Blanket]],0)","v":0},{"$f":"IF(NFI_Expiration=1,IF($A231<VLOOKUP(N$5,NFI,5,0),1,0)*Table_NFI[[#This Row],[Kitchen Set]],0)","v":0},{"$f":"IF(NFI_Expiration=1,IF($A231<VLOOKUP(O$5,NFI,5,0),1,0)*Table_NFI[[#This Row],[Complementary Kit]],0)","v":0},{"$f":"IF(NFI_Expiration=1,IF($A231<VLOOKUP(P$5,NFI,5,0),1,0)*Table_NFI[[#This Row],[Plastic Bucket]],0)","v":0},{"$f":"IF(NFI_Expiration=1,IF($A231<VLOOKUP(Q$5,NFI,5,0),1,0)*Table_NFI[[#This Row],[Plastic Mat]],0)","v":0},{"$f":"IFERROR(VLOOKUP(Table_NFI[[#This Row],[Camp Name]],CL,2,0),\"\")","v":"MMR012CMP006"},{"$f":"IFERROR(VLOOKUP(Table_NFI[[#This Row],[Camp Name]],CL,3,0),\"\")","v":"Open"}]
[6.4333333333333336,"2013-05-22","Save the Children","Save the Children","Rakhine","Pauktaw","Kyein Ni Pyin",903,null,null,null,null,null,null,null,null,null,{"$f":"IF(NFI_Expiration=1,IF($A232<VLOOKUP(H$5,NFI,5,0),1,0)*Table_NFI[[#This Row],[Hygiene Kit]],0)","v":903},{"$f":"IF(NFI_Expiration=1,IF($A232<VLOOKUP(I$5,NFI,5,0),1,0)*Table_NFI[[#This Row],[NFI Core Kit]],0)","v":0},{"$f":"IF(NFI_Expiration=1,IF($A232<VLOOKUP(J$5,NFI,5,0),1,0)*Table_NFI[[#This Row],[Sanitary Kit]],0)","v":0},{"$f":"IF(NFI_Expiration=1,IF($A232<VLOOKUP(K$5,NFI,5,0),1,0)*Table_NFI[[#This Row],[Mosquito net]],0)","v":0},{"$f":"IF(NFI_Expiration=1,IF($A232<VLOOKUP(L$5,NFI,5,0),1,0)*Table_NFI[[#This Row],[Tarpaulin]],0)","v":0},{"$f":"IF(NFI_Expiration=1,IF($A232<VLOOKUP(M$5,NFI,5,0),1,0)*Table_NFI[[#This Row],[Blanket]],0)","v":0},{"$f":"IF(NFI_Expiration=1,IF($A232<VLOOKUP(N$5,NFI,5,0),1,0)*Table_NFI[[#This Row],[Kitchen Set]],0)","v":0},{"$f":"IF(NFI_Expiration=1,IF($A232<VLOOKUP(O$5,NFI,5,0),1,0)*Table_NFI[[#This Row],[Complementary Kit]],0)","v":0},{"$f":"IF(NFI_Expiration=1,IF($A232<VLOOKUP(P$5,NFI,5,0),1,0)*Table_NFI[[#This Row],[Plastic Bucket]],0)","v":0},{"$f":"IF(NFI_Expiration=1,IF($A232<VLOOKUP(Q$5,NFI,5,0),1,0)*Table_NFI[[#This Row],[Plastic Mat]],0)","v":0},{"$f":"IFERROR(VLOOKUP(Table_NFI[[#This Row],[Camp Name]],CL,2,0),\"\")","v":"MMR012CMP018"},{"$f":"IFERROR(VLOOKUP(Table_NFI[[#This Row],[Camp Name]],CL,3,0),\"\")","v":"Open"}]
[6.4,"2013-05-23","Save the Children","Save the Children","Rakhine","Sittwe","Thet Kae Pyin ",4795,null,null,null,null,null,null,null,null,null,{"$f":"IF(NFI_Expiration=1,IF($A233<VLOOKUP(H$5,NFI,5,0),1,0)*Table_NFI[[#This Row],[Hygiene Kit]],0)","v":4795},{"$f":"IF(NFI_Expiration=1,IF($A233<VLOOKUP(I$5,NFI,5,0),1,0)*Table_NFI[[#This Row],[NFI Core Kit]],0)","v":0},{"$f":"IF(NFI_Expiration=1,IF($A233<VLOOKUP(J$5,NFI,5,0),1,0)*Table_NFI[[#This Row],[Sanitary Kit]],0)","v":0},{"$f":"IF(NFI_Expiration=1,IF($A233<VLOOKUP(K$5,NFI,5,0),1,0)*Table_NFI[[#This Row],[Mosquito net]],0)","v":0},{"$f":"IF(NFI_Expiration=1,IF($A233<VLOOKUP(L$5,NFI,5,0),1,0)*Table_NFI[[#This Row],[Tarpaulin]],0)","v":0},{"$f":"IF(NFI_Expiration=1,IF($A233<VLOOKUP(M$5,NFI,5,0),1,0)*Table_NFI[[#This Row],[Blanket]],0)","v":0},{"$f":"IF(NFI_Expiration=1,IF($A233<VLOOKUP(N$5,NFI,5,0),1,0)*Table_NFI[[#This Row],[Kitchen Set]],0)","v":0},{"$f":"IF(NFI_Expiration=1,IF($A233<VLOOKUP(O$5,NFI,5,0),1,0)*Table_NFI[[#This Row],[Complementary Kit]],0)","v":0},{"$f":"IF(NFI_Expiration=1,IF($A233<VLOOKUP(P$5,NFI,5,0),1,0)*Table_NFI[[#This Row],[Plastic Bucket]],0)","v":0},{"$f":"IF(NFI_Expiration=1,IF($A233<VLOOKUP(Q$5,NFI,5,0),1,0)*Table_NFI[[#This Row],[Plastic Mat]],0)","v":0},{"$f":"IFERROR(VLOOKUP(Table_NFI[[#This Row],[Camp Name]],CL,2,0),\"\")","v":"MMR012CMP048"},{"$f":"IFERROR(VLOOKUP(Table_NFI[[#This Row],[Camp Name]],CL,3,0),\"\")","v":"Open"}]
[6.2666666666666666,"2013-05-27","UNHCR",null,"Rakhine","Sittwe","Thet Kae Pyin ",null,null,null,null,111,null,null,null,null,null,{"$f":"IF(NFI_Expiration=1,IF($A234<VLOOKUP(H$5,NFI,5,0),1,0)*Table_NFI[[#This Row],[Hygiene Kit]],0)","v":0},{"$f":"IF(NFI_Expiration=1,IF($A234<VLOOKUP(I$5,NFI,5,0),1,0)*Table_NFI[[#This Row],[NFI Core Kit]],0)","v":0},{"$f":"IF(NFI_Expiration=1,IF($A234<VLOOKUP(J$5,NFI,5,0),1,0)*Table_NFI[[#This Row],[Sanitary Kit]],0)","v":0},{"$f":"IF(NFI_Expiration=1,IF($A234<VLOOKUP(K$5,NFI,5,0),1,0)*Table_NFI[[#This Row],[Mosquito net]],0)","v":0},{"$f":"IF(NFI_Expiration=1,IF($A234<VLOOKUP(L$5,NFI,5,0),1,0)*Table_NFI[[#This Row],[Tarpaulin]],0)","v":111},{"$f":"IF(NFI_Expiration=1,IF($A234<VLOOKUP(M$5,NFI,5,0),1,0)*Table_NFI[[#This Row],[Blanket]],0)","v":0},{"$f":"IF(NFI_Expiration=1,IF($A234<VLOOKUP(N$5,NFI,5,0),1,0)*Table_NFI[[#This Row],[Kitchen Set]],0)","v":0},{"$f":"IF(NFI_Expiration=1,IF($A234<VLOOKUP(O$5,NFI,5,0),1,0)*Table_NFI[[#This Row],[Complementary Kit]],0)","v":0},{"$f":"IF(NFI_Expiration=1,IF($A234<VLOOKUP(P$5,NFI,5,0),1,0)*Table_NFI[[#This Row],[Plastic Bucket]],0)","v":0},{"$f":"IF(NFI_Expiration=1,IF($A234<VLOOKUP(Q$5,NFI,5,0),1,0)*Table_NFI[[#This Row],[Plastic Mat]],0)","v":0},{"$f":"IFERROR(VLOOKUP(Table_NFI[[#This Row],[Camp Name]],CL,2,0),\"\")","v":"MMR012CMP048"},{"$f":"IFERROR(VLOOKUP(Table_NFI[[#This Row],[Camp Name]],CL,3,0),\"\")","v":"Open"}]
[6.2333333333333334,"2013-05-28","UNHCR",null,"Rakhine","Sittwe","Thet Kae Pyin ",null,null,null,null,108,null,null,null,null,null,{"$f":"IF(NFI_Expiration=1,IF($A235<VLOOKUP(H$5,NFI,5,0),1,0)*Table_NFI[[#This Row],[Hygiene Kit]],0)","v":0},{"$f":"IF(NFI_Expiration=1,IF($A235<VLOOKUP(I$5,NFI,5,0),1,0)*Table_NFI[[#This Row],[NFI Core Kit]],0)","v":0},{"$f":"IF(NFI_Expiration=1,IF($A235<VLOOKUP(J$5,NFI,5,0),1,0)*Table_NFI[[#This Row],[Sanitary Kit]],0)","v":0},{"$f":"IF(NFI_Expiration=1,IF($A235<VLOOKUP(K$5,NFI,5,0),1,0)*Table_NFI[[#This Row],[Mosquito net]],0)","v":0},{"$f":"IF(NFI_Expiration=1,IF($A235<VLOOKUP(L$5,NFI,5,0),1,0)*Table_NFI[[#This Row],[Tarpaulin]],0)","v":108},{"$f":"IF(NFI_Expiration=1,IF($A235<VLOOKUP(M$5,NFI,5,0),1,0)*Table_NFI[[#This Row],[Blanket]],0)","v":0},{"$f":"IF(NFI_Expiration=1,IF($A235<VLOOKUP(N$5,NFI,5,0),1,0)*Table_NFI[[#This Row],[Kitchen Set]],0)","v":0},{"$f":"IF(NFI_Expiration=1,IF($A235<VLOOKUP(O$5,NFI,5,0),1,0)*Table_NFI[[#This Row],[Complementary Kit]],0)","v":0},{"$f":"IF(NFI_Expiration=1,IF($A235<VLOOKUP(P$5,NFI,5,0),1,0)*Table_NFI[[#This Row],[Plastic Bucket]],0)","v":0},{"$f":"IF(NFI_Expiration=1,IF($A235<VLOOKUP(Q$5,NFI,5,0),1,0)*Table_NFI[[#This Row],[Plastic Mat]],0)","v":0},{"$f":"IFERROR(VLOOKUP(Table_NFI[[#This Row],[Camp Name]],CL,2,0),\"\")","v":"MMR012CMP048"},{"$f":"IFERROR(VLOOKUP(Table_NFI[[#This Row],[Camp Name]],CL,3,0),\"\")","v":"Open"}]
[6.2333333333333334,"2013-05-28","Save the Children","Save the Children","Rakhine","Pauktaw","Sin Tet Maw",849,null,null,null,null,null,null,null,null,null,{"$f":"IF(NFI_Expiration=1,IF($A236<VLOOKUP(H$5,NFI,5,0),1,0)*Table_NFI[[#This Row],[Hygiene Kit]],0)","v":849},{"$f":"IF(NFI_Expiration=1,IF($A236<VLOOKUP(I$5,NFI,5,0),1,0)*Table_NFI[[#This Row],[NFI Core Kit]],0)","v":0},{"$f":"IF(NFI_Expiration=1,IF($A236<VLOOKUP(J$5,NFI,5,0),1,0)*Table_NFI[[#This Row],[Sanitary Kit]],0)","v":0},{"$f":"IF(NFI_Expiration=1,IF($A236<VLOOKUP(K$5,NFI,5,0),1,0)*Table_NFI[[#This Row],[Mosquito net]],0)","v":0},{"$f":"IF(NFI_Expiration=1,IF($A236<VLOOKUP(L$5,NFI,5,0),1,0)*Table_NFI[[#This Row],[Tarpaulin]],0)","v":0},{"$f":"IF(NFI_Expiration=1,IF($A236<VLOOKUP(M$5,NFI,5,0),1,0)*Table_NFI[[#This Row],[Blanket]],0)","v":0},{"$f":"IF(NFI_Expiration=1,IF($A236<VLOOKUP(N$5,NFI,5,0),1,0)*Table_NFI[[#This Row],[Kitchen Set]],0)","v":0},{"$f":"IF(NFI_Expiration=1,IF($A236<VLOOKUP(O$5,NFI,5,0),1,0)*Table_NFI[[#This Row],[Complementary Kit]],0)","v":0},{"$f":"IF(NFI_Expiration=1,IF($A236<VLOOKUP(P$5,NFI,5,0),1,0)*Table_NFI[[#This Row],[Plastic Bucket]],0)","v":0},{"$f":"IF(NFI_Expiration=1,IF($A236<VLOOKUP(Q$5,NFI,5,0),1,0)*Table_NFI[[#This Row],[Plastic Mat]],0)","v":0},{"$f":"IFERROR(VLOOKUP(Table_NFI[[#This Row],[Camp Name]],CL,2,0),\"\")","v":"MMR012CMP019"},{"$f":"IFERROR(VLOOKUP(Table_NFI[[#This Row],[Camp Name]],CL,3,0),\"\")","v":"Open"}]
[6.2,"2013-05-29","UNHCR",null,"Rakhine","Mrauk_U","Raw Ma Ni Sin Oe",0,10,null,20,10,20,10,10,10,20,{"$f":"IF(NFI_Expiration=1,IF($A237<VLOOKUP(H$5,NFI,5,0),1,0)*Table_NFI[[#This Row],[Hygiene Kit]],0)","v":0},{"$f":"IF(NFI_Expiration=1,IF($A237<VLOOKUP(I$5,NFI,5,0),1,0)*Table_NFI[[#This Row],[NFI Core Kit]],0)","v":10},{"$f":"IF(NFI_Expiration=1,IF($A237<VLOOKUP(J$5,NFI,5,0),1,0)*Table_NFI[[#This Row],[Sanitary Kit]],0)","v":0},{"$f":"IF(NFI_Expiration=1,IF($A237<VLOOKUP(K$5,NFI,5,0),1,0)*Table_NFI[[#This Row],[Mosquito net]],0)","v":20},{"$f":"IF(NFI_Expiration=1,IF($A237<VLOOKUP(L$5,NFI,5,0),1,0)*Table_NFI[[#This Row],[Tarpaulin]],0)","v":10},{"$f":"IF(NFI_Expiration=1,IF($A237<VLOOKUP(M$5,NFI,5,0),1,0)*Table_NFI[[#This Row],[Blanket]],0)","v":20},{"$f":"IF(NFI_Expiration=1,IF($A237<VLOOKUP(N$5,NFI,5,0),1,0)*Table_NFI[[#This Row],[Kitchen Set]],0)","v":10},{"$f":"IF(NFI_Expiration=1,IF($A237<VLOOKUP(O$5,NFI,5,0),1,0)*Table_NFI[[#This Row],[Complementary Kit]],0)","v":10},{"$f":"IF(NFI_Expiration=1,IF($A237<VLOOKUP(P$5,NFI,5,0),1,0)*Table_NFI[[#This Row],[Plastic Bucket]],0)","v":10},{"$f":"IF(NFI_Expiration=1,IF($A237<VLOOKUP(Q$5,NFI,5,0),1,0)*Table_NFI[[#This Row],[Plastic Mat]],0)","v":20},{"$f":"IFERROR(VLOOKUP(Table_NFI[[#This Row],[Camp Name]],CL,2,0),\"\")","v":"MMR012CMP012"},{"$f":"IFERROR(VLOOKUP(Table_NFI[[#This Row],[Camp Name]],CL,3,0),\"\")","v":"Open"}]
[6.2,"2013-05-29","UNHCR","Solidarities International","Rakhine","Sittwe",null,null,null,null,null,1520,null,null,null,null,null,{"$f":"IF(NFI_Expiration=1,IF($A238<VLOOKUP(H$5,NFI,5,0),1,0)*Table_NFI[[#This Row],[Hygiene Kit]],0)","v":0},{"$f":"IF(NFI_Expiration=1,IF($A238<VLOOKUP(I$5,NFI,5,0),1,0)*Table_NFI[[#This Row],[NFI Core Kit]],0)","v":0},{"$f":"IF(NFI_Expiration=1,IF($A238<VLOOKUP(J$5,NFI,5,0),1,0)*Table_NFI[[#This Row],[Sanitary Kit]],0)","v":0},{"$f":"IF(NFI_Expiration=1,IF($A238<VLOOKUP(K$5,NFI,5,0),1,0)*Table_NFI[[#This Row],[Mosquito net]],0)","v":0},{"$f":"IF(NFI_Expiration=1,IF($A238<VLOOKUP(L$5,NFI,5,0),1,0)*Table_NFI[[#This Row],[Tarpaulin]],0)","v":1520},{"$f":"IF(NFI_Expiration=1,IF($A238<VLOOKUP(M$5,NFI,5,0),1,0)*Table_NFI[[#This Row],[Blanket]],0)","v":0},{"$f":"IF(NFI_Expiration=1,IF($A238<VLOOKUP(N$5,NFI,5,0),1,0)*Table_NFI[[#This Row],[Kitchen Set]],0)","v":0},{"$f":"IF(NFI_Expiration=1,IF($A238<VLOOKUP(O$5,NFI,5,0),1,0)*Table_NFI[[#This Row],[Complementary Kit]],0)","v":0},{"$f":"IF(NFI_Expiration=1,IF($A238<VLOOKUP(P$5,NFI,5,0),1,0)*Table_NFI[[#This Row],[Plastic Bucket]],0)","v":0},{"$f":"IF(NFI_Expiration=1,IF($A238<VLOOKUP(Q$5,NFI,5,0),1,0)*Table_NFI[[#This Row],[Plastic Mat]],0)","v":0},{"$f":"IFERROR(VLOOKUP(Table_NFI[[#This Row],[Camp Name]],CL,2,0),\"\")","v":""},{"$f":"IFERROR(VLOOKUP(Table_NFI[[#This Row],[Camp Name]],CL,3,0),\"\")","v":""}]
[6.2,"2013-05-29","Save the Children","Save the Children","Rakhine","Pauktaw","Nget Chaung",173,null,null,null,null,null,null,null,null,null,{"$f":"IF(NFI_Expiration=1,IF($A239<VLOOKUP(H$5,NFI,5,0),1,0)*Table_NFI[[#This Row],[Hygiene Kit]],0)","v":173},{"$f":"IF(NFI_Expiration=1,IF($A239<VLOOKUP(I$5,NFI,5,0),1,0)*Table_NFI[[#This Row],[NFI Core Kit]],0)","v":0},{"$f":"IF(NFI_Expiration=1,IF($A239<VLOOKUP(J$5,NFI,5,0),1,0)*Table_NFI[[#This Row],[Sanitary Kit]],0)","v":0},{"$f":"IF(NFI_Expiration=1,IF($A239<VLOOKUP(K$5,NFI,5,0),1,0)*Table_NFI[[#This Row],[Mosquito net]],0)","v":0},{"$f":"IF(NFI_Expiration=1,IF($A239<VLOOKUP(L$5,NFI,5,0),1,0)*Table_NFI[[#This Row],[Tarpaulin]],0)","v":0},{"$f":"IF(NFI_Expiration=1,IF($A239<VLOOKUP(M$5,NFI,5,0),1,0)*Table_NFI[[#This Row],[Blanket]],0)","v":0},{"$f":"IF(NFI_Expiration=1,IF($A239<VLOOKUP(N$5,NFI,5,0),1,0)*Table_NFI[[#This Row],[Kitchen Set]],0)","v":0},{"$f":"IF(NFI_Expiration=1,IF($A239<VLOOKUP(O$5,NFI,5,0),1,0)*Table_NFI[[#This Row],[Complementary Kit]],0)","v":0},{"$f":"IF(NFI_Expiration=1,IF($A239<VLOOKUP(P$5,NFI,5,0),1,0)*Table_NFI[[#This Row],[Plastic Bucket]],0)","v":0},{"$f":"IF(NFI_Expiration=1,IF($A239<VLOOKUP(Q$5,NFI,5,0),1,0)*Table_NFI[[#This Row],[Plastic Mat]],0)","v":0},{"$f":"IFERROR(VLOOKUP(Table_NFI[[#This Row],[Camp Name]],CL,2,0),\"\")","v":"MMR012CMP017"},{"$f":"IFERROR(VLOOKUP(Table_NFI[[#This Row],[Camp Name]],CL,3,0),\"\")","v":"Open"}]
[6.2,"2013-05-29","Save the Children","Save the Children","Rakhine","Sittwe","Bu May Ohn Taw",502,null,null,null,null,null,null,null,null,null,{"$f":"IF(NFI_Expiration=1,IF($A240<VLOOKUP(H$5,NFI,5,0),1,0)*Table_NFI[[#This Row],[Hygiene Kit]],0)","v":502},{"$f":"IF(NFI_Expiration=1,IF($A240<VLOOKUP(I$5,NFI,5,0),1,0)*Table_NFI[[#This Row],[NFI Core Kit]],0)","v":0},{"$f":"IF(NFI_Expiration=1,IF($A240<VLOOKUP(J$5,NFI,5,0),1,0)*Table_NFI[[#This Row],[Sanitary Kit]],0)","v":0},{"$f":"IF(NFI_Expiration=1,IF($A240<VLOOKUP(K$5,NFI,5,0),1,0)*Table_NFI[[#This Row],[Mosquito net]],0)","v":0},{"$f":"IF(NFI_Expiration=1,IF($A240<VLOOKUP(L$5,NFI,5,0),1,0)*Table_NFI[[#This Row],[Tarpaulin]],0)","v":0},{"$f":"IF(NFI_Expiration=1,IF($A240<VLOOKUP(M$5,NFI,5,0),1,0)*Table_NFI[[#This Row],[Blanket]],0)","v":0},{"$f":"IF(NFI_Expiration=1,IF($A240<VLOOKUP(N$5,NFI,5,0),1,0)*Table_NFI[[#This Row],[Kitchen Set]],0)","v":0},{"$f":"IF(NFI_Expiration=1,IF($A240<VLOOKUP(O$5,NFI,5,0),1,0)*Table_NFI[[#This Row],[Complementary Kit]],0)","v":0},{"$f":"IF(NFI_Expiration=1,IF($A240<VLOOKUP(P$5,NFI,5,0),1,0)*Table_NFI[[#This Row],[Plastic Bucket]],0)","v":0},{"$f":"IF(NFI_Expiration=1,IF($A240<VLOOKUP(Q$5,NFI,5,0),1,0)*Table_NFI[[#This Row],[Plastic Mat]],0)","v":0},{"$f":"IFERROR(VLOOKUP(Table_NFI[[#This Row],[Camp Name]],CL,2,0),\"\")","v":"MMR012CMP051"},{"$f":"IFERROR(VLOOKUP(Table_NFI[[#This Row],[Camp Name]],CL,3,0),\"\")","v":"Close"}]
[6.2,"2013-05-29","Save the Children","Save the Children","Rakhine","Sittwe","Hmanzi Junction",203,null,null,null,null,null,null,null,null,null,{"$f":"IF(NFI_Expiration=1,IF($A241<VLOOKUP(H$5,NFI,5,0),1,0)*Table_NFI[[#This Row],[Hygiene Kit]],0)","v":203},{"$f":"IF(NFI_Expiration=1,IF($A241<VLOOKUP(I$5,NFI,5,0),1,0)*Table_NFI[[#This Row],[NFI Core Kit]],0)","v":0},{"$f":"IF(NFI_Expiration=1,IF($A241<VLOOKUP(J$5,NFI,5,0),1,0)*Table_NFI[[#This Row],[Sanitary Kit]],0)","v":0},{"$f":"IF(NFI_Expiration=1,IF($A241<VLOOKUP(K$5,NFI,5,0),1,0)*Table_NFI[[#This Row],[Mosquito net]],0)","v":0},{"$f":"IF(NFI_Expiration=1,IF($A241<VLOOKUP(L$5,NFI,5,0),1,0)*Table_NFI[[#This Row],[Tarpaulin]],0)","v":0},{"$f":"IF(NFI_Expiration=1,IF($A241<VLOOKUP(M$5,NFI,5,0),1,0)*Table_NFI[[#This Row],[Blanket]],0)","v":0},{"$f":"IF(NFI_Expiration=1,IF($A241<VLOOKUP(N$5,NFI,5,0),1,0)*Table_NFI[[#This Row],[Kitchen Set]],0)","v":0},{"$f":"IF(NFI_Expiration=1,IF($A241<VLOOKUP(O$5,NFI,5,0),1,0)*Table_NFI[[#This Row],[Complementary Kit]],0)","v":0},{"$f":"IF(NFI_Expiration=1,IF($A241<VLOOKUP(P$5,NFI,5,0),1,0)*Table_NFI[[#This Row],[Plastic Bucket]],0)","v":0},{"$f":"IF(NFI_Expiration=1,IF($A241<VLOOKUP(Q$5,NFI,5,0),1,0)*Table_NFI[[#This Row],[Plastic Mat]],0)","v":0},{"$f":"IFERROR(VLOOKUP(Table_NFI[[#This Row],[Camp Name]],CL,2,0),\"\")","v":"MMR012CMP049"},{"$f":"IFERROR(VLOOKUP(Table_NFI[[#This Row],[Camp Name]],CL,3,0),\"\")","v":"Close"}]
[6.2,"2013-05-29","Save the Children","Save the Children","Rakhine","Pauktaw","Ah Nauk Ywe",773,null,null,null,null,null,null,null,null,null,{"$f":"IF(NFI_Expiration=1,IF($A242<VLOOKUP(H$5,NFI,5,0),1,0)*Table_NFI[[#This Row],[Hygiene Kit]],0)","v":773},{"$f":"IF(NFI_Expiration=1,IF($A242<VLOOKUP(I$5,NFI,5,0),1,0)*Table_NFI[[#This Row],[NFI Core Kit]],0)","v":0},{"$f":"IF(NFI_Expiration=1,IF($A242<VLOOKUP(J$5,NFI,5,0),1,0)*Table_NFI[[#This Row],[Sanitary Kit]],0)","v":0},{"$f":"IF(NFI_Expiration=1,IF($A242<VLOOKUP(K$5,NFI,5,0),1,0)*Table_NFI[[#This Row],[Mosquito net]],0)","v":0},{"$f":"IF(NFI_Expiration=1,IF($A242<VLOOKUP(L$5,NFI,5,0),1,0)*Table_NFI[[#This Row],[Tarpaulin]],0)","v":0},{"$f":"IF(NFI_Expiration=1,IF($A242<VLOOKUP(M$5,NFI,5,0),1,0)*Table_NFI[[#This Row],[Blanket]],0)","v":0},{"$f":"IF(NFI_Expiration=1,IF($A242<VLOOKUP(N$5,NFI,5,0),1,0)*Table_NFI[[#This Row],[Kitchen Set]],0)","v":0},{"$f":"IF(NFI_Expiration=1,IF($A242<VLOOKUP(O$5,NFI,5,0),1,0)*Table_NFI[[#This Row],[Complementary Kit]],0)","v":0},{"$f":"IF(NFI_Expiration=1,IF($A242<VLOOKUP(P$5,NFI,5,0),1,0)*Table_NFI[[#This Row],[Plastic Bucket]],0)","v":0},{"$f":"IF(NFI_Expiration=1,IF($A242<VLOOKUP(Q$5,NFI,5,0),1,0)*Table_NFI[[#This Row],[Plastic Mat]],0)","v":0},{"$f":"IFERROR(VLOOKUP(Table_NFI[[#This Row],[Camp Name]],CL,2,0),\"\")","v":"MMR012CMP016"},{"$f":"IFERROR(VLOOKUP(Table_NFI[[#This Row],[Camp Name]],CL,3,0),\"\")","v":"Open"}]
[6.2,"2013-05-29","UNHCR",null,"Rakhine","Mrauk_U","Raw Ma Ni Sin Oe",0,null,null,null,null,null,null,null,null,null,{"$f":"IF(NFI_Expiration=1,IF($A243<VLOOKUP(H$5,NFI,5,0),1,0)*Table_NFI[[#This Row],[Hygiene Kit]],0)","v":0},{"$f":"IF(NFI_Expiration=1,IF($A243<VLOOKUP(I$5,NFI,5,0),1,0)*Table_NFI[[#This Row],[NFI Core Kit]],0)","v":0},{"$f":"IF(NFI_Expiration=1,IF($A243<VLOOKUP(J$5,NFI,5,0),1,0)*Table_NFI[[#This Row],[Sanitary Kit]],0)","v":0},{"$f":"IF(NFI_Expiration=1,IF($A243<VLOOKUP(K$5,NFI,5,0),1,0)*Table_NFI[[#This Row],[Mosquito net]],0)","v":0},{"$f":"IF(NFI_Expiration=1,IF($A243<VLOOKUP(L$5,NFI,5,0),1,0)*Table_NFI[[#This Row],[Tarpaulin]],0)","v":0},{"$f":"IF(NFI_Expiration=1,IF($A243<VLOOKUP(M$5,NFI,5,0),1,0)*Table_NFI[[#This Row],[Blanket]],0)","v":0},{"$f":"IF(NFI_Expiration=1,IF($A243<VLOOKUP(N$5,NFI,5,0),1,0)*Table_NFI[[#This Row],[Kitchen Set]],0)","v":0},{"$f":"IF(NFI_Expiration=1,IF($A243<VLOOKUP(O$5,NFI,5,0),1,0)*Table_NFI[[#This Row],[Complementary Kit]],0)","v":0},{"$f":"IF(NFI_Expiration=1,IF($A243<VLOOKUP(P$5,NFI,5,0),1,0)*Table_NFI[[#This Row],[Plastic Bucket]],0)","v":0},{"$f":"IF(NFI_Expiration=1,IF($A243<VLOOKUP(Q$5,NFI,5,0),1,0)*Table_NFI[[#This Row],[Plastic Mat]],0)","v":0},{"$f":"IFERROR(VLOOKUP(Table_NFI[[#This Row],[Camp Name]],CL,2,0),\"\")","v":"MMR012CMP012"},{"$f":"IFERROR(VLOOKUP(Table_NFI[[#This Row],[Camp Name]],CL,3,0),\"\")","v":"Open"}]
[5.2666666666666666,"2013-06-26","Muslim Aid","Muslim Aid","Rakhine","Sittwe","Ohn Taw Gyi 1",null,null,null,273,273,273,null,null,273,273,{"$f":"IF(NFI_Expiration=1,IF($A244<VLOOKUP(H$5,NFI,5,0),1,0)*Table_NFI[[#This Row],[Hygiene Kit]],0)","v":0},{"$f":"IF(NFI_Expiration=1,IF($A244<VLOOKUP(I$5,NFI,5,0),1,0)*Table_NFI[[#This Row],[NFI Core Kit]],0)","v":0},{"$f":"IF(NFI_Expiration=1,IF($A244<VLOOKUP(J$5,NFI,5,0),1,0)*Table_NFI[[#This Row],[Sanitary Kit]],0)","v":0},{"$f":"IF(NFI_Expiration=1,IF($A244<VLOOKUP(K$5,NFI,5,0),1,0)*Table_NFI[[#This Row],[Mosquito net]],0)","v":273},{"$f":"IF(NFI_Expiration=1,IF($A244<VLOOKUP(L$5,NFI,5,0),1,0)*Table_NFI[[#This Row],[Tarpaulin]],0)","v":273},{"$f":"IF(NFI_Expiration=1,IF($A244<VLOOKUP(M$5,NFI,5,0),1,0)*Table_NFI[[#This Row],[Blanket]],0)","v":273},{"$f":"IF(NFI_Expiration=1,IF($A244<VLOOKUP(N$5,NFI,5,0),1,0)*Table_NFI[[#This Row],[Kitchen Set]],0)","v":0},{"$f":"IF(NFI_Expiration=1,IF($A244<VLOOKUP(O$5,NFI,5,0),1,0)*Table_NFI[[#This Row],[Complementary Kit]],0)","v":0},{"$f":"IF(NFI_Expiration=1,IF($A244<VLOOKUP(P$5,NFI,5,0),1,0)*Table_NFI[[#This Row],[Plastic Bucket]],0)","v":273},{"$f":"IF(NFI_Expiration=1,IF($A244<VLOOKUP(Q$5,NFI,5,0),1,0)*Table_NFI[[#This Row],[Plastic Mat]],0)","v":273},{"$f":"IFERROR(VLOOKUP(Table_NFI[[#This Row],[Camp Name]],CL,2,0),\"\")","v":"MMR012CMP043"},{"$f":"IFERROR(VLOOKUP(Table_NFI[[#This Row],[Camp Name]],CL,3,0),\"\")","v":"Close"}]
[5.2666666666666666,"2013-06-26","Muslim Aid","Muslim Aid","Rakhine","Sittwe","Set Yone Su",null,null,null,20,20,20,null,null,20,20,{"$f":"IF(NFI_Expiration=1,IF($A245<VLOOKUP(H$5,NFI,5,0),1,0)*Table_NFI[[#This Row],[Hygiene Kit]],0)","v":0},{"$f":"IF(NFI_Expiration=1,IF($A245<VLOOKUP(I$5,NFI,5,0),1,0)*Table_NFI[[#This Row],[NFI Core Kit]],0)","v":0},{"$f":"IF(NFI_Expiration=1,IF($A245<VLOOKUP(J$5,NFI,5,0),1,0)*Table_NFI[[#This Row],[Sanitary Kit]],0)","v":0},{"$f":"IF(NFI_Expiration=1,IF($A245<VLOOKUP(K$5,NFI,5,0),1,0)*Table_NFI[[#This Row],[Mosquito net]],0)","v":20},{"$f":"IF(NFI_Expiration=1,IF($A245<VLOOKUP(L$5,NFI,5,0),1,0)*Table_NFI[[#This Row],[Tarpaulin]],0)","v":20},{"$f":"IF(NFI_Expiration=1,IF($A245<VLOOKUP(M$5,NFI,5,0),1,0)*Table_NFI[[#This Row],[Blanket]],0)","v":20},{"$f":"IF(NFI_Expiration=1,IF($A245<VLOOKUP(N$5,NFI,5,0),1,0)*Table_NFI[[#This Row],[Kitchen Set]],0)","v":0},{"$f":"IF(NFI_Expiration=1,IF($A245<VLOOKUP(O$5,NFI,5,0),1,0)*Table_NFI[[#This Row],[Complementary Kit]],0)","v":0},{"$f":"IF(NFI_Expiration=1,IF($A245<VLOOKUP(P$5,NFI,5,0),1,0)*Table_NFI[[#This Row],[Plastic Bucket]],0)","v":20},{"$f":"IF(NFI_Expiration=1,IF($A245<VLOOKUP(Q$5,NFI,5,0),1,0)*Table_NFI[[#This Row],[Plastic Mat]],0)","v":20},{"$f":"IFERROR(VLOOKUP(Table_NFI[[#This Row],[Camp Name]],CL,2,0),\"\")","v":"MMR012CMP056"},{"$f":"IFERROR(VLOOKUP(Table_NFI[[#This Row],[Camp Name]],CL,3,0),\"\")","v":"Open"}]
[5.2666666666666666,"2013-06-26","Muslim Aid","Muslim Aid","Rakhine","Sittwe","Thae Chaung",null,null,null,2797,2797,2797,null,null,2797,2797,{"$f":"IF(NFI_Expiration=1,IF($A246<VLOOKUP(H$5,NFI,5,0),1,0)*Table_NFI[[#This Row],[Hygiene Kit]],0)","v":0},{"$f":"IF(NFI_Expiration=1,IF($A246<VLOOKUP(I$5,NFI,5,0),1,0)*Table_NFI[[#This Row],[NFI Core Kit]],0)","v":0},{"$f":"IF(NFI_Expiration=1,IF($A246<VLOOKUP(J$5,NFI,5,0),1,0)*Table_NFI[[#This Row],[Sanitary Kit]],0)","v":0},{"$f":"IF(NFI_Expiration=1,IF($A246<VLOOKUP(K$5,NFI,5,0),1,0)*Table_NFI[[#This Row],[Mosquito net]],0)","v":2797},{"$f":"IF(NFI_Expiration=1,IF($A246<VLOOKUP(L$5,NFI,5,0),1,0)*Table_NFI[[#This Row],[Tarpaulin]],0)","v":2797},{"$f":"IF(NFI_Expiration=1,IF($A246<VLOOKUP(M$5,NFI,5,0),1,0)*Table_NFI[[#This Row],[Blanket]],0)","v":2797},{"$f":"IF(NFI_Expiration=1,IF($A246<VLOOKUP(N$5,NFI,5,0),1,0)*Table_NFI[[#This Row],[Kitchen Set]],0)","v":0},{"$f":"IF(NFI_Expiration=1,IF($A246<VLOOKUP(O$5,NFI,5,0),1,0)*Table_NFI[[#This Row],[Complementary Kit]],0)","v":0},{"$f":"IF(NFI_Expiration=1,IF($A246<VLOOKUP(P$5,NFI,5,0),1,0)*Table_NFI[[#This Row],[Plastic Bucket]],0)","v":2797},{"$f":"IF(NFI_Expiration=1,IF($A246<VLOOKUP(Q$5,NFI,5,0),1,0)*Table_NFI[[#This Row],[Plastic Mat]],0)","v":2797},{"$f":"IFERROR(VLOOKUP(Table_NFI[[#This Row],[Camp Name]],CL,2,0),\"\")","v":"MMR012CMP046"},{"$f":"IFERROR(VLOOKUP(Table_NFI[[#This Row],[Camp Name]],CL,3,0),\"\")","v":"Open"}]
[{"$f":"IF(ISBLANK(B247),\"\",(Report_Date-B247)/30)","v":5.0999999999999996},"2013-07-01","UNHCR","UNHCR","Rakhine","Kyauktaw","Ah Lel",null,47,null,94,47,94,47,47,47,94,{"$f":"IF(NFI_Expiration=1,IF($A247<VLOOKUP(H$5,NFI,5,0),1,0)*Table_NFI[[#This Row],[Hygiene Kit]],0)","v":0},{"$f":"IF(NFI_Expiration=1,IF($A247<VLOOKUP(I$5,NFI,5,0),1,0)*Table_NFI[[#This Row],[NFI Core Kit]],0)","v":47},{"$f":"IF(NFI_Expiration=1,IF($A247<VLOOKUP(J$5,NFI,5,0),1,0)*Table_NFI[[#This Row],[Sanitary Kit]],0)","v":0},{"$f":"IF(NFI_Expiration=1,IF($A247<VLOOKUP(K$5,NFI,5,0),1,0)*Table_NFI[[#This Row],[Mosquito net]],0)","v":94},{"$f":"IF(NFI_Expiration=1,IF($A247<VLOOKUP(L$5,NFI,5,0),1,0)*Table_NFI[[#This Row],[Tarpaulin]],0)","v":47},{"$f":"IF(NFI_Expiration=1,IF($A247<VLOOKUP(M$5,NFI,5,0),1,0)*Table_NFI[[#This Row],[Blanket]],0)","v":94},{"$f":"IF(NFI_Expiration=1,IF($A247<VLOOKUP(N$5,NFI,5,0),1,0)*Table_NFI[[#This Row],[Kitchen Set]],0)","v":47},{"$f":"IF(NFI_Expiration=1,IF($A247<VLOOKUP(O$5,NFI,5,0),1,0)*Table_NFI[[#This Row],[Complementary Kit]],0)","v":47},{"$f":"IF(NFI_Expiration=1,IF($A247<VLOOKUP(P$5,NFI,5,0),1,0)*Table_NFI[[#This Row],[Plastic Bucket]],0)","v":47},{"$f":"IF(NFI_Expiration=1,IF($A247<VLOOKUP(Q$5,NFI,5,0),1,0)*Table_NFI[[#This Row],[Plastic Mat]],0)","v":94},{"$f":"IFERROR(VLOOKUP(Table_NFI[[#This Row],[Camp Name]],CL,2,0),\"\")","v":"MMR012CMP022"},{"$f":"IFERROR(VLOOKUP(Table_NFI[[#This Row],[Camp Name]],CL,3,0),\"\")","v":"Open"}]
[{"$f":"IF(ISBLANK(B248),\"\",(Report_Date-B248)/30)","v":5.0999999999999996},"2013-07-01","UNHCR","UNHCR","Rakhine","Kyauktaw","Taung Bwe",null,48,null,96,48,96,48,48,48,96,{"$f":"IF(NFI_Expiration=1,IF($A248<VLOOKUP(H$5,NFI,5,0),1,0)*Table_NFI[[#This Row],[Hygiene Kit]],0)","v":0},{"$f":"IF(NFI_Expiration=1,IF($A248<VLOOKUP(I$5,NFI,5,0),1,0)*Table_NFI[[#This Row],[NFI Core Kit]],0)","v":48},{"$f":"IF(NFI_Expiration=1,IF($A248<VLOOKUP(J$5,NFI,5,0),1,0)*Table_NFI[[#This Row],[Sanitary Kit]],0)","v":0},{"$f":"IF(NFI_Expiration=1,IF($A248<VLOOKUP(K$5,NFI,5,0),1,0)*Table_NFI[[#This Row],[Mosquito net]],0)","v":96},{"$f":"IF(NFI_Expiration=1,IF($A248<VLOOKUP(L$5,NFI,5,0),1,0)*Table_NFI[[#This Row],[Tarpaulin]],0)","v":48},{"$f":"IF(NFI_Expiration=1,IF($A248<VLOOKUP(M$5,NFI,5,0),1,0)*Table_NFI[[#This Row],[Blanket]],0)","v":96},{"$f":"IF(NFI_Expiration=1,IF($A248<VLOOKUP(N$5,NFI,5,0),1,0)*Table_NFI[[#This Row],[Kitchen Set]],0)","v":48},{"$f":"IF(NFI_Expiration=1,IF($A248<VLOOKUP(O$5,NFI,5,0),1,0)*Table_NFI[[#This Row],[Complementary Kit]],0)","v":48},{"$f":"IF(NFI_Expiration=1,IF($A248<VLOOKUP(P$5,NFI,5,0),1,0)*Table_NFI[[#This Row],[Plastic Bucket]],0)","v":48},{"$f":"IF(NFI_Expiration=1,IF($A248<VLOOKUP(Q$5,NFI,5,0),1,0)*Table_NFI[[#This Row],[Plastic Mat]],0)","v":96},{"$f":"IFERROR(VLOOKUP(Table_NFI[[#This Row],[Camp Name]],CL,2,0),\"\")","v":"MMR012CMP021"},{"$f":"IFERROR(VLOOKUP(Table_NFI[[#This Row],[Camp Name]],CL,3,0),\"\")","v":"Open"}]
[{"$f":"IF(ISBLANK(B249),\"\",(Report_Date-B249)/30)","v":5.0999999999999996},"2013-07-01","UNHCR","UNHCR","Rakhine","Kyauktaw","Let Saung Kauk",null,83,null,166,83,166,83,83,83,166,{"$f":"IF(NFI_Expiration=1,IF($A249<VLOOKUP(H$5,NFI,5,0),1,0)*Table_NFI[[#This Row],[Hygiene Kit]],0)","v":0},{"$f":"IF(NFI_Expiration=1,IF($A249<VLOOKUP(I$5,NFI,5,0),1,0)*Table_NFI[[#This Row],[NFI Core Kit]],0)","v":83},{"$f":"IF(NFI_Expiration=1,IF($A249<VLOOKUP(J$5,NFI,5,0),1,0)*Table_NFI[[#This Row],[Sanitary Kit]],0)","v":0},{"$f":"IF(NFI_Expiration=1,IF($A249<VLOOKUP(K$5,NFI,5,0),1,0)*Table_NFI[[#This Row],[Mosquito net]],0)","v":166},{"$f":"IF(NFI_Expiration=1,IF($A249<VLOOKUP(L$5,NFI,5,0),1,0)*Table_NFI[[#This Row],[Tarpaulin]],0)","v":83},{"$f":"IF(NFI_Expiration=1,IF($A249<VLOOKUP(M$5,NFI,5,0),1,0)*Table_NFI[[#This Row],[Blanket]],0)","v":166},{"$f":"IF(NFI_Expiration=1,IF($A249<VLOOKUP(N$5,NFI,5,0),1,0)*Table_NFI[[#This Row],[Kitchen Set]],0)","v":83},{"$f":"IF(NFI_Expiration=1,IF($A249<VLOOKUP(O$5,NFI,5,0),1,0)*Table_NFI[[#This Row],[Complementary Kit]],0)","v":83},{"$f":"IF(NFI_Expiration=1,IF($A249<VLOOKUP(P$5,NFI,5,0),1,0)*Table_NFI[[#This Row],[Plastic Bucket]],0)","v":83},{"$f":"IF(NFI_Expiration=1,IF($A249<VLOOKUP(Q$5,NFI,5,0),1,0)*Table_NFI[[#This Row],[Plastic Mat]],0)","v":166},{"$f":"IFERROR(VLOOKUP(Table_NFI[[#This Row],[Camp Name]],CL,2,0),\"\")","v":"MMR012CMP020"},{"$f":"IFERROR(VLOOKUP(Table_NFI[[#This Row],[Camp Name]],CL,3,0),\"\")","v":"Open"}]
[5.0999999999999996,"2013-07-01","UNHCR","UNHCR","Rakhine","Kyauktaw","Yun Nyar",null,108,null,216,108,216,108,108,108,216,{"$f":"IF(NFI_Expiration=1,IF($A250<VLOOKUP(H$5,NFI,5,0),1,0)*Table_NFI[[#This Row],[Hygiene Kit]],0)","v":0},{"$f":"IF(NFI_Expiration=1,IF($A250<VLOOKUP(I$5,NFI,5,0),1,0)*Table_NFI[[#This Row],[NFI Core Kit]],0)","v":108},{"$f":"IF(NFI_Expiration=1,IF($A250<VLOOKUP(J$5,NFI,5,0),1,0)*Table_NFI[[#This Row],[Sanitary Kit]],0)","v":0},{"$f":"IF(NFI_Expiration=1,IF($A250<VLOOKUP(K$5,NFI,5,0),1,0)*Table_NFI[[#This Row],[Mosquito net]],0)","v":216},{"$f":"IF(NFI_Expiration=1,IF($A250<VLOOKUP(L$5,NFI,5,0),1,0)*Table_NFI[[#This Row],[Tarpaulin]],0)","v":108},{"$f":"IF(NFI_Expiration=1,IF($A250<VLOOKUP(M$5,NFI,5,0),1,0)*Table_NFI[[#This Row],[Blanket]],0)","v":216},{"$f":"IF(NFI_Expiration=1,IF($A250<VLOOKUP(N$5,NFI,5,0),1,0)*Table_NFI[[#This Row],[Kitchen Set]],0)","v":108},{"$f":"IF(NFI_Expiration=1,IF($A250<VLOOKUP(O$5,NFI,5,0),1,0)*Table_NFI[[#This Row],[Complementary Kit]],0)","v":108},{"$f":"IF(NFI_Expiration=1,IF($A250<VLOOKUP(P$5,NFI,5,0),1,0)*Table_NFI[[#This Row],[Plastic Bucket]],0)","v":108},{"$f":"IF(NFI_Expiration=1,IF($A250<VLOOKUP(Q$5,NFI,5,0),1,0)*Table_NFI[[#This Row],[Plastic Mat]],0)","v":216},{"$f":"IFERROR(VLOOKUP(Table_NFI[[#This Row],[Camp Name]],CL,2,0),\"\")","v":"MMR012CMP028"},{"$f":"IFERROR(VLOOKUP(Table_NFI[[#This Row],[Camp Name]],CL,3,0),\"\")","v":"Open"}]
[5.0999999999999996,"2013-07-01","UNHCR","UNHCR","Rakhine","Kyauktaw","Ah Pauk Wa ",null,112,null,224,112,224,112,112,112,224,{"$f":"IF(NFI_Expiration=1,IF($A251<VLOOKUP(H$5,NFI,5,0),1,0)*Table_NFI[[#This Row],[Hygiene Kit]],0)","v":0},{"$f":"IF(NFI_Expiration=1,IF($A251<VLOOKUP(I$5,NFI,5,0),1,0)*Table_NFI[[#This Row],[NFI Core Kit]],0)","v":112},{"$f":"IF(NFI_Expiration=1,IF($A251<VLOOKUP(J$5,NFI,5,0),1,0)*Table_NFI[[#This Row],[Sanitary Kit]],0)","v":0},{"$f":"IF(NFI_Expiration=1,IF($A251<VLOOKUP(K$5,NFI,5,0),1,0)*Table_NFI[[#This Row],[Mosquito net]],0)","v":224},{"$f":"IF(NFI_Expiration=1,IF($A251<VLOOKUP(L$5,NFI,5,0),1,0)*Table_NFI[[#This Row],[Tarpaulin]],0)","v":112},{"$f":"IF(NFI_Expiration=1,IF($A251<VLOOKUP(M$5,NFI,5,0),1,0)*Table_NFI[[#This Row],[Blanket]],0)","v":224},{"$f":"IF(NFI_Expiration=1,IF($A251<VLOOKUP(N$5,NFI,5,0),1,0)*Table_NFI[[#This Row],[Kitchen Set]],0)","v":112},{"$f":"IF(NFI_Expiration=1,IF($A251<VLOOKUP(O$5,NFI,5,0),1,0)*Table_NFI[[#This Row],[Complementary Kit]],0)","v":112},{"$f":"IF(NFI_Expiration=1,IF($A251<VLOOKUP(P$5,NFI,5,0),1,0)*Table_NFI[[#This Row],[Plastic Bucket]],0)","v":112},{"$f":"IF(NFI_Expiration=1,IF($A251<VLOOKUP(Q$5,NFI,5,0),1,0)*Table_NFI[[#This Row],[Plastic Mat]],0)","v":224},{"$f":"IFERROR(VLOOKUP(Table_NFI[[#This Row],[Camp Name]],CL,2,0),\"\")","v":"MMR012CMP024"},{"$f":"IFERROR(VLOOKUP(Table_NFI[[#This Row],[Camp Name]],CL,3,0),\"\")","v":"Open"}]
[5.0999999999999996,"2013-07-01","UNHCR","UNHCR","Rakhine","Kyauktaw","Goke Pi Htaunt",null,116,null,232,116,232,116,116,116,232,{"$f":"IF(NFI_Expiration=1,IF($A252<VLOOKUP(H$5,NFI,5,0),1,0)*Table_NFI[[#This Row],[Hygiene Kit]],0)","v":0},{"$f":"IF(NFI_Expiration=1,IF($A252<VLOOKUP(I$5,NFI,5,0),1,0)*Table_NFI[[#This Row],[NFI Core Kit]],0)","v":116},{"$f":"IF(NFI_Expiration=1,IF($A252<VLOOKUP(J$5,NFI,5,0),1,0)*Table_NFI[[#This Row],[Sanitary Kit]],0)","v":0},{"$f":"IF(NFI_Expiration=1,IF($A252<VLOOKUP(K$5,NFI,5,0),1,0)*Table_NFI[[#This Row],[Mosquito net]],0)","v":232},{"$f":"IF(NFI_Expiration=1,IF($A252<VLOOKUP(L$5,NFI,5,0),1,0)*Table_NFI[[#This Row],[Tarpaulin]],0)","v":116},{"$f":"IF(NFI_Expiration=1,IF($A252<VLOOKUP(M$5,NFI,5,0),1,0)*Table_NFI[[#This Row],[Blanket]],0)","v":232},{"$f":"IF(NFI_Expiration=1,IF($A252<VLOOKUP(N$5,NFI,5,0),1,0)*Table_NFI[[#This Row],[Kitchen Set]],0)","v":116},{"$f":"IF(NFI_Expiration=1,IF($A252<VLOOKUP(O$5,NFI,5,0),1,0)*Table_NFI[[#This Row],[Complementary Kit]],0)","v":116},{"$f":"IF(NFI_Expiration=1,IF($A252<VLOOKUP(P$5,NFI,5,0),1,0)*Table_NFI[[#This Row],[Plastic Bucket]],0)","v":116},{"$f":"IF(NFI_Expiration=1,IF($A252<VLOOKUP(Q$5,NFI,5,0),1,0)*Table_NFI[[#This Row],[Plastic Mat]],0)","v":232},{"$f":"IFERROR(VLOOKUP(Table_NFI[[#This Row],[Camp Name]],CL,2,0),\"\")","v":"MMR012CMP027"},{"$f":"IFERROR(VLOOKUP(Table_NFI[[#This Row],[Camp Name]],CL,3,0),\"\")","v":"Open"}]
[5.0999999999999996,"2013-07-01","UNHCR","UNHCR","Rakhine","Kyauktaw","Shwe Hlaing",null,145,null,290,145,290,145,145,145,290,{"$f":"IF(NFI_Expiration=1,IF($A253<VLOOKUP(H$5,NFI,5,0),1,0)*Table_NFI[[#This Row],[Hygiene Kit]],0)","v":0},{"$f":"IF(NFI_Expiration=1,IF($A253<VLOOKUP(I$5,NFI,5,0),1,0)*Table_NFI[[#This Row],[NFI Core Kit]],0)","v":145},{"$f":"IF(NFI_Expiration=1,IF($A253<VLOOKUP(J$5,NFI,5,0),1,0)*Table_NFI[[#This Row],[Sanitary Kit]],0)","v":0},{"$f":"IF(NFI_Expiration=1,IF($A253<VLOOKUP(K$5,NFI,5,0),1,0)*Table_NFI[[#This Row],[Mosquito net]],0)","v":290},{"$f":"IF(NFI_Expiration=1,IF($A253<VLOOKUP(L$5,NFI,5,0),1,0)*Table_NFI[[#This Row],[Tarpaulin]],0)","v":145},{"$f":"IF(NFI_Expiration=1,IF($A253<VLOOKUP(M$5,NFI,5,0),1,0)*Table_NFI[[#This Row],[Blanket]],0)","v":290},{"$f":"IF(NFI_Expiration=1,IF($A253<VLOOKUP(N$5,NFI,5,0),1,0)*Table_NFI[[#This Row],[Kitchen Set]],0)","v":145},{"$f":"IF(NFI_Expiration=1,IF($A253<VLOOKUP(O$5,NFI,5,0),1,0)*Table_NFI[[#This Row],[Complementary Kit]],0)","v":145},{"$f":"IF(NFI_Expiration=1,IF($A253<VLOOKUP(P$5,NFI,5,0),1,0)*Table_NFI[[#This Row],[Plastic Bucket]],0)","v":145},{"$f":"IF(NFI_Expiration=1,IF($A253<VLOOKUP(Q$5,NFI,5,0),1,0)*Table_NFI[[#This Row],[Plastic Mat]],0)","v":290},{"$f":"IFERROR(VLOOKUP(Table_NFI[[#This Row],[Camp Name]],CL,2,0),\"\")","v":"MMR012CMP029"},{"$f":"IFERROR(VLOOKUP(Table_NFI[[#This Row],[Camp Name]],CL,3,0),\"\")","v":"Open"}]
[5.0999999999999996,"2013-07-01","UNHCR","UNHCR","Rakhine","Kyauktaw","Khaung Htoke",null,159,null,318,159,318,159,159,159,318,{"$f":"IF(NFI_Expiration=1,IF($A254<VLOOKUP(H$5,NFI,5,0),1,0)*Table_NFI[[#This Row],[Hygiene Kit]],0)","v":0},{"$f":"IF(NFI_Expiration=1,IF($A254<VLOOKUP(I$5,NFI,5,0),1,0)*Table_NFI[[#This Row],[NFI Core Kit]],0)","v":159},{"$f":"IF(NFI_Expiration=1,IF($A254<VLOOKUP(J$5,NFI,5,0),1,0)*Table_NFI[[#This Row],[Sanitary Kit]],0)","v":0},{"$f":"IF(NFI_Expiration=1,IF($A254<VLOOKUP(K$5,NFI,5,0),1,0)*Table_NFI[[#This Row],[Mosquito net]],0)","v":318},{"$f":"IF(NFI_Expiration=1,IF($A254<VLOOKUP(L$5,NFI,5,0),1,0)*Table_NFI[[#This Row],[Tarpaulin]],0)","v":159},{"$f":"IF(NFI_Expiration=1,IF($A254<VLOOKUP(M$5,NFI,5,0),1,0)*Table_NFI[[#This Row],[Blanket]],0)","v":318},{"$f":"IF(NFI_Expiration=1,IF($A254<VLOOKUP(N$5,NFI,5,0),1,0)*Table_NFI[[#This Row],[Kitchen Set]],0)","v":159},{"$f":"IF(NFI_Expiration=1,IF($A254<VLOOKUP(O$5,NFI,5,0),1,0)*Table_NFI[[#This Row],[Complementary Kit]],0)","v":159},{"$f":"IF(NFI_Expiration=1,IF($A254<VLOOKUP(P$5,NFI,5,0),1,0)*Table_NFI[[#This Row],[Plastic Bucket]],0)","v":159},{"$f":"IF(NFI_Expiration=1,IF($A254<VLOOKUP(Q$5,NFI,5,0),1,0)*Table_NFI[[#This Row],[Plastic Mat]],0)","v":318},{"$f":"IFERROR(VLOOKUP(Table_NFI[[#This Row],[Camp Name]],CL,2,0),\"\")","v":"MMR012CMP030"},{"$f":"IFERROR(VLOOKUP(Table_NFI[[#This Row],[Camp Name]],CL,3,0),\"\")","v":"Open"}]
[5.0999999999999996,"2013-07-01","UNHCR","UNHCR","Rakhine","Kyauktaw","Nidin",null,163,null,326,163,326,163,163,163,326,{"$f":"IF(NFI_Expiration=1,IF($A255<VLOOKUP(H$5,NFI,5,0),1,0)*Table_NFI[[#This Row],[Hygiene Kit]],0)","v":0},{"$f":"IF(NFI_Expiration=1,IF($A255<VLOOKUP(I$5,NFI,5,0),1,0)*Table_NFI[[#This Row],[NFI Core Kit]],0)","v":163},{"$f":"IF(NFI_Expiration=1,IF($A255<VLOOKUP(J$5,NFI,5,0),1,0)*Table_NFI[[#This Row],[Sanitary Kit]],0)","v":0},{"$f":"IF(NFI_Expiration=1,IF($A255<VLOOKUP(K$5,NFI,5,0),1,0)*Table_NFI[[#This Row],[Mosquito net]],0)","v":326},{"$f":"IF(NFI_Expiration=1,IF($A255<VLOOKUP(L$5,NFI,5,0),1,0)*Table_NFI[[#This Row],[Tarpaulin]],0)","v":163},{"$f":"IF(NFI_Expiration=1,IF($A255<VLOOKUP(M$5,NFI,5,0),1,0)*Table_NFI[[#This Row],[Blanket]],0)","v":326},{"$f":"IF(NFI_Expiration=1,IF($A255<VLOOKUP(N$5,NFI,5,0),1,0)*Table_NFI[[#This Row],[Kitchen Set]],0)","v":163},{"$f":"IF(NFI_Expiration=1,IF($A255<VLOOKUP(O$5,NFI,5,0),1,0)*Table_NFI[[#This Row],[Complementary Kit]],0)","v":163},{"$f":"IF(NFI_Expiration=1,IF($A255<VLOOKUP(P$5,NFI,5,0),1,0)*Table_NFI[[#This Row],[Plastic Bucket]],0)","v":163},{"$f":"IF(NFI_Expiration=1,IF($A255<VLOOKUP(Q$5,NFI,5,0),1,0)*Table_NFI[[#This Row],[Plastic Mat]],0)","v":326},{"$f":"IFERROR(VLOOKUP(Table_NFI[[#This Row],[Camp Name]],CL,2,0),\"\")","v":"MMR012CMP023"},{"$f":"IFERROR(VLOOKUP(Table_NFI[[#This Row],[Camp Name]],CL,3,0),\"\")","v":"Open"}]
[5.0999999999999996,"2013-07-01","UNHCR","UNHCR","Rakhine","Kyauktaw","In Bar Yi",null,230,null,460,230,460,230,230,230,460,{"$f":"IF(NFI_Expiration=1,IF($A256<VLOOKUP(H$5,NFI,5,0),1,0)*Table_NFI[[#This Row],[Hygiene Kit]],0)","v":0},{"$f":"IF(NFI_Expiration=1,IF($A256<VLOOKUP(I$5,NFI,5,0),1,0)*Table_NFI[[#This Row],[NFI Core Kit]],0)","v":230},{"$f":"IF(NFI_Expiration=1,IF($A256<VLOOKUP(J$5,NFI,5,0),1,0)*Table_NFI[[#This Row],[Sanitary Kit]],0)","v":0},{"$f":"IF(NFI_Expiration=1,IF($A256<VLOOKUP(K$5,NFI,5,0),1,0)*Table_NFI[[#This Row],[Mosquito net]],0)","v":460},{"$f":"IF(NFI_Expiration=1,IF($A256<VLOOKUP(L$5,NFI,5,0),1,0)*Table_NFI[[#This Row],[Tarpaulin]],0)","v":230},{"$f":"IF(NFI_Expiration=1,IF($A256<VLOOKUP(M$5,NFI,5,0),1,0)*Table_NFI[[#This Row],[Blanket]],0)","v":460},{"$f":"IF(NFI_Expiration=1,IF($A256<VLOOKUP(N$5,NFI,5,0),1,0)*Table_NFI[[#This Row],[Kitchen Set]],0)","v":230},{"$f":"IF(NFI_Expiration=1,IF($A256<VLOOKUP(O$5,NFI,5,0),1,0)*Table_NFI[[#This Row],[Complementary Kit]],0)","v":230},{"$f":"IF(NFI_Expiration=1,IF($A256<VLOOKUP(P$5,NFI,5,0),1,0)*Table_NFI[[#This Row],[Plastic Bucket]],0)","v":230},{"$f":"IF(NFI_Expiration=1,IF($A256<VLOOKUP(Q$5,NFI,5,0),1,0)*Table_NFI[[#This Row],[Plastic Mat]],0)","v":460},{"$f":"IFERROR(VLOOKUP(Table_NFI[[#This Row],[Camp Name]],CL,2,0),\"\")","v":"MMR012CMP026"},{"$f":"IFERROR(VLOOKUP(Table_NFI[[#This Row],[Camp Name]],CL,3,0),\"\")","v":"Open"}]
[5.0999999999999996,"2013-07-01","UNFPA","UNHCR","Rakhine","Kyauktaw","Let Saung Kauk",null,null,60,null,null,null,null,null,null,null,{"$f":"IF(NFI_Expiration=1,IF($A257<VLOOKUP(H$5,NFI,5,0),1,0)*Table_NFI[[#This Row],[Hygiene Kit]],0)","v":0},{"$f":"IF(NFI_Expiration=1,IF($A257<VLOOKUP(I$5,NFI,5,0),1,0)*Table_NFI[[#This Row],[NFI Core Kit]],0)","v":0},{"$f":"IF(NFI_Expiration=1,IF($A257<VLOOKUP(J$5,NFI,5,0),1,0)*Table_NFI[[#This Row],[Sanitary Kit]],0)","v":60},{"$f":"IF(NFI_Expiration=1,IF($A257<VLOOKUP(K$5,NFI,5,0),1,0)*Table_NFI[[#This Row],[Mosquito net]],0)","v":0},{"$f":"IF(NFI_Expiration=1,IF($A257<VLOOKUP(L$5,NFI,5,0),1,0)*Table_NFI[[#This Row],[Tarpaulin]],0)","v":0},{"$f":"IF(NFI_Expiration=1,IF($A257<VLOOKUP(M$5,NFI,5,0),1,0)*Table_NFI[[#This Row],[Blanket]],0)","v":0},{"$f":"IF(NFI_Expiration=1,IF($A257<VLOOKUP(N$5,NFI,5,0),1,0)*Table_NFI[[#This Row],[Kitchen Set]],0)","v":0},{"$f":"IF(NFI_Expiration=1,IF($A257<VLOOKUP(O$5,NFI,5,0),1,0)*Table_NFI[[#This Row],[Complementary Kit]],0)","v":0},{"$f":"IF(NFI_Expiration=1,IF($A257<VLOOKUP(P$5,NFI,5,0),1,0)*Table_NFI[[#This Row],[Plastic Bucket]],0)","v":0},{"$f":"IF(NFI_Expiration=1,IF($A257<VLOOKUP(Q$5,NFI,5,0),1,0)*Table_NFI[[#This Row],[Plastic Mat]],0)","v":0},{"$f":"IFERROR(VLOOKUP(Table_NFI[[#This Row],[Camp Name]],CL,2,0),\"\")","v":"MMR012CMP020"},{"$f":"IFERROR(VLOOKUP(Table_NFI[[#This Row],[Camp Name]],CL,3,0),\"\")","v":"Open"}]
[5.0999999999999996,"2013-07-01","UNHCR","UNHCR","Rakhine","Kyauktaw","Ah Lel",null,null,null,null,null,null,null,null,null,null,{"$f":"IF(NFI_Expiration=1,IF($A258<VLOOKUP(H$5,NFI,5,0),1,0)*Table_NFI[[#This Row],[Hygiene Kit]],0)","v":0},{"$f":"IF(NFI_Expiration=1,IF($A258<VLOOKUP(I$5,NFI,5,0),1,0)*Table_NFI[[#This Row],[NFI Core Kit]],0)","v":0},{"$f":"IF(NFI_Expiration=1,IF($A258<VLOOKUP(J$5,NFI,5,0),1,0)*Table_NFI[[#This Row],[Sanitary Kit]],0)","v":0},{"$f":"IF(NFI_Expiration=1,IF($A258<VLOOKUP(K$5,NFI,5,0),1,0)*Table_NFI[[#This Row],[Mosquito net]],0)","v":0},{"$f":"IF(NFI_Expiration=1,IF($A258<VLOOKUP(L$5,NFI,5,0),1,0)*Table_NFI[[#This Row],[Tarpaulin]],0)","v":0},{"$f":"IF(NFI_Expiration=1,IF($A258<VLOOKUP(M$5,NFI,5,0),1,0)*Table_NFI[[#This Row],[Blanket]],0)","v":0},{"$f":"IF(NFI_Expiration=1,IF($A258<VLOOKUP(N$5,NFI,5,0),1,0)*Table_NFI[[#This Row],[Kitchen Set]],0)","v":0},{"$f":"IF(NFI_Expiration=1,IF($A258<VLOOKUP(O$5,NFI,5,0),1,0)*Table_NFI[[#This Row],[Complementary Kit]],0)","v":0},{"$f":"IF(NFI_Expiration=1,IF($A258<VLOOKUP(P$5,NFI,5,0),1,0)*Table_NFI[[#This Row],[Plastic Bucket]],0)","v":0},{"$f":"IF(NFI_Expiration=1,IF($A258<VLOOKUP(Q$5,NFI,5,0),1,0)*Table_NFI[[#This Row],[Plastic Mat]],0)","v":0},{"$f":"IFERROR(VLOOKUP(Table_NFI[[#This Row],[Camp Name]],CL,2,0),\"\")","v":"MMR012CMP022"},{"$f":"IFERROR(VLOOKUP(Table_NFI[[#This Row],[Camp Name]],CL,3,0),\"\")","v":"Open"}]
[5.0999999999999996,"2013-07-01","UNHCR","UNHCR","Rakhine","Kyauktaw","Taung Bwe",null,null,null,null,null,null,null,null,null,null,{"$f":"IF(NFI_Expiration=1,IF($A259<VLOOKUP(H$5,NFI,5,0),1,0)*Table_NFI[[#This Row],[Hygiene Kit]],0)","v":0},{"$f":"IF(NFI_Expiration=1,IF($A259<VLOOKUP(I$5,NFI,5,0),1,0)*Table_NFI[[#This Row],[NFI Core Kit]],0)","v":0},{"$f":"IF(NFI_Expiration=1,IF($A259<VLOOKUP(J$5,NFI,5,0),1,0)*Table_NFI[[#This Row],[Sanitary Kit]],0)","v":0},{"$f":"IF(NFI_Expiration=1,IF($A259<VLOOKUP(K$5,NFI,5,0),1,0)*Table_NFI[[#This Row],[Mosquito net]],0)","v":0},{"$f":"IF(NFI_Expiration=1,IF($A259<VLOOKUP(L$5,NFI,5,0),1,0)*Table_NFI[[#This Row],[Tarpaulin]],0)","v":0},{"$f":"IF(NFI_Expiration=1,IF($A259<VLOOKUP(M$5,NFI,5,0),1,0)*Table_NFI[[#This Row],[Blanket]],0)","v":0},{"$f":"IF(NFI_Expiration=1,IF($A259<VLOOKUP(N$5,NFI,5,0),1,0)*Table_NFI[[#This Row],[Kitchen Set]],0)","v":0},{"$f":"IF(NFI_Expiration=1,IF($A259<VLOOKUP(O$5,NFI,5,0),1,0)*Table_NFI[[#This Row],[Complementary Kit]],0)","v":0},{"$f":"IF(NFI_Expiration=1,IF($A259<VLOOKUP(P$5,NFI,5,0),1,0)*Table_NFI[[#This Row],[Plastic Bucket]],0)","v":0},{"$f":"IF(NFI_Expiration=1,IF($A259<VLOOKUP(Q$5,NFI,5,0),1,0)*Table_NFI[[#This Row],[Plastic Mat]],0)","v":0},{"$f":"IFERROR(VLOOKUP(Table_NFI[[#This Row],[Camp Name]],CL,2,0),\"\")","v":"MMR012CMP021"},{"$f":"IFERROR(VLOOKUP(Table_NFI[[#This Row],[Camp Name]],CL,3,0),\"\")","v":"Open"}]
[5.0999999999999996,"2013-07-01","UNHCR","UNHCR","Rakhine","Kyauktaw","Let Saung Kauk",null,null,null,null,null,null,null,null,null,null,{"$f":"IF(NFI_Expiration=1,IF($A260<VLOOKUP(H$5,NFI,5,0),1,0)*Table_NFI[[#This Row],[Hygiene Kit]],0)","v":0},{"$f":"IF(NFI_Expiration=1,IF($A260<VLOOKUP(I$5,NFI,5,0),1,0)*Table_NFI[[#This Row],[NFI Core Kit]],0)","v":0},{"$f":"IF(NFI_Expiration=1,IF($A260<VLOOKUP(J$5,NFI,5,0),1,0)*Table_NFI[[#This Row],[Sanitary Kit]],0)","v":0},{"$f":"IF(NFI_Expiration=1,IF($A260<VLOOKUP(K$5,NFI,5,0),1,0)*Table_NFI[[#This Row],[Mosquito net]],0)","v":0},{"$f":"IF(NFI_Expiration=1,IF($A260<VLOOKUP(L$5,NFI,5,0),1,0)*Table_NFI[[#This Row],[Tarpaulin]],0)","v":0},{"$f":"IF(NFI_Expiration=1,IF($A260<VLOOKUP(M$5,NFI,5,0),1,0)*Table_NFI[[#This Row],[Blanket]],0)","v":0},{"$f":"IF(NFI_Expiration=1,IF($A260<VLOOKUP(N$5,NFI,5,0),1,0)*Table_NFI[[#This Row],[Kitchen Set]],0)","v":0},{"$f":"IF(NFI_Expiration=1,IF($A260<VLOOKUP(O$5,NFI,5,0),1,0)*Table_NFI[[#This Row],[Complementary Kit]],0)","v":0},{"$f":"IF(NFI_Expiration=1,IF($A260<VLOOKUP(P$5,NFI,5,0),1,0)*Table_NFI[[#This Row],[Plastic Bucket]],0)","v":0},{"$f":"IF(NFI_Expiration=1,IF($A260<VLOOKUP(Q$5,NFI,5,0),1,0)*Table_NFI[[#This Row],[Plastic Mat]],0)","v":0},{"$f":"IFERROR(VLOOKUP(Table_NFI[[#This Row],[Camp Name]],CL,2,0),\"\")","v":"MMR012CMP020"},{"$f":"IFERROR(VLOOKUP(Table_NFI[[#This Row],[Camp Name]],CL,3,0),\"\")","v":"Open"}]
[5.0999999999999996,"2013-07-01","UNHCR","UNHCR","Rakhine","Kyauktaw","Yun Nyar",null,null,null,null,null,null,null,null,null,null,{"$f":"IF(NFI_Expiration=1,IF($A261<VLOOKUP(H$5,NFI,5,0),1,0)*Table_NFI[[#This Row],[Hygiene Kit]],0)","v":0},{"$f":"IF(NFI_Expiration=1,IF($A261<VLOOKUP(I$5,NFI,5,0),1,0)*Table_NFI[[#This Row],[NFI Core Kit]],0)","v":0},{"$f":"IF(NFI_Expiration=1,IF($A261<VLOOKUP(J$5,NFI,5,0),1,0)*Table_NFI[[#This Row],[Sanitary Kit]],0)","v":0},{"$f":"IF(NFI_Expiration=1,IF($A261<VLOOKUP(K$5,NFI,5,0),1,0)*Table_NFI[[#This Row],[Mosquito net]],0)","v":0},{"$f":"IF(NFI_Expiration=1,IF($A261<VLOOKUP(L$5,NFI,5,0),1,0)*Table_NFI[[#This Row],[Tarpaulin]],0)","v":0},{"$f":"IF(NFI_Expiration=1,IF($A261<VLOOKUP(M$5,NFI,5,0),1,0)*Table_NFI[[#This Row],[Blanket]],0)","v":0},{"$f":"IF(NFI_Expiration=1,IF($A261<VLOOKUP(N$5,NFI,5,0),1,0)*Table_NFI[[#This Row],[Kitchen Set]],0)","v":0},{"$f":"IF(NFI_Expiration=1,IF($A261<VLOOKUP(O$5,NFI,5,0),1,0)*Table_NFI[[#This Row],[Complementary Kit]],0)","v":0},{"$f":"IF(NFI_Expiration=1,IF($A261<VLOOKUP(P$5,NFI,5,0),1,0)*Table_NFI[[#This Row],[Plastic Bucket]],0)","v":0},{"$f":"IF(NFI_Expiration=1,IF($A261<VLOOKUP(Q$5,NFI,5,0),1,0)*Table_NFI[[#This Row],[Plastic Mat]],0)","v":0},{"$f":"IFERROR(VLOOKUP(Table_NFI[[#This Row],[Camp Name]],CL,2,0),\"\")","v":"MMR012CMP028"},{"$f":"IFERROR(VLOOKUP(Table_NFI[[#This Row],[Camp Name]],CL,3,0),\"\")","v":"Open"}]
[5.0999999999999996,"2013-07-01","UNHCR","UNHCR","Rakhine","Kyauktaw","Ah Pauk Wa ",null,null,null,null,null,null,null,null,null,null,{"$f":"IF(NFI_Expiration=1,IF($A262<VLOOKUP(H$5,NFI,5,0),1,0)*Table_NFI[[#This Row],[Hygiene Kit]],0)","v":0},{"$f":"IF(NFI_Expiration=1,IF($A262<VLOOKUP(I$5,NFI,5,0),1,0)*Table_NFI[[#This Row],[NFI Core Kit]],0)","v":0},{"$f":"IF(NFI_Expiration=1,IF($A262<VLOOKUP(J$5,NFI,5,0),1,0)*Table_NFI[[#This Row],[Sanitary Kit]],0)","v":0},{"$f":"IF(NFI_Expiration=1,IF($A262<VLOOKUP(K$5,NFI,5,0),1,0)*Table_NFI[[#This Row],[Mosquito net]],0)","v":0},{"$f":"IF(NFI_Expiration=1,IF($A262<VLOOKUP(L$5,NFI,5,0),1,0)*Table_NFI[[#This Row],[Tarpaulin]],0)","v":0},{"$f":"IF(NFI_Expiration=1,IF($A262<VLOOKUP(M$5,NFI,5,0),1,0)*Table_NFI[[#This Row],[Blanket]],0)","v":0},{"$f":"IF(NFI_Expiration=1,IF($A262<VLOOKUP(N$5,NFI,5,0),1,0)*Table_NFI[[#This Row],[Kitchen Set]],0)","v":0},{"$f":"IF(NFI_Expiration=1,IF($A262<VLOOKUP(O$5,NFI,5,0),1,0)*Table_NFI[[#This Row],[Complementary Kit]],0)","v":0},{"$f":"IF(NFI_Expiration=1,IF($A262<VLOOKUP(P$5,NFI,5,0),1,0)*Table_NFI[[#This Row],[Plastic Bucket]],0)","v":0},{"$f":"IF(NFI_Expiration=1,IF($A262<VLOOKUP(Q$5,NFI,5,0),1,0)*Table_NFI[[#This Row],[Plastic Mat]],0)","v":0},{"$f":"IFERROR(VLOOKUP(Table_NFI[[#This Row],[Camp Name]],CL,2,0),\"\")","v":"MMR012CMP024"},{"$f":"IFERROR(VLOOKUP(Table_NFI[[#This Row],[Camp Name]],CL,3,0),\"\")","v":"Open"}]
[5.0999999999999996,"2013-07-01","UNHCR","UNHCR","Rakhine","Kyauktaw","Goke Pi Htaunt",null,null,null,null,null,null,null,null,null,null,{"$f":"IF(NFI_Expiration=1,IF($A263<VLOOKUP(H$5,NFI,5,0),1,0)*Table_NFI[[#This Row],[Hygiene Kit]],0)","v":0},{"$f":"IF(NFI_Expiration=1,IF($A263<VLOOKUP(I$5,NFI,5,0),1,0)*Table_NFI[[#This Row],[NFI Core Kit]],0)","v":0},{"$f":"IF(NFI_Expiration=1,IF($A263<VLOOKUP(J$5,NFI,5,0),1,0)*Table_NFI[[#This Row],[Sanitary Kit]],0)","v":0},{"$f":"IF(NFI_Expiration=1,IF($A263<VLOOKUP(K$5,NFI,5,0),1,0)*Table_NFI[[#This Row],[Mosquito net]],0)","v":0},{"$f":"IF(NFI_Expiration=1,IF($A263<VLOOKUP(L$5,NFI,5,0),1,0)*Table_NFI[[#This Row],[Tarpaulin]],0)","v":0},{"$f":"IF(NFI_Expiration=1,IF($A263<VLOOKUP(M$5,NFI,5,0),1,0)*Table_NFI[[#This Row],[Blanket]],0)","v":0},{"$f":"IF(NFI_Expiration=1,IF($A263<VLOOKUP(N$5,NFI,5,0),1,0)*Table_NFI[[#This Row],[Kitchen Set]],0)","v":0},{"$f":"IF(NFI_Expiration=1,IF($A263<VLOOKUP(O$5,NFI,5,0),1,0)*Table_NFI[[#This Row],[Complementary Kit]],0)","v":0},{"$f":"IF(NFI_Expiration=1,IF($A263<VLOOKUP(P$5,NFI,5,0),1,0)*Table_NFI[[#This Row],[Plastic Bucket]],0)","v":0},{"$f":"IF(NFI_Expiration=1,IF($A263<VLOOKUP(Q$5,NFI,5,0),1,0)*Table_NFI[[#This Row],[Plastic Mat]],0)","v":0},{"$f":"IFERROR(VLOOKUP(Table_NFI[[#This Row],[Camp Name]],CL,2,0),\"\")","v":"MMR012CMP027"},{"$f":"IFERROR(VLOOKUP(Table_NFI[[#This Row],[Camp Name]],CL,3,0),\"\")","v":"Open"}]
[5.0999999999999996,"2013-07-01","UNHCR","UNHCR","Rakhine","Kyauktaw","Shwe Hlaing",null,null,null,null,null,null,null,null,null,null,{"$f":"IF(NFI_Expiration=1,IF($A264<VLOOKUP(H$5,NFI,5,0),1,0)*Table_NFI[[#This Row],[Hygiene Kit]],0)","v":0},{"$f":"IF(NFI_Expiration=1,IF($A264<VLOOKUP(I$5,NFI,5,0),1,0)*Table_NFI[[#This Row],[NFI Core Kit]],0)","v":0},{"$f":"IF(NFI_Expiration=1,IF($A264<VLOOKUP(J$5,NFI,5,0),1,0)*Table_NFI[[#This Row],[Sanitary Kit]],0)","v":0},{"$f":"IF(NFI_Expiration=1,IF($A264<VLOOKUP(K$5,NFI,5,0),1,0)*Table_NFI[[#This Row],[Mosquito net]],0)","v":0},{"$f":"IF(NFI_Expiration=1,IF($A264<VLOOKUP(L$5,NFI,5,0),1,0)*Table_NFI[[#This Row],[Tarpaulin]],0)","v":0},{"$f":"IF(NFI_Expiration=1,IF($A264<VLOOKUP(M$5,NFI,5,0),1,0)*Table_NFI[[#This Row],[Blanket]],0)","v":0},{"$f":"IF(NFI_Expiration=1,IF($A264<VLOOKUP(N$5,NFI,5,0),1,0)*Table_NFI[[#This Row],[Kitchen Set]],0)","v":0},{"$f":"IF(NFI_Expiration=1,IF($A264<VLOOKUP(O$5,NFI,5,0),1,0)*Table_NFI[[#This Row],[Complementary Kit]],0)","v":0},{"$f":"IF(NFI_Expiration=1,IF($A264<VLOOKUP(P$5,NFI,5,0),1,0)*Table_NFI[[#This Row],[Plastic Bucket]],0)","v":0},{"$f":"IF(NFI_Expiration=1,IF($A264<VLOOKUP(Q$5,NFI,5,0),1,0)*Table_NFI[[#This Row],[Plastic Mat]],0)","v":0},{"$f":"IFERROR(VLOOKUP(Table_NFI[[#This Row],[Camp Name]],CL,2,0),\"\")","v":"MMR012CMP029"},{"$f":"IFERROR(VLOOKUP(Table_NFI[[#This Row],[Camp Name]],CL,3,0),\"\")","v":"Open"}]
[5.0999999999999996,"2013-07-01","UNHCR","UNHCR","Rakhine","Kyauktaw","Khaung Htoke",null,null,null,null,null,null,null,null,null,null,{"$f":"IF(NFI_Expiration=1,IF($A265<VLOOKUP(H$5,NFI,5,0),1,0)*Table_NFI[[#This Row],[Hygiene Kit]],0)","v":0},{"$f":"IF(NFI_Expiration=1,IF($A265<VLOOKUP(I$5,NFI,5,0),1,0)*Table_NFI[[#This Row],[NFI Core Kit]],0)","v":0},{"$f":"IF(NFI_Expiration=1,IF($A265<VLOOKUP(J$5,NFI,5,0),1,0)*Table_NFI[[#This Row],[Sanitary Kit]],0)","v":0},{"$f":"IF(NFI_Expiration=1,IF($A265<VLOOKUP(K$5,NFI,5,0),1,0)*Table_NFI[[#This Row],[Mosquito net]],0)","v":0},{"$f":"IF(NFI_Expiration=1,IF($A265<VLOOKUP(L$5,NFI,5,0),1,0)*Table_NFI[[#This Row],[Tarpaulin]],0)","v":0},{"$f":"IF(NFI_Expiration=1,IF($A265<VLOOKUP(M$5,NFI,5,0),1,0)*Table_NFI[[#This Row],[Blanket]],0)","v":0},{"$f":"IF(NFI_Expiration=1,IF($A265<VLOOKUP(N$5,NFI,5,0),1,0)*Table_NFI[[#This Row],[Kitchen Set]],0)","v":0},{"$f":"IF(NFI_Expiration=1,IF($A265<VLOOKUP(O$5,NFI,5,0),1,0)*Table_NFI[[#This Row],[Complementary Kit]],0)","v":0},{"$f":"IF(NFI_Expiration=1,IF($A265<VLOOKUP(P$5,NFI,5,0),1,0)*Table_NFI[[#This Row],[Plastic Bucket]],0)","v":0},{"$f":"IF(NFI_Expiration=1,IF($A265<VLOOKUP(Q$5,NFI,5,0),1,0)*Table_NFI[[#This Row],[Plastic Mat]],0)","v":0},{"$f":"IFERROR(VLOOKUP(Table_NFI[[#This Row],[Camp Name]],CL,2,0),\"\")","v":"MMR012CMP030"},{"$f":"IFERROR(VLOOKUP(Table_NFI[[#This Row],[Camp Name]],CL,3,0),\"\")","v":"Open"}]
[5.0999999999999996,"2013-07-01","UNHCR","UNHCR","Rakhine","Kyauktaw","Nidin",null,null,null,null,null,null,null,null,null,null,{"$f":"IF(NFI_Expiration=1,IF($A266<VLOOKUP(H$5,NFI,5,0),1,0)*Table_NFI[[#This Row],[Hygiene Kit]],0)","v":0},{"$f":"IF(NFI_Expiration=1,IF($A266<VLOOKUP(I$5,NFI,5,0),1,0)*Table_NFI[[#This Row],[NFI Core Kit]],0)","v":0},{"$f":"IF(NFI_Expiration=1,IF($A266<VLOOKUP(J$5,NFI,5,0),1,0)*Table_NFI[[#This Row],[Sanitary Kit]],0)","v":0},{"$f":"IF(NFI_Expiration=1,IF($A266<VLOOKUP(K$5,NFI,5,0),1,0)*Table_NFI[[#This Row],[Mosquito net]],0)","v":0},{"$f":"IF(NFI_Expiration=1,IF($A266<VLOOKUP(L$5,NFI,5,0),1,0)*Table_NFI[[#This Row],[Tarpaulin]],0)","v":0},{"$f":"IF(NFI_Expiration=1,IF($A266<VLOOKUP(M$5,NFI,5,0),1,0)*Table_NFI[[#This Row],[Blanket]],0)","v":0},{"$f":"IF(NFI_Expiration=1,IF($A266<VLOOKUP(N$5,NFI,5,0),1,0)*Table_NFI[[#This Row],[Kitchen Set]],0)","v":0},{"$f":"IF(NFI_Expiration=1,IF($A266<VLOOKUP(O$5,NFI,5,0),1,0)*Table_NFI[[#This Row],[Complementary Kit]],0)","v":0},{"$f":"IF(NFI_Expiration=1,IF($A266<VLOOKUP(P$5,NFI,5,0),1,0)*Table_NFI[[#This Row],[Plastic Bucket]],0)","v":0},{"$f":"IF(NFI_Expiration=1,IF($A266<VLOOKUP(Q$5,NFI,5,0),1,0)*Table_NFI[[#This Row],[Plastic Mat]],0)","v":0},{"$f":"IFERROR(VLOOKUP(Table_NFI[[#This Row],[Camp Name]],CL,2,0),\"\")","v":"MMR012CMP023"},{"$f":"IFERROR(VLOOKUP(Table_NFI[[#This Row],[Camp Name]],CL,3,0),\"\")","v":"Open"}]
[5.0999999999999996,"2013-07-01","UNHCR","UNHCR","Rakhine","Kyauktaw","In Bar Yi",null,null,null,null,null,null,null,null,null,null,{"$f":"IF(NFI_Expiration=1,IF($A267<VLOOKUP(H$5,NFI,5,0),1,0)*Table_NFI[[#This Row],[Hygiene Kit]],0)","v":0},{"$f":"IF(NFI_Expiration=1,IF($A267<VLOOKUP(I$5,NFI,5,0),1,0)*Table_NFI[[#This Row],[NFI Core Kit]],0)","v":0},{"$f":"IF(NFI_Expiration=1,IF($A267<VLOOKUP(J$5,NFI,5,0),1,0)*Table_NFI[[#This Row],[Sanitary Kit]],0)","v":0},{"$f":"IF(NFI_Expiration=1,IF($A267<VLOOKUP(K$5,NFI,5,0),1,0)*Table_NFI[[#This Row],[Mosquito net]],0)","v":0},{"$f":"IF(NFI_Expiration=1,IF($A267<VLOOKUP(L$5,NFI,5,0),1,0)*Table_NFI[[#This Row],[Tarpaulin]],0)","v":0},{"$f":"IF(NFI_Expiration=1,IF($A267<VLOOKUP(M$5,NFI,5,0),1,0)*Table_NFI[[#This Row],[Blanket]],0)","v":0},{"$f":"IF(NFI_Expiration=1,IF($A267<VLOOKUP(N$5,NFI,5,0),1,0)*Table_NFI[[#This Row],[Kitchen Set]],0)","v":0},{"$f":"IF(NFI_Expiration=1,IF($A267<VLOOKUP(O$5,NFI,5,0),1,0)*Table_NFI[[#This Row],[Complementary Kit]],0)","v":0},{"$f":"IF(NFI_Expiration=1,IF($A267<VLOOKUP(P$5,NFI,5,0),1,0)*Table_NFI[[#This Row],[Plastic Bucket]],0)","v":0},{"$f":"IF(NFI_Expiration=1,IF($A267<VLOOKUP(Q$5,NFI,5,0),1,0)*Table_NFI[[#This Row],[Plastic Mat]],0)","v":0},{"$f":"IFERROR(VLOOKUP(Table_NFI[[#This Row],[Camp Name]],CL,2,0),\"\")","v":"MMR012CMP026"},{"$f":"IFERROR(VLOOKUP(Table_NFI[[#This Row],[Camp Name]],CL,3,0),\"\")","v":"Open"}]
[4.9333333333333336,"2013-07-06","UNHCR","UNHCR","Rakhine","Minbya","Tha Yet Oak",null,229,null,458,229,458,229,229,229,458,{"$f":"IF(NFI_Expiration=1,IF($A268<VLOOKUP(H$5,NFI,5,0),1,0)*Table_NFI[[#This Row],[Hygiene Kit]],0)","v":0},{"$f":"IF(NFI_Expiration=1,IF($A268<VLOOKUP(I$5,NFI,5,0),1,0)*Table_NFI[[#This Row],[NFI Core Kit]],0)","v":229},{"$f":"IF(NFI_Expiration=1,IF($A268<VLOOKUP(J$5,NFI,5,0),1,0)*Table_NFI[[#This Row],[Sanitary Kit]],0)","v":0},{"$f":"IF(NFI_Expiration=1,IF($A268<VLOOKUP(K$5,NFI,5,0),1,0)*Table_NFI[[#This Row],[Mosquito net]],0)","v":458},{"$f":"IF(NFI_Expiration=1,IF($A268<VLOOKUP(L$5,NFI,5,0),1,0)*Table_NFI[[#This Row],[Tarpaulin]],0)","v":229},{"$f":"IF(NFI_Expiration=1,IF($A268<VLOOKUP(M$5,NFI,5,0),1,0)*Table_NFI[[#This Row],[Blanket]],0)","v":458},{"$f":"IF(NFI_Expiration=1,IF($A268<VLOOKUP(N$5,NFI,5,0),1,0)*Table_NFI[[#This Row],[Kitchen Set]],0)","v":229},{"$f":"IF(NFI_Expiration=1,IF($A268<VLOOKUP(O$5,NFI,5,0),1,0)*Table_NFI[[#This Row],[Complementary Kit]],0)","v":229},{"$f":"IF(NFI_Expiration=1,IF($A268<VLOOKUP(P$5,NFI,5,0),1,0)*Table_NFI[[#This Row],[Plastic Bucket]],0)","v":229},{"$f":"IF(NFI_Expiration=1,IF($A268<VLOOKUP(Q$5,NFI,5,0),1,0)*Table_NFI[[#This Row],[Plastic Mat]],0)","v":458},{"$f":"IFERROR(VLOOKUP(Table_NFI[[#This Row],[Camp Name]],CL,2,0),\"\")","v":"MMR012CMP005"},{"$f":"IFERROR(VLOOKUP(Table_NFI[[#This Row],[Camp Name]],CL,3,0),\"\")","v":"Open"}]
[4.9333333333333336,"2013-07-06","UNHCR","UNHCR","Rakhine","Mrauk_U","Pa Rein",null,300,null,600,300,600,300,300,300,600,{"$f":"IF(NFI_Expiration=1,IF($A269<VLOOKUP(H$5,NFI,5,0),1,0)*Table_NFI[[#This Row],[Hygiene Kit]],0)","v":0},{"$f":"IF(NFI_Expiration=1,IF($A269<VLOOKUP(I$5,NFI,5,0),1,0)*Table_NFI[[#This Row],[NFI Core Kit]],0)","v":300},{"$f":"IF(NFI_Expiration=1,IF($A269<VLOOKUP(J$5,NFI,5,0),1,0)*Table_NFI[[#This Row],[Sanitary Kit]],0)","v":0},{"$f":"IF(NFI_Expiration=1,IF($A269<VLOOKUP(K$5,NFI,5,0),1,0)*Table_NFI[[#This Row],[Mosquito net]],0)","v":600},{"$f":"IF(NFI_Expiration=1,IF($A269<VLOOKUP(L$5,NFI,5,0),1,0)*Table_NFI[[#This Row],[Tarpaulin]],0)","v":300},{"$f":"IF(NFI_Expiration=1,IF($A269<VLOOKUP(M$5,NFI,5,0),1,0)*Table_NFI[[#This Row],[Blanket]],0)","v":600},{"$f":"IF(NFI_Expiration=1,IF($A269<VLOOKUP(N$5,NFI,5,0),1,0)*Table_NFI[[#This Row],[Kitchen Set]],0)","v":300},{"$f":"IF(NFI_Expiration=1,IF($A269<VLOOKUP(O$5,NFI,5,0),1,0)*Table_NFI[[#This Row],[Complementary Kit]],0)","v":300},{"$f":"IF(NFI_Expiration=1,IF($A269<VLOOKUP(P$5,NFI,5,0),1,0)*Table_NFI[[#This Row],[Plastic Bucket]],0)","v":300},{"$f":"IF(NFI_Expiration=1,IF($A269<VLOOKUP(Q$5,NFI,5,0),1,0)*Table_NFI[[#This Row],[Plastic Mat]],0)","v":600},{"$f":"IFERROR(VLOOKUP(Table_NFI[[#This Row],[Camp Name]],CL,2,0),\"\")","v":"MMR012CMP009"},{"$f":"IFERROR(VLOOKUP(Table_NFI[[#This Row],[Camp Name]],CL,3,0),\"\")","v":"Open"}]
[4.9333333333333336,"2013-07-06","UNHCR","UNHCR","Rakhine","Mrauk_U","Yai Thei-Muslim",null,365,null,730,365,730,365,365,365,730,{"$f":"IF(NFI_Expiration=1,IF($A270<VLOOKUP(H$5,NFI,5,0),1,0)*Table_NFI[[#This Row],[Hygiene Kit]],0)","v":0},{"$f":"IF(NFI_Expiration=1,IF($A270<VLOOKUP(I$5,NFI,5,0),1,0)*Table_NFI[[#This Row],[NFI Core Kit]],0)","v":365},{"$f":"IF(NFI_Expiration=1,IF($A270<VLOOKUP(J$5,NFI,5,0),1,0)*Table_NFI[[#This Row],[Sanitary Kit]],0)","v":0},{"$f":"IF(NFI_Expiration=1,IF($A270<VLOOKUP(K$5,NFI,5,0),1,0)*Table_NFI[[#This Row],[Mosquito net]],0)","v":730},{"$f":"IF(NFI_Expiration=1,IF($A270<VLOOKUP(L$5,NFI,5,0),1,0)*Table_NFI[[#This Row],[Tarpaulin]],0)","v":365},{"$f":"IF(NFI_Expiration=1,IF($A270<VLOOKUP(M$5,NFI,5,0),1,0)*Table_NFI[[#This Row],[Blanket]],0)","v":730},{"$f":"IF(NFI_Expiration=1,IF($A270<VLOOKUP(N$5,NFI,5,0),1,0)*Table_NFI[[#This Row],[Kitchen Set]],0)","v":365},{"$f":"IF(NFI_Expiration=1,IF($A270<VLOOKUP(O$5,NFI,5,0),1,0)*Table_NFI[[#This Row],[Complementary Kit]],0)","v":365},{"$f":"IF(NFI_Expiration=1,IF($A270<VLOOKUP(P$5,NFI,5,0),1,0)*Table_NFI[[#This Row],[Plastic Bucket]],0)","v":365},{"$f":"IF(NFI_Expiration=1,IF($A270<VLOOKUP(Q$5,NFI,5,0),1,0)*Table_NFI[[#This Row],[Plastic Mat]],0)","v":730},{"$f":"IFERROR(VLOOKUP(Table_NFI[[#This Row],[Camp Name]],CL,2,0),\"\")","v":"MMR012CMP010"},{"$f":"IFERROR(VLOOKUP(Table_NFI[[#This Row],[Camp Name]],CL,3,0),\"\")","v":"Open"}]
[4.9333333333333336,"2013-07-06","UNHCR","UNHCR","Rakhine","Minbya","Tha Yet Oak",null,null,null,null,null,null,null,null,null,null,{"$f":"IF(NFI_Expiration=1,IF($A271<VLOOKUP(H$5,NFI,5,0),1,0)*Table_NFI[[#This Row],[Hygiene Kit]],0)","v":0},{"$f":"IF(NFI_Expiration=1,IF($A271<VLOOKUP(I$5,NFI,5,0),1,0)*Table_NFI[[#This Row],[NFI Core Kit]],0)","v":0},{"$f":"IF(NFI_Expiration=1,IF($A271<VLOOKUP(J$5,NFI,5,0),1,0)*Table_NFI[[#This Row],[Sanitary Kit]],0)","v":0},{"$f":"IF(NFI_Expiration=1,IF($A271<VLOOKUP(K$5,NFI,5,0),1,0)*Table_NFI[[#This Row],[Mosquito net]],0)","v":0},{"$f":"IF(NFI_Expiration=1,IF($A271<VLOOKUP(L$5,NFI,5,0),1,0)*Table_NFI[[#This Row],[Tarpaulin]],0)","v":0},{"$f":"IF(NFI_Expiration=1,IF($A271<VLOOKUP(M$5,NFI,5,0),1,0)*Table_NFI[[#This Row],[Blanket]],0)","v":0},{"$f":"IF(NFI_Expiration=1,IF($A271<VLOOKUP(N$5,NFI,5,0),1,0)*Table_NFI[[#This Row],[Kitchen Set]],0)","v":0},{"$f":"IF(NFI_Expiration=1,IF($A271<VLOOKUP(O$5,NFI,5,0),1,0)*Table_NFI[[#This Row],[Complementary Kit]],0)","v":0},{"$f":"IF(NFI_Expiration=1,IF($A271<VLOOKUP(P$5,NFI,5,0),1,0)*Table_NFI[[#This Row],[Plastic Bucket]],0)","v":0},{"$f":"IF(NFI_Expiration=1,IF($A271<VLOOKUP(Q$5,NFI,5,0),1,0)*Table_NFI[[#This Row],[Plastic Mat]],0)","v":0},{"$f":"IFERROR(VLOOKUP(Table_NFI[[#This Row],[Camp Name]],CL,2,0),\"\")","v":"MMR012CMP005"},{"$f":"IFERROR(VLOOKUP(Table_NFI[[#This Row],[Camp Name]],CL,3,0),\"\")","v":"Open"}]
[4.9333333333333336,"2013-07-06","UNHCR","UNHCR","Rakhine","Mrauk_U","Pa Rein",null,null,null,null,null,null,null,null,null,null,{"$f":"IF(NFI_Expiration=1,IF($A272<VLOOKUP(H$5,NFI,5,0),1,0)*Table_NFI[[#This Row],[Hygiene Kit]],0)","v":0},{"$f":"IF(NFI_Expiration=1,IF($A272<VLOOKUP(I$5,NFI,5,0),1,0)*Table_NFI[[#This Row],[NFI Core Kit]],0)","v":0},{"$f":"IF(NFI_Expiration=1,IF($A272<VLOOKUP(J$5,NFI,5,0),1,0)*Table_NFI[[#This Row],[Sanitary Kit]],0)","v":0},{"$f":"IF(NFI_Expiration=1,IF($A272<VLOOKUP(K$5,NFI,5,0),1,0)*Table_NFI[[#This Row],[Mosquito net]],0)","v":0},{"$f":"IF(NFI_Expiration=1,IF($A272<VLOOKUP(L$5,NFI,5,0),1,0)*Table_NFI[[#This Row],[Tarpaulin]],0)","v":0},{"$f":"IF(NFI_Expiration=1,IF($A272<VLOOKUP(M$5,NFI,5,0),1,0)*Table_NFI[[#This Row],[Blanket]],0)","v":0},{"$f":"IF(NFI_Expiration=1,IF($A272<VLOOKUP(N$5,NFI,5,0),1,0)*Table_NFI[[#This Row],[Kitchen Set]],0)","v":0},{"$f":"IF(NFI_Expiration=1,IF($A272<VLOOKUP(O$5,NFI,5,0),1,0)*Table_NFI[[#This Row],[Complementary Kit]],0)","v":0},{"$f":"IF(NFI_Expiration=1,IF($A272<VLOOKUP(P$5,NFI,5,0),1,0)*Table_NFI[[#This Row],[Plastic Bucket]],0)","v":0},{"$f":"IF(NFI_Expiration=1,IF($A272<VLOOKUP(Q$5,NFI,5,0),1,0)*Table_NFI[[#This Row],[Plastic Mat]],0)","v":0},{"$f":"IFERROR(VLOOKUP(Table_NFI[[#This Row],[Camp Name]],CL,2,0),\"\")","v":"MMR012CMP009"},{"$f":"IFERROR(VLOOKUP(Table_NFI[[#This Row],[Camp Name]],CL,3,0),\"\")","v":"Open"}]
[4.9333333333333336,"2013-07-06","UNHCR","UNHCR","Rakhine","Mrauk_U","Yai Thei-Muslim",null,null,null,null,null,null,null,null,null,null,{"$f":"IF(NFI_Expiration=1,IF($A273<VLOOKUP(H$5,NFI,5,0),1,0)*Table_NFI[[#This Row],[Hygiene Kit]],0)","v":0},{"$f":"IF(NFI_Expiration=1,IF($A273<VLOOKUP(I$5,NFI,5,0),1,0)*Table_NFI[[#This Row],[NFI Core Kit]],0)","v":0},{"$f":"IF(NFI_Expiration=1,IF($A273<VLOOKUP(J$5,NFI,5,0),1,0)*Table_NFI[[#This Row],[Sanitary Kit]],0)","v":0},{"$f":"IF(NFI_Expiration=1,IF($A273<VLOOKUP(K$5,NFI,5,0),1,0)*Table_NFI[[#This Row],[Mosquito net]],0)","v":0},{"$f":"IF(NFI_Expiration=1,IF($A273<VLOOKUP(L$5,NFI,5,0),1,0)*Table_NFI[[#This Row],[Tarpaulin]],0)","v":0},{"$f":"IF(NFI_Expiration=1,IF($A273<VLOOKUP(M$5,NFI,5,0),1,0)*Table_NFI[[#This Row],[Blanket]],0)","v":0},{"$f":"IF(NFI_Expiration=1,IF($A273<VLOOKUP(N$5,NFI,5,0),1,0)*Table_NFI[[#This Row],[Kitchen Set]],0)","v":0},{"$f":"IF(NFI_Expiration=1,IF($A273<VLOOKUP(O$5,NFI,5,0),1,0)*Table_NFI[[#This Row],[Complementary Kit]],0)","v":0},{"$f":"IF(NFI_Expiration=1,IF($A273<VLOOKUP(P$5,NFI,5,0),1,0)*Table_NFI[[#This Row],[Plastic Bucket]],0)","v":0},{"$f":"IF(NFI_Expiration=1,IF($A273<VLOOKUP(Q$5,NFI,5,0),1,0)*Table_NFI[[#This Row],[Plastic Mat]],0)","v":0},{"$f":"IFERROR(VLOOKUP(Table_NFI[[#This Row],[Camp Name]],CL,2,0),\"\")","v":"MMR012CMP010"},{"$f":"IFERROR(VLOOKUP(Table_NFI[[#This Row],[Camp Name]],CL,3,0),\"\")","v":"Open"}]
[4.833333333333333,"2013-07-09","UNHCR","UNHCR","Rakhine","Minbya","Thay Kan",null,33,null,66,33,66,33,33,33,66,{"$f":"IF(NFI_Expiration=1,IF($A274<VLOOKUP(H$5,NFI,5,0),1,0)*Table_NFI[[#This Row],[Hygiene Kit]],0)","v":0},{"$f":"IF(NFI_Expiration=1,IF($A274<VLOOKUP(I$5,NFI,5,0),1,0)*Table_NFI[[#This Row],[NFI Core Kit]],0)","v":33},{"$f":"IF(NFI_Expiration=1,IF($A274<VLOOKUP(J$5,NFI,5,0),1,0)*Table_NFI[[#This Row],[Sanitary Kit]],0)","v":0},{"$f":"IF(NFI_Expiration=1,IF($A274<VLOOKUP(K$5,NFI,5,0),1,0)*Table_NFI[[#This Row],[Mosquito net]],0)","v":66},{"$f":"IF(NFI_Expiration=1,IF($A274<VLOOKUP(L$5,NFI,5,0),1,0)*Table_NFI[[#This Row],[Tarpaulin]],0)","v":33},{"$f":"IF(NFI_Expiration=1,IF($A274<VLOOKUP(M$5,NFI,5,0),1,0)*Table_NFI[[#This Row],[Blanket]],0)","v":66},{"$f":"IF(NFI_Expiration=1,IF($A274<VLOOKUP(N$5,NFI,5,0),1,0)*Table_NFI[[#This Row],[Kitchen Set]],0)","v":33},{"$f":"IF(NFI_Expiration=1,IF($A274<VLOOKUP(O$5,NFI,5,0),1,0)*Table_NFI[[#This Row],[Complementary Kit]],0)","v":33},{"$f":"IF(NFI_Expiration=1,IF($A274<VLOOKUP(P$5,NFI,5,0),1,0)*Table_NFI[[#This Row],[Plastic Bucket]],0)","v":33},{"$f":"IF(NFI_Expiration=1,IF($A274<VLOOKUP(Q$5,NFI,5,0),1,0)*Table_NFI[[#This Row],[Plastic Mat]],0)","v":66},{"$f":"IFERROR(VLOOKUP(Table_NFI[[#This Row],[Camp Name]],CL,2,0),\"\")","v":"MMR012CMP007"},{"$f":"IFERROR(VLOOKUP(Table_NFI[[#This Row],[Camp Name]],CL,3,0),\"\")","v":"Close"}]
[4.833333333333333,"2013-07-09","UNHCR","UNHCR","Rakhine","Minbya","Paik Thay",null,65,null,130,65,130,65,65,65,130,{"$f":"IF(NFI_Expiration=1,IF($A275<VLOOKUP(H$5,NFI,5,0),1,0)*Table_NFI[[#This Row],[Hygiene Kit]],0)","v":0},{"$f":"IF(NFI_Expiration=1,IF($A275<VLOOKUP(I$5,NFI,5,0),1,0)*Table_NFI[[#This Row],[NFI Core Kit]],0)","v":65},{"$f":"IF(NFI_Expiration=1,IF($A275<VLOOKUP(J$5,NFI,5,0),1,0)*Table_NFI[[#This Row],[Sanitary Kit]],0)","v":0},{"$f":"IF(NFI_Expiration=1,IF($A275<VLOOKUP(K$5,NFI,5,0),1,0)*Table_NFI[[#This Row],[Mosquito net]],0)","v":130},{"$f":"IF(NFI_Expiration=1,IF($A275<VLOOKUP(L$5,NFI,5,0),1,0)*Table_NFI[[#This Row],[Tarpaulin]],0)","v":65},{"$f":"IF(NFI_Expiration=1,IF($A275<VLOOKUP(M$5,NFI,5,0),1,0)*Table_NFI[[#This Row],[Blanket]],0)","v":130},{"$f":"IF(NFI_Expiration=1,IF($A275<VLOOKUP(N$5,NFI,5,0),1,0)*Table_NFI[[#This Row],[Kitchen Set]],0)","v":65},{"$f":"IF(NFI_Expiration=1,IF($A275<VLOOKUP(O$5,NFI,5,0),1,0)*Table_NFI[[#This Row],[Complementary Kit]],0)","v":65},{"$f":"IF(NFI_Expiration=1,IF($A275<VLOOKUP(P$5,NFI,5,0),1,0)*Table_NFI[[#This Row],[Plastic Bucket]],0)","v":65},{"$f":"IF(NFI_Expiration=1,IF($A275<VLOOKUP(Q$5,NFI,5,0),1,0)*Table_NFI[[#This Row],[Plastic Mat]],0)","v":130},{"$f":"IFERROR(VLOOKUP(Table_NFI[[#This Row],[Camp Name]],CL,2,0),\"\")","v":"MMR012CMP001"},{"$f":"IFERROR(VLOOKUP(Table_NFI[[#This Row],[Camp Name]],CL,3,0),\"\")","v":"Open"}]
[4.833333333333333,"2013-07-09","UNHCR","UNHCR","Rakhine","Minbya","Aung Taing",null,144,null,288,144,288,144,144,144,288,{"$f":"IF(NFI_Expiration=1,IF($A276<VLOOKUP(H$5,NFI,5,0),1,0)*Table_NFI[[#This Row],[Hygiene Kit]],0)","v":0},{"$f":"IF(NFI_Expiration=1,IF($A276<VLOOKUP(I$5,NFI,5,0),1,0)*Table_NFI[[#This Row],[NFI Core Kit]],0)","v":144},{"$f":"IF(NFI_Expiration=1,IF($A276<VLOOKUP(J$5,NFI,5,0),1,0)*Table_NFI[[#This Row],[Sanitary Kit]],0)","v":0},{"$f":"IF(NFI_Expiration=1,IF($A276<VLOOKUP(K$5,NFI,5,0),1,0)*Table_NFI[[#This Row],[Mosquito net]],0)","v":288},{"$f":"IF(NFI_Expiration=1,IF($A276<VLOOKUP(L$5,NFI,5,0),1,0)*Table_NFI[[#This Row],[Tarpaulin]],0)","v":144},{"$f":"IF(NFI_Expiration=1,IF($A276<VLOOKUP(M$5,NFI,5,0),1,0)*Table_NFI[[#This Row],[Blanket]],0)","v":288},{"$f":"IF(NFI_Expiration=1,IF($A276<VLOOKUP(N$5,NFI,5,0),1,0)*Table_NFI[[#This Row],[Kitchen Set]],0)","v":144},{"$f":"IF(NFI_Expiration=1,IF($A276<VLOOKUP(O$5,NFI,5,0),1,0)*Table_NFI[[#This Row],[Complementary Kit]],0)","v":144},{"$f":"IF(NFI_Expiration=1,IF($A276<VLOOKUP(P$5,NFI,5,0),1,0)*Table_NFI[[#This Row],[Plastic Bucket]],0)","v":144},{"$f":"IF(NFI_Expiration=1,IF($A276<VLOOKUP(Q$5,NFI,5,0),1,0)*Table_NFI[[#This Row],[Plastic Mat]],0)","v":288},{"$f":"IFERROR(VLOOKUP(Table_NFI[[#This Row],[Camp Name]],CL,2,0),\"\")","v":"MMR012CMP006"},{"$f":"IFERROR(VLOOKUP(Table_NFI[[#This Row],[Camp Name]],CL,3,0),\"\")","v":"Open"}]
[4.833333333333333,"2013-07-09","UNHCR","UNHCR","Rakhine","Minbya","Sam Ba Le",null,245,null,490,245,490,245,245,245,490,{"$f":"IF(NFI_Expiration=1,IF($A277<VLOOKUP(H$5,NFI,5,0),1,0)*Table_NFI[[#This Row],[Hygiene Kit]],0)","v":0},{"$f":"IF(NFI_Expiration=1,IF($A277<VLOOKUP(I$5,NFI,5,0),1,0)*Table_NFI[[#This Row],[NFI Core Kit]],0)","v":245},{"$f":"IF(NFI_Expiration=1,IF($A277<VLOOKUP(J$5,NFI,5,0),1,0)*Table_NFI[[#This Row],[Sanitary Kit]],0)","v":0},{"$f":"IF(NFI_Expiration=1,IF($A277<VLOOKUP(K$5,NFI,5,0),1,0)*Table_NFI[[#This Row],[Mosquito net]],0)","v":490},{"$f":"IF(NFI_Expiration=1,IF($A277<VLOOKUP(L$5,NFI,5,0),1,0)*Table_NFI[[#This Row],[Tarpaulin]],0)","v":245},{"$f":"IF(NFI_Expiration=1,IF($A277<VLOOKUP(M$5,NFI,5,0),1,0)*Table_NFI[[#This Row],[Blanket]],0)","v":490},{"$f":"IF(NFI_Expiration=1,IF($A277<VLOOKUP(N$5,NFI,5,0),1,0)*Table_NFI[[#This Row],[Kitchen Set]],0)","v":245},{"$f":"IF(NFI_Expiration=1,IF($A277<VLOOKUP(O$5,NFI,5,0),1,0)*Table_NFI[[#This Row],[Complementary Kit]],0)","v":245},{"$f":"IF(NFI_Expiration=1,IF($A277<VLOOKUP(P$5,NFI,5,0),1,0)*Table_NFI[[#This Row],[Plastic Bucket]],0)","v":245},{"$f":"IF(NFI_Expiration=1,IF($A277<VLOOKUP(Q$5,NFI,5,0),1,0)*Table_NFI[[#This Row],[Plastic Mat]],0)","v":490},{"$f":"IFERROR(VLOOKUP(Table_NFI[[#This Row],[Camp Name]],CL,2,0),\"\")","v":"MMR012CMP008"},{"$f":"IFERROR(VLOOKUP(Table_NFI[[#This Row],[Camp Name]],CL,3,0),\"\")","v":"Open"}]
[4.833333333333333,"2013-07-09","UNHCR","UNHCR","Rakhine","Minbya","Thay Kan",null,null,null,null,null,null,null,null,null,null,{"$f":"IF(NFI_Expiration=1,IF($A278<VLOOKUP(H$5,NFI,5,0),1,0)*Table_NFI[[#This Row],[Hygiene Kit]],0)","v":0},{"$f":"IF(NFI_Expiration=1,IF($A278<VLOOKUP(I$5,NFI,5,0),1,0)*Table_NFI[[#This Row],[NFI Core Kit]],0)","v":0},{"$f":"IF(NFI_Expiration=1,IF($A278<VLOOKUP(J$5,NFI,5,0),1,0)*Table_NFI[[#This Row],[Sanitary Kit]],0)","v":0},{"$f":"IF(NFI_Expiration=1,IF($A278<VLOOKUP(K$5,NFI,5,0),1,0)*Table_NFI[[#This Row],[Mosquito net]],0)","v":0},{"$f":"IF(NFI_Expiration=1,IF($A278<VLOOKUP(L$5,NFI,5,0),1,0)*Table_NFI[[#This Row],[Tarpaulin]],0)","v":0},{"$f":"IF(NFI_Expiration=1,IF($A278<VLOOKUP(M$5,NFI,5,0),1,0)*Table_NFI[[#This Row],[Blanket]],0)","v":0},{"$f":"IF(NFI_Expiration=1,IF($A278<VLOOKUP(N$5,NFI,5,0),1,0)*Table_NFI[[#This Row],[Kitchen Set]],0)","v":0},{"$f":"IF(NFI_Expiration=1,IF($A278<VLOOKUP(O$5,NFI,5,0),1,0)*Table_NFI[[#This Row],[Complementary Kit]],0)","v":0},{"$f":"IF(NFI_Expiration=1,IF($A278<VLOOKUP(P$5,NFI,5,0),1,0)*Table_NFI[[#This Row],[Plastic Bucket]],0)","v":0},{"$f":"IF(NFI_Expiration=1,IF($A278<VLOOKUP(Q$5,NFI,5,0),1,0)*Table_NFI[[#This Row],[Plastic Mat]],0)","v":0},{"$f":"IFERROR(VLOOKUP(Table_NFI[[#This Row],[Camp Name]],CL,2,0),\"\")","v":"MMR012CMP007"},{"$f":"IFERROR(VLOOKUP(Table_NFI[[#This Row],[Camp Name]],CL,3,0),\"\")","v":"Close"}]
[{"$f":"IF(ISBLANK(B279),\"\",(Report_Date-B279)/30)","v":4.833333333333333},"2013-07-09","UNHCR","UNHCR","Rakhine","Minbya","Paik Thay",null,null,null,null,null,null,null,null,null,null,{"$f":"IF(NFI_Expiration=1,IF($A279<VLOOKUP(H$5,NFI,5,0),1,0)*Table_NFI[[#This Row],[Hygiene Kit]],0)","v":0},{"$f":"IF(NFI_Expiration=1,IF($A279<VLOOKUP(I$5,NFI,5,0),1,0)*Table_NFI[[#This Row],[NFI Core Kit]],0)","v":0},{"$f":"IF(NFI_Expiration=1,IF($A279<VLOOKUP(J$5,NFI,5,0),1,0)*Table_NFI[[#This Row],[Sanitary Kit]],0)","v":0},{"$f":"IF(NFI_Expiration=1,IF($A279<VLOOKUP(K$5,NFI,5,0),1,0)*Table_NFI[[#This Row],[Mosquito net]],0)","v":0},{"$f":"IF(NFI_Expiration=1,IF($A279<VLOOKUP(L$5,NFI,5,0),1,0)*Table_NFI[[#This Row],[Tarpaulin]],0)","v":0},{"$f":"IF(NFI_Expiration=1,IF($A279<VLOOKUP(M$5,NFI,5,0),1,0)*Table_NFI[[#This Row],[Blanket]],0)","v":0},{"$f":"IF(NFI_Expiration=1,IF($A279<VLOOKUP(N$5,NFI,5,0),1,0)*Table_NFI[[#This Row],[Kitchen Set]],0)","v":0},{"$f":"IF(NFI_Expiration=1,IF($A279<VLOOKUP(O$5,NFI,5,0),1,0)*Table_NFI[[#This Row],[Complementary Kit]],0)","v":0},{"$f":"IF(NFI_Expiration=1,IF($A279<VLOOKUP(P$5,NFI,5,0),1,0)*Table_NFI[[#This Row],[Plastic Bucket]],0)","v":0},{"$f":"IF(NFI_Expiration=1,IF($A279<VLOOKUP(Q$5,NFI,5,0),1,0)*Table_NFI[[#This Row],[Plastic Mat]],0)","v":0},{"$f":"IFERROR(VLOOKUP(Table_NFI[[#This Row],[Camp Name]],CL,2,0),\"\")","v":"MMR012CMP001"},{"$f":"IFERROR(VLOOKUP(Table_NFI[[#This Row],[Camp Name]],CL,3,0),\"\")","v":"Open"}]
[4.833333333333333,"2013-07-09","UNHCR","UNHCR","Rakhine","Minbya","Aung Taing",null,null,null,null,null,null,null,null,null,null,{"$f":"IF(NFI_Expiration=1,IF($A280<VLOOKUP(H$5,NFI,5,0),1,0)*Table_NFI[[#This Row],[Hygiene Kit]],0)","v":0},{"$f":"IF(NFI_Expiration=1,IF($A280<VLOOKUP(I$5,NFI,5,0),1,0)*Table_NFI[[#This Row],[NFI Core Kit]],0)","v":0},{"$f":"IF(NFI_Expiration=1,IF($A280<VLOOKUP(J$5,NFI,5,0),1,0)*Table_NFI[[#This Row],[Sanitary Kit]],0)","v":0},{"$f":"IF(NFI_Expiration=1,IF($A280<VLOOKUP(K$5,NFI,5,0),1,0)*Table_NFI[[#This Row],[Mosquito net]],0)","v":0},{"$f":"IF(NFI_Expiration=1,IF($A280<VLOOKUP(L$5,NFI,5,0),1,0)*Table_NFI[[#This Row],[Tarpaulin]],0)","v":0},{"$f":"IF(NFI_Expiration=1,IF($A280<VLOOKUP(M$5,NFI,5,0),1,0)*Table_NFI[[#This Row],[Blanket]],0)","v":0},{"$f":"IF(NFI_Expiration=1,IF($A280<VLOOKUP(N$5,NFI,5,0),1,0)*Table_NFI[[#This Row],[Kitchen Set]],0)","v":0},{"$f":"IF(NFI_Expiration=1,IF($A280<VLOOKUP(O$5,NFI,5,0),1,0)*Table_NFI[[#This Row],[Complementary Kit]],0)","v":0},{"$f":"IF(NFI_Expiration=1,IF($A280<VLOOKUP(P$5,NFI,5,0),1,0)*Table_NFI[[#This Row],[Plastic Bucket]],0)","v":0},{"$f":"IF(NFI_Expiration=1,IF($A280<VLOOKUP(Q$5,NFI,5,0),1,0)*Table_NFI[[#This Row],[Plastic Mat]],0)","v":0},{"$f":"IFERROR(VLOOKUP(Table_NFI[[#This Row],[Camp Name]],CL,2,0),\"\")","v":"MMR012CMP006"},{"$f":"IFERROR(VLOOKUP(Table_NFI[[#This Row],[Camp Name]],CL,3,0),\"\")","v":"Open"}]
[4.833333333333333,"2013-07-09","UNHCR","UNHCR","Rakhine","Minbya","Sam Ba Le",null,null,null,null,null,null,null,null,null,null,{"$f":"IF(NFI_Expiration=1,IF($A281<VLOOKUP(H$5,NFI,5,0),1,0)*Table_NFI[[#This Row],[Hygiene Kit]],0)","v":0},{"$f":"IF(NFI_Expiration=1,IF($A281<VLOOKUP(I$5,NFI,5,0),1,0)*Table_NFI[[#This Row],[NFI Core Kit]],0)","v":0},{"$f":"IF(NFI_Expiration=1,IF($A281<VLOOKUP(J$5,NFI,5,0),1,0)*Table_NFI[[#This Row],[Sanitary Kit]],0)","v":0},{"$f":"IF(NFI_Expiration=1,IF($A281<VLOOKUP(K$5,NFI,5,0),1,0)*Table_NFI[[#This Row],[Mosquito net]],0)","v":0},{"$f":"IF(NFI_Expiration=1,IF($A281<VLOOKUP(L$5,NFI,5,0),1,0)*Table_NFI[[#This Row],[Tarpaulin]],0)","v":0},{"$f":"IF(NFI_Expiration=1,IF($A281<VLOOKUP(M$5,NFI,5,0),1,0)*Table_NFI[[#This Row],[Blanket]],0)","v":0},{"$f":"IF(NFI_Expiration=1,IF($A281<VLOOKUP(N$5,NFI,5,0),1,0)*Table_NFI[[#This Row],[Kitchen Set]],0)","v":0},{"$f":"IF(NFI_Expiration=1,IF($A281<VLOOKUP(O$5,NFI,5,0),1,0)*Table_NFI[[#This Row],[Complementary Kit]],0)","v":0},{"$f":"IF(NFI_Expiration=1,IF($A281<VLOOKUP(P$5,NFI,5,0),1,0)*Table_NFI[[#This Row],[Plastic Bucket]],0)","v":0},{"$f":"IF(NFI_Expiration=1,IF($A281<VLOOKUP(Q$5,NFI,5,0),1,0)*Table_NFI[[#This Row],[Plastic Mat]],0)","v":0},{"$f":"IFERROR(VLOOKUP(Table_NFI[[#This Row],[Camp Name]],CL,2,0),\"\")","v":"MMR012CMP008"},{"$f":"IFERROR(VLOOKUP(Table_NFI[[#This Row],[Camp Name]],CL,3,0),\"\")","v":"Open"}]
[{"$f":"IF(ISBLANK(B282),\"\",(Report_Date-B282)/30)","v":4.8},"2013-07-10","UNHCR","UNHCR","Rakhine","Minbya","San Htoe Tan",null,100,null,200,100,200,100,100,100,200,{"$f":"IF(NFI_Expiration=1,IF($A282<VLOOKUP(H$5,NFI,5,0),1,0)*Table_NFI[[#This Row],[Hygiene Kit]],0)","v":0},{"$f":"IF(NFI_Expiration=1,IF($A282<VLOOKUP(I$5,NFI,5,0),1,0)*Table_NFI[[#This Row],[NFI Core Kit]],0)","v":100},{"$f":"IF(NFI_Expiration=1,IF($A282<VLOOKUP(J$5,NFI,5,0),1,0)*Table_NFI[[#This Row],[Sanitary Kit]],0)","v":0},{"$f":"IF(NFI_Expiration=1,IF($A282<VLOOKUP(K$5,NFI,5,0),1,0)*Table_NFI[[#This Row],[Mosquito net]],0)","v":200},{"$f":"IF(NFI_Expiration=1,IF($A282<VLOOKUP(L$5,NFI,5,0),1,0)*Table_NFI[[#This Row],[Tarpaulin]],0)","v":100},{"$f":"IF(NFI_Expiration=1,IF($A282<VLOOKUP(M$5,NFI,5,0),1,0)*Table_NFI[[#This Row],[Blanket]],0)","v":200},{"$f":"IF(NFI_Expiration=1,IF($A282<VLOOKUP(N$5,NFI,5,0),1,0)*Table_NFI[[#This Row],[Kitchen Set]],0)","v":100},{"$f":"IF(NFI_Expiration=1,IF($A282<VLOOKUP(O$5,NFI,5,0),1,0)*Table_NFI[[#This Row],[Complementary Kit]],0)","v":100},{"$f":"IF(NFI_Expiration=1,IF($A282<VLOOKUP(P$5,NFI,5,0),1,0)*Table_NFI[[#This Row],[Plastic Bucket]],0)","v":100},{"$f":"IF(NFI_Expiration=1,IF($A282<VLOOKUP(Q$5,NFI,5,0),1,0)*Table_NFI[[#This Row],[Plastic Mat]],0)","v":200},{"$f":"IFERROR(VLOOKUP(Table_NFI[[#This Row],[Camp Name]],CL,2,0),\"\")","v":"MMR012CMP003"},{"$f":"IFERROR(VLOOKUP(Table_NFI[[#This Row],[Camp Name]],CL,3,0),\"\")","v":"Open"}]
[4.8,"2013-07-10","UNHCR","UNHCR","Rakhine","Minbya","Tha Dar",null,214,null,428,214,428,214,214,214,428,{"$f":"IF(NFI_Expiration=1,IF($A283<VLOOKUP(H$5,NFI,5,0),1,0)*Table_NFI[[#This Row],[Hygiene Kit]],0)","v":0},{"$f":"IF(NFI_Expiration=1,IF($A283<VLOOKUP(I$5,NFI,5,0),1,0)*Table_NFI[[#This Row],[NFI Core Kit]],0)","v":214},{"$f":"IF(NFI_Expiration=1,IF($A283<VLOOKUP(J$5,NFI,5,0),1,0)*Table_NFI[[#This Row],[Sanitary Kit]],0)","v":0},{"$f":"IF(NFI_Expiration=1,IF($A283<VLOOKUP(K$5,NFI,5,0),1,0)*Table_NFI[[#This Row],[Mosquito net]],0)","v":428},{"$f":"IF(NFI_Expiration=1,IF($A283<VLOOKUP(L$5,NFI,5,0),1,0)*Table_NFI[[#This Row],[Tarpaulin]],0)","v":214},{"$f":"IF(NFI_Expiration=1,IF($A283<VLOOKUP(M$5,NFI,5,0),1,0)*Table_NFI[[#This Row],[Blanket]],0)","v":428},{"$f":"IF(NFI_Expiration=1,IF($A283<VLOOKUP(N$5,NFI,5,0),1,0)*Table_NFI[[#This Row],[Kitchen Set]],0)","v":214},{"$f":"IF(NFI_Expiration=1,IF($A283<VLOOKUP(O$5,NFI,5,0),1,0)*Table_NFI[[#This Row],[Complementary Kit]],0)","v":214},{"$f":"IF(NFI_Expiration=1,IF($A283<VLOOKUP(P$5,NFI,5,0),1,0)*Table_NFI[[#This Row],[Plastic Bucket]],0)","v":214},{"$f":"IF(NFI_Expiration=1,IF($A283<VLOOKUP(Q$5,NFI,5,0),1,0)*Table_NFI[[#This Row],[Plastic Mat]],0)","v":428},{"$f":"IFERROR(VLOOKUP(Table_NFI[[#This Row],[Camp Name]],CL,2,0),\"\")","v":"MMR012CMP002"},{"$f":"IFERROR(VLOOKUP(Table_NFI[[#This Row],[Camp Name]],CL,3,0),\"\")","v":"Open"}]
[4.8,"2013-07-10","UNHCR","UNHCR","Rakhine","Minbya","San Htoe Tan",null,null,null,null,null,null,null,null,null,null,{"$f":"IF(NFI_Expiration=1,IF($A284<VLOOKUP(H$5,NFI,5,0),1,0)*Table_NFI[[#This Row],[Hygiene Kit]],0)","v":0},{"$f":"IF(NFI_Expiration=1,IF($A284<VLOOKUP(I$5,NFI,5,0),1,0)*Table_NFI[[#This Row],[NFI Core Kit]],0)","v":0},{"$f":"IF(NFI_Expiration=1,IF($A284<VLOOKUP(J$5,NFI,5,0),1,0)*Table_NFI[[#This Row],[Sanitary Kit]],0)","v":0},{"$f":"IF(NFI_Expiration=1,IF($A284<VLOOKUP(K$5,NFI,5,0),1,0)*Table_NFI[[#This Row],[Mosquito net]],0)","v":0},{"$f":"IF(NFI_Expiration=1,IF($A284<VLOOKUP(L$5,NFI,5,0),1,0)*Table_NFI[[#This Row],[Tarpaulin]],0)","v":0},{"$f":"IF(NFI_Expiration=1,IF($A284<VLOOKUP(M$5,NFI,5,0),1,0)*Table_NFI[[#This Row],[Blanket]],0)","v":0},{"$f":"IF(NFI_Expiration=1,IF($A284<VLOOKUP(N$5,NFI,5,0),1,0)*Table_NFI[[#This Row],[Kitchen Set]],0)","v":0},{"$f":"IF(NFI_Expiration=1,IF($A284<VLOOKUP(O$5,NFI,5,0),1,0)*Table_NFI[[#This Row],[Complementary Kit]],0)","v":0},{"$f":"IF(NFI_Expiration=1,IF($A284<VLOOKUP(P$5,NFI,5,0),1,0)*Table_NFI[[#This Row],[Plastic Bucket]],0)","v":0},{"$f":"IF(NFI_Expiration=1,IF($A284<VLOOKUP(Q$5,NFI,5,0),1,0)*Table_NFI[[#This Row],[Plastic Mat]],0)","v":0},{"$f":"IFERROR(VLOOKUP(Table_NFI[[#This Row],[Camp Name]],CL,2,0),\"\")","v":"MMR012CMP003"},{"$f":"IFERROR(VLOOKUP(Table_NFI[[#This Row],[Camp Name]],CL,3,0),\"\")","v":"Open"}]
[4.8,"2013-07-10","UNHCR","UNHCR","Rakhine","Minbya","Tha Dar",null,null,null,null,null,null,null,null,null,null,{"$f":"IF(NFI_Expiration=1,IF($A285<VLOOKUP(H$5,NFI,5,0),1,0)*Table_NFI[[#This Row],[Hygiene Kit]],0)","v":0},{"$f":"IF(NFI_Expiration=1,IF($A285<VLOOKUP(I$5,NFI,5,0),1,0)*Table_NFI[[#This Row],[NFI Core Kit]],0)","v":0},{"$f":"IF(NFI_Expiration=1,IF($A285<VLOOKUP(J$5,NFI,5,0),1,0)*Table_NFI[[#This Row],[Sanitary Kit]],0)","v":0},{"$f":"IF(NFI_Expiration=1,IF($A285<VLOOKUP(K$5,NFI,5,0),1,0)*Table_NFI[[#This Row],[Mosquito net]],0)","v":0},{"$f":"IF(NFI_Expiration=1,IF($A285<VLOOKUP(L$5,NFI,5,0),1,0)*Table_NFI[[#This Row],[Tarpaulin]],0)","v":0},{"$f":"IF(NFI_Expiration=1,IF($A285<VLOOKUP(M$5,NFI,5,0),1,0)*Table_NFI[[#This Row],[Blanket]],0)","v":0},{"$f":"IF(NFI_Expiration=1,IF($A285<VLOOKUP(N$5,NFI,5,0),1,0)*Table_NFI[[#This Row],[Kitchen Set]],0)","v":0},{"$f":"IF(NFI_Expiration=1,IF($A285<VLOOKUP(O$5,NFI,5,0),1,0)*Table_NFI[[#This Row],[Complementary Kit]],0)","v":0},{"$f":"IF(NFI_Expiration=1,IF($A285<VLOOKUP(P$5,NFI,5,0),1,0)*Table_NFI[[#This Row],[Plastic Bucket]],0)","v":0},{"$f":"IF(NFI_Expiration=1,IF($A285<VLOOKUP(Q$5,NFI,5,0),1,0)*Table_NFI[[#This Row],[Plastic Mat]],0)","v":0},{"$f":"IFERROR(VLOOKUP(Table_NFI[[#This Row],[Camp Name]],CL,2,0),\"\")","v":"MMR012CMP002"},{"$f":"IFERROR(VLOOKUP(Table_NFI[[#This Row],[Camp Name]],CL,3,0),\"\")","v":"Open"}]
[3.9,"2013-08-06","UNHCR","UNHCR","Rakhine","Kyauktaw","Taung Bwe",null,null,null,121,null,145,1,null,null,140,{"$f":"IF(NFI_Expiration=1,IF($A286<VLOOKUP(H$5,NFI,5,0),1,0)*Table_NFI[[#This Row],[Hygiene Kit]],0)","v":0},{"$f":"IF(NFI_Expiration=1,IF($A286<VLOOKUP(I$5,NFI,5,0),1,0)*Table_NFI[[#This Row],[NFI Core Kit]],0)","v":0},{"$f":"IF(NFI_Expiration=1,IF($A286<VLOOKUP(J$5,NFI,5,0),1,0)*Table_NFI[[#This Row],[Sanitary Kit]],0)","v":0},{"$f":"IF(NFI_Expiration=1,IF($A286<VLOOKUP(K$5,NFI,5,0),1,0)*Table_NFI[[#This Row],[Mosquito net]],0)","v":121},{"$f":"IF(NFI_Expiration=1,IF($A286<VLOOKUP(L$5,NFI,5,0),1,0)*Table_NFI[[#This Row],[Tarpaulin]],0)","v":0},{"$f":"IF(NFI_Expiration=1,IF($A286<VLOOKUP(M$5,NFI,5,0),1,0)*Table_NFI[[#This Row],[Blanket]],0)","v":145},{"$f":"IF(NFI_Expiration=1,IF($A286<VLOOKUP(N$5,NFI,5,0),1,0)*Table_NFI[[#This Row],[Kitchen Set]],0)","v":1},{"$f":"IF(NFI_Expiration=1,IF($A286<VLOOKUP(O$5,NFI,5,0),1,0)*Table_NFI[[#This Row],[Complementary Kit]],0)","v":0},{"$f":"IF(NFI_Expiration=1,IF($A286<VLOOKUP(P$5,NFI,5,0),1,0)*Table_NFI[[#This Row],[Plastic Bucket]],0)","v":0},{"$f":"IF(NFI_Expiration=1,IF($A286<VLOOKUP(Q$5,NFI,5,0),1,0)*Table_NFI[[#This Row],[Plastic Mat]],0)","v":140},{"$f":"IFERROR(VLOOKUP(Table_NFI[[#This Row],[Camp Name]],CL,2,0),\"\")","v":"MMR012CMP021"},{"$f":"IFERROR(VLOOKUP(Table_NFI[[#This Row],[Camp Name]],CL,3,0),\"\")","v":"Open"}]
[3.8666666666666667,"2013-08-07","UNHCR","UNHCR","Rakhine","Kyauktaw","In Bar Yi",null,null,null,null,null,null,null,null,8,null,{"$f":"IF(NFI_Expiration=1,IF($A287<VLOOKUP(H$5,NFI,5,0),1,0)*Table_NFI[[#This Row],[Hygiene Kit]],0)","v":0},{"$f":"IF(NFI_Expiration=1,IF($A287<VLOOKUP(I$5,NFI,5,0),1,0)*Table_NFI[[#This Row],[NFI Core Kit]],0)","v":0},{"$f":"IF(NFI_Expiration=1,IF($A287<VLOOKUP(J$5,NFI,5,0),1,0)*Table_NFI[[#This Row],[Sanitary Kit]],0)","v":0},{"$f":"IF(NFI_Expiration=1,IF($A287<VLOOKUP(K$5,NFI,5,0),1,0)*Table_NFI[[#This Row],[Mosquito net]],0)","v":0},{"$f":"IF(NFI_Expiration=1,IF($A287<VLOOKUP(L$5,NFI,5,0),1,0)*Table_NFI[[#This Row],[Tarpaulin]],0)","v":0},{"$f":"IF(NFI_Expiration=1,IF($A287<VLOOKUP(M$5,NFI,5,0),1,0)*Table_NFI[[#This Row],[Blanket]],0)","v":0},{"$f":"IF(NFI_Expiration=1,IF($A287<VLOOKUP(N$5,NFI,5,0),1,0)*Table_NFI[[#This Row],[Kitchen Set]],0)","v":0},{"$f":"IF(NFI_Expiration=1,IF($A287<VLOOKUP(O$5,NFI,5,0),1,0)*Table_NFI[[#This Row],[Complementary Kit]],0)","v":0},{"$f":"IF(NFI_Expiration=1,IF($A287<VLOOKUP(P$5,NFI,5,0),1,0)*Table_NFI[[#This Row],[Plastic Bucket]],0)","v":8},{"$f":"IF(NFI_Expiration=1,IF($A287<VLOOKUP(Q$5,NFI,5,0),1,0)*Table_NFI[[#This Row],[Plastic Mat]],0)","v":0},{"$f":"IFERROR(VLOOKUP(Table_NFI[[#This Row],[Camp Name]],CL,2,0),\"\")","v":"MMR012CMP026"},{"$f":"IFERROR(VLOOKUP(Table_NFI[[#This Row],[Camp Name]],CL,3,0),\"\")","v":"Open"}]
[3.8333333333333335,"2013-08-08","UNHCR","UNHCR","Rakhine","Minbya","San Htoe Tan",null,20,null,40,20,40,20,20,20,40,{"$f":"IF(NFI_Expiration=1,IF($A288<VLOOKUP(H$5,NFI,5,0),1,0)*Table_NFI[[#This Row],[Hygiene Kit]],0)","v":0},{"$f":"IF(NFI_Expiration=1,IF($A288<VLOOKUP(I$5,NFI,5,0),1,0)*Table_NFI[[#This Row],[NFI Core Kit]],0)","v":20},{"$f":"IF(NFI_Expiration=1,IF($A288<VLOOKUP(J$5,NFI,5,0),1,0)*Table_NFI[[#This Row],[Sanitary Kit]],0)","v":0},{"$f":"IF(NFI_Expiration=1,IF($A288<VLOOKUP(K$5,NFI,5,0),1,0)*Table_NFI[[#This Row],[Mosquito net]],0)","v":40},{"$f":"IF(NFI_Expiration=1,IF($A288<VLOOKUP(L$5,NFI,5,0),1,0)*Table_NFI[[#This Row],[Tarpaulin]],0)","v":20},{"$f":"IF(NFI_Expiration=1,IF($A288<VLOOKUP(M$5,NFI,5,0),1,0)*Table_NFI[[#This Row],[Blanket]],0)","v":40},{"$f":"IF(NFI_Expiration=1,IF($A288<VLOOKUP(N$5,NFI,5,0),1,0)*Table_NFI[[#This Row],[Kitchen Set]],0)","v":20},{"$f":"IF(NFI_Expiration=1,IF($A288<VLOOKUP(O$5,NFI,5,0),1,0)*Table_NFI[[#This Row],[Complementary Kit]],0)","v":20},{"$f":"IF(NFI_Expiration=1,IF($A288<VLOOKUP(P$5,NFI,5,0),1,0)*Table_NFI[[#This Row],[Plastic Bucket]],0)","v":20},{"$f":"IF(NFI_Expiration=1,IF($A288<VLOOKUP(Q$5,NFI,5,0),1,0)*Table_NFI[[#This Row],[Plastic Mat]],0)","v":40},{"$f":"IFERROR(VLOOKUP(Table_NFI[[#This Row],[Camp Name]],CL,2,0),\"\")","v":"MMR012CMP003"},{"$f":"IFERROR(VLOOKUP(Table_NFI[[#This Row],[Camp Name]],CL,3,0),\"\")","v":"Open"}]
[3.8333333333333335,"2013-08-08","UNHCR","UNHCR","Rakhine","Meybon","Kan Thar Htwat Wa",null,44,null,null,null,null,null,null,null,null,{"$f":"IF(NFI_Expiration=1,IF($A289<VLOOKUP(H$5,NFI,5,0),1,0)*Table_NFI[[#This Row],[Hygiene Kit]],0)","v":0},{"$f":"IF(NFI_Expiration=1,IF($A289<VLOOKUP(I$5,NFI,5,0),1,0)*Table_NFI[[#This Row],[NFI Core Kit]],0)","v":44},{"$f":"IF(NFI_Expiration=1,IF($A289<VLOOKUP(J$5,NFI,5,0),1,0)*Table_NFI[[#This Row],[Sanitary Kit]],0)","v":0},{"$f":"IF(NFI_Expiration=1,IF($A289<VLOOKUP(K$5,NFI,5,0),1,0)*Table_NFI[[#This Row],[Mosquito net]],0)","v":0},{"$f":"IF(NFI_Expiration=1,IF($A289<VLOOKUP(L$5,NFI,5,0),1,0)*Table_NFI[[#This Row],[Tarpaulin]],0)","v":0},{"$f":"IF(NFI_Expiration=1,IF($A289<VLOOKUP(M$5,NFI,5,0),1,0)*Table_NFI[[#This Row],[Blanket]],0)","v":0},{"$f":"IF(NFI_Expiration=1,IF($A289<VLOOKUP(N$5,NFI,5,0),1,0)*Table_NFI[[#This Row],[Kitchen Set]],0)","v":0},{"$f":"IF(NFI_Expiration=1,IF($A289<VLOOKUP(O$5,NFI,5,0),1,0)*Table_NFI[[#This Row],[Complementary Kit]],0)","v":0},{"$f":"IF(NFI_Expiration=1,IF($A289<VLOOKUP(P$5,NFI,5,0),1,0)*Table_NFI[[#This Row],[Plastic Bucket]],0)","v":0},{"$f":"IF(NFI_Expiration=1,IF($A289<VLOOKUP(Q$5,NFI,5,0),1,0)*Table_NFI[[#This Row],[Plastic Mat]],0)","v":0},{"$f":"IFERROR(VLOOKUP(Table_NFI[[#This Row],[Camp Name]],CL,2,0),\"\")","v":"MMR012CMP013"},{"$f":"IFERROR(VLOOKUP(Table_NFI[[#This Row],[Camp Name]],CL,3,0),\"\")","v":"Open"}]
[3.8333333333333335,"2013-08-08","UNHCR","UNHCR","Rakhine","Meybon","Taung Paw ",null,755,null,{"$f":"Table_NFI[[#This Row],[NFI Core Kit]]*2","v":1510},{"$f":"Table_NFI[[#This Row],[NFI Core Kit]]","v":755},{"$f":"Table_NFI[[#This Row],[Mosquito net]]","v":1510},{"$f":"L291","v":224},{"$f":"Table_NFI[[#This Row],[Tarpaulin]]","v":755},{"$f":"Table_NFI[[#This Row],[Tarpaulin]]","v":755},{"$f":"Table_NFI[[#This Row],[Tarpaulin]]","v":755},{"$f":"IF(NFI_Expiration=1,IF($A290<VLOOKUP(H$5,NFI,5,0),1,0)*Table_NFI[[#This Row],[Hygiene Kit]],0)","v":0},{"$f":"IF(NFI_Expiration=1,IF($A290<VLOOKUP(I$5,NFI,5,0),1,0)*Table_NFI[[#This Row],[NFI Core Kit]],0)","v":755},{"$f":"IF(NFI_Expiration=1,IF($A290<VLOOKUP(J$5,NFI,5,0),1,0)*Table_NFI[[#This Row],[Sanitary Kit]],0)","v":0},{"$f":"IF(NFI_Expiration=1,IF($A290<VLOOKUP(K$5,NFI,5,0),1,0)*Table_NFI[[#This Row],[Mosquito net]],0)","v":1510},{"$f":"IF(NFI_Expiration=1,IF($A290<VLOOKUP(L$5,NFI,5,0),1,0)*Table_NFI[[#This Row],[Tarpaulin]],0)","v":755},{"$f":"IF(NFI_Expiration=1,IF($A290<VLOOKUP(M$5,NFI,5,0),1,0)*Table_NFI[[#This Row],[Blanket]],0)","v":1510},{"$f":"IF(NFI_Expiration=1,IF($A290<VLOOKUP(N$5,NFI,5,0),1,0)*Table_NFI[[#This Row],[Kitchen Set]],0)","v":224},{"$f":"IF(NFI_Expiration=1,IF($A290<VLOOKUP(O$5,NFI,5,0),1,0)*Table_NFI[[#This Row],[Complementary Kit]],0)","v":755},{"$f":"IF(NFI_Expiration=1,IF($A290<VLOOKUP(P$5,NFI,5,0),1,0)*Table_NFI[[#This Row],[Plastic Bucket]],0)","v":755},{"$f":"IF(NFI_Expiration=1,IF($A290<VLOOKUP(Q$5,NFI,5,0),1,0)*Table_NFI[[#This Row],[Plastic Mat]],0)","v":755},{"$f":"IFERROR(VLOOKUP(Table_NFI[[#This Row],[Camp Name]],CL,2,0),\"\")","v":"MMR012CMP014"},{"$f":"IFERROR(VLOOKUP(Table_NFI[[#This Row],[Camp Name]],CL,3,0),\"\")","v":"Open"}]
[3.6666666666666665,"2013-08-13","UNHCR","UNHCR","Rakhine","Pauktaw","Nget Chaung",null,224,null,{"$f":"Table_NFI[[#This Row],[NFI Core Kit]]*2","v":448},{"$f":"Table_NFI[[#This Row],[NFI Core Kit]]","v":224},{"$f":"Table_NFI[[#This Row],[Mosquito net]]","v":448},{"$f":"L292","v":0},{"$f":"Table_NFI[[#This Row],[Tarpaulin]]","v":224},{"$f":"Table_NFI[[#This Row],[Tarpaulin]]","v":224},{"$f":"Table_NFI[[#This Row],[Tarpaulin]]","v":224},{"$f":"IF(NFI_Expiration=1,IF($A291<VLOOKUP(H$5,NFI,5,0),1,0)*Table_NFI[[#This Row],[Hygiene Kit]],0)","v":0},{"$f":"IF(NFI_Expiration=1,IF($A291<VLOOKUP(I$5,NFI,5,0),1,0)*Table_NFI[[#This Row],[NFI Core Kit]],0)","v":224},{"$f":"IF(NFI_Expiration=1,IF($A291<VLOOKUP(J$5,NFI,5,0),1,0)*Table_NFI[[#This Row],[Sanitary Kit]],0)","v":0},{"$f":"IF(NFI_Expiration=1,IF($A291<VLOOKUP(K$5,NFI,5,0),1,0)*Table_NFI[[#This Row],[Mosquito net]],0)","v":448},{"$f":"IF(NFI_Expiration=1,IF($A291<VLOOKUP(L$5,NFI,5,0),1,0)*Table_NFI[[#This Row],[Tarpaulin]],0)","v":224},{"$f":"IF(NFI_Expiration=1,IF($A291<VLOOKUP(M$5,NFI,5,0),1,0)*Table_NFI[[#This Row],[Blanket]],0)","v":448},{"$f":"IF(NFI_Expiration=1,IF($A291<VLOOKUP(N$5,NFI,5,0),1,0)*Table_NFI[[#This Row],[Kitchen Set]],0)","v":0},{"$f":"IF(NFI_Expiration=1,IF($A291<VLOOKUP(O$5,NFI,5,0),1,0)*Table_NFI[[#This Row],[Complementary Kit]],0)","v":224},{"$f":"IF(NFI_Expiration=1,IF($A291<VLOOKUP(P$5,NFI,5,0),1,0)*Table_NFI[[#This Row],[Plastic Bucket]],0)","v":224},{"$f":"IF(NFI_Expiration=1,IF($A291<VLOOKUP(Q$5,NFI,5,0),1,0)*Table_NFI[[#This Row],[Plastic Mat]],0)","v":224},{"$f":"IFERROR(VLOOKUP(Table_NFI[[#This Row],[Camp Name]],CL,2,0),\"\")","v":"MMR012CMP017"},{"$f":"IFERROR(VLOOKUP(Table_NFI[[#This Row],[Camp Name]],CL,3,0),\"\")","v":"Open"}]
[3.6,"2013-08-15","UNHCR","UNHCR","Rakhine","Pauktaw","Nget Chaung",null,null,null,40,null,40,224,null,224,40,{"$f":"IF(NFI_Expiration=1,IF($A292<VLOOKUP(H$5,NFI,5,0),1,0)*Table_NFI[[#This Row],[Hygiene Kit]],0)","v":0},{"$f":"IF(NFI_Expiration=1,IF($A292<VLOOKUP(I$5,NFI,5,0),1,0)*Table_NFI[[#This Row],[NFI Core Kit]],0)","v":0},{"$f":"IF(NFI_Expiration=1,IF($A292<VLOOKUP(J$5,NFI,5,0),1,0)*Table_NFI[[#This Row],[Sanitary Kit]],0)","v":0},{"$f":"IF(NFI_Expiration=1,IF($A292<VLOOKUP(K$5,NFI,5,0),1,0)*Table_NFI[[#This Row],[Mosquito net]],0)","v":40},{"$f":"IF(NFI_Expiration=1,IF($A292<VLOOKUP(L$5,NFI,5,0),1,0)*Table_NFI[[#This Row],[Tarpaulin]],0)","v":0},{"$f":"IF(NFI_Expiration=1,IF($A292<VLOOKUP(M$5,NFI,5,0),1,0)*Table_NFI[[#This Row],[Blanket]],0)","v":40},{"$f":"IF(NFI_Expiration=1,IF($A292<VLOOKUP(N$5,NFI,5,0),1,0)*Table_NFI[[#This Row],[Kitchen Set]],0)","v":224},{"$f":"IF(NFI_Expiration=1,IF($A292<VLOOKUP(O$5,NFI,5,0),1,0)*Table_NFI[[#This Row],[Complementary Kit]],0)","v":0},{"$f":"IF(NFI_Expiration=1,IF($A292<VLOOKUP(P$5,NFI,5,0),1,0)*Table_NFI[[#This Row],[Plastic Bucket]],0)","v":224},{"$f":"IF(NFI_Expiration=1,IF($A292<VLOOKUP(Q$5,NFI,5,0),1,0)*Table_NFI[[#This Row],[Plastic Mat]],0)","v":40},{"$f":"IFERROR(VLOOKUP(Table_NFI[[#This Row],[Camp Name]],CL,2,0),\"\")","v":"MMR012CMP017"},{"$f":"IFERROR(VLOOKUP(Table_NFI[[#This Row],[Camp Name]],CL,3,0),\"\")","v":"Open"}]
[3.2,"2013-08-27","UNHCR","UNHCR","Rakhine","Pauktaw","Ah Nauk Ywe",null,826,null,{"$f":"Table_NFI[[#This Row],[NFI Core Kit]]*2","v":1652},{"$f":"Table_NFI[[#This Row],[NFI Core Kit]]","v":826},{"$f":"Table_NFI[[#This Row],[Mosquito net]]","v":1652},{"$f":"L294","v":31},{"$f":"Table_NFI[[#This Row],[Tarpaulin]]","v":826},{"$f":"Table_NFI[[#This Row],[Tarpaulin]]","v":826},{"$f":"Table_NFI[[#This Row],[Tarpaulin]]","v":826},{"$f":"IF(NFI_Expiration=1,IF($A293<VLOOKUP(H$5,NFI,5,0),1,0)*Table_NFI[[#This Row],[Hygiene Kit]],0)","v":0},{"$f":"IF(NFI_Expiration=1,IF($A293<VLOOKUP(I$5,NFI,5,0),1,0)*Table_NFI[[#This Row],[NFI Core Kit]],0)","v":826},{"$f":"IF(NFI_Expiration=1,IF($A293<VLOOKUP(J$5,NFI,5,0),1,0)*Table_NFI[[#This Row],[Sanitary Kit]],0)","v":0},{"$f":"IF(NFI_Expiration=1,IF($A293<VLOOKUP(K$5,NFI,5,0),1,0)*Table_NFI[[#This Row],[Mosquito net]],0)","v":1652},{"$f":"IF(NFI_Expiration=1,IF($A293<VLOOKUP(L$5,NFI,5,0),1,0)*Table_NFI[[#This Row],[Tarpaulin]],0)","v":826},{"$f":"IF(NFI_Expiration=1,IF($A293<VLOOKUP(M$5,NFI,5,0),1,0)*Table_NFI[[#This Row],[Blanket]],0)","v":1652},{"$f":"IF(NFI_Expiration=1,IF($A293<VLOOKUP(N$5,NFI,5,0),1,0)*Table_NFI[[#This Row],[Kitchen Set]],0)","v":31},{"$f":"IF(NFI_Expiration=1,IF($A293<VLOOKUP(O$5,NFI,5,0),1,0)*Table_NFI[[#This Row],[Complementary Kit]],0)","v":826},{"$f":"IF(NFI_Expiration=1,IF($A293<VLOOKUP(P$5,NFI,5,0),1,0)*Table_NFI[[#This Row],[Plastic Bucket]],0)","v":826},{"$f":"IF(NFI_Expiration=1,IF($A293<VLOOKUP(Q$5,NFI,5,0),1,0)*Table_NFI[[#This Row],[Plastic Mat]],0)","v":826},{"$f":"IFERROR(VLOOKUP(Table_NFI[[#This Row],[Camp Name]],CL,2,0),\"\")","v":"MMR012CMP016"},{"$f":"IFERROR(VLOOKUP(Table_NFI[[#This Row],[Camp Name]],CL,3,0),\"\")","v":"Open"}]
[{"$f":"IF(ISBLANK(B294),\"\",(Report_Date-B294)/30)","v":2.6666666666666665},"2013-09-12","UNHCR","UNHCR","Rakhine","Mrauk_U","Thi Kyar",null,31,null,{"$f":"I294*2","v":62},31,{"$f":"I294*2","v":62},{"$f":"I294","v":31},{"$f":"I294","v":31},{"$f":"I294","v":31},{"$f":"I294*2","v":62},{"$f":"IF(NFI_Expiration=1,IF($A294<VLOOKUP(H$5,NFI,5,0),1,0)*Table_NFI[[#This Row],[Hygiene Kit]],0)","v":0},{"$f":"IF(NFI_Expiration=1,IF($A294<VLOOKUP(I$5,NFI,5,0),1,0)*Table_NFI[[#This Row],[NFI Core Kit]],0)","v":31},{"$f":"IF(NFI_Expiration=1,IF($A294<VLOOKUP(J$5,NFI,5,0),1,0)*Table_NFI[[#This Row],[Sanitary Kit]],0)","v":0},{"$f":"IF(NFI_Expiration=1,IF($A294<VLOOKUP(K$5,NFI,5,0),1,0)*Table_NFI[[#This Row],[Mosquito net]],0)","v":62},{"$f":"IF(NFI_Expiration=1,IF($A294<VLOOKUP(L$5,NFI,5,0),1,0)*Table_NFI[[#This Row],[Tarpaulin]],0)","v":31},{"$f":"IF(NFI_Expiration=1,IF($A294<VLOOKUP(M$5,NFI,5,0),1,0)*Table_NFI[[#This Row],[Blanket]],0)","v":62},{"$f":"IF(NFI_Expiration=1,IF($A294<VLOOKUP(N$5,NFI,5,0),1,0)*Table_NFI[[#This Row],[Kitchen Set]],0)","v":31},{"$f":"IF(NFI_Expiration=1,IF($A294<VLOOKUP(O$5,NFI,5,0),1,0)*Table_NFI[[#This Row],[Complementary Kit]],0)","v":31},{"$f":"IF(NFI_Expiration=1,IF($A294<VLOOKUP(P$5,NFI,5,0),1,0)*Table_NFI[[#This Row],[Plastic Bucket]],0)","v":31},{"$f":"IF(NFI_Expiration=1,IF($A294<VLOOKUP(Q$5,NFI,5,0),1,0)*Table_NFI[[#This Row],[Plastic Mat]],0)","v":62},{"$f":"IFERROR(VLOOKUP(Table_NFI[[#This Row],[Camp Name]],CL,2,0),\"\")","v":"MMR012CMP117"},{"$f":"IFERROR(VLOOKUP(Table_NFI[[#This Row],[Camp Name]],CL,3,0),\"\")","v":"Open"}]
[{"$f":"IF(ISBLANK(B295),\"\",(Report_Date-B295)/30)","v":2.4666666666666668},"2013-09-18","UNHCR","UNHCR","Rakhine","Pauktaw","Kyein Ni Pyin",null,548,null,{"$f":"I295*2","v":1096},548,{"$f":"I295*2","v":1096},{"$f":"I295","v":548},{"$f":"I295","v":548},{"$f":"I295","v":548},{"$f":"I295*2","v":1096},{"$f":"IF(NFI_Expiration=1,IF($A295<VLOOKUP(H$5,NFI,5,0),1,0)*Table_NFI[[#This Row],[Hygiene Kit]],0)","v":0},{"$f":"IF(NFI_Expiration=1,IF($A295<VLOOKUP(I$5,NFI,5,0),1,0)*Table_NFI[[#This Row],[NFI Core Kit]],0)","v":548},{"$f":"IF(NFI_Expiration=1,IF($A295<VLOOKUP(J$5,NFI,5,0),1,0)*Table_NFI[[#This Row],[Sanitary Kit]],0)","v":0},{"$f":"IF(NFI_Expiration=1,IF($A295<VLOOKUP(K$5,NFI,5,0),1,0)*Table_NFI[[#This Row],[Mosquito net]],0)","v":1096},{"$f":"IF(NFI_Expiration=1,IF($A295<VLOOKUP(L$5,NFI,5,0),1,0)*Table_NFI[[#This Row],[Tarpaulin]],0)","v":548},{"$f":"IF(NFI_Expiration=1,IF($A295<VLOOKUP(M$5,NFI,5,0),1,0)*Table_NFI[[#This Row],[Blanket]],0)","v":1096},{"$f":"IF(NFI_Expiration=1,IF($A295<VLOOKUP(N$5,NFI,5,0),1,0)*Table_NFI[[#This Row],[Kitchen Set]],0)","v":548},{"$f":"IF(NFI_Expiration=1,IF($A295<VLOOKUP(O$5,NFI,5,0),1,0)*Table_NFI[[#This Row],[Complementary Kit]],0)","v":548},{"$f":"IF(NFI_Expiration=1,IF($A295<VLOOKUP(P$5,NFI,5,0),1,0)*Table_NFI[[#This Row],[Plastic Bucket]],0)","v":548},{"$f":"IF(NFI_Expiration=1,IF($A295<VLOOKUP(Q$5,NFI,5,0),1,0)*Table_NFI[[#This Row],[Plastic Mat]],0)","v":1096},{"$f":"IFERROR(VLOOKUP(Table_NFI[[#This Row],[Camp Name]],CL,2,0),\"\")","v":"MMR012CMP018"},{"$f":"IFERROR(VLOOKUP(Table_NFI[[#This Row],[Camp Name]],CL,3,0),\"\")","v":"Open"}]
[{"$f":"IF(ISBLANK(B296),\"\",(Report_Date-B296)/30)","v":2.4333333333333331},"2013-09-19","UNHCR","UNHCR","Rakhine","Pauktaw","Kyein Ni Pyin",null,392,null,{"$f":"I296*2","v":784},392,{"$f":"I296*2","v":784},{"$f":"I296","v":392},{"$f":"I296","v":392},{"$f":"I296","v":392},{"$f":"I296*2","v":784},{"$f":"IF(NFI_Expiration=1,IF($A296<VLOOKUP(H$5,NFI,5,0),1,0)*Table_NFI[[#This Row],[Hygiene Kit]],0)","v":0},{"$f":"IF(NFI_Expiration=1,IF($A296<VLOOKUP(I$5,NFI,5,0),1,0)*Table_NFI[[#This Row],[NFI Core Kit]],0)","v":392},{"$f":"IF(NFI_Expiration=1,IF($A296<VLOOKUP(J$5,NFI,5,0),1,0)*Table_NFI[[#This Row],[Sanitary Kit]],0)","v":0},{"$f":"IF(NFI_Expiration=1,IF($A296<VLOOKUP(K$5,NFI,5,0),1,0)*Table_NFI[[#This Row],[Mosquito net]],0)","v":784},{"$f":"IF(NFI_Expiration=1,IF($A296<VLOOKUP(L$5,NFI,5,0),1,0)*Table_NFI[[#This Row],[Tarpaulin]],0)","v":392},{"$f":"IF(NFI_Expiration=1,IF($A296<VLOOKUP(M$5,NFI,5,0),1,0)*Table_NFI[[#This Row],[Blanket]],0)","v":784},{"$f":"IF(NFI_Expiration=1,IF($A296<VLOOKUP(N$5,NFI,5,0),1,0)*Table_NFI[[#This Row],[Kitchen Set]],0)","v":392},{"$f":"IF(NFI_Expiration=1,IF($A296<VLOOKUP(O$5,NFI,5,0),1,0)*Table_NFI[[#This Row],[Complementary Kit]],0)","v":392},{"$f":"IF(NFI_Expiration=1,IF($A296<VLOOKUP(P$5,NFI,5,0),1,0)*Table_NFI[[#This Row],[Plastic Bucket]],0)","v":392},{"$f":"IF(NFI_Expiration=1,IF($A296<VLOOKUP(Q$5,NFI,5,0),1,0)*Table_NFI[[#This Row],[Plastic Mat]],0)","v":784},{"$f":"IFERROR(VLOOKUP(Table_NFI[[#This Row],[Camp Name]],CL,2,0),\"\")","v":"MMR012CMP018"},{"$f":"IFERROR(VLOOKUP(Table_NFI[[#This Row],[Camp Name]],CL,3,0),\"\")","v":"Open"}]

{"sheet":"Pipeline Stock Tracking","index":15,"n_rows":9,"n_cols":35,"rows_kept":9,"cut":false,"hidden":false,"merged":[[2,0,2,34],[4,1,5,1],[4,0,5,0],[4,17,4,19],[4,14,4,16],[4,11,4,13],[4,5,4,7],[4,8,4,10],[4,32,4,34],[4,23,4,25],[4,20,4,22],[4,4,5,4],[4,3,5,3],[4,29,4,31],[4,26,4,28]]}
[]
["Pipeline Stock Tracking"]
[{"$f":"Report_Date","v":"2013-12-01"}]
[]
["Date Updated","Organization",null,"State","Township","Hygiene Family Kit",null,null,"NFI Core Kit",null,null,"Women's Sanitary Kit",null,null,"Mosquito Nets",null,null,"Tarpaulins",null,null,"Blanket",null,null,"Kitchen Set",null,null,"Compalimentary Kits",null,null,"Plastic Bucket",null,null,"Plastic Mat"]
[null,null,"Implementing Partner",null,null,"Stock in Balance","Pipeline","ETA","Stock in Balance","Pipeline","ETA","Stock in Balance","Pipeline","ETA","Stock in Balance","Pipeline","ETA","Stock in Balance","Pipeline","ETA","Stock in Balance","Pipeline","ETA","Stock in Balance","Pipeline","ETA","Stock in Balance","Pipeline","ETA","Stock in Balance","Pipeline","ETA","Stock in Balance","Pipeline","ETA"]
["2013-12-01","UNHCR","UNHCR","Rakhine","Maungdaw",null,null,null,null,null,null,null,null,null,141,null,null,135,null,null,31,null,null,340,null,null,0,null,null,0,null,null,986]
["2013-12-01","UNHCR","UNHCR","Rakhine","Buthidaung",null,null,null,null,null,null,null,null,null,1214,null,null,600,null,null,675,null,null,592,null,null,0,null,null,0,null,null,1200]
["2013-12-01","UNHCR","UNHCR","Rakhine","Sittwe",null,null,null,null,null,null,null,null,null,1571,null,null,3340,2000,null,1840,null,null,780,null,null,832,null,null,759,2512,null,1522,3000]

{"sheet":"NFIAnalysis","index":16,"n_rows":56,"n_cols":15,"rows_kept":56,"cut":false,"hidden":false,"merged":[[1,0,1,7],[2,0,2,7],[5,0,6,0],[5,1,6,1],[5,2,6,2],[20,11,20,14],[20,0,21,0],[20,1,21,1],[20,2,21,2],[20,3,20,6]]}
[]
["NFI DISTRIBUTION BY TOWNSHIP"]
[{"$f":"Report_Date","v":"2013-12-01"}]
[]
["Rakhine"]
["Township","Total # of HH","Total # of Population","Mosquito Net","Tarpaulin","Blanket","Kitchen Set","Complemantary Kit","Plastic Bucket","Plastic Mat"]
[null,null,null,"Dist.","Dist.","Dist.","Dist.","Dist.","Dist.","Dist."]
["Kyauk_Phyu",{"$f":"SUMIF(Camplist_Township,NFIAnalysis!$A8,Camplist_HH)","v":492},{"$f":"SUMIF(Camplist_Township,NFIAnalysis!$A8,Camplist_Popl)","v":1856},{"$f":"SUMIF(NFI_Township,$A8,NFI_Mosquito_Track)","v":0},{"$f":"SUMIF(NFI_Township,$A8,NFI_Tarpaulin_Track)","v":0},{"$f":"SUMIF(NFI_Township,$A8,NFI_Blanket_Track)","v":0},{"$f":"SUMIF(NFI_Township,$A8,NFI_Kitchen_Track)","v":0},{"$f":"SUMIF(NFI_Township,$A8,NFI_Complementary_Track)","v":0},{"$f":"SUMIF(NFI_Township,$A8,NFI_Plastic_Bucket_Track)","v":0},{"$f":"SUMIF(NFI_Township,$A8,NFI_Plastic_Mat_Track)","v":0}]
["Kyauktaw",{"$f":"SUMIF(Camplist_Township,NFIAnalysis!$A9,Camplist_HH)","v":1088},{"$f":"SUMIF(Camplist_Township,NFIAnalysis!$A9,Camplist_Popl)","v":6631},2543,1314,3197,1212,1211,1219,2562]
["Maungdaw",{"$f":"SUMIF(Camplist_Township,NFIAnalysis!$A10,Camplist_HH)","v":282},{"$f":"SUMIF(Camplist_Township,NFIAnalysis!$A10,Camplist_Popl)","v":1911},2064,2034,854,427,427,427,854]
["Meybon",{"$f":"SUMIF(Camplist_Township,NFIAnalysis!$A11,Camplist_HH)","v":796},{"$f":"SUMIF(Camplist_Township,NFIAnalysis!$A11,Camplist_Popl)","v":3650},1510,828,1510,224,755,755,755]
["Minbya",{"$f":"SUMIF(Camplist_Township,NFIAnalysis!$A12,Camplist_HH)","v":968},{"$f":"SUMIF(Camplist_Township,NFIAnalysis!$A12,Camplist_Popl)","v":5197},2100,1084,2707,1050,1050,1050,2100]
["Mrauk_U",{"$f":"SUMIF(Camplist_Township,NFIAnalysis!$A13,Camplist_HH)","v":680},{"$f":"SUMIF(Camplist_Township,NFIAnalysis!$A13,Camplist_Popl)","v":4035},1412,706,1912,706,706,706,1412]
["Pauktaw",{"$f":"SUMIF(Camplist_Township,NFIAnalysis!$A14,Camplist_HH)","v":3870},{"$f":"SUMIF(Camplist_Township,NFIAnalysis!$A14,Camplist_Popl)","v":17515},4020,4850,5385,1195,1990,2214,2970]
["Ramree",{"$f":"SUMIF(Camplist_Township,NFIAnalysis!$A15,Camplist_HH)","v":75},{"$f":"SUMIF(Camplist_Township,NFIAnalysis!$A15,Camplist_Popl)","v":255},0,0,0,0,0,0,0]
["Rathedaung",{"$f":"SUMIF(Camplist_Township,NFIAnalysis!$A16,Camplist_HH)","v":782},{"$f":"SUMIF(Camplist_Township,NFIAnalysis!$A16,Camplist_Popl)","v":4076},1427,720,720,360,360,360,720]
["Sittwe",{"$f":"SUMIF(Camplist_Township,NFIAnalysis!$A17,Camplist_HH)","v":17515},{"$f":"SUMIF(Camplist_Township,NFIAnalysis!$A17,Camplist_Popl)","v":93707},5090,5829,5902,1000,1000,4090,5090]
["Total",{"$f":"SUM(B8:B17)","v":26548},138833,20166,17365,22187,6174,7499,10821,16463]
[]
["Rakhine"]
["Township","Total # of HH","Total # of Population","Hygiene Kit",null,null,null,"NFI Core Kit",null,null,null,"Sanitary Kit"]
[null,null,null,"Dist.","Instock","Pipeline","Gap (HH)","Dist.","Instock","Pipeline",null,"Dist.","Instock","Pipeline","Gap (HH)"]
["Kyauk_Phyu",{"$f":"SUMIF(Camplist_Township,NFIAnalysis!$A23,Camplist_HH)","v":492},{"$f":"SUMIF(Camplist_Township,NFIAnalysis!$A23,Camplist_Popl)","v":1856},{"$f":"SUMIF(NFI_Township,$A23,NFI_Hygiene_Track)","v":489},{"$f":"SUMIF(NFI_Pipeline_Township,$A23,NFI_Hygiene_Stock)","v":0},{"$f":"SUMIF(NFI_Pipeline_Township,$A21,NFI_Hygiene_Pipeline)","v":0},{"$f":"IF(B23-(D23+E23+F23)<0,0,B23-(D23+E23+F23))","v":3},{"$f":"SUMIF(NFI_Township,$A23,NFI_Core_Track)","v":0},{"$f":"SUMIF(NFI_Pipeline_Township,$A23,NFI_Core_Stock)","v":0},{"$f":"SUMIF(NFI_Pipeline_Township,$A21,NFI_Core_Pipeline)","v":0},null,{"$f":"SUMIF(NFI_Township,$A23,NFI_Sanitary_Track)","v":0},{"$f":"SUMIF(NFI_Pipeline_Township,$A23,NFI_Sanitary_Stock)","v":0},{"$f":"SUMIF(NFI_Pipeline_Township,$A21,NFI_Sanitary_Pipeline)","v":0},{"$f":"IF(B23-(L23+M23+N23)<0,0,B23-(L23+M23+N23))","v":492}]
["Kyauktaw",{"$f":"SUMIF(Camplist_Township,NFIAnalysis!$A24,Camplist_HH)","v":1088},{"$f":"SUMIF(Camplist_Township,NFIAnalysis!$A24,Camplist_Popl)","v":6631},0,0,{"$f":"SUMIF(NFI_Pipeline_Township,$A23,NFI_Hygiene_Pipeline)","v":0},1088,1211,0,{"$f":"SUMIF(NFI_Pipeline_Township,$A23,NFI_Core_Pipeline)","v":0},null,60,0,{"$f":"SUMIF(NFI_Pipeline_Township,$A23,NFI_Sanitary_Pipeline)","v":0},1028]
["Maungdaw",{"$f":"SUMIF(Camplist_Township,NFIAnalysis!$A25,Camplist_HH)","v":282},{"$f":"SUMIF(Camplist_Township,NFIAnalysis!$A25,Camplist_Popl)","v":1911},0,0,{"$f":"SUMIF(NFI_Pipeline_Township,#REF!,NFI_Hygiene_Pipeline)","v":0},282,427,0,{"$f":"SUMIF(NFI_Pipeline_Township,#REF!,NFI_Core_Pipeline)","v":0},null,3791,0,{"$f":"SUMIF(NFI_Pipeline_Township,#REF!,NFI_Sanitary_Pipeline)","v":0},0]
["Meybon",{"$f":"SUMIF(Camplist_Township,NFIAnalysis!$A26,Camplist_HH)","v":796},{"$f":"SUMIF(Camplist_Township,NFIAnalysis!$A26,Camplist_Popl)","v":3650},750,0,{"$f":"SUMIF(NFI_Pipeline_Township,$A25,NFI_Hygiene_Pipeline)","v":0},46,799,0,{"$f":"SUMIF(NFI_Pipeline_Township,$A25,NFI_Core_Pipeline)","v":0},null,0,0,{"$f":"SUMIF(NFI_Pipeline_Township,$A25,NFI_Sanitary_Pipeline)","v":0},796]
["Minbya",{"$f":"SUMIF(Camplist_Township,NFIAnalysis!$A27,Camplist_HH)","v":968},{"$f":"SUMIF(Camplist_Township,NFIAnalysis!$A27,Camplist_Popl)","v":5197},950,0,{"$f":"SUMIF(NFI_Pipeline_Township,#REF!,NFI_Hygiene_Pipeline)","v":0},18,1050,0,{"$f":"SUMIF(NFI_Pipeline_Township,#REF!,NFI_Core_Pipeline)","v":0},null,0,0,{"$f":"SUMIF(NFI_Pipeline_Township,#REF!,NFI_Sanitary_Pipeline)","v":0},968]
["Mrauk_U",{"$f":"SUMIF(Camplist_Township,NFIAnalysis!$A28,Camplist_HH)","v":680},{"$f":"SUMIF(Camplist_Township,NFIAnalysis!$A28,Camplist_Popl)","v":4035},640,0,{"$f":"SUMIF(NFI_Pipeline_Township,$A26,NFI_Hygiene_Pipeline)","v":0},40,706,0,{"$f":"SUMIF(NFI_Pipeline_Township,$A26,NFI_Core_Pipeline)","v":0},null,0,0,{"$f":"SUMIF(NFI_Pipeline_Township,$A26,NFI_Sanitary_Pipeline)","v":0},680]
["Pauktaw",{"$f":"SUMIF(Camplist_Township,NFIAnalysis!$A29,Camplist_HH)","v":3870},{"$f":"SUMIF(Camplist_Township,NFIAnalysis!$A29,Camplist_Popl)","v":17515},8864,0,{"$f":"SUMIF(NFI_Pipeline_Township,$A27,NFI_Hygiene_Pipeline)","v":0},0,1990,0,{"$f":"SUMIF(NFI_Pipeline_Township,$A27,NFI_Core_Pipeline)","v":0},null,0,0,{"$f":"SUMIF(NFI_Pipeline_Township,$A27,NFI_Sanitary_Pipeline)","v":0},3870]
["Ramree",{"$f":"SUMIF(Camplist_Township,NFIAnalysis!$A30,Camplist_HH)","v":75},{"$f":"SUMIF(Camplist_Township,NFIAnalysis!$A30,Camplist_Popl)","v":255},121,0,{"$f":"SUMIF(NFI_Pipeline_Township,$A28,NFI_Hygiene_Pipeline)","v":0},0,0,0,{"$f":"SUMIF(NFI_Pipeline_Township,$A28,NFI_Core_Pipeline)","v":0},null,0,0,{"$f":"SUMIF(NFI_Pipeline_Township,$A28,NFI_Sanitary_Pipeline)","v":0},75]
["Rathedaung",{"$f":"SUMIF(Camplist_Township,NFIAnalysis!$A31,Camplist_HH)","v":782},{"$f":"SUMIF(Camplist_Township,NFIAnalysis!$A31,Camplist_Popl)","v":4076},0,0,{"$f":"SUMIF(NFI_Pipeline_Township,$A29,NFI_Hygiene_Pipeline)","v":0},782,360,0,{"$f":"SUMIF(NFI_Pipeline_Township,$A29,NFI_Core_Pipeline)","v":0},null,492,0,{"$f":"SUMIF(NFI_Pipeline_Township,$A29,NFI_Sanitary_Pipeline)","v":0},290]
["Sittwe",{"$f":"SUMIF(Camplist_Township,NFIAnalysis!$A32,Camplist_HH)","v":17515},{"$f":"SUMIF(Camplist_Township,NFIAnalysis!$A32,Camplist_Popl)","v":93707},28684,0,{"$f":"SUMIF(NFI_Pipeline_Township,$A30,NFI_Hygiene_Pipeline)","v":0},0,1000,0,{"$f":"SUMIF(NFI_Pipeline_Township,$A30,NFI_Core_Pipeline)","v":0},null,11406,0,{"$f":"SUMIF(NFI_Pipeline_Township,$A30,NFI_Sanitary_Pipeline)","v":0},6109]
["Total",{"$f":"SUM(B23:B32)","v":26548},138833,40498,0,0,2259,7543,0,0,null,{"$f":"SUM(L23:L32)","v":15749},{"$f":"SUM(M23:M32)","v":0},{"$f":"SUM(N23:N32)","v":0},{"$f":"SUM(O23:O32)","v":14308}]
[]
["State","Rakhine"]
[]
["Row Labels","Mosquito net ","Tarpaulin ","Blanket ","Kitchen Set ","Complementary Kit ","Plastic Bucket  ","Plastic  Mat"]
["KOICAT",0,0,398,0,0,0,0]
["Muslim Aid",5090,4090,5090,1000,1000,4090,5090]
["UNHCR",15076,13275,16699,5174,6499,6731,11373]
["Grand Total",20166,17365,22187,6174,7499,10821,16463]
[]
["State","Rakhine"]
[]
["Row Labels","Mosquito net ","Tarpaulin ","Blanket ","Kitchen Set ","Complementary Kit ","Plastic Bucket  ","Plastic  Mat"]
["Kyauk_Phyu",0,0,0,0,0,0,0]
["Kyauktaw",2543,1314,3197,1212,1211,1219,2562]
["Maungdaw",2064,2034,854,427,427,427,854]
["Meybon",1510,828,1510,224,755,755,755]
["Minbya",2100,1084,2707,1050,1050,1050,2100]
["Mrauk_U",1412,706,1912,706,706,706,1412]
["Pauktaw",4020,4850,5385,1195,1990,2214,2970]
["Ramree",0,0,0,0,0,0,0]
["Rathedaung",1427,720,720,360,360,360,720]
["Sittwe",5090,5829,5902,1000,1000,4090,5090]
["Grand Total",20166,17365,22187,6174,7499,10821,16463]

{"sheet":"NFISummary","index":17,"n_rows":36,"n_cols":16,"rows_kept":36,"cut":false,"hidden":false,"merged":[[1,0,1,7],[2,0,2,7]]}
[null,null,null,null,null,null,null,null,null,null,null,null,null,null,null,1]
["Rakhine NFI Coverage & Gaps"]
[{"$f":"Report_Date","v":"2013-12-01"}]
[null,"Rakhine",{"$f":"NFIAnalysis!#REF!","v":{"$error":"#REF!"}},null,null,null,null,null,null,null,null,null,null,null,null,0]
[null,"Main Kits","Quantity/HH","Requirement","Distributed","Distributed","In Stock","In Stock","Requirement","Requirement","Pipeline","Pipeline","Remaining Need","Remaining Need",null,1]
[null,"Hygiene Kit",{"$f":"VLOOKUP($B6,NFI,6,0)","v":1},{"$f":"$C$4*C6","v":{"$error":"#REF!"}},{"$f":"SUMIFS(INDIRECT(VLOOKUP($B6,NFI,2,0)),NFI_State,$B$4)","v":40498},{"$f":"IF((E6/D6)>100%,100%,(E6/D6))","v":{"$error":"#REF!"}},{"$f":"SUMIFS(INDIRECT(VLOOKUP($B6,NFI,3,0)),NFI_Pipeline_State,$B$4)","v":0},{"$f":"G6/D6","v":{"$error":"#REF!"}},{"$f":"IF((D6-(SUM(E6:G6)))<0,0,(D6-(SUM(E6:G6))))","v":{"$error":"#REF!"}},{"$f":"I6/D6","v":{"$error":"#REF!"}},{"$f":"SUMIFS(INDIRECT(VLOOKUP($B6,NFI,4,0)),NFI_Pipeline_State,$B$4)","v":0},{"$f":"K6/D6","v":{"$error":"#REF!"}},{"$f":"IF((D6-(E6+G6+K6))<0,0,(D6-(E6+G6+K6)))","v":{"$error":"#REF!"}},{"$f":"M6/D6","v":{"$error":"#REF!"}},null,1]
[null,"NFI Core Kit",{"$f":"VLOOKUP($B7,NFI,6,0)","v":1},{"$f":"$C$4*C7","v":{"$error":"#REF!"}},{"$f":"SUMIFS(INDIRECT(VLOOKUP($B7,NFI,2,0)),NFI_State,$B$4)","v":7543},{"$f":"IF((E7/D7)>100%,100%,(E7/D7))","v":{"$error":"#REF!"}},{"$f":"SUMIFS(INDIRECT(VLOOKUP($B7,NFI,3,0)),NFI_Pipeline_State,$B$4)","v":0},{"$f":"G7/D7","v":{"$error":"#REF!"}},{"$f":"IF((D7-(SUM(E7:G7)))<0,0,(D7-(SUM(E7:G7))))","v":{"$error":"#REF!"}},{"$f":"I7/D7","v":{"$error":"#REF!"}},{"$f":"SUMIFS(INDIRECT(VLOOKUP($B7,NFI,4,0)),NFI_Pipeline_State,$B$4)","v":0},{"$f":"K7/D7","v":{"$error":"#REF!"}},{"$f":"IF((D7-(E7+G7+K7))<0,0,(D7-(E7+G7+K7)))","v":{"$error":"#REF!"}},{"$f":"M7/D7","v":{"$error":"#REF!"}},null,1]
[null,"Sanitary Kit",{"$f":"VLOOKUP($B8,NFI,6,0)","v":1},{"$f":"$C$4*C8","v":{"$error":"#REF!"}},{"$f":"SUMIFS(INDIRECT(VLOOKUP($B8,NFI,2,0)),NFI_State,$B$4)","v":15749},{"$f":"IF((E8/D8)>100%,100%,(E8/D8))","v":{"$error":"#REF!"}},{"$f":"SUMIFS(INDIRECT(VLOOKUP($B8,NFI,3,0)),NFI_Pipeline_State,$B$4)","v":0},{"$f":"G8/D8","v":{"$error":"#REF!"}},{"$f":"IF((D8-(SUM(E8:G8)))<0,0,(D8-(SUM(E8:G8))))","v":{"$error":"#REF!"}},{"$f":"I8/D8","v":{"$error":"#REF!"}},{"$f":"SUMIFS(INDIRECT(VLOOKUP($B8,NFI,4,0)),NFI_Pipeline_State,$B$4)","v":0},{"$f":"K8/D8","v":{"$error":"#REF!"}},{"$f":"IF((D8-(E8+G8+K8))<0,0,(D8-(E8+G8+K8)))","v":{"$error":"#REF!"}},{"$f":"M8/D8","v":{"$error":"#REF!"}},null,1]
[null,null,null,null,null,null,null,null,null,null,null,null,null,null,null,1]
[null,null,null,null,null,null,null,null,null,null,null,null,null,null,null,1]
[null,"Items (Direct and throug Kits)","Quantity/HH","Requirement","Distributed","Distributed","In Stock","In Stock","Requirement","Requirement","Pipeline","Pipeline","Remaining Need","Remaining Need",null,1]
[null,"Mosquito net",{"$f":"VLOOKUP($B12,NFI,6,0)","v":2},{"$f":"$C$4*C12","v":{"$error":"#REF!"}},{"$f":"SUMIFS(INDIRECT(VLOOKUP($B12,NFI,2,0)),NFI_State,$B$4)+C12*E$7","v":35252},{"$f":"IF((E12/D12)>100%,100%,(E12/D12))","v":{"$error":"#REF!"}},{"$f":"SUMIFS(INDIRECT(VLOOKUP($B12,NFI,3,0)),NFI_Pipeline_State,$B$4)+C12*G$7","v":2926},{"$f":"G12/D12","v":{"$error":"#REF!"}},{"$f":"IF((D12-(SUM(E12:G12)))<0,0,(D12-(SUM(E12:G12))))","v":{"$error":"#REF!"}},{"$f":"I12/D12","v":{"$error":"#REF!"}},{"$f":"SUMIFS(INDIRECT(VLOOKUP($B12,NFI,4,0)),NFI_Pipeline_State,$B$4)+C12*K$7","v":0},{"$f":"K12/D12","v":{"$error":"#REF!"}},{"$f":"IF((D12-(E12+G12+K12))<0,0,(D12-(E12+G12+K12)))","v":{"$error":"#REF!"}},{"$f":"M12/D12","v":{"$error":"#REF!"}},null,1]
[null,"Tarpaulin",1,{"$error":"#REF!"},24908,{"$f":"IF((E13/D13)>100%,100%,(E13/D13))","v":{"$error":"#REF!"}},4075,{"$error":"#REF!"},{"$error":"#REF!"},{"$error":"#REF!"},{"$f":"SUMIFS(INDIRECT(VLOOKUP($B13,NFI,4,0)),NFI_Pipeline_State,$B$4)++C13*K$7","v":2000},{"$error":"#REF!"},{"$error":"#REF!"},{"$error":"#REF!"},null,1]
[null,"Blanket",2,{"$error":"#REF!"},37273,{"$error":"#REF!"},2546,{"$error":"#REF!"},{"$error":"#REF!"},{"$error":"#REF!"},0,{"$error":"#REF!"},{"$error":"#REF!"},{"$error":"#REF!"}]
[null,"Kitchen Set",1,{"$error":"#REF!"},13717,{"$error":"#REF!"},1712,{"$error":"#REF!"},{"$error":"#REF!"},{"$error":"#REF!"},0,{"$error":"#REF!"},{"$error":"#REF!"},{"$error":"#REF!"}]
[null,"Complementary Kit",1,{"$error":"#REF!"},15042,{"$error":"#REF!"},3708,{"$error":"#REF!"},{"$error":"#REF!"},{"$error":"#REF!"},3000,{"$error":"#REF!"},{"$error":"#REF!"},{"$error":"#REF!"}]
[null,"Plastic Bucket",1,{"$error":"#REF!"},18364,{"$error":"#REF!"},759,{"$error":"#REF!"},{"$error":"#REF!"},{"$error":"#REF!"},2512,{"$error":"#REF!"},{"$error":"#REF!"},{"$error":"#REF!"}]
[null,"Plastic Mat",2,{"$error":"#REF!"},31549,{"$error":"#REF!"},3708,{"$error":"#REF!"},{"$error":"#REF!"},{"$error":"#REF!"},3000,{"$error":"#REF!"},{"$error":"#REF!"},{"$error":"#REF!"}]
[]
[null,"Rakhine",{"$f":"NFIAnalysis!B18","v":26548}]
[null,"Main Kits","Quantity/HH","Requirement","Distributed","Distributed","In Stock","In Stock","Requirement","Requirement","Pipeline","Pipeline","Remaining Need","Remaining Need",null,1]
[null,"Hygiene Kit",{"$f":"VLOOKUP($B22,NFI,6,0)","v":1},{"$f":"$C$20*C22","v":26548},{"$f":"SUMIFS(INDIRECT(VLOOKUP($B22,NFI,2,0)),NFI_State,\"Rakhine\")","v":40498},{"$f":"IF((E22/D22)>100%,100%,(E22/D22))","v":1},{"$f":"SUMIFS(INDIRECT(VLOOKUP($B22,NFI,3,0)),NFI_Pipeline_State,$B$20)","v":0},{"$f":"G22/D22","v":0},{"$f":"IF((D22-(SUM(E22:G22)))<0,0,(D22-(SUM(E22:G22))))","v":0},{"$f":"I22/D22","v":0},{"$f":"SUMIFS(INDIRECT(VLOOKUP($B22,NFI,4,0)),NFI_Pipeline_State,$B$20)","v":0},{"$f":"K22/D22","v":0},{"$f":"IF((D22-(E22+G22+K22))<0,0,(D22-(E22+G22+K22)))","v":0},{"$f":"M22/D22","v":0},null,1]
[null,"NFI Core Kit",{"$f":"VLOOKUP($B23,NFI,6,0)","v":1},{"$f":"$C$20*C23","v":26548},{"$f":"SUMIFS(INDIRECT(VLOOKUP($B23,NFI,2,0)),NFI_State,\"Rakhine\")","v":7543},{"$f":"IF((E23/D23)>100%,100%,(E23/D23))","v":0.28412686454723518},{"$f":"SUMIFS(INDIRECT(VLOOKUP($B23,NFI,3,0)),NFI_Pipeline_State,$B$20)","v":0},{"$f":"G23/D23","v":0},{"$f":"IF((D23-(SUM(E23:G23)))<0,0,(D23-(SUM(E23:G23))))","v":19004.715873135454},{"$f":"I23/D23","v":0.71586243306973985},{"$f":"SUMIFS(INDIRECT(VLOOKUP($B23,NFI,4,0)),NFI_Pipeline_State,$B$20)","v":0},{"$f":"K23/D23","v":0},{"$f":"IF((D23-(E23+G23+K23))<0,0,(D23-(E23+G23+K23)))","v":19005},{"$f":"M23/D23","v":0.71587313545276476},null,1]
[null,"Sanitary Kit",{"$f":"VLOOKUP($B24,NFI,6,0)","v":1},{"$f":"$C$20*C24","v":26548},{"$f":"SUMIFS(INDIRECT(VLOOKUP($B24,NFI,2,0)),NFI_State,\"Rakhine\")","v":15749},{"$f":"IF((E24/D24)>100%,100%,(E24/D24))","v":0.59322736175983126},{"$f":"SUMIFS(INDIRECT(VLOOKUP($B24,NFI,3,0)),NFI_Pipeline_State,$B$20)","v":0},{"$f":"G24/D24","v":0},{"$f":"IF((D24-(SUM(E24:G24)))<0,0,(D24-(SUM(E24:G24))))","v":10798.40677263824},{"$f":"I24/D24","v":0.4067502927767907},{"$f":"SUMIFS(INDIRECT(VLOOKUP($B24,NFI,4,0)),NFI_Pipeline_State,$B$20)","v":0},{"$f":"K24/D24","v":0},{"$f":"IF((D24-(E24+G24+K24))<0,0,(D24-(E24+G24+K24)))","v":10799},{"$f":"M24/D24","v":0.40677263824016874},null,1]
[null,null,null,null,null,null,null,null,null,null,null,null,null,null,null,1]
[null,null,null,null,null,null,null,null,null,null,null,null,null,null,null,1]
[null,null,null,null,null,null,null,null,null,null,null,null,null,null,null,1]
[null,null,null,null,null,null,null,null,null,null,null,null,null,null,null,1]
[null,"Items (Direct and through Kits)","Quantity/HH","Requirement","Distributed","Distributed","In Stock","In Stock","Requirement","Requirement","Pipeline","Pipeline","Remaining Need","Remaining Need",null,1]
[null,"Mosquito net",{"$f":"VLOOKUP($B30,NFI,6,0)","v":2},{"$f":"$C$20*C30","v":53096},{"$f":"SUMIFS(INDIRECT(VLOOKUP($B30,NFI,2,0)),NFI_State,\"Rakhine\")","v":20166},{"$f":"IF((E30/D30)>100%,100%,(E30/D30))","v":0.37980262166641554},{"$f":"SUMIFS(INDIRECT(VLOOKUP($B30,NFI,3,0)),NFI_Pipeline_State,$B$4)+C30*G$7","v":2926},{"$f":"G30/D30","v":5.5107729395811364E-2},{"$f":"IF((D30-(SUM(E30:G30)))<0,0,(D30-(SUM(E30:G30))))","v":30003.620197378332},{"$f":"I30/D30","v":0.56508249580718573},{"$f":"SUMIFS(INDIRECT(VLOOKUP($B30,NFI,4,0)),NFI_Pipeline_State,$B$4)+C30*K$7","v":0},{"$f":"K30/D30","v":0},{"$f":"IF((D30-(E30+G30+K30))<0,0,(D30-(E30+G30+K30)))","v":30004},{"$f":"M30/D30","v":0.56508964893777314}]
[null,"Tarpaulin",1,26548,17365,0.65409823715534132,4075,0.15349555522073227,5107.3459017628447,0.19238156929948941,2000,7.5335241826126262E-2,3108,0.11707096579780021]
[null,"Blanket",2,53096,22187,0.41786575259906583,2546,4.7950881422329367E-2,28362.582134247401,0.53417549597422409,0,0,28363,0.53418336597860483]
[null,"Kitchen Set",1,26548,6174,0.23255989151725176,1712,6.4486967003164086E-2,18661.767440108481,0.70294438150175076,0,0,18662,0.7029531414795841]
[null,"Complementary Kit",1,26548,7499,0.28246948922706044,3708,0.13967153834563809,15340.717530510774,0.57784833247366185,3000,0.1130028627391894,12341,0.46485610968811208]
[null,"Plastic Bucket",1,26548,10821,{"$f":"IF((E35/D35)>100%,100%,(E35/D35))","v":0.40760132590025616},759,2.8589724273014917E-2,14967.5923986741,0.56379359645450133,2512,9.4621063733614591E-2,12456,0.46918788609311435]
[null,"Plastic Mat",2,53096,16463,0.31006102154587917,3708,6.9835769172819043E-2,32924.689938978452,0.62009736965079199,3000,5.65014313695947E-2,29925,0.56360177791170707]

{"sheet":"analysis","index":18,"n_rows":7,"n_cols":20,"rows_kept":7,"cut":false,"hidden":true,"merged":[]}
["Rakhine",null,null,null,null,null,null,null,null,null,null,"Kachin"]
["Org","Hygiene Family Kit","NFI Core Kit","Women's Sanitary Kit","Mosquito Nets","Tarpaulins",null,"Blanket","Kitchen Set","Complementary Kit",null,"Org","Hygiene Family Kit","NFI Core Kit","Women's Sanitary Kit","Mosquito Net","Tarpaulin","Blanket","Kitchen Set","Complementary Kit"]
["DRC",{"$f":"SUMIFS(NFI_Hygiene_Track,NFI_Org,A3,NFI_State,\"Rakhine\")","v":2907},{"$f":"SUMIFS(NFI_Core_Track,NFI_Org,A3,NFI_State,\"Rakhine\")","v":0},{"$f":"SUMIFS(NFI_Sanitary_Track,NFI_Org,A3,NFI_State,\"Rakhine\")","v":0},{"$f":"SUMIFS(NFI_Mosquito_Track,NFI_Org,A3,NFI_State,\"Rakhine\")","v":0},{"$f":"SUMIFS(NFI_Tarpaulin_Track,NFI_Org,A3,NFI_State,\"Rakhine\")","v":0},null,{"$f":"SUMIFS(NFI_Blanket_Track,NFI_Org,A3,NFI_State,\"Rakhine\")","v":0},{"$f":"SUMIFS(NFI_Kitchen_Track,NFI_Org,A3,NFI_State,\"Rakhine\")","v":0},{"$f":"SUMIFS(NFI_Complementary_Track,NFI_Org,A3,NFI_State,\"Rakhine\")","v":0},null,"UNHCR",{"$f":"SUMIFS(NFI_Hygiene_Track,NFI_Org,L3,NFI_State,\"Kachin\")","v":0},{"$f":"SUMIFS(NFI_Core_Track,NFI_Org,L3,NFI_State,\"Kachin\")","v":0},{"$f":"SUMIFS(NFI_Sanitary_Track,NFI_Org,L3,NFI_State,\"Kachin\")","v":0},{"$f":"SUMIFS(NFI_Mosquito_Track,NFI_Org,L3,NFI_State,\"Kachin\")","v":0},{"$f":"SUMIFS(NFI_Tarpaulin_Track,NFI_Org,L3,NFI_State,\"Kachin\")","v":0},{"$f":"SUMIFS(NFI_Blanket_Track,NFI_Org,L3,NFI_State,\"Kachin\")","v":0},{"$f":"SUMIFS(NFI_Kitchen_Track,NFI_Org,L3,NFI_State,\"Kachin\")","v":0},{"$f":"SUMIFS(NFI_Complementary_Track,NFI_Org,L3,NFI_State,\"Kachin\")","v":0}]
["KOICAT",{"$f":"SUMIFS(NFI_Hygiene_Track,NFI_Org,A4,NFI_State,\"Rakhine\")","v":0},{"$f":"SUMIFS(NFI_Core_Track,NFI_Org,A4,NFI_State,\"Rakhine\")","v":0},{"$f":"SUMIFS(NFI_Sanitary_Track,NFI_Org,A4,NFI_State,\"Rakhine\")","v":0},{"$f":"SUMIFS(NFI_Mosquito_Track,NFI_Org,A4,NFI_State,\"Rakhine\")","v":0},{"$f":"SUMIFS(NFI_Tarpaulin_Track,NFI_Org,A4,NFI_State,\"Rakhine\")","v":0},null,{"$f":"SUMIFS(NFI_Blanket_Track,NFI_Org,A4,NFI_State,\"Rakhine\")","v":398},{"$f":"SUMIFS(NFI_Kitchen_Track,NFI_Org,A4,NFI_State,\"Rakhine\")","v":0},{"$f":"SUMIFS(NFI_Complementary_Track,NFI_Org,A4,NFI_State,\"Rakhine\")","v":0}]
["UNHCR",{"$f":"SUMIFS(NFI_Hygiene_Track,NFI_Org,A5,NFI_State,\"Rakhine\")","v":0},{"$f":"SUMIFS(NFI_Core_Track,NFI_Org,A5,NFI_State,\"Rakhine\")","v":6543},{"$f":"SUMIFS(NFI_Sanitary_Track,NFI_Org,A5,NFI_State,\"Rakhine\")","v":15689},{"$f":"SUMIFS(NFI_Mosquito_Track,NFI_Org,A5,NFI_State,\"Rakhine\")","v":15076},{"$f":"SUMIFS(NFI_Tarpaulin_Track,NFI_Org,A5,NFI_State,\"Rakhine\")","v":13275},null,{"$f":"SUMIFS(NFI_Blanket_Track,NFI_Org,A5,NFI_State,\"Rakhine\")","v":16699},{"$f":"SUMIFS(NFI_Kitchen_Track,NFI_Org,A5,NFI_State,\"Rakhine\")","v":5174},{"$f":"SUMIFS(NFI_Complementary_Track,NFI_Org,A5,NFI_State,\"Rakhine\")","v":6499}]
["Muslim Aid",{"$f":"SUMIFS(NFI_Hygiene_Track,NFI_Org,A6,NFI_State,\"Rakhine\")","v":0},{"$f":"SUMIFS(NFI_Core_Track,NFI_Org,A6,NFI_State,\"Rakhine\")","v":1000},{"$f":"SUMIFS(NFI_Sanitary_Track,NFI_Org,A6,NFI_State,\"Rakhine\")","v":0},{"$f":"SUMIFS(NFI_Mosquito_Track,NFI_Org,A6,NFI_State,\"Rakhine\")","v":5090},{"$f":"SUMIFS(NFI_Tarpaulin_Track,NFI_Org,A6,NFI_State,\"Rakhine\")","v":4090},null,{"$f":"SUMIFS(NFI_Blanket_Track,NFI_Org,A6,NFI_State,\"Rakhine\")","v":5090},{"$f":"SUMIFS(NFI_Kitchen_Track,NFI_Org,A6,NFI_State,\"Rakhine\")","v":1000},{"$f":"SUMIFS(NFI_Complementary_Track,NFI_Org,A6,NFI_State,\"Rakhine\")","v":1000}]
["UNICEF",{"$f":"SUMIFS(NFI_Hygiene_Track,NFI_Org,A7,NFI_State,\"Rakhine\")","v":0},{"$f":"SUMIFS(NFI_Core_Track,NFI_Org,A7,NFI_State,\"Rakhine\")","v":0},{"$f":"SUMIFS(NFI_Sanitary_Track,NFI_Org,A7,NFI_State,\"Rakhine\")","v":0},{"$f":"SUMIFS(NFI_Mosquito_Track,NFI_Org,A7,NFI_State,\"Rakhine\")","v":0},{"$f":"SUMIFS(NFI_Tarpaulin_Track,NFI_Org,A7,NFI_State,\"Rakhine\")","v":0},null,{"$f":"SUMIFS(NFI_Blanket_Track,NFI_Org,A7,NFI_State,\"Rakhine\")","v":0},{"$f":"SUMIFS(NFI_Kitchen_Track,NFI_Org,A7,NFI_State,\"Rakhine\")","v":0},{"$f":"SUMIFS(NFI_Complementary_Track,NFI_Org,A7,NFI_State,\"Rakhine\")","v":0}]

{"sheet":"list","index":19,"n_rows":16,"n_cols":6,"rows_kept":16,"cut":false,"hidden":false,"merged":[]}
["State","Kachin","Shan (North)","Rakhine","Type of Accomodation","Camp_Acessibility"]
["Kachin","Bhamo","Kutkai","Kyauk_Phyu","Collective Center","Accessible by All"]
["Rakhine","China","Manton","Kyauktaw","Individual (non hosted)","Accessibility Restricted"]
["Shan_North","Chipwi","Muse","Maungdaw","Planned Camp","Not Accessible"]
[null,"Hpakant","Namhkan","Meybon","Privately Hosted"]
[null,"Injangyang","Namtu","Minbya","Self Settled Camp"]
[null,"Khaunglanhpu",null,"Mrauk_U"]
[null,"Mansi",null,"Pauktaw"]
[null,"Mogaung",null,"Ramree"]
[null,"Mohnyin",null,"Rathedaung"]
[null,"Momauk",null,"Sittwe"]
[null,"Mong Kar"]
[null,"Myitkyina"]
[null,"Puta-O"]
[null,"Shwegu"]
[null,"Waingmaw"]