{"text_format":"1","workbook":"xlsx","n_sheets":17,"sheets":["Home","Camp List","Camp Analysis","CCCM Dashboard","Shelter Tracking","Shelter Progress","Shelter Summary (by Agency)","Shelter Coverage & Gaps","Kachin","NFI Tracking","NFI Pipeline","NFI Distribution (by Tship)","NFI Covergae & Gaps","analysis","list","camp","Definition"],"not_rendered":{"charts":16,"images":14,"macros":1,"external_links":3,"defined_names":109,"comments":0,"pivot_tables":9},"unopened":[],"bounds":{"document_bytes":16777216,"sheet_cells":100000,"rows_first":2000,"rows_last":500,"rows_between":2000,"halvings":0,"cell_chars":16384,"cell_head_chars":4096},"cells_cut":0,"cells_raw":0,"read":"whole","date_system":"1900"}

{"sheet":"Home","index":0,"n_rows":23,"n_cols":22,"rows_kept":23,"cut":false,"hidden":false,"merged":[[6,2,11,3],[13,2,18,3],[20,2,23,3],[1,2,3,21],[6,19,6,21],[6,15,6,17],[6,11,6,13],[6,5,6,9],[4,2,4,14]]}
[]
[null,null,"CLUSTER REPORT"]
[]
[]
[null,null,"2013-08-01"]
[]
[null,null,"CCCM",null,null,"Report & Analysis",null,null,null,null,null,"Dashboards",null,null,null,"3W",null,null,null,"Contact List"]
[]
[null,null,null,null,null,null,null,null,null,null,null,"Rakhine","Kachin","Myanmar",null,"Rakhine","Kachin","Myanmar",null,"Rakhine","Kachin","Myanmar"]
[]
[]
[]
[]
[null,null,"Shelter"]
[]
[null,null,null,null,null,null,null,null,null,null,null,"Rakhine","Kachin","Myanmar",null,"Rakhine","Kachin","Myanmar",null,"Rakhine","Kachin","Myanmar"]
[]
[]
[]
[]
[null,null,"NFI"]
[null,null,null,null,null,null,null,null,null,null,null,null,"Kachin"]
[null,null,null,null,null,null,null,null,null,null,null,"Rakhine","Kachin","Myanmar",null,"Rakhine","Kachin","Myanmar",null,"Rakhine","Kachin","Myanmar"]

{"sheet":"Camp List","index":1,"n_rows":207,"n_cols":26,"rows_kept":207,"cut":false,"hidden":false,"merged":[[2,0,2,2],[1,0,1,4]]}
[]
["KACHIN & NORTHERN SHAN CAMP LIST"]
[{"$f":"Report_Date","v":"2013-08-01"}]
["Index","Update Date","Status","State","State_Pcode","District","District_Pcode","TOWNSHIP_NAME","Township_Pcode","VillageTracKTown_Name","VillageTrackTown_Pcode","VillageWard_Name","VillageWard_Pcode","Camp Name","P_Code","Accessibility","Longitude","Latitude","HH","Total","Avg","Source","Method","Type of Accomodation","Comment","Status2"]
[null,null,"Open","Kachin","MMR001","Myitkyina","MMR001D001","Myitkyina","MMR001001","Myitkyina Town","MMR001001701","Tat Kone Ward","MMR001001701520","Tat Kone Baptist Church","MMR001CMP001","GCA",97.386718999999999,25.415482000000001,62,260,{"$f":"IF(CampList[[#This Row],[HH]]>0,CampList[[#This Row],[Total]]/CampList[[#This Row],[HH]],\"NA\")","v":4.193548387096774},null,null,"Camp",null,{"$f":"C5","v":"Open"}]
[null,null,"Open","Kachin","MMR001","Myitkyina","MMR001D001","Myitkyina","MMR001001","Myitkyina Town","MMR001001701","N Jang Dung",null,"Njang Dung Baptist Church ","MMR001CMP002","GCA",97.394547000000003,25.422194000000001,58,239,{"$f":"IF(CampList[[#This Row],[HH]]>0,CampList[[#This Row],[Total]]/CampList[[#This Row],[HH]],\"NA\")","v":4.1206896551724137},null,null,"Camp"," ","Open"]
[null,null,"Open","Kachin","MMR001","Myitkyina","MMR001D001","Myitkyina","MMR001001","Myitkyina Town","MMR001001701","Tat Kone Ward","MMR001001701520","Tat Kone Galile Baptist Church","MMR001CMP003","GCA",97.377662999999998,25.404752999999999,30,139,{"$f":"IF(CampList[[#This Row],[HH]]>0,CampList[[#This Row],[Total]]/CampList[[#This Row],[HH]],\"NA\")","v":4.6333333333333337},null,null,"Camp"," ","Open"]
[null,null,"Open","Kachin","MMR001","Myitkyina","MMR001D001","Myitkyina","MMR001001","Myitkyina Town","MMR001001701","Tat Kone Ward","MMR001001701520","Tat Kone Emanuel Church","MMR001CMP004","GCA",97.379272,25.401074999999999,14,61,{"$f":"IF(CampList[[#This Row],[HH]]>0,CampList[[#This Row],[Total]]/CampList[[#This Row],[HH]],\"NA\")","v":4.3571428571428568},null,null,"Camp"," ","Open"]
[null,null,"Open","Kachin","MMR001","Myitkyina","MMR001D001","Myitkyina","MMR001001","Myitkyina Town","MMR001001701","Tat Kone Ward","MMR001001701520","Tat Kone San Pya Baptist Church","MMR001CMP005","GCA",97.382192000000003,25.404015000000001,43,185,{"$f":"IF(CampList[[#This Row],[HH]]>0,CampList[[#This Row],[Total]]/CampList[[#This Row],[HH]],\"NA\")","v":4.3023255813953485},null,null,"Camp"," ","Open"]
[null,null,"Open","Kachin","MMR001","Myitkyina","MMR001D001","Myitkyina","MMR001001","Myitkyina Town","MMR001001701","Si Tar Pu Ward","MMR001001701521","Shatapru Sut Ngai Tawng","MMR001CMP006","GCA",97.399628000000007,25.412313000000001,96,396,{"$f":"IF(CampList[[#This Row],[HH]]>0,CampList[[#This Row],[Total]]/CampList[[#This Row],[HH]],\"NA\")","v":4.125},null,null,"Camp"," ","Open"]
[null,null,"Open","Kachin","MMR001","Myitkyina","MMR001D001","Myitkyina","MMR001001","Myitkyina Town","MMR001001701","Si Tar Pu Ward","MMR001001701521","Shatapru Thida Aye Baptist Church","MMR001CMP007","GCA",97.418004999999994,25.423817,15,74,{"$f":"IF(CampList[[#This Row],[HH]]>0,CampList[[#This Row],[Total]]/CampList[[#This Row],[HH]],\"NA\")","v":4.9333333333333336},null,null,"Camp"," ","Open"]
[null,null,"Open","Kachin","MMR001","Myitkyina","MMR001D001","Myitkyina","MMR001001","Myitkyina Town","MMR001001701","Man Khein Ward","MMR001001701519","Man Hkring Baptist Church","MMR001CMP008","GCA",97.418694000000002,25.428910999999999,33,390,{"$f":"IF(CampList[[#This Row],[HH]]>0,CampList[[#This Row],[Total]]/CampList[[#This Row],[HH]],\"NA\")","v":11.818181818181818},null,null,"Camp"," ","Open"]
[null,null,"Open","Kachin","MMR001","Myitkyina","MMR001D001","Myitkyina","MMR001001","Myitkyina Town","MMR001001701","Shwe Set Ward","MMR001001701518","Shwe Zet Baptist Church","MMR001CMP009","GCA",97.419403000000003,25.440928,74,364,{"$f":"IF(CampList[[#This Row],[HH]]>0,CampList[[#This Row],[Total]]/CampList[[#This Row],[HH]],\"NA\")","v":4.9189189189189193},null,null,"Camp"," ","Open"]
[null,null,"Open","Kachin","MMR001","Myitkyina","MMR001D001","Myitkyina","MMR001001","Myitkyina Town","MMR001001701","Du Ka Htaung Ward","MMR001001701504","Du Kahtawng Qtr. 4","MMR001CMP010","GCA",97.383056999999994,25.395994000000002,6,36,{"$f":"IF(CampList[[#This Row],[HH]]>0,CampList[[#This Row],[Total]]/CampList[[#This Row],[HH]],\"NA\")","v":6},null,null,"Camp"," ","Open"]
[null,null,"Open","Kachin","MMR001","Myitkyina","MMR001D001","Myitkyina","MMR001001","Myitkyina Town","MMR001001701","Du Ka Htaung Ward","MMR001001701504","Du Kahtawng Qtr. 5","MMR001CMP011","GCA",97.381195000000005,25.396363999999998,8,26,{"$f":"IF(CampList[[#This Row],[HH]]>0,CampList[[#This Row],[Total]]/CampList[[#This Row],[HH]],\"NA\")","v":3.25},null,null,"Camp"," ","Open"]
[null,null,"Open","Kachin","MMR001","Myitkyina","MMR001D001","Myitkyina","MMR001001","Myitkyina Town","MMR001001701","Du Ka Htaung Ward","MMR001001701504","Du Kahtawng Qtr. 14","MMR001CMP012","GCA",97.385101000000006,25.399795999999998,6,32,{"$f":"IF(CampList[[#This Row],[HH]]>0,CampList[[#This Row],[Total]]/CampList[[#This Row],[HH]],\"NA\")","v":5.333333333333333},null,null,"Camp"," ","Open"]
[null,null,"Open","Kachin","MMR001","Myitkyina","MMR001D001","Myitkyina","MMR001001","Myitkyina Town","MMR001001701","Kyun Pin Thar Ward","MMR001001701510","Kyun Pin Thar Baptist Church","MMR001CMP013","GCA",97.405120999999994,25.365891000000001,53,215,{"$f":"IF(CampList[[#This Row],[HH]]>0,CampList[[#This Row],[Total]]/CampList[[#This Row],[HH]],\"NA\")","v":4.0566037735849054},null,null,"Camp"," ","Open"]
[null,null,"Open","Kachin","MMR001","Myitkyina","MMR001D001","Myitkyina","MMR001001","Myitkyina Town","MMR001001701","Lel Kone Ward","MMR001001701525","Le Kone Ziun Baptist Church ","MMR001CMP014","GCA",97.408919999999995,25.355983999999999,151,743,{"$f":"IF(CampList[[#This Row],[HH]]>0,CampList[[#This Row],[Total]]/CampList[[#This Row],[HH]],\"NA\")","v":4.9205298013245029},null,null,"Camp"," ","Open"]
[null,null,"Open","Kachin","MMR001","Myitkyina","MMR001D001","Myitkyina","MMR001001","Myitkyina Town","MMR001001701","Lel Kone Ward","MMR001001701525","Le Kone Bethlehem Church","MMR001CMP015","GCA",97.409317000000001,25.362189999999998,84,440,{"$f":"IF(CampList[[#This Row],[HH]]>0,CampList[[#This Row],[Total]]/CampList[[#This Row],[HH]],\"NA\")","v":5.2380952380952381},null,null,"Camp"," ","Open"]
[null,null,"Open","Kachin","MMR001","Myitkyina","MMR001D001","Myitkyina","MMR001001","Myitkyina Town","MMR001001701",null,null,"Maliyang Baptist Church","MMR001CMP016","GCA",97.411606000000006,25.360475999999998,77,329,{"$f":"IF(CampList[[#This Row],[HH]]>0,CampList[[#This Row],[Total]]/CampList[[#This Row],[HH]],\"NA\")","v":4.2727272727272725},null,null,"Camp"," ","Open"]
[null,null,"Open","Kachin","MMR001","Myitkyina","MMR001D001","Myitkyina","MMR001001","Myitkyina Town","MMR001001701","Myay Myint Ward","MMR001001701517","Myay Myint Baptist Church","MMR001CMP017","GCA",97.376671999999999,25.387862999999999,12,53,{"$f":"IF(CampList[[#This Row],[HH]]>0,CampList[[#This Row],[Total]]/CampList[[#This Row],[HH]],\"NA\")","v":4.416666666666667},null,null,"Camp"," ","Open"]
[null,null,"Open","Kachin","MMR001","Myitkyina","MMR001D001","Myitkyina","MMR001001","Myitkyina Town","MMR001001701",null,null,"Jan Mai Kawng Baptist Church","MMR001CMP018","GCA",97.389778000000007,25.417733999999999,203,952,{"$f":"IF(CampList[[#This Row],[HH]]>0,CampList[[#This Row],[Total]]/CampList[[#This Row],[HH]],\"NA\")","v":4.6896551724137927},null,null,"Camp"," ","Open"]
[null,null,"Open","Kachin","MMR001","Myitkyina","MMR001D001","Myitkyina","MMR001001","Myitkyina Town","MMR001001701","Jan Mai Kawng",null,"Jan Mai Kawng Catholic Church","MMR001CMP019","GCA",97.373361000000003,25.403476999999999,110,460,{"$f":"IF(CampList[[#This Row],[HH]]>0,CampList[[#This Row],[Total]]/CampList[[#This Row],[HH]],\"NA\")","v":4.1818181818181817},null,null,"Camp"," ","Open"]
[null,null,"Open","Kachin","MMR001","Myitkyina","MMR001D001","Myitkyina","MMR001001","Maw Hpawng","MMR001001007","Maw Hpawng",165698,"Maw Hpawng Hka Nan Baptist Church","MMR001CMP020","GCA",97.284729999999996,25.374020000000002,26,102,{"$f":"IF(CampList[[#This Row],[HH]]>0,CampList[[#This Row],[Total]]/CampList[[#This Row],[HH]],\"NA\")","v":3.9230769230769229},null,null,"Camp"," ","Open"]
[null,null,"Open","Kachin","MMR001","Myitkyina","MMR001D001","Myitkyina","MMR001001","Maw Hpawng","MMR001001007","Maw Hpawng",165698,"Maw Hpawng Lhaovo Baptist Church","MMR001CMP021","GCA",97.291079999999994,25.371179999999999,20,99,{"$f":"IF(CampList[[#This Row],[HH]]>0,CampList[[#This Row],[Total]]/CampList[[#This Row],[HH]],\"NA\")","v":4.95},null,null,"Camp"," ","Open"]
[null,null,"Open","Kachin","MMR001","Myitkyina","MMR001D001","Myitkyina","MMR001001","Myitkyina Town","MMR001001701","Kachin Su Ward","MMR001001701509","Wun Tho Buddhist Monastery","MMR001CMP022","GCA",97.403407999999999,25.377545999999999,24,104,{"$f":"IF(CampList[[#This Row],[HH]]>0,CampList[[#This Row],[Total]]/CampList[[#This Row],[HH]],\"NA\")","v":4.333333333333333},null,null,"Camp"," ","Open"]
[null,null,"Open","Kachin","MMR001","Myitkyina","MMR001D001","Myitkyina","MMR001001","Myitkyina Town","MMR001001701","Tat Kone Ward","MMR001001701520","Tat Kone COC Baptist / Tat Kone Htoi San","MMR001CMP023","GCA",97.388400000000004,25.40982,69,322,{"$f":"IF(CampList[[#This Row],[HH]]>0,CampList[[#This Row],[Total]]/CampList[[#This Row],[HH]],\"NA\")","v":4.666666666666667},null,null,"Camp"," ","Open"]
[null,null,"Open","Kachin","MMR001","Myitkyina","MMR001D001","Myitkyina","MMR001001","Nam Koi","MMR001001005","Nam Koi",165695,"Nan Kway St. John Catholic Church","MMR001CMP024","GCA",97.359380000000002,25.411770000000001,73,319,{"$f":"IF(CampList[[#This Row],[HH]]>0,CampList[[#This Row],[Total]]/CampList[[#This Row],[HH]],\"NA\")","v":4.3698630136986303},null,null,"Camp"," ","Open"]
[null,null,"Open","Kachin","MMR001","Myitkyina","MMR001D001","Waingmaw","MMR001002","Waingmaw Town","MMR001002701","No (2) Ward","MMR001002701502","Qtr. 2 Myoma Baptist Church","MMR001CMP025","GCA",97.438271,25.351655000000001,83,373,{"$f":"IF(CampList[[#This Row],[HH]]>0,CampList[[#This Row],[Total]]/CampList[[#This Row],[HH]],\"NA\")","v":4.4939759036144578},null,null,"Camp"," ","Open"]
[null,null,"Open","Kachin","MMR001","Myitkyina","MMR001D001","Waingmaw","MMR001002","Waingmaw Town","MMR001002701","No (4) Ward","MMR001002701504","Qtr. 4 Monestry (Thargaya Thayett Taw)","MMR001CMP026","GCA",97.432495000000003,25.350809000000002,101,524,{"$f":"IF(CampList[[#This Row],[HH]]>0,CampList[[#This Row],[Total]]/CampList[[#This Row],[HH]],\"NA\")","v":5.1881188118811883},null,null,"Camp"," ","Open"]
[null,null,"Open","Kachin","MMR001","Myitkyina","MMR001D001","Waingmaw","MMR001002","Mading","MMR001002001","Mading/Hka Kun",165730,"Mading Baptist Church","MMR001CMP027","GCA",97.451965000000001,25.356632000000001,23,114,{"$f":"IF(CampList[[#This Row],[HH]]>0,CampList[[#This Row],[Total]]/CampList[[#This Row],[HH]],\"NA\")","v":4.9565217391304346},null,null,"Camp"," ","Open"]
[null,null,"Open","Kachin","MMR001","Myitkyina","MMR001D001","Waingmaw","MMR001002","Hkat Shu","MMR001002003","Hkat Shu",165735,"Hkat Cho ","MMR001CMP028","GCA",97.408302000000006,25.324567999999999,134,554,{"$f":"IF(CampList[[#This Row],[HH]]>0,CampList[[#This Row],[Total]]/CampList[[#This Row],[HH]],\"NA\")","v":4.1343283582089549},null,null,"Camp"," ","Open"]
[null,null,"Open","Kachin","MMR001","Myitkyina","MMR001D001","Waingmaw","MMR001002","Mai Na","MMR001002006","Mai Na",165740,"Maina Catholic Church (St. Joseph)","MMR001CMP029","GCA",97.438450000000003,25.415900000000001,243,1078,{"$f":"IF(CampList[[#This Row],[HH]]>0,CampList[[#This Row],[Total]]/CampList[[#This Row],[HH]],\"NA\")","v":4.4362139917695469},null,null,"Camp"," ","Open"]
[null,null,"Open","Kachin","MMR001","Myitkyina","MMR001D001","Waingmaw","MMR001002","Waingmaw Town","MMR001002701","No (3) Ward","MMR001002701503","Qtr. 3 Mu-yin  Baptist Church","MMR001CMP030","GCA",97.437568999999996,25.346004000000001,28,131,{"$f":"IF(CampList[[#This Row],[HH]]>0,CampList[[#This Row],[Total]]/CampList[[#This Row],[HH]],\"NA\")","v":4.6785714285714288},null,null,"Camp"," ","Open"]
[null,null,"Open","Kachin","MMR001","Myitkyina","MMR001D001","Waingmaw","MMR001002","Mai Na","MMR001002006","Mai Na",165740,"Maina AG Church","MMR001CMP031","GCA",97.435233999999994,25.425276,107,493,{"$f":"IF(CampList[[#This Row],[HH]]>0,CampList[[#This Row],[Total]]/CampList[[#This Row],[HH]],\"NA\")","v":4.6074766355140184},null,null,"Camp"," ","Open"]
[null,null,"Open","Kachin","MMR001","Myitkyina","MMR001D001","Waingmaw","MMR001002","Waingmaw Town","MMR001002701","No (2) Ward","MMR001002701502","Qtr. 2 Lhaovo Baptist Church","MMR001CMP032","GCA",97.441483000000005,25.354883999999998,118,332,{"$f":"IF(CampList[[#This Row],[HH]]>0,CampList[[#This Row],[Total]]/CampList[[#This Row],[HH]],\"NA\")","v":2.8135593220338984},null,null,"Camp"," ","Open"]
[null,null,"Open","Kachin","MMR001","Myitkyina","MMR001D001","Waingmaw","MMR001002","Nawng Hee","MMR001002008","Nawng Hee",165745,"Nawng Hee Village","MMR001CMP033","GCA",97.345039,25.351965,19,71,{"$f":"IF(CampList[[#This Row],[HH]]>0,CampList[[#This Row],[Total]]/CampList[[#This Row],[HH]],\"NA\")","v":3.736842105263158},null,null,"Host Families",null,"Open"]
[null,null,"Close","Kachin","MMR001","Myitkyina","MMR001D001","Waingmaw","MMR001002","Nawng Si Paw","MMR001002013","Nawng Si Paw",165750,"Nawng Si Paw Village / Inn Lay","MMR001CMP034","GCA",null,null,null,null,{"$f":"IF(CampList[[#This Row],[HH]]>0,CampList[[#This Row],[Total]]/CampList[[#This Row],[HH]],\"NA\")","v":"NA"},null,null,"Camp"," ","Close"]
[null,null,"Close","Kachin","MMR001","Myitkyina","MMR001D001","Waingmaw","MMR001002","Hkat Shu","MMR001002003","Hkat Shu",165735,"Moke Lwe Village / Hkar Shi","MMR001CMP035","GCA",97.421104,25.328987000000001,null,null,{"$f":"IF(CampList[[#This Row],[HH]]>0,CampList[[#This Row],[Total]]/CampList[[#This Row],[HH]],\"NA\")","v":"NA"},null,null,"Camp"," ","Close"]
[null,null,"Open","Kachin","MMR001","Myitkyina","MMR001D001","Waingmaw","MMR001002","Waingmaw Town","MMR001002701","No (2) Ward","MMR001002701502","Waingmaw Baptist Zonal Office","MMR001CMP036","GCA",97.438259000000002,25.355841999999999,132,132,{"$f":"IF(CampList[[#This Row],[HH]]>0,CampList[[#This Row],[Total]]/CampList[[#This Row],[HH]],\"NA\")","v":1},null,null,"Camp"," ","Open"]
[null,null,"Open","Kachin","MMR001","Myitkyina","MMR001D001","Waingmaw","MMR001002","Waingmaw Town","MMR001002701","No (4) Ward","MMR001002701504","Thargaya Lisu Baptist Church","MMR001CMP037","GCA",97.427959999999999,25.33351,74,323,{"$f":"IF(CampList[[#This Row],[HH]]>0,CampList[[#This Row],[Total]]/CampList[[#This Row],[HH]],\"NA\")","v":4.3648648648648649},null,null,"Camp"," ","Open"]
[null,null,"Open","Kachin","MMR001","Myitkyina","MMR001D001","Waingmaw","MMR001002","Waingmaw Town","MMR001002701","No (3) Ward","MMR001002701503","Waingmaw AG Church","MMR001CMP038","GCA",97.443702000000002,25.351241999999999,77,372,{"$f":"IF(CampList[[#This Row],[HH]]>0,CampList[[#This Row],[Total]]/CampList[[#This Row],[HH]],\"NA\")","v":4.8311688311688314},null,null,"Camp"," ","Open"]
[null,null,"Open","Kachin","MMR001","Myitkyina","MMR001D001","Waingmaw","MMR001002","Mai Na","MMR001002006","Mai Na",165740,"Maina Lawang Baptist Church","MMR001CMP039","GCA",97.426297000000005,25.409566000000002,47,184,{"$f":"IF(CampList[[#This Row],[HH]]>0,CampList[[#This Row],[Total]]/CampList[[#This Row],[HH]],\"NA\")","v":3.9148936170212765},null,null,"Camp"," ","Open"]
[null,null,"Open","Kachin","MMR001","Myitkyina","MMR001D001","Waingmaw","MMR001002","Mai Na","MMR001002006","Mai Na",165740,"Maina KBC (Bawng Ring)","MMR001CMP040","GCA",97.437434999999994,25.411413,384,1694,{"$f":"IF(CampList[[#This Row],[HH]]>0,CampList[[#This Row],[Total]]/CampList[[#This Row],[HH]],\"NA\")","v":4.411458333333333},null,null,"Camp"," ","Open"]
[null,null,"Open","Kachin","MMR001","Myitkyina","MMR001D001","Waingmaw","MMR001002","Waw Shung (Kan Paik Ti Sub-township)","MMR001002035","Shan Kyaing",165845,"Shing Jai","MMR001CMP041","GCA",98.025662999999994,25.418084,182,948,{"$f":"IF(CampList[[#This Row],[HH]]>0,CampList[[#This Row],[Total]]/CampList[[#This Row],[HH]],\"NA\")","v":5.2087912087912089},null,null,"Camp"," ","Open"]
[null,null,"Open","Kachin","MMR001","Myitkyina","MMR001D001","Chipwi","MMR001005","Chipwi Town","MMR001005701",null,null,"Chipwi KBC camp","MMR001CMP042","GCA",null,null,103,452,{"$f":"IF(CampList[[#This Row],[HH]]>0,CampList[[#This Row],[Total]]/CampList[[#This Row],[HH]],\"NA\")","v":4.3883495145631066},null,null,"Camp","Data source from Camp Profile","Open"]
[null,null,"Open","Kachin","MMR001","Myitkyina","MMR001D001","Chipwi","MMR001005","Hpa Re (Pang War Sub-township)","MMR001005026","Hpa Re Waw Jang",166355,"Hpare Hkyer - BP6","MMR001CMP043","GCA",null,null,141,820,{"$f":"IF(CampList[[#This Row],[HH]]>0,CampList[[#This Row],[Total]]/CampList[[#This Row],[HH]],\"NA\")","v":5.8156028368794326},null,null,"Camp","Data source from Camp Profile","Open"]
[null,null,"Close","Kachin","MMR001","Myitkyina","MMR001D001","Chipwi","MMR001005",null,null,null,null,"Women's Affairs Association Building","MMR001CMP044","GCA",null,null,"","",{"$f":"IF(CampList[[#This Row],[HH]]>0,CampList[[#This Row],[Total]]/CampList[[#This Row],[HH]],\"NA\")","v":{"$error":"#VALUE!"}},null,null,"Camp"," ","Close"]
[null,null,"Open","Kachin","MMR001","Myitkyina","MMR001D001","Chipwi","MMR001005","Lang Jaw (Pang War Sub-township)","MMR001005022","Lang Jaw",166337,"Lan Jaw ","MMR001CMP045","GCA",98.354146999999998,25.708763000000001,"","",{"$f":"IF(CampList[[#This Row],[HH]]>0,CampList[[#This Row],[Total]]/CampList[[#This Row],[HH]],\"NA\")","v":{"$error":"#VALUE!"}},null,null,"Host Families",null,"Open"]
[null,null,"Open","Kachin","MMR001","Myitkyina","MMR001D001","Chipwi","MMR001005",null,null,null,null,"Gant Gwin","MMR001CMP046","GCA",null,null,255,1273,{"$f":"IF(CampList[[#This Row],[HH]]>0,CampList[[#This Row],[Total]]/CampList[[#This Row],[HH]],\"NA\")","v":4.9921568627450981},null,null,"Camp"," ","Open"]
[null,null,"Open","Kachin","MMR001","Bhamo","MMR001D003","Bhamo","MMR001010","Bhamo Town","MMR001010701","Nyaung Pin Ward","MMR001010701508","Robert Church","MMR001CMP047","GCA",97.228769999999997,24.26502,514,2487,{"$f":"IF(CampList[[#This Row],[HH]]>0,CampList[[#This Row],[Total]]/CampList[[#This Row],[HH]],\"NA\")","v":4.8385214007782098},null,null,"Camp"," ","Open"]
[null,null,"Open","Kachin","MMR001","Bhamo","MMR001D003","Bhamo","MMR001010",null,null,null,null,"Kannar Yeik Thar","MMR001CMP048","GCA",97.221556500999995,24.262418020999998,3,13,{"$f":"IF(CampList[[#This Row],[HH]]>0,CampList[[#This Row],[Total]]/CampList[[#This Row],[HH]],\"NA\")","v":4.333333333333333},null,null,"Camp"," ","Open"]
[null,null,"Open","Kachin","MMR001","Bhamo","MMR001D003","Bhamo","MMR001010","Moe Hping","MMR001010009","Thar Si",166837,"Lisu Boarding-House","MMR001CMP049","GCA",97.241630000000001,24.266110000000001,63,315,{"$f":"IF(CampList[[#This Row],[HH]]>0,CampList[[#This Row],[Total]]/CampList[[#This Row],[HH]],\"NA\")","v":5},null,null,"Camp"," ","Open"]
[null,null,"Open","Kachin","MMR001","Bhamo","MMR001D003","Bhamo","MMR001010","Moe Hping","MMR001010009","Thar Si",166837,"AD-2000 Tharthana Compound","MMR001CMP050","GCA",97.238829999999993,24.260719999999999,219,858,{"$f":"IF(CampList[[#This Row],[HH]]>0,CampList[[#This Row],[Total]]/CampList[[#This Row],[HH]],\"NA\")","v":3.9178082191780823},null,null,"Camp"," ","Open"]
[null,null,"Open","Kachin","MMR001","Bhamo","MMR001D003","Bhamo","MMR001010","Bhamo Town","MMR001010701","Pauk Kone Ward","MMR001010701506","Mu-yin Baptist Church","MMR001CMP051","GCA",97.234200000000001,24.253067000000001,4,12,{"$f":"IF(CampList[[#This Row],[HH]]>0,CampList[[#This Row],[Total]]/CampList[[#This Row],[HH]],\"NA\")","v":3},null,null,"Camp"," ","Open"]
[null,null,"Open","Kachin","MMR001","Bhamo","MMR001D003","Bhamo","MMR001010","Bhamo Town","MMR001010701","Pauk Kone Ward","MMR001010701506","Htoi San Church","MMR001CMP052","GCA",97.236919999999998,24.24766,46,210,{"$f":"IF(CampList[[#This Row],[HH]]>0,CampList[[#This Row],[Total]]/CampList[[#This Row],[HH]],\"NA\")","v":4.5652173913043477},null,null,"Camp"," ","Open"]
[null,null,"Open","Kachin","MMR001","Bhamo","MMR001D003","Bhamo","MMR001010","Han Te","MMR001010024","Yoe Gyi",166852,"Yoe Kyi Monastery","MMR001CMP053","GCA",97.240639999999999,24.24953,31,108,{"$f":"IF(CampList[[#This Row],[HH]]>0,CampList[[#This Row],[Total]]/CampList[[#This Row],[HH]],\"NA\")","v":3.4838709677419355},null,null,"Camp"," ","Open"]
[null,null,"Open","Kachin","MMR001","Bhamo","MMR001D003","Bhamo","MMR001010","Nam Hlaing","MMR001010015","Nam Hlaing",166844,"Nant Hlaing Church","MMR001CMP054","GCA",97.315860000000001,24.32638,21,101,{"$f":"IF(CampList[[#This Row],[HH]]>0,CampList[[#This Row],[Total]]/CampList[[#This Row],[HH]],\"NA\")","v":4.8095238095238093},null,null,"Camp"," ","Open"]
[null,null,"Open","Kachin","MMR001","Bhamo","MMR001D003","Bhamo","MMR001010","Bhamo Town","MMR001010701","Shwe Kyee Nar Ward","MMR001010701513","Ta Gun Taing Monastery (Shwe Kyi Na)","MMR001CMP055","GCA",97.227789999999999,24.29138,74,318,{"$f":"IF(CampList[[#This Row],[HH]]>0,CampList[[#This Row],[Total]]/CampList[[#This Row],[HH]],\"NA\")","v":4.2972972972972974},null,null,"Camp"," ","Open"]
[null,null,"Open","Kachin","MMR001","Bhamo","MMR001D003","Momauk","MMR001012","Momauk Town","MMR001012701","Ah Lin Kawng Ward","MMR001012701502","Momauk Baptist Church","MMR001CMP056","GCA",97.344359999999995,24.250689999999999,384,1502,{"$f":"IF(CampList[[#This Row],[HH]]>0,CampList[[#This Row],[Total]]/CampList[[#This Row],[HH]],\"NA\")","v":3.9114583333333335},null,null,"Camp"," ","Open"]
[null,null,"Open","Kachin","MMR001","Bhamo","MMR001D003","Momauk","MMR001012","Momauk Town","MMR001012701","Kyay Nan Waing Ward","MMR001012701503","Momauk Catholic Church (St. Patrick)","MMR001CMP057","GCA",97.346950000000007,24.25177,285,1036,{"$f":"IF(CampList[[#This Row],[HH]]>0,CampList[[#This Row],[Total]]/CampList[[#This Row],[HH]],\"NA\")","v":3.6350877192982458},null,null,"Camp"," ","Open"]
[null,null,"Open","Kachin","MMR001","Bhamo","MMR001D003","Momauk","MMR001012","Momauk Town","MMR001012701","Ah Lin Kawng Ward","MMR001012701502","Mandalay Monestry","MMR001CMP058","GCA",97.346940000000004,24.251860000000001,8,25,{"$f":"IF(CampList[[#This Row],[HH]]>0,CampList[[#This Row],[Total]]/CampList[[#This Row],[HH]],\"NA\")","v":3.125},null,null,"Camp"," ","Open"]
[null,null,"Open","Kachin","MMR001","Bhamo","MMR001D003","Momauk","MMR001012","Momauk Town","MMR001012701","Ah Lin Kawng Ward","MMR001012701502","Ni Thaw Ka Monestry","MMR001CMP059","GCA",97.347740000000002,24.253769999999999,26,101,{"$f":"IF(CampList[[#This Row],[HH]]>0,CampList[[#This Row],[Total]]/CampList[[#This Row],[HH]],\"NA\")","v":3.8846153846153846},null,null,"Camp"," ","Open"]
[null,null,"Open","Kachin","MMR001","Bhamo","MMR001D003","Momauk","MMR001012","Tar Li","MMR001012021","Tar Li",167086,"Tarli ","MMR001CMP060","GCA",null,null,10,38,{"$f":"IF(CampList[[#This Row],[HH]]>0,CampList[[#This Row],[Total]]/CampList[[#This Row],[HH]],\"NA\")","v":3.8},null,null,"Host Families",null,"Open"]
[null,null,"Open","Kachin","MMR001","Bhamo","MMR001D003","Momauk","MMR001012","Myo Thit","MMR001012010","Myo Thit",167048,"Myo Thit ","MMR001CMP061","GCA",null,null,13,53,{"$f":"IF(CampList[[#This Row],[HH]]>0,CampList[[#This Row],[Total]]/CampList[[#This Row],[HH]],\"NA\")","v":4.0769230769230766},null,null,"Host Families",null,"Open"]
[null,null,"Open","Kachin","MMR001","Bhamo","MMR001D003","Momauk","MMR001012","Man Pon","MMR001012001","Man Pon",167009,"Man Bung Catholic compound","MMR001CMP062","GCA",97.325019999999995,24.245100000000001,18,65,{"$f":"IF(CampList[[#This Row],[HH]]>0,CampList[[#This Row],[Total]]/CampList[[#This Row],[HH]],\"NA\")","v":3.6111111111111112},null,null,"Camp"," ","Open"]
[null,null,"Open","Kachin","MMR001","Bhamo","MMR001D003","Momauk","MMR001012","Man Nawng","MMR001012014","Man Nawng",167063,"Man Nawng ","MMR001CMP063","GCA",97.321659999999994,24.41,28,136,{"$f":"IF(CampList[[#This Row],[HH]]>0,CampList[[#This Row],[Total]]/CampList[[#This Row],[HH]],\"NA\")","v":4.8571428571428568},null,null,"Host Families",null,"Open"]
[null,null,"Open","Kachin","MMR001","Bhamo","MMR001D003","Momauk","MMR001012","Maing Khat","MMR001012020","Maing Khat",167078,"Mai Khat ","MMR001CMP064","GCA",null,null,2,9,{"$f":"IF(CampList[[#This Row],[HH]]>0,CampList[[#This Row],[Total]]/CampList[[#This Row],[HH]],\"NA\")","v":4.5},null,null,"Host Families",null,"Open"]
[null,null,"Open","Kachin","MMR001","Bhamo","MMR001D003","Momauk","MMR001012","Hpar Kei (Dawthponeyan Sub-township)","MMR001012046","Hpar Kei",167242,"Phar Kay/Nant Waing ","MMR001CMP065","GCA",97.429860000000005,24.630859999999998,31,147,{"$f":"IF(CampList[[#This Row],[HH]]>0,CampList[[#This Row],[Total]]/CampList[[#This Row],[HH]],\"NA\")","v":4.741935483870968},null,null,"Host Families",null,{"$f":"C69","v":"Open"}]
[null,null,"Open","Kachin","MMR001","Bhamo","MMR001D003","Mansi","MMR001013","Mansi Town","MMR001013701","Kawng Yar Ward","MMR001013701504","Mansi Baptist Church","MMR001CMP066","GCA",97.291820000000001,24.129059999999999,84,348,{"$f":"IF(CampList[[#This Row],[HH]]>0,CampList[[#This Row],[Total]]/CampList[[#This Row],[HH]],\"NA\")","v":4.1428571428571432},null,null,"Camp"," ","Open"]
[null,null,"Open","Kachin","MMR001","Bhamo","MMR001D003","Shwegu","MMR001011","Shwegu Town","MMR001011701","Shwegu Town","MMR001011701504","Shwe Gu Baptist Church","MMR001CMP067","GCA",96.807353000000006,24.200361000000001,106,263,{"$f":"IF(CampList[[#This Row],[HH]]>0,CampList[[#This Row],[Total]]/CampList[[#This Row],[HH]],\"NA\")","v":2.4811320754716979},null,null,"Camp"," ","Open"]
[null,null,"Open","Kachin","MMR001","Bhamo","MMR001D003","Shwegu","MMR001011","Shwegu Town","MMR001011701","Shwegu Town","MMR001011701504","Shwe Gu Catholic Church","MMR001CMP068","GCA",96.807353000000006,24.200367,45,174,{"$f":"IF(CampList[[#This Row],[HH]]>0,CampList[[#This Row],[Total]]/CampList[[#This Row],[HH]],\"NA\")","v":3.8666666666666667},null,null,"Camp"," ","Open"]
[null,null,"Open","Kachin","MMR001","Bhamo","MMR001D003","Momauk","MMR001012","Lwegel Town","MMR001012702","Loi Je",null,"Loi Je Catholic Church","MMR001CMP069","GCA",97.724566999999993,24.205417000000001,59,281,{"$f":"IF(CampList[[#This Row],[HH]]>0,CampList[[#This Row],[Total]]/CampList[[#This Row],[HH]],\"NA\")","v":4.7627118644067794},null,null,"Camp"," ","Open"]
[null,null,"Open","Kachin","MMR001","Bhamo","MMR001D003","Momauk","MMR001012","Lwegel Town","MMR001012702","Aung Zay Yar Ward","MMR001012702505","Loi Je Lisu Camp","MMR001CMP070","GCA",97.717133000000004,24.200433,127,631,{"$f":"IF(CampList[[#This Row],[HH]]>0,CampList[[#This Row],[Total]]/CampList[[#This Row],[HH]],\"NA\")","v":4.9685039370078741},null,null,"Camp"," ","Open"]
[null,null,"Open","Kachin","MMR001","Bhamo","MMR001D003","Momauk","MMR001012","Lwegel Town","MMR001012702",null,null,"Loi Je Baptist Church","MMR001CMP071","GCA",97.718582999999995,24.200972,19,106,{"$f":"IF(CampList[[#This Row],[HH]]>0,CampList[[#This Row],[Total]]/CampList[[#This Row],[HH]],\"NA\")","v":5.5789473684210522},null,null,"Camp"," ","Open"]
[null,null,"Open","Kachin","MMR001","Bhamo","MMR001D003","Momauk","MMR001012","Lwegel Town","MMR001012702","Say Yone Kone",null,"Nyaung Na Pin ","MMR001CMP072","GCA",97.724483000000006,24.205417000000001,47,258,{"$f":"IF(CampList[[#This Row],[HH]]>0,CampList[[#This Row],[Total]]/CampList[[#This Row],[HH]],\"NA\")","v":5.4893617021276597},null,null,"Camp"," ","Open"]
[null,null,"Open","Kachin","MMR001","Bhamo","MMR001D003","Momauk","MMR001012","Lwegel Town","MMR001012702","Seng Ja ",null,"Seng Ja ","MMR001CMP073","GCA",97.710864000000001,24.207332999999998,32,173,{"$f":"IF(CampList[[#This Row],[HH]]>0,CampList[[#This Row],[Total]]/CampList[[#This Row],[HH]],\"NA\")","v":5.40625},null,null,"Camp"," ","Open"]
[null,null,"Open","Kachin","MMR001","Puta-O","MMR001D004","Khaunglanhpu","MMR001018","La Ja Ga","MMR001018021","La Ja",168236,"La Ja","MMR001CMP074","GCA",98.15,26.89,22,107,{"$f":"IF(CampList[[#This Row],[HH]]>0,CampList[[#This Row],[Total]]/CampList[[#This Row],[HH]],\"NA\")","v":4.8636363636363633},null,null,"Camp"," ","Open"]
[null,null,"Open","Kachin","MMR001","Puta-O","MMR001D004","Puta-O","MMR001014","Puta-O Town","MMR001014701",null,null,"Tote Tan Ward","MMR001CMP075","GCA",null,null,7,15,{"$f":"IF(CampList[[#This Row],[HH]]>0,CampList[[#This Row],[Total]]/CampList[[#This Row],[HH]],\"NA\")","v":2.1428571428571428},null,null,"Camp"," ","Open"]
[null,null,"Open","Kachin","MMR001","Mohnyin","MMR001D002","Mogaung","MMR001008","Nawng Kaing Htaw","MMR001008002","Ma Haung",166676,"Mang Hawng Baptist Church","MMR001CMP077","GCA",96.942279999999997,25.296579999999999,16,69,{"$f":"IF(CampList[[#This Row],[HH]]>0,CampList[[#This Row],[Total]]/CampList[[#This Row],[HH]],\"NA\")","v":4.3125},null,null,"Camp"," ","Open"]
[null,null,"Open","Kachin","MMR001","Mohnyin","MMR001D002","Mogaung","MMR001008","Mogaung Town","MMR001008701",null,null,"Kyun Taw Baptist Church ","MMR001CMP078","GCA",96.922619999999995,25.305669999999999,15,69,{"$f":"IF(CampList[[#This Row],[HH]]>0,CampList[[#This Row],[Total]]/CampList[[#This Row],[HH]],\"NA\")","v":4.5999999999999996},null,null,"Camp"," ","Open"]
[null,null,"Open","Kachin","MMR001","Mohnyin","MMR001D002","Mogaung","MMR001008","Mogaung Town","MMR001008701","Nat Gyi Kone Ward","MMR001008701506","Nat Gyi Kone Baptist Church ","MMR001CMP079","GCA",96.948740000000001,25.30442,14,49,{"$f":"IF(CampList[[#This Row],[HH]]>0,CampList[[#This Row],[Total]]/CampList[[#This Row],[HH]],\"NA\")","v":3.5},null,null,"Camp"," ","Open"]
[null,null,"Open","Kachin","MMR001","Mohnyin","MMR001D002","Mohnyin","MMR001007",null,null,null,null,"St. Patrick Catholic Church ","MMR001CMP080","GCA",96.367059999999995,24.764800000000001,12,43,{"$f":"IF(CampList[[#This Row],[HH]]>0,CampList[[#This Row],[Total]]/CampList[[#This Row],[HH]],\"NA\")","v":3.5833333333333335},null,null,"Camp"," ","Open"]
[null,null,"Open","Kachin","MMR001","Mohnyin","MMR001D002","Mohnyin","MMR001007","Nam Mun","MMR001007016","Nam Mun",166591,"Nant Mun","MMR001CMP081","GCA",96.364949999999993,24.998349999999999,22,101,{"$f":"IF(CampList[[#This Row],[HH]]>0,CampList[[#This Row],[Total]]/CampList[[#This Row],[HH]],\"NA\")","v":4.5909090909090908},null,null,"Camp"," ","Open"]
[null,null,"Open","Kachin","MMR001","Mohnyin","MMR001D002","Hpakant","MMR001009","Hpakan Town","MMR001009701","Hnget Pyaw Taw Ward","MMR001009701502","Nga Pyaw Taw Baptist Nursery School ","MMR001CMP082","GCA",96.312790000000007,25.611160000000002,143,543,{"$f":"IF(CampList[[#This Row],[HH]]>0,CampList[[#This Row],[Total]]/CampList[[#This Row],[HH]],\"NA\")","v":3.7972027972027971},null,null,"Camp"," ","Open"]
[null,null,"Close","Kachin","MMR001","Mohnyin","MMR001D002","Hpakant","MMR001009","Hpakan Town","MMR001009701","Hnget Pyaw Taw Ward","MMR001009701502","Nga Pyaw Taw Roman Catholic Church","MMR001CMP083","GCA",96.31326,25.611899999999999,null,null,{"$f":"IF(CampList[[#This Row],[HH]]>0,CampList[[#This Row],[Total]]/CampList[[#This Row],[HH]],\"NA\")","v":"NA"},null,null,"Camp"," ","Close"]
[null,null,"Close","Kachin","MMR001","Mohnyin","MMR001D002","Hpakant","MMR001009","Hpakan Town","MMR001009701","Maw Wam Ward","MMR001009701501","Maw Wan, Kyauk Hlaing Gu Pagoda Compound","MMR001CMP084","GCA",null,null,null,null,{"$f":"IF(CampList[[#This Row],[HH]]>0,CampList[[#This Row],[Total]]/CampList[[#This Row],[HH]],\"NA\")","v":"NA"},null,null,"Camp"," ","Close"]
[null,null,"Close","Kachin","MMR001","Mohnyin","MMR001D002","Hpakant","MMR001009","Hpakan Town","MMR001009701","Maw Wam Ward","MMR001009701501","Maw Wan, Kachin Baptist Church","MMR001CMP085","GCA",96.316210999999996,25.619221,null,null,{"$f":"IF(CampList[[#This Row],[HH]]>0,CampList[[#This Row],[Total]]/CampList[[#This Row],[HH]],\"NA\")","v":"NA"},null,null,"Camp"," ","Close"]
[null,null,"Close","Kachin","MMR001","Mohnyin","MMR001D002","Hpakant","MMR001009",null,null,null,null,"Chin(Zomi) Baptist Church","MMR001CMP086","GCA",null,null,null,null,{"$f":"IF(CampList[[#This Row],[HH]]>0,CampList[[#This Row],[Total]]/CampList[[#This Row],[HH]],\"NA\")","v":"NA"},null,null,"Camp"," ","Close"]
[null,null,"Close","Kachin","MMR001","Mohnyin","MMR001D002","Hpakant","MMR001009","Hpakan Town","MMR001009701","Maw Wam Ward","MMR001009701501","Maw Wan, Myo Oo Pagoda","MMR001CMP088","GCA",null,null,null,null,{"$f":"IF(CampList[[#This Row],[HH]]>0,CampList[[#This Row],[Total]]/CampList[[#This Row],[HH]],\"NA\")","v":"NA"},null,null,"Camp"," ","Close"]
[null,null,"Close","Kachin","MMR001","Mohnyin","MMR001D002","Hpakant","MMR001009","Hpakan Town","MMR001009701","Maw Wam Ward","MMR001009701501","Maw Wan, Catholic Church","MMR001CMP090","GCA",null,null,null,null,{"$f":"IF(CampList[[#This Row],[HH]]>0,CampList[[#This Row],[Total]]/CampList[[#This Row],[HH]],\"NA\")","v":"NA"},null,null,"Camp"," ","Close"]
[null,null,"Open","Kachin","MMR001","Mohnyin","MMR001D002","Hpakant","MMR001009","Hpakan Town","MMR001009701","Maw Wam Ward","MMR001009701501","Maw Wan, Mu-yin Baptist Church","MMR001CMP091","GCA",96.319687999999999,25.615202,28,82,{"$f":"IF(CampList[[#This Row],[HH]]>0,CampList[[#This Row],[Total]]/CampList[[#This Row],[HH]],\"NA\")","v":2.9285714285714284},null,null,"Camp"," ","Open"]
[null,null,"Close","Kachin","MMR001","Mohnyin","MMR001D002","Hpakant","MMR001009","Hpakan Town","MMR001009701","Aye Mya Thar Yar Ward","MMR001009701504","Aye Mya Tharyar Church of Christ ","MMR001CMP092","GCA",null,null,null,null,{"$f":"IF(CampList[[#This Row],[HH]]>0,CampList[[#This Row],[Total]]/CampList[[#This Row],[HH]],\"NA\")","v":"NA"},null,null,"Camp"," ","Close"]
[null,null,"Close","Kachin","MMR001","Mohnyin","MMR001D002","Hpakant","MMR001009","Hpakan Town","MMR001009701","Ma Shi Ka Htaung Ward","MMR001009701505","Mashi Kahtawng Catholic Church","MMR001CMP093","GCA",null,null,null,null,{"$f":"IF(CampList[[#This Row],[HH]]>0,CampList[[#This Row],[Total]]/CampList[[#This Row],[HH]],\"NA\")","v":"NA"},null,null,"Camp"," ","Close"]
[null,null,"Close","Kachin","MMR001","Mohnyin","MMR001D002","Hpakant","MMR001009","Hpakan Town","MMR001009701","Ma Shi Ka Htaung Ward","MMR001009701505","Mashi Kahtawng Baptist  Church","MMR001CMP094","GCA",96.310928000000004,25.609179999999999,null,null,{"$f":"IF(CampList[[#This Row],[HH]]>0,CampList[[#This Row],[Total]]/CampList[[#This Row],[HH]],\"NA\")","v":"NA"},null,null,"Camp"," ","Close"]
[null,null,"Close","Kachin","MMR001","Mohnyin","MMR001D002","Hpakant","MMR001009","Hpakan Town","MMR001009701","Ma Shi Ka Htaung Ward","MMR001009701505","Mashi Kahtawng Rakhine traditional group","MMR001CMP095","GCA",null,null,null,null,{"$f":"IF(CampList[[#This Row],[HH]]>0,CampList[[#This Row],[Total]]/CampList[[#This Row],[HH]],\"NA\")","v":"NA"},null,null,"Camp"," ","Close"]
[null,null,"Close","Kachin","MMR001","Mohnyin","MMR001D002","Hpakant","MMR001009","Hpakan Town","MMR001009701","Ma Shi Ka Htaung Ward","MMR001009701505","Mashi Kahtawng Evangelical Church","MMR001CMP096","GCA",null,null,null,null,{"$f":"IF(CampList[[#This Row],[HH]]>0,CampList[[#This Row],[Total]]/CampList[[#This Row],[HH]],\"NA\")","v":"NA"},null,null,"Camp"," ","Close"]
[null,null,"Close","Kachin","MMR001","Mohnyin","MMR001D002","Hpakant","MMR001009","Hpakan Town","MMR001009701","Ma Shi Ka Htaung Ward","MMR001009701505","Mashi Kahtawng Yaung Chi Oo Thi la shin Monestry","MMR001CMP097","GCA",null,null,null,null,{"$f":"IF(CampList[[#This Row],[HH]]>0,CampList[[#This Row],[Total]]/CampList[[#This Row],[HH]],\"NA\")","v":"NA"},null,null,"Camp"," ","Close"]
[null,null,"Close","Kachin","MMR001","Mohnyin","MMR001D002","Hpakant","MMR001009","Hpakan Town","MMR001009701","Ma Shi Ka Htaung Ward","MMR001009701505","Mashi Kahtawng Municipal Dammar Yone","MMR001CMP098","GCA",null,null,null,null,{"$f":"IF(CampList[[#This Row],[HH]]>0,CampList[[#This Row],[Total]]/CampList[[#This Row],[HH]],\"NA\")","v":"NA"},null,null,"Camp"," ","Close"]
[null,null,"Close","Kachin","MMR001","Mohnyin","MMR001D002","Hpakant","MMR001009","Hpakan Town","MMR001009701","Ma Shi Ka Htaung Ward","MMR001009701505","Mashi Kahtawng Myo Oo Taw Ya Monestry","MMR001CMP099","GCA",null,null,null,null,{"$f":"IF(CampList[[#This Row],[HH]]>0,CampList[[#This Row],[Total]]/CampList[[#This Row],[HH]],\"NA\")","v":"NA"},null,null,"Camp"," ","Close"]
[null,null,"Close","Kachin","MMR001","Mohnyin","MMR001D002","Hpakant","MMR001009","Hpakan Town","MMR001009701","Ma Shi Ka Htaung Ward","MMR001009701505","Mashi Kahtawng Shan Traditional Monestry","MMR001CMP100","GCA",null,null,null,null,{"$f":"IF(CampList[[#This Row],[HH]]>0,CampList[[#This Row],[Total]]/CampList[[#This Row],[HH]],\"NA\")","v":"NA"},null,null,"Camp"," ","Close"]
[null,null,"Close","Kachin","MMR001","Mohnyin","MMR001D002","Hpakant","MMR001009","Hpakan Town","MMR001009701","Myo Ma Ward","MMR001009701503","Thiri Mingalar Manizay Yone, Myoma Quarter","MMR001CMP101","GCA",null,null,null,null,{"$f":"IF(CampList[[#This Row],[HH]]>0,CampList[[#This Row],[Total]]/CampList[[#This Row],[HH]],\"NA\")","v":"NA"},null,null,"Camp"," ","Close"]
[null,null,"Close","Kachin","MMR001","Mohnyin","MMR001D002","Hpakant","MMR001009","Hpakan Town","MMR001009701","Myo Ma Ward","MMR001009701503","Parami, Charity Office, MyoMa Quarter","MMR001CMP102","GCA",null,null,null,null,{"$f":"IF(CampList[[#This Row],[HH]]>0,CampList[[#This Row],[Total]]/CampList[[#This Row],[HH]],\"NA\")","v":"NA"},null,null,"Camp"," ","Close"]
[null,null,"Open","Kachin","MMR001","Mohnyin","MMR001D002","Hpakant","MMR001009","Nam Ma Hpyit","MMR001009002","Nam Ma Hpyit",166776,"Nant Ma Hpit Catholic Church","MMR001CMP103","GCA",96.341352999999998,25.613894999999999,96,332,{"$f":"IF(CampList[[#This Row],[HH]]>0,CampList[[#This Row],[Total]]/CampList[[#This Row],[HH]],\"NA\")","v":3.4583333333333335},null,null,"Camp"," ","Open"]
[null,null,"Close","Kachin","MMR001","Mohnyin","MMR001D002","Hpakant","MMR001009",null,null,null,null,"San Kyel, Masoe Yein Monestry","MMR001CMP104","GCA",null,null,null,null,{"$f":"IF(CampList[[#This Row],[HH]]>0,CampList[[#This Row],[Total]]/CampList[[#This Row],[HH]],\"NA\")","v":"NA"},null,null,"Camp"," ","Close"]
[null,null,"Open","Kachin","MMR001","Mohnyin","MMR001D002","Hpakant","MMR001009","Seik Mu","MMR001009003","Seik Mu",166783,"Yumar Baptist Church","MMR001CMP105","GCA",96.306910999999999,25.599250000000001,49,245,{"$f":"IF(CampList[[#This Row],[HH]]>0,CampList[[#This Row],[Total]]/CampList[[#This Row],[HH]],\"NA\")","v":5},null,null,"Camp"," ","Open"]
[null,null,"Close","Kachin","MMR001","Mohnyin","MMR001D002","Hpakant","MMR001009",null,null,null,null,"Maw Si Zar, Thiriyardanar Sein, Damma Compound, Lone Khin","MMR001CMP106","GCA",96.343350000000001,25.6447,null,null,{"$f":"IF(CampList[[#This Row],[HH]]>0,CampList[[#This Row],[Total]]/CampList[[#This Row],[HH]],\"NA\")","v":"NA"},null,null,"Camp"," ","Close"]
[null,null,"Close","Kachin","MMR001","Mohnyin","MMR001D002","Hpakant","MMR001009","Seik Mu","MMR001009003","Ma Mon",166790,"Ma Mon Buddhist Monastery","MMR001CMP107","GCA",null,null,null,null,{"$f":"IF(CampList[[#This Row],[HH]]>0,CampList[[#This Row],[Total]]/CampList[[#This Row],[HH]],\"NA\")","v":"NA"},null,null,"Camp"," ","Close"]
[null,null,"Close","Kachin","MMR001","Mohnyin","MMR001D002","Hpakant","MMR001009",null,null,null,null,"Sa Baw Sarsana Parla Monastery","MMR001CMP108","GCA",null,null,null,null,{"$f":"IF(CampList[[#This Row],[HH]]>0,CampList[[#This Row],[Total]]/CampList[[#This Row],[HH]],\"NA\")","v":"NA"},null,null,"Camp",null,"Close"]
[null,null,"Open","Kachin","MMR001","Mohnyin","MMR001D002","Hpakant","MMR001009","Seik Mu","MMR001009003","Seik Mu",166783,"Chin Church, Seik Mu","MMR001CMP109","GCA",96.283377000000002,25.582065,9,35,{"$f":"IF(CampList[[#This Row],[HH]]>0,CampList[[#This Row],[Total]]/CampList[[#This Row],[HH]],\"NA\")","v":3.8888888888888888},null,null,"Camp",null,"Open"]
[null,null,"Close","Kachin","MMR001","Mohnyin","MMR001D002","Hpakant","MMR001009","Haung Par","MMR001009004","Haung Par",166794,"Tar Ma Hkan Buddhist Monastery, Haung Par","MMR001CMP110","GCA",null,null,null,null,{"$f":"IF(CampList[[#This Row],[HH]]>0,CampList[[#This Row],[Total]]/CampList[[#This Row],[HH]],\"NA\")","v":"NA"},null,null,"Camp",null,"Close"]
[null,null,"Open","Kachin","MMR001","Myitkyina","MMR001D001","Waingmaw","MMR001002","Hpawt Dawt","MMR001002032","Zai Aung",null,"Zai Awng / Mung Ga Zup","MMR001CMP111","NGCA",97.756789999999995,25.106670000000001,627,2287,{"$f":"IF(CampList[[#This Row],[HH]]>0,CampList[[#This Row],[Total]]/CampList[[#This Row],[HH]],\"NA\")","v":3.6475279106858056},null,null,"Camp",null,"Open"]
[null,null,"Open","Kachin","MMR001","Myitkyina","MMR001D001","Waingmaw","MMR001002","Saga Pa (Sadung Sub-township)","MMR001002040","Saga Pa",null,"Border Post 8","MMR001CMP113","NGCA",97.915833000000006,25.220278,132,560,{"$f":"IF(CampList[[#This Row],[HH]]>0,CampList[[#This Row],[Total]]/CampList[[#This Row],[HH]],\"NA\")","v":4.2424242424242422},null,null,"Camp",null,"Open"]
[null,null,"Close","Kachin","MMR001","Myitkyina","MMR001D001","Waingmaw","MMR001002","Saga Pa (Sadung Sub-township)",null,null,null,"Border Post 10","MMR001CMP114","NGCA",97.837778,25.273333000000001,null,null,{"$f":"IF(CampList[[#This Row],[HH]]>0,CampList[[#This Row],[Total]]/CampList[[#This Row],[HH]],\"NA\")","v":"NA"},null,null,"Camp",null,"Close"]
[null,null,"Open","Kachin","MMR001","Myitkyina","MMR001D001","Waingmaw","MMR001002","Saga Pa (Sadung Sub-township)",null,"Hkau Shau",null,"Hkau Shau (BP 12)","MMR001CMP115","NGCA",97.807182999999995,25.200333000000001,170,1156,{"$f":"IF(CampList[[#This Row],[HH]]>0,CampList[[#This Row],[Total]]/CampList[[#This Row],[HH]],\"NA\")","v":6.8},null,null,"Camp",null,"Open"]
[null,null,"Open","Kachin","MMR001","Myitkyina","MMR001D001","Waingmaw","MMR001002","Nam Sang Yang","MMR001002024","Nam Sang Yang",165772,"Woi Chyai ","MMR001CMP116","NGCA",97.567116999999996,24.768383,840,4296,{"$f":"IF(CampList[[#This Row],[HH]]>0,CampList[[#This Row],[Total]]/CampList[[#This Row],[HH]],\"NA\")","v":5.1142857142857139},null,null,"Camp",null,"Open"]
[null,null,"Open","Kachin","MMR001","Myitkyina","MMR001D001","Waingmaw","MMR001002","Nam Sang Yang","MMR001002024","Nam Sang Yang",165772,"Laiza Market 3 / Laiza Gat","MMR001CMP117","NGCA",97.551716999999996,24.746817,482,2184,{"$f":"IF(CampList[[#This Row],[HH]]>0,CampList[[#This Row],[Total]]/CampList[[#This Row],[HH]],\"NA\")","v":4.5311203319502074},null,null,"Camp",null,"Open"]
[null,null,"Open","Kachin","MMR001","Myitkyina","MMR001D001","Waingmaw","MMR001002","Nam Sang Yang","MMR001002024","Nam Sang Yang",165772,"Manau Compound","MMR001CMP118","GCA",97.550267000000005,24.747966999999999,"","",{"$f":"IF(CampList[[#This Row],[HH]]>0,CampList[[#This Row],[Total]]/CampList[[#This Row],[HH]],\"NA\")","v":{"$error":"#VALUE!"}},null,null,"Camp",null,"Open"]
[null,null,"Open","Kachin","MMR001","Myitkyina","MMR001D001","Waingmaw","MMR001002","Sa Ma","MMR001002031","Nar Gu",165790,"Maga Yang ","MMR001CMP119","NGCA",97.715230000000005,24.980250000000002,627,2618,{"$f":"IF(CampList[[#This Row],[HH]]>0,CampList[[#This Row],[Total]]/CampList[[#This Row],[HH]],\"NA\")","v":4.1754385964912277},null,null,"Camp",null,"Open"]
[null,null,"Open","Kachin","MMR001","Myitkyina","MMR001D001","Waingmaw","MMR001002","Sa Ma","MMR001002031","Pa Jau",null,"Pajau / Jan Mai","MMR001CMP120","NGCA",97.751389000000003,24.831944,157,759,{"$f":"IF(CampList[[#This Row],[HH]]>0,CampList[[#This Row],[Total]]/CampList[[#This Row],[HH]],\"NA\")","v":4.8343949044585983},null,null,"Camp",null,"Open"]
[null,null,"Open","Kachin","MMR001","Bhamo","MMR001D003","Momauk","MMR001012","Dawthponeyan  Town","MMR001012703","Laiza",null,"Je Yang Hka ","MMR001CMP121","NGCA",97.568282999999994,24.688167,1644,7896,{"$f":"IF(CampList[[#This Row],[HH]]>0,CampList[[#This Row],[Total]]/CampList[[#This Row],[HH]],\"NA\")","v":4.8029197080291972},null,null,"Camp",null,"Open"]
[null,null,"Open","Kachin","MMR001","Bhamo","MMR001D003","Momauk","MMR001012","In Baw Mai Kyin (Dawthponeyan Sub-township)","MMR001012042","Hpun Lum Yang",167223,"Hpun Lum Yang ","MMR001CMP122","NGCA",97.573166999999998,24.661466999999998,439,1956,{"$f":"IF(CampList[[#This Row],[HH]]>0,CampList[[#This Row],[Total]]/CampList[[#This Row],[HH]],\"NA\")","v":4.4555808656036451},null,null,"Camp",null,"Open"]
[null,null,"Open","Kachin","MMR001","Bhamo","MMR001D003","Momauk","MMR001012","Zee Wone Gawt","MMR001012023","Dum Bung",null,"Dum Bung ","MMR001CMP123","NGCA",97.537099999999995,24.461033,121,620,{"$f":"IF(CampList[[#This Row],[HH]]>0,CampList[[#This Row],[Total]]/CampList[[#This Row],[HH]],\"NA\")","v":5.1239669421487601},null,null,"Camp",null,"Open"]
[null,null,"Open","Kachin","MMR001","Bhamo","MMR001D003","Momauk","MMR001012","Kawng Hsa (Lwegel Sub-township)","MMR001012033","Mai Gyar Yang",216913,"Pa Kahtawng ","MMR001CMP126","NGCA",97.752667000000002,24.2744,503,3320,{"$f":"IF(CampList[[#This Row],[HH]]>0,CampList[[#This Row],[Total]]/CampList[[#This Row],[HH]],\"NA\")","v":6.6003976143141152},null,null,"Camp",null,"Open"]
[null,null,"Open","Kachin","MMR001","Bhamo","MMR001D003","Mansi","MMR001013","In Ba Pa","MMR001013012","La Na",216948,"Lana Zup Ja ","MMR001CMP128","NGCA",97.625617000000005,24.056132999999999,551,2586,{"$f":"IF(CampList[[#This Row],[HH]]>0,CampList[[#This Row],[Total]]/CampList[[#This Row],[HH]],\"NA\")","v":4.6932849364791291},null,null,"Camp","Mansi","Open"]
[null,null,"Open","Kachin","MMR001","Bhamo","MMR001D003","Mansi","MMR001013","Dum Buk","MMR001013014","Dum Buk","Dum Buk","Bum Tsit Pa ","MMR001CMP129","NGCA",97.609832999999995,24.002433,173,832,{"$f":"IF(CampList[[#This Row],[HH]]>0,CampList[[#This Row],[Total]]/CampList[[#This Row],[HH]],\"NA\")","v":4.8092485549132951},null,null,"Camp","Mansi","Open"]
[null,null,"Open","Kachin","MMR001","Bhamo","MMR001D003","Momauk","MMR001012","Ba Lawng Kawng (Lwegel Sub-township)","MMR001012030","Hpa Lum",167138,"Nhkawng Pa ","MMR001CMP131","NGCA",97.669366999999994,24.378167000000001,380,1701,{"$f":"IF(CampList[[#This Row],[HH]]>0,CampList[[#This Row],[Total]]/CampList[[#This Row],[HH]],\"NA\")","v":4.4763157894736842},null,null,"Camp"," ","Open"]
[null,null,"Open","Kachin","MMR001","Bhamo","MMR001D003","Mansi","MMR001013","Man Wein","MMR001013021",null,null,"Man Wing Catholic Church","MMR001CMP132","NGCA",97.334630000000004,23.51491,308,1592,{"$f":"IF(CampList[[#This Row],[HH]]>0,CampList[[#This Row],[Total]]/CampList[[#This Row],[HH]],\"NA\")","v":5.1688311688311686},null,null,"Camp"," ","Open"]
[null,null,"Open","Kachin","MMR001","Bhamo","MMR001D003","Mansi","MMR001013","Man Wein","MMR001013021",null,null,"Man Wing Baptist Church","MMR001CMP133","NGCA",97.587900000000005,23.83,111,719,{"$f":"IF(CampList[[#This Row],[HH]]>0,CampList[[#This Row],[Total]]/CampList[[#This Row],[HH]],\"NA\")","v":6.4774774774774775},null,null,"Camp"," ","Open"]
[null,null,"Open","Kachin","MMR001","Bhamo","MMR001D003","Mansi","MMR001013","Man Wein","MMR001013021",null,null,"Man Wing Host Families","MMR001CMP134","NGCA",null,null,342,1393,{"$f":"IF(CampList[[#This Row],[HH]]>0,CampList[[#This Row],[Total]]/CampList[[#This Row],[HH]],\"NA\")","v":4.0730994152046787},null,null,"Host Families",null,"Open"]
[null,null,"Open","Kachin","MMR001","Bhamo","MMR001D003","Mansi","MMR001013","La Gat Dawt","MMR001013027",null,null,"Lung Kawk  ( Hka Hkye Zup)","MMR001CMP135","NGCA",97.585667000000001,23.9055,93,352,{"$f":"IF(CampList[[#This Row],[HH]]>0,CampList[[#This Row],[Total]]/CampList[[#This Row],[HH]],\"NA\")","v":3.78494623655914},null,null,"Camp"," ","Open"]
[null,null,"Open","Kachin","MMR001","Bhamo","MMR001D003","Mansi","MMR001013","Man Wein","MMR001013021",null,null,"Nam Hka Mare (west of Man Wing)","MMR001CMP136","NGCA",null,null,73,637,{"$f":"IF(CampList[[#This Row],[HH]]>0,CampList[[#This Row],[Total]]/CampList[[#This Row],[HH]],\"NA\")","v":8.7260273972602747},null,null,"Camp"," ","Open"]
[null,null,"Open","Kachin","MMR001","Bhamo","MMR001D003","Mansi","MMR001013","Nam Lin Pa","MMR001013037",null,null,"Nam Lim Pa - Scattered IDPs in forest","MMR001CMP137","NGCA",96.808940000000007,24.20635,193,1350,{"$f":"IF(CampList[[#This Row],[HH]]>0,CampList[[#This Row],[Total]]/CampList[[#This Row],[HH]],\"NA\")","v":6.9948186528497409},null,null,"Camp"," ",{"$f":"C133","v":"Open"}]
[null,null,"Open","Kachin","MMR001","Myitkyina","MMR001D001","Injangyang","MMR001003",null,null,null,null,"Lawk Hkawng Ginwang","MMR001CMP146","GCA",null,null,"","",{"$f":"IF(CampList[[#This Row],[HH]]>0,CampList[[#This Row],[Total]]/CampList[[#This Row],[HH]],\"NA\")","v":{"$error":"#VALUE!"}},null,null,"Camp"," ","Open"]
[null,null,"Open","Kachin","MMR001","Bhamo","MMR001D003","Shwegu","MMR001011",null,null,null,null,"Lawk Awng Mare D. (Sinbo Area)","MMR001CMP147","NGCA",null,null,375,1691,{"$f":"IF(CampList[[#This Row],[HH]]>0,CampList[[#This Row],[Total]]/CampList[[#This Row],[HH]],\"NA\")","v":4.5093333333333332},null,null,"Camp"," ","Open"]
[null,null,"Open","Kachin","MMR001","Mohnyin","MMR001D002","Hpakant","MMR001009","Nam Si In (Karmaing Sub-township)","MMR001009012","Nam Si In",166822,"Hlaing Naung Baptist","MMR001CMP148","GCA",96.705960000000005,25.51352,15,53,{"$f":"IF(CampList[[#This Row],[HH]]>0,CampList[[#This Row],[Total]]/CampList[[#This Row],[HH]],\"NA\")","v":3.5333333333333332},null,null,"Camp"," ","Open"]
[null,null,"Open","Kachin","MMR001","Myitkyina","MMR001D001","Waingmaw","MMR001002","Hpawt Dawt","MMR001002032","Lai Zar",165816,"Laiza Muklum Hpyen  Yen Mungshawa ni","MMR001CMP149","NGCA",null,null,347,4420,{"$f":"IF(CampList[[#This Row],[HH]]>0,CampList[[#This Row],[Total]]/CampList[[#This Row],[HH]],\"NA\")","v":12.737752161383286},null,null,"Host Families",null,"Open"]
[null,null,"Open","Kachin","MMR001","Mohnyin","MMR001D002","Mohnyin","MMR001007",null,null,null,null,"Nawng Ing (Indawgyi) Baptist Church  ","MMR001CMP152","GCA",null,null,"","",{"$f":"IF(CampList[[#This Row],[HH]]>0,CampList[[#This Row],[Total]]/CampList[[#This Row],[HH]],\"NA\")","v":{"$error":"#VALUE!"}},null,null,"Camp",null,"Open"]
[null,null,"Open","Kachin","MMR001","Bhamo","MMR001D003","Bhamo","MMR001010",null,null,null,null,"Daw Hpum Yang Ninghtawn","MMR001CMP153","GCA",null,null,"","",{"$f":"IF(CampList[[#This Row],[HH]]>0,CampList[[#This Row],[Total]]/CampList[[#This Row],[HH]],\"NA\")","v":{"$error":"#VALUE!"}},null,null,"Host Families",null,"Open"]
[null,null,"Open","Kachin","MMR001","Myitkyina","MMR001D001","Waingmaw","MMR001002","Saga Pa (Sadung Sub-township)","MMR001002040",null,null,"Post 6 Camp","MMR001CMP160","NGCA",97.990555999999998,25.265277999999999,120,586,{"$f":"IF(CampList[[#This Row],[HH]]>0,CampList[[#This Row],[Total]]/CampList[[#This Row],[HH]],\"NA\")","v":4.8833333333333337},null,null,"Camp"," ","Open"]
[null,null,"Open","Kachin","MMR001","Myitkyina","MMR001D001","Myitkyina","MMR001001","Pa La Na Sa Khan Myar","MMR001001003","Pi Tauk Myaing",165685,"Pa Dauk Myaing(Pa La Na)","MMR001CMP162","GCA",97.4345,25.493819999999999,31,163,{"$f":"IF(CampList[[#This Row],[HH]]>0,CampList[[#This Row],[Total]]/CampList[[#This Row],[HH]],\"NA\")","v":5.258064516129032},null,null,"Camp"," ","Open"]
[null,null,"Open","Kachin","MMR001","Bhamo","MMR001D003","Bhamo","MMR001010",null,null,null,null,"Host Families","MMR001CMP163","GCA",null,null,284,1299,{"$f":"IF(CampList[[#This Row],[HH]]>0,CampList[[#This Row],[Total]]/CampList[[#This Row],[HH]],\"NA\")","v":4.573943661971831},null,null,"Host Families",null,"Open"]
[null,null,"Open","Kachin","MMR001","Mohnyin","MMR001D002","Hpakant","MMR001009","Hpakan Town","MMR001009701","Maw Wam Ward","MMR001009701501","Lisu Baptist Church, Maw Wan Ward","MMR001CMP167","GCA",96.316400000000002,25.61842,11,40,{"$f":"IF(CampList[[#This Row],[HH]]>0,CampList[[#This Row],[Total]]/CampList[[#This Row],[HH]],\"NA\")","v":3.6363636363636362},null,null,"Camp"," ","Open"]
[null,null,"Open","Kachin","MMR001","Mohnyin","MMR001D002","Hpakant","MMR001009","Lone Khin","MMR001009001","Lone Khin",166773,"5 Ward RC Church(lon Khin)","MMR001CMP168","GCA",96.353070000000002,25.655819999999999,164,649,{"$f":"IF(CampList[[#This Row],[HH]]>0,CampList[[#This Row],[Total]]/CampList[[#This Row],[HH]],\"NA\")","v":3.9573170731707319},null,null,"Camp"," ","Open"]
[null,null,"Open","Kachin","MMR001","Mohnyin","MMR001D002","Hpakant","MMR001009","Lone Khin","MMR001009001","Hmaw Si Zar",166775,"Baptist Church, Hmaw Si Sar(Lon Khin)","MMR001CMP169","GCA",96.346469999999997,25.647649999999999,107,441,{"$f":"IF(CampList[[#This Row],[HH]]>0,CampList[[#This Row],[Total]]/CampList[[#This Row],[HH]],\"NA\")","v":4.1214953271028039},null,null,"Camp"," ","Open"]
[null,null,"Close","Kachin","MMR001","Mohnyin","MMR001D002","Hpakant","MMR001009","Lone Khin","MMR001009001","Ku Day",216877,"Away Yar Rama Monastery, Ka Day village","MMR001CMP170","GCA",96.339870000000005,25.655989999999999,null,null,{"$f":"IF(CampList[[#This Row],[HH]]>0,CampList[[#This Row],[Total]]/CampList[[#This Row],[HH]],\"NA\")","v":"NA"},null,null,"Camp"," ","Close"]
[null,null,"Close","Kachin","MMR001","Mohnyin","MMR001D002","Hpakant","MMR001009","Lone Khin","MMR001009001","Lone Khin",166773,"1 Ward, Sein Yadanar Company(Lon Khin)","MMR001CMP171","GCA",96.359549999999999,25.658650000000002,null,null,{"$f":"IF(CampList[[#This Row],[HH]]>0,CampList[[#This Row],[Total]]/CampList[[#This Row],[HH]],\"NA\")","v":"NA"},null,null,"Camp"," ","Close"]
[null,null,"Open","Kachin","MMR001","Mohnyin","MMR001D002","Hpakant","MMR001009","Lone Khin","MMR001009001","Ma Sut Yang",216880,"Baptist Church, Sai Ra village","MMR001CMP172","GCA",96.353070000000002,25.668469999999999,11,43,{"$f":"IF(CampList[[#This Row],[HH]]>0,CampList[[#This Row],[Total]]/CampList[[#This Row],[HH]],\"NA\")","v":3.9090909090909092},null,null,"Camp"," ","Open"]
[null,null,"Close","Kachin","MMR001","Mohnyin","MMR001D002","Hpakant","MMR001009","Lone Khin","MMR001009001","Hmaw Si Zar",166775,"Anglican Church, Hmaw Si Sar","MMR001CMP173","GCA",null,null,null,null,{"$f":"IF(CampList[[#This Row],[HH]]>0,CampList[[#This Row],[Total]]/CampList[[#This Row],[HH]],\"NA\")","v":"NA"},null,null,"Camp","Double with 149","Close"]
[null,null,"Open","Kachin","MMR001","Mohnyin","MMR001D002","Hpakant","MMR001009","Lone Khin","MMR001009001","Nyein Chan Thar Yar",216876,"Dhama Rakhita, Nyein Chan Tar Yar Ward(Lon Khin)","MMR001CMP174","GCA",96.354929999999996,25.643090000000001,59,282,{"$f":"IF(CampList[[#This Row],[HH]]>0,CampList[[#This Row],[Total]]/CampList[[#This Row],[HH]],\"NA\")","v":4.7796610169491522},null,null,"Camp"," ","Open"]
[null,null,"Close","Kachin","MMR001","Mohnyin","MMR001D002","Hpakant","MMR001009","Hpakan Town","MMR001009701","Ma Shi Ka Htaung Ward","MMR001009701505","Wrad(5) Christian Association","MMR001CMP175","GCA",null,null,null,null,{"$f":"IF(CampList[[#This Row],[HH]]>0,CampList[[#This Row],[Total]]/CampList[[#This Row],[HH]],\"NA\")","v":"NA"},null,null,"Camp"," ","Close"]
[null,null,"Open","Kachin","MMR001","Mohnyin","MMR001D002","Hpakant","MMR001009","Lone Khin","MMR001009001","Hmaw Si Zar",166775,"AG Church, Hmaw Si Sa","MMR001CMP176","GCA",96.345569999999995,25.635300000000001,42,190,{"$f":"IF(CampList[[#This Row],[HH]]>0,CampList[[#This Row],[Total]]/CampList[[#This Row],[HH]],\"NA\")","v":4.5238095238095237},null,null,"Camp"," ","Open"]
[null,null,"Open","Kachin","MMR001","Mohnyin","MMR001D002","Hpakant","MMR001009","Lone Khin","MMR001009001","Lone Khin",166773,"Muring Baptist Church, Awng Ra, Wa Ra Zut VT","MMR001CMP177","GCA",96.354159999999993,25.658670000000001,26,55,{"$f":"IF(CampList[[#This Row],[HH]]>0,CampList[[#This Row],[Total]]/CampList[[#This Row],[HH]],\"NA\")","v":2.1153846153846154},null,null,"Camp"," ","Open"]
[null,null,"Close","Kachin","MMR001","Mohnyin","MMR001D002","Hpakant","MMR001009","Lone Khin","MMR001009001","Lone Khin",166773,"May Di Ka Rama Monastery(Lon Khin)","MMR001CMP178","GCA",96.359309999999994,25.651440000000001,null,null,{"$f":"IF(CampList[[#This Row],[HH]]>0,CampList[[#This Row],[Total]]/CampList[[#This Row],[HH]],\"NA\")","v":"NA"},null,null,"Camp"," ","Close"]
[null,null,"Open","Kachin","MMR001","Mohnyin","MMR001D002","Hpakant","MMR001009","Lone Khin","MMR001009001","Lone Khin",166773,"5 Ward Baptist Church(lon Khin)","MMR001CMP179","GCA",96.355270000000004,25.656130000000001,164,546,{"$f":"IF(CampList[[#This Row],[HH]]>0,CampList[[#This Row],[Total]]/CampList[[#This Row],[HH]],\"NA\")","v":3.3292682926829267},null,null,"Camp"," ","Open"]
[null,null,"Close","Kachin","MMR001","Mohnyin","MMR001D002","Hpakant","MMR001009","Seik Mu","MMR001009003","Seik Mu",166783,"Ei Wan Gali Asso., Ward 1, Seik Mu","MMR001CMP180","GCA",null,null,null,null,{"$f":"IF(CampList[[#This Row],[HH]]>0,CampList[[#This Row],[Total]]/CampList[[#This Row],[HH]],\"NA\")","v":"NA"},null,null,"Camp"," ","Close"]
[null,null,"Open","Kachin","MMR001","Mohnyin","MMR001D002","Hpakant","MMR001009","Seik Mu","MMR001009003","Maw Shan",166785,"Lisu Baptist Church, Maw Shan Vil,. Seik Mu","MMR001CMP181","GCA",96.269199999999998,25.566510000000001,37,116,{"$f":"IF(CampList[[#This Row],[HH]]>0,CampList[[#This Row],[Total]]/CampList[[#This Row],[HH]],\"NA\")","v":3.1351351351351351},null,null,"Camp"," ","Open"]
[null,null,"Open","Kachin","MMR001","Mohnyin","MMR001D002","Hpakant","MMR001009","Seik Mu","MMR001009003","Maw Shan",166785,"Rawan Baptist Church, Maw Shan Vil., Seik Mu","MMR001CMP182","GCA",96.279200000000003,25.56551,7,30,{"$f":"IF(CampList[[#This Row],[HH]]>0,CampList[[#This Row],[Total]]/CampList[[#This Row],[HH]],\"NA\")","v":4.2857142857142856},null,null,"Camp"," ","Open"]
[null,null,"Open","Kachin","MMR001","Mohnyin","MMR001D002","Hpakant","MMR001009","Seik Mu","MMR001009003","Maw Shan",166785,"Sai Nai Baptish Church, Maw Shan Vil., Seki Mu","MMR001CMP183","GCA",96.353030000000004,25.668399999999998,60,198,{"$f":"IF(CampList[[#This Row],[HH]]>0,CampList[[#This Row],[Total]]/CampList[[#This Row],[HH]],\"NA\")","v":3.3},null,null,"Camp"," ","Open"]
[null,null,"Open","Kachin","MMR001","Mohnyin","MMR001D002","Hpakant","MMR001009","Seik Mu","MMR001009003","Sai Taung (Ywar Haung)",166788,"Ward 2 Sai Taung Baptist Church, Seik Mu ","MMR001CMP184","GCA",96.286680000000004,25.577559999999998,134,503,{"$f":"IF(CampList[[#This Row],[HH]]>0,CampList[[#This Row],[Total]]/CampList[[#This Row],[HH]],\"NA\")","v":3.7537313432835822},null,null,"Camp"," ","Open"]
[null,null,"Open","Kachin","MMR001","Mohnyin","MMR001D002","Hpakant","MMR001009","Seik Mu","MMR001009003","Seik Mu",166783,"Ward 2 Cahotlic Church, Seik Mu","MMR001CMP185","GCA",96.288250000000005,25.57921,75,288,{"$f":"IF(CampList[[#This Row],[HH]]>0,CampList[[#This Row],[Total]]/CampList[[#This Row],[HH]],\"NA\")","v":3.84},null,null,"Camp"," ","Open"]
[null,null,"Close","Kachin","MMR001","Mohnyin","MMR001D002","Hpakant","MMR001009","Seik Mu","MMR001009003","Seik Mu",166783,"Free Christian Asso., Ward 1, Seik Mu","MMR001CMP186","GCA",null,null,null,null,{"$f":"IF(CampList[[#This Row],[HH]]>0,CampList[[#This Row],[Total]]/CampList[[#This Row],[HH]],\"NA\")","v":"NA"},null,null,"Camp"," ","Close"]
[null,null,"Open","Kachin","MMR001","Mohnyin","MMR001D002","Hpakant","MMR001009","Nawng Mi","MMR001009008","Nawng Myi",166817,"Baptist Church, Naung Hmee VT","MMR001CMP188","GCA",96.673805000000002,25.728653000000001,16,68,{"$f":"IF(CampList[[#This Row],[HH]]>0,CampList[[#This Row],[Total]]/CampList[[#This Row],[HH]],\"NA\")","v":4.25},null,null,"Camp"," ","Open"]
[null,null,"Close","Kachin","MMR001","Mohnyin","MMR001D002","Hpakant","MMR001009","Hpakan Town","MMR001009701","Maw Wam Ward","MMR001009701501","Hmaw Wan, Baptist Christian Church","MMR001CMP189","GCA",null,null,null,null,{"$f":"IF(CampList[[#This Row],[HH]]>0,CampList[[#This Row],[Total]]/CampList[[#This Row],[HH]],\"NA\")","v":"NA"},null,null,"Camp"," ","Close"]
[null,null,"Open","Kachin","MMR001","Mohnyin","MMR001D002","Hpakant","MMR001009","Hpakan Town","MMR001009701","Maw Wam Ward","MMR001009701501","AG Church, Maw Wan","MMR001CMP190","GCA",96.317350000000005,25.616509000000001,20,90,{"$f":"IF(CampList[[#This Row],[HH]]>0,CampList[[#This Row],[Total]]/CampList[[#This Row],[HH]],\"NA\")","v":4.5},null,null,"Camp"," ","Open"]
[null,null,"Open","Kachin","MMR001","Mohnyin","MMR001D002","Hpakant","MMR001009","Hpakan Town","MMR001009701","Maw Wam Ward","MMR001009701501","Hmaw Wan, Anglican","MMR001CMP191","GCA",96.316564,25.615960999999999,28,148,{"$f":"IF(CampList[[#This Row],[HH]]>0,CampList[[#This Row],[Total]]/CampList[[#This Row],[HH]],\"NA\")","v":5.2857142857142856},null,null,"Camp"," ","Open"]
[null,null,"Open","Kachin","MMR001","Mohnyin","MMR001D002","Hpakant","MMR001009","Nam Ma Hpyit","MMR001009002","Nam Ma Hpyit",166776,"Nam Ma Phyit, COC","MMR001CMP192","GCA",96.339590000000001,25.617998,29,98,{"$f":"IF(CampList[[#This Row],[HH]]>0,CampList[[#This Row],[Total]]/CampList[[#This Row],[HH]],\"NA\")","v":3.3793103448275863},null,null,"Camp"," ","Open"]
[null,null,"Open","Kachin","MMR001","Bhamo","MMR001D003","Bhamo","MMR001010","Han Te","MMR001010024","Hpan Hkar Kone",166854,"Phan Khar Kone","MMR001CMP193","GCA",97.252650000000003,24.222349999999999,17,70,{"$f":"IF(CampList[[#This Row],[HH]]>0,CampList[[#This Row],[Total]]/CampList[[#This Row],[HH]],\"NA\")","v":4.117647058823529},null,null,"Camp"," ","Open"]
[null,null,"Open","Kachin","MMR001","Bhamo","MMR001D003","Bhamo","MMR001010","Aung Thar","MMR001010048","Aung Thar",166904,"Aung Thar Church","MMR001CMP194","GCA",97.252650000000003,24.260466999999998,10,37,{"$f":"IF(CampList[[#This Row],[HH]]>0,CampList[[#This Row],[Total]]/CampList[[#This Row],[HH]],\"NA\")","v":3.7},null,null,"Camp"," ","Open"]
[null,null,"Open","Kachin","MMR001","Myitkyina","MMR001D001","Chipwi","MMR001005","Urban",null,"Rit Law",null,"Lhaovao Baptist Church (LBC)","MMR001CMP195","GCA",null,null,138,517,{"$f":"IF(CampList[[#This Row],[HH]]>0,CampList[[#This Row],[Total]]/CampList[[#This Row],[HH]],\"NA\")","v":3.7463768115942031},null,null,"Camp","Data source from Camp Profile","Open"]
[null,null,"Open","Kachin","MMR001","Bhamo","MMR001D003","Mansi","MMR001013",null,null,null,null,"Host Families","MMR001CMP196","GCA",null,null,278,1011,{"$f":"IF(CampList[[#This Row],[HH]]>0,CampList[[#This Row],[Total]]/CampList[[#This Row],[HH]],\"NA\")","v":3.6366906474820144},null,null,"Host Families",null,"Open"]
[null,null,"Open","Kachin","MMR001","Bhamo","MMR001D003","Momauk","MMR001012",null,null,null,null,"Host Families","MMR001CMP197","GCA",null,null,421,1369,{"$f":"IF(CampList[[#This Row],[HH]]>0,CampList[[#This Row],[Total]]/CampList[[#This Row],[HH]],\"NA\")","v":3.2517814726840855},null,null,"Host Families",null,"Open"]
[null,null,"Open","Kachin","MMR001","Bhamo","MMR001D003","Momauk","MMR001012","Man Ping (Ping) (Dawthponeyan Sub-township)","MMR001012052","Man Ping",167270,"Man Ting","MMR001CMP198","GCA",null,null,"","",{"$f":"IF(CampList[[#This Row],[HH]]>0,CampList[[#This Row],[Total]]/CampList[[#This Row],[HH]],\"NA\")","v":{"$error":"#VALUE!"}},null,null,"Host Families",null,"Open"]
[null,null,"Open","Kachin","MMR001","Bhamo","MMR001D003","Shwegu","MMR001011",null,null,null,null,"Host Families","MMR001CMP199","GCA",null,null,9,25,{"$f":"IF(CampList[[#This Row],[HH]]>0,CampList[[#This Row],[Total]]/CampList[[#This Row],[HH]],\"NA\")","v":2.7777777777777777},null,null,"Host Families",null,"Open"]
[null,null,"Open","Kachin","MMR001","Bhamo","MMR001D003","Momauk","MMR001012",null,null,null,null,"Khun Sint Village","MMR001CMP200","GCA",null,null,4,26,{"$f":"IF(CampList[[#This Row],[HH]]>0,CampList[[#This Row],[Total]]/CampList[[#This Row],[HH]],\"NA\")","v":6.5},null,null,"Camp"," ","Open"]
[null,null,"Close","Kachin","MMR001","Mohnyin","MMR001D002","Hpakant","MMR001009","Hpakan Town","MMR001009701","Maw Wam Ward","MMR001009701501","Zomee Baptist Church camp, Hmaw Wan","MMR001CMP201","GCA",96.315601999999998,25.615006000000001,null,null,{"$f":"IF(CampList[[#This Row],[HH]]>0,CampList[[#This Row],[Total]]/CampList[[#This Row],[HH]],\"NA\")","v":"NA"},null,null,"Camp"," ","Close"]
[null,null,"Open","Kachin","MMR001","Bhamo","MMR001D003","Mansi","MMR001013","Man Mawn","MMR001013022",null,null,"Lagatyan ","MMR001CMP202","GCA",97.613699999999994,23.879899999999999,85,343,{"$f":"IF(CampList[[#This Row],[HH]]>0,CampList[[#This Row],[Total]]/CampList[[#This Row],[HH]],\"NA\")","v":4.0352941176470587},null,null,"Camp"," ","Open"]
[null,null,"Open","Kachin","MMR001","Bhamo","MMR001D003","Mansi","MMR001013","Mung Ding Pa","MMR001013038",null,null,"Mung Ding Pa  (Boarder)","MMR001CMP203","NGCA",96.808850000000007,24.20645,98,400,{"$f":"IF(CampList[[#This Row],[HH]]>0,CampList[[#This Row],[Total]]/CampList[[#This Row],[HH]],\"NA\")","v":4.0816326530612246},null,null,"Camp","Data source from Camp Profile","Open"]
[null,null,"Open","Kachin","MMR001","Bhamo","MMR001D003","Mansi","MMR001013","Nam Lin Pa","MMR001013037",null,null,"Nam Lim Pa    (Boarder)","MMR001CMP204","NGCA",96.808940000000007,24.20635,185,1144,{"$f":"IF(CampList[[#This Row],[HH]]>0,CampList[[#This Row],[Total]]/CampList[[#This Row],[HH]],\"NA\")","v":6.1837837837837837},null,null,"Camp","Data source from Camp Profile","Open"]
[null,null,"Open","Kachin","MMR001","Puta-O","MMR001D004","Sumprabum","MMR001015","Sumprabum Town","MMR001015701",null,null,"Sumprabum","MMR001CMP206","GCA",null,null,8,38,{"$f":"IF(CampList[[#This Row],[HH]]>0,CampList[[#This Row],[Total]]/CampList[[#This Row],[HH]],\"NA\")","v":4.75},null,null,"Camp"," ","Open"]
[null,null,"Open","Shan_North","MMR001","Myitkyina","MMR001D001","Waingmaw","MMR001002",null,null,null,null,"IDP Boarding School, A Len Bum","MMR001CMP208","NGCA",null,null,357,1784,{"$f":"IF(CampList[[#This Row],[HH]]>0,CampList[[#This Row],[Total]]/CampList[[#This Row],[HH]],\"NA\")","v":4.9971988795518207},null,null,"Camp","IDP childrens boarding school.","Open"]
[null,null,"Open","Kachin","MMR001","Mohnyin","MMR001D002","Hpakant","MMR001009","Kamaing Town","MMR001009702","Kamaing Ward","MMR001009702501","Lai Nawng Baptist Church","MMR001CMP211","GCA",null,null,null,null,{"$f":"IF(CampList[[#This Row],[HH]]>0,CampList[[#This Row],[Total]]/CampList[[#This Row],[HH]],\"NA\")","v":"NA"},null,null,"Camp","New Camp","Open"]
[null,null,"Open","Shan_North","MMR015","Muse","MMR015D002","Namhkan","MMR015010","Nawng Hkam","MMR015010010","Nawng Hkam",208353,"Nam Hkam (KBC Jaw Wang)","MMR015CMP001","NGCA",97.683499999999995,23.831700000000001,98,444,{"$f":"IF(CampList[[#This Row],[HH]]>0,CampList[[#This Row],[Total]]/CampList[[#This Row],[HH]],\"NA\")","v":4.5306122448979593},null,null,"Camp"," ","Open"]
[null,null,"Open","Shan_North","MMR015","Muse","MMR015D002","Namhkan","MMR015010","Nawng Hkam","MMR015010010","Nawng Hkam",208353,"Nam Hkam Malut Jak ","MMR015CMP002","NGCA",null,null,46,207,{"$f":"IF(CampList[[#This Row],[HH]]>0,CampList[[#This Row],[Total]]/CampList[[#This Row],[HH]],\"NA\")","v":4.5},null,null,"Camp"," ","Open"]
[null,null,"Open","Shan_North","MMR015","Muse","MMR015D002","Namhkan","MMR015010","Nawng Hkam","MMR015010010","Nawng Hkam",208353,"Nam Hkam Catholic Church ( St. Thomas I)","MMR015CMP003","NGCA",97.685199999999995,23.833100000000002,66,275,{"$f":"IF(CampList[[#This Row],[HH]]>0,CampList[[#This Row],[Total]]/CampList[[#This Row],[HH]],\"NA\")","v":4.166666666666667},null,null,"Camp","Data source from Camp Profile","Open"]
[null,null,"Open","Shan_North","MMR015","Muse","MMR015D002","Namhkan","MMR015010","Nawng Hkam","MMR015010010","Nawng Hkam",208353,"Nam Hkam - Nay Win Ni (Palawng)","MMR015CMP004","NGCA",97.6892,23.833600000000001,93,375,{"$f":"IF(CampList[[#This Row],[HH]]>0,CampList[[#This Row],[Total]]/CampList[[#This Row],[HH]],\"NA\")","v":4.032258064516129},null,null,"Camp"," ","Open"]
[null,null,"Open","Shan_North","MMR015","Muse","MMR015D002","Muse","MMR015009",null,null,null,null,"Mung Baw ","MMR015CMP005","NGCA",null,null,123,503,{"$f":"IF(CampList[[#This Row],[HH]]>0,CampList[[#This Row],[Total]]/CampList[[#This Row],[HH]],\"NA\")","v":4.0894308943089435},null,null,"Camp"," ","Open"]
[null,null,"Open","Shan_North","MMR015","Muse","MMR015D002","Kutkai","MMR015011","Long Waun Nam Rein (Tarmoenye Sub-township)","MMR015011050","Mai Pong (Shu See)",null,"Mungji Pa Dabang (Baptist Church)         ","MMR015CMP006","NGCA",98.220614999999995,23.400155999999999,67,296,{"$f":"IF(CampList[[#This Row],[HH]]>0,CampList[[#This Row],[Total]]/CampList[[#This Row],[HH]],\"NA\")","v":4.4179104477611943},null,null,"Camp"," ","Open"]
[null,null,"Open","Shan_North","MMR015","Muse","MMR015D002","Kutkai","MMR015011","Nam Hpat Kar",null,"Nam Hpat Kar (Ho Pon + Pang Sa Lorp)",null,"Nam Hpak Ka Mare ","MMR015CMP007","NGCA",97.490750000000006,23.413948999999999,81,275,{"$f":"IF(CampList[[#This Row],[HH]]>0,CampList[[#This Row],[Total]]/CampList[[#This Row],[HH]],\"NA\")","v":3.3950617283950617},null,null,"Camp","Mabein","Open"]
[null,null,"Open","Shan_North","MMR015","Kyaukme","MMR015D003","Manton","MMR015019","Urban",null,"Ward (2)",null,"Mandung - Jinghpaw","MMR015CMP009","NGCA",null,null,43,183,{"$f":"IF(CampList[[#This Row],[HH]]>0,CampList[[#This Row],[Total]]/CampList[[#This Row],[HH]],\"NA\")","v":4.2558139534883717},null,null,"Camp","Data source from Camp Profile","Open"]
[null,null,"Open","Shan_North","MMR015","Kyaukme","MMR015D003","Manton","MMR015019",null,null,null,null,"Howa","MMR015CMP010","GCA",null,null,"","",{"$f":"IF(CampList[[#This Row],[HH]]>0,CampList[[#This Row],[Total]]/CampList[[#This Row],[HH]],\"NA\")","v":{"$error":"#VALUE!"}},null,null,"Camp",null,"Open"]
[null,null,"Open","Shan_North","MMR015","Kyaukme","MMR015D003","Manton","MMR015019",null,null,null,null,"Nam Hkyet","MMR015CMP011","GCA",null,null,"","",{"$f":"IF(CampList[[#This Row],[HH]]>0,CampList[[#This Row],[Total]]/CampList[[#This Row],[HH]],\"NA\")","v":{"$error":"#VALUE!"}},null,null,"Camp",null,"Open"]
[null,null,"Open","Shan_North","MMR015","Muse","MMR015D002","Muse","MMR015009","Man Gyat (Monekoe Sub-township)",null,"Gwum Hsan",null,"Munekoe Pa (Giwang) - Hka San (Mung  Go  Pa ) ","MMR015CMP012","NGCA",null,null,53,192,{"$f":"IF(CampList[[#This Row],[HH]]>0,CampList[[#This Row],[Total]]/CampList[[#This Row],[HH]],\"NA\")","v":3.6226415094339623},null,null,"Camp"," ","Open"]
[null,null,"Open","Shan_North","MMR015","Kyaukme","MMR015D003","Namtu","MMR015015","Namtu Town","MMR015015701","Namtu Ward","MMR015015701501","Nam Tu Baptist","MMR015CMP014","NGCA",null,null,59,287,{"$f":"IF(CampList[[#This Row],[HH]]>0,CampList[[#This Row],[Total]]/CampList[[#This Row],[HH]],\"NA\")","v":4.8644067796610173},null,null,"Camp","Data source from Camp Profile","Open"]
[null,null,"Open","Shan_North","MMR015","Muse","MMR015D002","Kutkai","MMR015011","Kar Lai Kone Hsar","MMR015011005","Kar Lai",208557,"Kone Khem Camp","MMR015CMP015","GCA",null,null,86,453,{"$f":"IF(CampList[[#This Row],[HH]]>0,CampList[[#This Row],[Total]]/CampList[[#This Row],[HH]],\"NA\")","v":5.2674418604651159},null,null,"Camp","Data source from Camp Profile","Open"]
[null,null,"Open","Shan_North","MMR015","Muse","MMR015D002","Kutkai","MMR015011","Kutkai Town","MMR015011701","No (5) Ward","MMR015011701505","Kutkai downtown (KBC Church)","MMR015CMP016","GCA",97.554308000000006,23.271719000000001,87,382,{"$f":"IF(CampList[[#This Row],[HH]]>0,CampList[[#This Row],[Total]]/CampList[[#This Row],[HH]],\"NA\")","v":4.3908045977011492},null,null,"Camp"," ","Open"]
[null,null,"Open","Shan_North","MMR015","Muse","MMR015D002","Kutkai","MMR015011","Kutkai Town","MMR015011701","No (3) Ward","MMR015011701503","Kutkai downtown (RC Church)","MMR015CMP017","GCA",97.565616000000006,23.273361000000001,41,172,{"$f":"IF(CampList[[#This Row],[HH]]>0,CampList[[#This Row],[Total]]/CampList[[#This Row],[HH]],\"NA\")","v":4.1951219512195124},null,null,"Camp"," ",{"$f":"C197","v":"Open"}]
[null,null,"Open","Shan_North","MMR015","Muse","MMR015D002","Kutkai","MMR015011","Mong Yu",null,"Mong Yu",null,"Mine Yu Lay village","MMR015CMP018","GCA",97.474305999999999,23.352518,59,378,{"$f":"IF(CampList[[#This Row],[HH]]>0,CampList[[#This Row],[Total]]/CampList[[#This Row],[HH]],\"NA\")","v":6.406779661016949},null,null,"Camp","Manton??","Open"]
[null,null,"Open","Shan_North","MMR015","Muse","MMR015D002","Kutkai","MMR015011","Long Waun Nam Rein (Tarmoenye Sub-township)","MMR015011050","Mai Pong (Shu See)",null,"Mungji Pa Dabang (RC Church)         ","MMR015CMP019","GCA",98.213958000000005,23.391741,17,80,{"$f":"IF(CampList[[#This Row],[HH]]>0,CampList[[#This Row],[Total]]/CampList[[#This Row],[HH]],\"NA\")","v":4.7058823529411766},null,null,"Camp","Data source from Camp Profile","Open"]
[null,null,"Open","Shan_North","MMR015","Muse","MMR015D002","Kutkai","MMR015011","Kar Lai Kone Hsar","MMR015011005","Kar Lai",208557,"Zup Aung Camp","MMR015CMP020","GCA",97.834350000000001,23.384,75,380,{"$f":"IF(CampList[[#This Row],[HH]]>0,CampList[[#This Row],[Total]]/CampList[[#This Row],[HH]],\"NA\")","v":5.0666666666666664},null,null,"Camp","Data source from Camp Profile","Open"]
[null,null,"Open","Shan_North","MMR015","Muse","MMR015D002","Muse","MMR015009","Hpai Kawng (Pang Hseng-Kyu Koke Sub-township","MMR015009031","Hpai Kawng",208156,"Hpai Kawng Mare","MMR015CMP022","NGCA",98.115809999999996,24.08738,32,187,{"$f":"IF(CampList[[#This Row],[HH]]>0,CampList[[#This Row],[Total]]/CampList[[#This Row],[HH]],\"NA\")","v":5.84375},null,null,"Camp"," ","Open"]
[null,null,"Close","Shan_North","MMR015","Muse","MMR015D002","Namhkan","MMR015010",null,null,null,null,"Mung Ding Pa ","MMR015CMP023","NGCA",null,null,null,null,{"$f":"IF(CampList[[#This Row],[HH]]>0,CampList[[#This Row],[Total]]/CampList[[#This Row],[HH]],\"NA\")","v":"NA"},null,null,"Camp",null,"Close"]
[null,null,"Open","Shan_North","MMR015","Muse","MMR015D002","Namhkan","MMR015010","Nawng Hkam","MMR015010010","Nawng Hkam",208353,"Nam Hkam Catholic Church ( St. Thomas II)","MMR015CMP024","NGCA",97.693100000000001,23.8337,46,145,{"$f":"IF(CampList[[#This Row],[HH]]>0,CampList[[#This Row],[Total]]/CampList[[#This Row],[HH]],\"NA\")","v":3.152173913043478},null,null,"Camp","Data source from Camp Profile","Open"]
[null,null,"Open","Shan_North","MMR015","Muse","MMR015D002","Namhkan","MMR015010","Nawng Hkam","MMR015010010","Nawng Hkam",208353,"Nam Hkawng","MMR015CMP139","NGCA",null,null,11,51,{"$f":"IF(CampList[[#This Row],[HH]]>0,CampList[[#This Row],[Total]]/CampList[[#This Row],[HH]],\"NA\")","v":4.6363636363636367},null,null,"Camp","Data source from Camp Profile","Open"]
[null,null,"Open","Shan_North","MMR015","Lashio","MMR015D001","Hseni","MMR015002","Nar Tee","MMR015002029","Nar Tee",206422,"Narte","MMR015CMP207","NGCA",98.129440000000002,23.211770000000001,50,258,{"$f":"IF(CampList[[#This Row],[HH]]>0,CampList[[#This Row],[Total]]/CampList[[#This Row],[HH]],\"NA\")","v":5.16},null,null,"Camp","New Camp, Data source from Camp Profile","Open"]
[null,null,"Open","Shan_North","MMR015","Kyaukme","MMR015D003","Manton","MMR015019",null,null,null,null,"Mandung - RC","MMR015CMP209","GCA",null,null,26,147,{"$f":"IF(CampList[[#This Row],[HH]]>0,CampList[[#This Row],[Total]]/CampList[[#This Row],[HH]],\"NA\")","v":5.6538461538461542},null,null,"Camp","New Camp","Open"]
[null,null,"Open","Shan_North","MMR015","Kyaukme","MMR015D003","Namtu","MMR015015","Namtu Town","MMR015015701","Namtu Ward","MMR015015701501","Nam Tu RC","MMR015CMP210","NGCA",null,null,118,520,{"$f":"IF(CampList[[#This Row],[HH]]>0,CampList[[#This Row],[Total]]/CampList[[#This Row],[HH]],\"NA\")","v":4.406779661016949},null,null,"Camp","New Camp","Open"]

{"sheet":"Camp Analysis","index":2,"n_rows":70,"n_cols":18,"rows_kept":70,"cut":false,"hidden":false,"merged":[[2,0,2,10],[4,0,4,10],[37,0,37,10]]}
[]
["KACHIN & NORTHERN SHAN CAMP ANALYSIS"]
["2013-08-01"]
[]
["KACHIN & NORTHERN SHAN # OF IDPs/TOWNSHIP"]
[]
["State","(All)","(Select State)"]
[]
["Row Labels","# of Camps","Households","Population",null,null,null,null,null,null,null,null,null,null,null,"State","(All)","(Select State)"]
["Open",167,19445,91431]
["Bhamo",13,1286,5828,null,null,null,null,null,null,null,null,null,null,null,"Row Labels","Population"]
["Chipwi",5,637,3062,null,null,null,null,null,null,null,null,null,null,null,"Waingmaw",27973]
["Hpakant",24,1330,5075,null,null,null,null,null,null,null,null,null,null,null,"Momauk",21449]
["Hseni",1,50,258,null,null,null,null,null,null,null,null,null,null,null,"Mansi",12707]
["Injangyang",1,0,0,null,null,null,null,null,null,null,null,null,null,null,"Myitkyina",6503]
["Khaunglanhpu",1,22,107,null,null,null,null,null,null,null,null,null,null,null,"Bhamo",5828]
["Kutkai",8,513,2416,null,null,null,null,null,null,null,null,null,null,null,"Hpakant",5075]
["Mansi",13,2574,12707,null,null,null,null,null,null,null,null,null,null,null,"Chipwi",3062]
["Manton",4,69,330,null,null,null,null,null,null,null,null,null,null,null,"Kutkai",2416]
["Mogaung",3,45,187,null,null,null,null,null,null,null,null,null,null,null,"Shwegu",2153]
["Mohnyin",3,34,144,null,null,null,null,null,null,null,null,null,null,null,"Namhkan",1497]
["Momauk",23,4601,21449,null,null,null,null,null,null,null,null,null,null,null,"Muse",882]
["Muse",3,208,882,null,null,null,null,null,null,null,null,null,null,null,"Namtu",807]
["Myitkyina",25,1378,6503,null,null,null,null,null,null,null,null,null,null,null,"Manton",330]
["Namhkan",6,360,1497,null,null,null,null,null,null,null,null,null,null,null,"Hseni",258]
["Namtu",2,177,807,null,null,null,null,null,null,null,null,null,null,null,"Mogaung",187]
["Puta-O",1,7,15,null,null,null,null,null,null,null,null,null,null,null,"Mohnyin",144]
["Shwegu",4,535,2153,null,null,null,null,null,null,null,null,null,null,null,"Khaunglanhpu",107]
["Sumprabum",1,8,38,null,null,null,null,null,null,null,null,null,null,null,"Sumprabum",38]
["Waingmaw",26,5611,27973,null,null,null,null,null,null,null,null,null,null,null,"Puta-O",15]
["Close",36,0,0,null,null,null,null,null,null,null,null,null,null,null,"Injangyang",0]
["Chipwi",1,0,0,null,null,null,null,null,null,null,null,null,null,null,"Grand Total",91431]
["Hpakant",31]
["Namhkan",1]
["Waingmaw",3]
["Grand Total",203,19445,91431]
[]
["KACHIN & NORTHERN SHAN # of IDPs/TOWNSHIP/CONTROLLED AREA"]
[]
["State","(All)","(Select State)"]
[]
["Sum of Total","Column Labels"]
["Row Labels","GCA","NGCA","Grand Total"]
["Open",38394,53037,91431]
["Bhamo",5828,null,5828]
["Chipwi",3062,null,3062]
["Hpakant",5075,null,5075]
["Hseni",null,258,258]
["Injangyang",0,null,0]
["Khaunglanhpu",107,null,107]
["Kutkai",1845,571,2416]
["Mansi",1702,11005,12707]
["Manton",147,183,330]
["Mogaung",187,null,187]
["Mohnyin",144,null,144]
["Momauk",5956,15493,21449]
["Muse",null,882,882]
["Myitkyina",6503,null,6503]
["Namhkan",null,1497,1497]
["Namtu",null,807,807]
["Puta-O",15,null,15]
["Shwegu",462,1691,2153]
["Sumprabum",38,null,38]
["Waingmaw",7323,20650,27973]
["Close",0,null,0]
["Chipwi",0,null,0]
["Hpakant"]
["Namhkan"]
["Waingmaw"]
["Grand Total",38394,53037,91431]

{"sheet":"CCCM Dashboard","index":3,"n_rows":53,"n_cols":40,"rows_kept":53,"cut":false,"hidden":false,"merged":[[32,4,32,9],[1,0,1,7],[2,0,2,7],[0,0,0,14]]}
[]
["KACHIN & NORTHERN SHAN CCCM DASHBOARD"]
["2013-08-01"]
[null,null,null,null,null,null,null,null,null,null,null,null,null,null,null,null,null,null,null,null,null,null,null,null,null,null,null,null,null,null,null,null,null,"Township","1-1k","1k-5k","5k-10k","Over 10k"]
[null,null,null,null,null,null,null,null,null,null,null,null,null,null,null,null,null,null,null,null,null,null,null,null,null,null,null,null,null,null,null,null,null,"Bhamo",{"$f":"SUMIFS(Camplist_Popl,Camplist_Township,AH5,Camplist_Popl,\">0\",Camplist_Popl,\"<=1000\")","v":2042},{"$f":"SUMIFS(Camplist_Popl,Camplist_Township,AH5,Camplist_Popl,\">1000\",Camplist_Popl,\"<=5000\")","v":3786},{"$f":"SUMIFS(Camplist_Popl,Camplist_Township,AH5,Camplist_Popl,\">5000\",Camplist_Popl,\"<=10000\")","v":0},{"$f":"SUMIFS(Camplist_Popl,Camplist_Township,AH5,Camplist_Popl,\">10000\")","v":0}]
[null,null,null,null,null,null,null,null,null,null,null,null,null,null,null,null,null,null,null,null,null,null,null,null,null,null,null,null,null,null,null,null,null,"Chipwi",1789,1273,0,0]
[null,null,null,null,null,null,null,null,null,null,null,null,null,null,null,null,null,null,null,null,null,null,null,null,null,null,null,null,null,null,null,null,null,"Hpakant",5075,0,0,0]
[null,null,null,null,null,null,null,null,null,null,null,null,null,null,null,null,null,null,null,null,null,null,null,null,null,null,null,null,null,null,null,null,null,"Hseni",258,0,0,0]
[null,null,null,null,null,null,null,null,null,null,null,null,null,null,null,null,null,null,null,null,null,null,null,null,null,null,null,null,null,null,null,null,null,"Injangyang",0,0,0,0]
[null,null,null,null,null,null,null,null,null,null,null,null,null,null,null,null,null,null,null,null,null,null,null,null,null,null,null,null,null,null,null,null,null,"Khaunglanhpu",107,0,0,0]
["Township","# of HH","# of IDPs","# of Camp",null,null,null,null,null,null,null,null,null,null,null,null,null,null,null,null,null,null,null,null,null,null,null,null,null,null,null,null,null,"Kutkai",2416,0,0,0]
["Bhamo",{"$f":"SUMIFS(Camplist_HH,Camplist_Township,'CCCM Dashboard'!$A12,CampList_Status,\"Open\")","v":1286},{"$f":"SUMIFS(Camplist_Popl,Camplist_Township,'CCCM Dashboard'!$A12,CampList_Status,\"Open\")","v":5828},{"$f":"COUNTIFS(Camplist_Township,'CCCM Dashboard'!A12,CampList_Status,\"open\")","v":13},null,null,null,null,null,null,null,null,null,null,null,null,null,null,null,null,null,null,null,null,null,null,null,null,null,null,null,null,null,"Mansi",3631,9076,0,0]
["Chipwi",{"$f":"SUMIFS(Camplist_HH,Camplist_Township,'CCCM Dashboard'!$A13,CampList_Status,\"Open\")","v":637},{"$f":"SUMIFS(Camplist_Popl,Camplist_Township,'CCCM Dashboard'!$A13,CampList_Status,\"Open\")","v":3062},{"$f":"COUNTIFS(Camplist_Township,'CCCM Dashboard'!A13,CampList_Status,\"open\")","v":5},null,null,null,null,null,null,null,null,null,null,null,null,null,null,null,null,null,null,null,null,null,null,null,null,null,null,null,null,null,"Manton",330,0,0,0]
["Hpakant",{"$f":"SUMIFS(Camplist_HH,Camplist_Township,'CCCM Dashboard'!$A14,CampList_Status,\"Open\")","v":1330},{"$f":"SUMIFS(Camplist_Popl,Camplist_Township,'CCCM Dashboard'!$A14,CampList_Status,\"Open\")","v":5075},{"$f":"COUNTIFS(Camplist_Township,'CCCM Dashboard'!A14,CampList_Status,\"open\")","v":24},null,null,null,null,null,null,null,null,null,null,null,null,null,null,null,null,null,null,null,null,null,null,null,null,null,null,null,null,null,"Mogaung",187,0,0,0]
["Hseni",{"$f":"SUMIFS(Camplist_HH,Camplist_Township,'CCCM Dashboard'!$A15,CampList_Status,\"Open\")","v":50},{"$f":"SUMIFS(Camplist_Popl,Camplist_Township,'CCCM Dashboard'!$A15,CampList_Status,\"Open\")","v":258},{"$f":"COUNTIFS(Camplist_Township,'CCCM Dashboard'!A15,CampList_Status,\"open\")","v":1},null,null,null,null,null,null,null,null,null,null,null,null,null,null,null,null,null,null,null,null,null,null,null,null,null,null,null,null,null,"Mohnyin",144,0,0,0]
["Injangyang",{"$f":"SUMIFS(Camplist_HH,Camplist_Township,'CCCM Dashboard'!$A16,CampList_Status,\"Open\")","v":0},{"$f":"SUMIFS(Camplist_Popl,Camplist_Township,'CCCM Dashboard'!$A16,CampList_Status,\"Open\")","v":0},{"$f":"COUNTIFS(Camplist_Township,'CCCM Dashboard'!A16,CampList_Status,\"open\")","v":1},null,null,null,null,null,null,null,null,null,null,null,null,null,null,null,null,null,null,null,null,null,null,null,null,null,null,null,null,null,"Momauk",2669,10884,7896,0]
["Khaunglanhpu",{"$f":"SUMIFS(Camplist_HH,Camplist_Township,'CCCM Dashboard'!$A17,CampList_Status,\"Open\")","v":22},{"$f":"SUMIFS(Camplist_Popl,Camplist_Township,'CCCM Dashboard'!$A17,CampList_Status,\"Open\")","v":107},{"$f":"COUNTIFS(Camplist_Township,'CCCM Dashboard'!A17,CampList_Status,\"open\")","v":1},null,null,null,null,null,null,null,null,null,null,null,null,null,null,null,null,null,null,null,null,null,null,null,null,null,null,null,null,null,"Muse",882,0,0,0]
["Kutkai",{"$f":"SUMIFS(Camplist_HH,Camplist_Township,'CCCM Dashboard'!$A18,CampList_Status,\"Open\")","v":513},{"$f":"SUMIFS(Camplist_Popl,Camplist_Township,'CCCM Dashboard'!$A18,CampList_Status,\"Open\")","v":2416},{"$f":"COUNTIFS(Camplist_Township,'CCCM Dashboard'!A18,CampList_Status,\"open\")","v":8},null,null,null,null,null,null,null,null,null,null,null,null,null,null,null,null,null,null,null,null,null,null,null,null,null,null,null,null,null,"Myitkyina",6503,0,0,0]
["Mansi",{"$f":"SUMIFS(Camplist_HH,Camplist_Township,'CCCM Dashboard'!$A19,CampList_Status,\"Open\")","v":2574},{"$f":"SUMIFS(Camplist_Popl,Camplist_Township,'CCCM Dashboard'!$A19,CampList_Status,\"Open\")","v":12707},{"$f":"COUNTIFS(Camplist_Township,'CCCM Dashboard'!A19,CampList_Status,\"open\")","v":13},null,null,null,null,null,null,null,null,null,null,null,null,null,null,null,null,null,null,null,null,null,null,null,null,null,null,null,null,null,"Namhkan",1497,0,0,0]
["Manton",{"$f":"SUMIFS(Camplist_HH,Camplist_Township,'CCCM Dashboard'!$A20,CampList_Status,\"Open\")","v":69},{"$f":"SUMIFS(Camplist_Popl,Camplist_Township,'CCCM Dashboard'!$A20,CampList_Status,\"Open\")","v":330},{"$f":"COUNTIFS(Camplist_Township,'CCCM Dashboard'!A20,CampList_Status,\"open\")","v":4},null,null,null,null,null,null,null,null,null,null,null,null,null,null,null,null,null,null,null,null,null,null,null,null,null,null,null,null,null,"Namtu",807,0,0,0]
["Mogaung",{"$f":"SUMIFS(Camplist_HH,Camplist_Township,'CCCM Dashboard'!$A21,CampList_Status,\"Open\")","v":45},{"$f":"SUMIFS(Camplist_Popl,Camplist_Township,'CCCM Dashboard'!$A21,CampList_Status,\"Open\")","v":187},{"$f":"COUNTIFS(Camplist_Township,'CCCM Dashboard'!A21,CampList_Status,\"open\")","v":3},null,null,null,null,null,null,null,null,null,null,null,null,null,null,null,null,null,null,null,null,null,null,null,null,null,null,null,null,null,"Puta-O",15,0,0,0]
["Mohnyin",{"$f":"SUMIFS(Camplist_HH,Camplist_Township,'CCCM Dashboard'!$A22,CampList_Status,\"Open\")","v":34},{"$f":"SUMIFS(Camplist_Popl,Camplist_Township,'CCCM Dashboard'!$A22,CampList_Status,\"Open\")","v":144},{"$f":"COUNTIFS(Camplist_Township,'CCCM Dashboard'!A22,CampList_Status,\"open\")","v":3},null,null,null,null,null,null,null,null,null,null,null,null,null,null,null,null,null,null,null,null,null,null,null,null,null,null,null,null,null,"Shwegu",462,1691,0,0]
["Momauk",{"$f":"SUMIFS(Camplist_HH,Camplist_Township,'CCCM Dashboard'!$A23,CampList_Status,\"Open\")","v":4601},{"$f":"SUMIFS(Camplist_Popl,Camplist_Township,'CCCM Dashboard'!$A23,CampList_Status,\"Open\")","v":21449},{"$f":"COUNTIFS(Camplist_Township,'CCCM Dashboard'!A23,CampList_Status,\"open\")","v":23},null,null,null,null,null,null,null,null,null,null,null,null,null,null,null,null,null,null,null,null,null,null,null,null,null,null,null,null,null,"Sumprabum",38,0,0,0]
["Muse",{"$f":"SUMIFS(Camplist_HH,Camplist_Township,'CCCM Dashboard'!$A24,CampList_Status,\"Open\")","v":208},{"$f":"SUMIFS(Camplist_Popl,Camplist_Township,'CCCM Dashboard'!$A24,CampList_Status,\"Open\")","v":882},{"$f":"COUNTIFS(Camplist_Township,'CCCM Dashboard'!A24,CampList_Status,\"open\")","v":3},null,null,null,null,null,null,null,null,null,null,null,null,null,null,null,null,null,null,null,null,null,null,null,null,null,null,null,null,null,"Waingmaw",6456,21517,0,0]
["Myitkyina",{"$f":"SUMIFS(Camplist_HH,Camplist_Township,'CCCM Dashboard'!$A25,CampList_Status,\"Open\")","v":1378},{"$f":"SUMIFS(Camplist_Popl,Camplist_Township,'CCCM Dashboard'!$A25,CampList_Status,\"Open\")","v":6503},{"$f":"COUNTIFS(Camplist_Township,'CCCM Dashboard'!A25,CampList_Status,\"open\")","v":25},null,null,null,null,null,null,null,null,null,null,null,null,null,null,null,null,null,null,null,null,null,null,null,null,null,null,null,null,null,"Total",{"$f":"SUM(AI5:AI24)","v":35308},{"$f":"SUM(AJ5:AJ24)","v":48227},{"$f":"SUM(AK5:AK24)","v":7896},{"$f":"SUM(AL5:AL24)","v":0},{"$f":"AL25+AI25+AJ25+AK25","v":91431}]
["Namhkan",{"$f":"SUMIFS(Camplist_HH,Camplist_Township,'CCCM Dashboard'!$A26,CampList_Status,\"Open\")","v":360},{"$f":"SUMIFS(Camplist_Popl,Camplist_Township,'CCCM Dashboard'!$A26,CampList_Status,\"Open\")","v":1497},{"$f":"COUNTIFS(Camplist_Township,'CCCM Dashboard'!A26,CampList_Status,\"open\")","v":6},null,null,null,null,null,null,null,null,null,null,null,null,null,null,null,null,null,null,null,null,null,null,null,null,null,null,null,null,null,"% of IDP",{"$f":"AI25/$AM$25","v":0.38617099233301616},{"$f":"AJ25/$AM$25","v":0.52746880160995724},8.6360206057026614E-2,0]
["Namtu",{"$f":"SUMIFS(Camplist_HH,Camplist_Township,'CCCM Dashboard'!$A27,CampList_Status,\"Open\")","v":177},{"$f":"SUMIFS(Camplist_Popl,Camplist_Township,'CCCM Dashboard'!$A27,CampList_Status,\"Open\")","v":807},{"$f":"COUNTIFS(Camplist_Township,'CCCM Dashboard'!A27,CampList_Status,\"open\")","v":2}]
["Puta-O",{"$f":"SUMIFS(Camplist_HH,Camplist_Township,'CCCM Dashboard'!$A28,CampList_Status,\"Open\")","v":7},{"$f":"SUMIFS(Camplist_Popl,Camplist_Township,'CCCM Dashboard'!$A28,CampList_Status,\"Open\")","v":15},{"$f":"COUNTIFS(Camplist_Township,'CCCM Dashboard'!A28,CampList_Status,\"open\")","v":1}]
["Shwegu",{"$f":"SUMIFS(Camplist_HH,Camplist_Township,'CCCM Dashboard'!$A29,CampList_Status,\"Open\")","v":535},{"$f":"SUMIFS(Camplist_Popl,Camplist_Township,'CCCM Dashboard'!$A29,CampList_Status,\"Open\")","v":2153},{"$f":"COUNTIFS(Camplist_Township,'CCCM Dashboard'!A29,CampList_Status,\"open\")","v":4}]
["Sumprabum",{"$f":"SUMIFS(Camplist_HH,Camplist_Township,'CCCM Dashboard'!$A30,CampList_Status,\"Open\")","v":8},{"$f":"SUMIFS(Camplist_Popl,Camplist_Township,'CCCM Dashboard'!$A30,CampList_Status,\"Open\")","v":38},{"$f":"COUNTIFS(Camplist_Township,'CCCM Dashboard'!A30,CampList_Status,\"open\")","v":1}]
["Waingmaw",{"$f":"SUMIFS(Camplist_HH,Camplist_Township,'CCCM Dashboard'!$A31,CampList_Status,\"Open\")","v":5611},{"$f":"SUMIFS(Camplist_Popl,Camplist_Township,'CCCM Dashboard'!$A31,CampList_Status,\"Open\")","v":27973},{"$f":"COUNTIFS(Camplist_Township,'CCCM Dashboard'!A31,CampList_Status,\"open\")","v":26},null,null,null,null,null,null,null,null,null,null,null,null,null,null,null,null,null,null,null,null,null,null,null,null,null,null,null,null,null,null,"# of camps by Size of Population"]
["Total",{"$f":"SUM(B11:B30)","v":13834},{"$f":"SUM(C11:C31)","v":91431},{"$f":"SUM(D11:D31)","v":167},null,null,null,null,null,null,null,null,null,null,null,null,null,null,null,null,null,null,null,null,null,null,null,null,null,null,null,null,null,"Township","1-1k","1k - 5k","5k-10k",">10k","Unknown"]
[null,null,null,null,"Size of camps",null,null,null,null,null,null,null,null,null,null,null,null,null,null,null,null,null,null,null,null,null,null,null,null,null,null,null,null,"Bhamo",{"$f":"COUNTIFS(Camplist_Township,'CCCM Dashboard'!$AH33,Camplist_Popl,\">0\",Camplist_Popl,\"<=1000\",CampList_Status,\"Open\")","v":10},{"$f":"COUNTIFS(Camplist_Township,'CCCM Dashboard'!$AH33,Camplist_Popl,\">1000\",Camplist_Popl,\"<=5000\",CampList_Status,\"Open\")","v":2},{"$f":"COUNTIFS(Camplist_Township,'CCCM Dashboard'!$AH33,Camplist_Popl,\">5000\",Camplist_Popl,\"<=10000\",CampList_Status,\"Open\")","v":0},{"$f":"COUNTIFS(Camplist_Township,'CCCM Dashboard'!$AH33,Camplist_Popl,\">10000\",CampList_Status,\"Open\")","v":0},{"$f":"COUNTIFS(Camplist_Township,'CCCM Dashboard'!$AH33,Camplist_Popl,\"=0\",CampList_Status,\"Open\")+COUNTIFS(Camplist_Township,'CCCM Dashboard'!$AH33,Camplist_Popl,\"\",CampList_Status,\"Open\")","v":1},{"$f":"SUM(AI33:AM33)","v":13}]
[null,null,null,null,null,"1-1k","1k-5k","5k-10k","Over 10k","Unknown",null,null,null,null,null,null,null,null,null,null,null,null,null,null,null,null,null,null,null,null,null,null,null,"Chipwi",{"$f":"COUNTIFS(Camplist_Township,'CCCM Dashboard'!$AH34,Camplist_Popl,\">0\",Camplist_Popl,\"<=1000\",CampList_Status,\"Open\")","v":3},{"$f":"COUNTIFS(Camplist_Township,'CCCM Dashboard'!$AH34,Camplist_Popl,\">1000\",Camplist_Popl,\"<=5000\",CampList_Status,\"Open\")","v":1},{"$f":"COUNTIFS(Camplist_Township,'CCCM Dashboard'!$AH34,Camplist_Popl,\">5000\",Camplist_Popl,\"<=10000\",CampList_Status,\"Open\")","v":0},{"$f":"COUNTIFS(Camplist_Township,'CCCM Dashboard'!$AH34,Camplist_Popl,\">10000\",CampList_Status,\"Open\")","v":0},{"$f":"COUNTIFS(Camplist_Township,'CCCM Dashboard'!$AH34,Camplist_Popl,\"=0\",CampList_Status,\"Open\")+COUNTIFS(Camplist_Township,'CCCM Dashboard'!$AH34,Camplist_Popl,\"\",CampList_Status,\"Open\")","v":1},{"$f":"SUM(AI34:AM34)","v":5}]
[null,null,null,null,"# of Camps",{"$f":"AI53","v":132},{"$f":"AJ53","v":25},{"$f":"AK53","v":1},{"$f":"AL53","v":0},{"$f":"AM53","v":9},null,null,null,null,null,null,null,null,null,null,null,null,null,null,null,null,null,null,null,null,null,null,null,"Hpakant",{"$f":"COUNTIFS(Camplist_Township,'CCCM Dashboard'!$AH35,Camplist_Popl,\">0\",Camplist_Popl,\"<=1000\",CampList_Status,\"Open\")","v":23},{"$f":"COUNTIFS(Camplist_Township,'CCCM Dashboard'!$AH35,Camplist_Popl,\">1000\",Camplist_Popl,\"<=5000\",CampList_Status,\"Open\")","v":0},{"$f":"COUNTIFS(Camplist_Township,'CCCM Dashboard'!$AH35,Camplist_Popl,\">5000\",Camplist_Popl,\"<=10000\",CampList_Status,\"Open\")","v":0},{"$f":"COUNTIFS(Camplist_Township,'CCCM Dashboard'!$AH35,Camplist_Popl,\">10000\",CampList_Status,\"Open\")","v":0},{"$f":"COUNTIFS(Camplist_Township,'CCCM Dashboard'!$AH35,Camplist_Popl,\"=0\",CampList_Status,\"Open\")+COUNTIFS(Camplist_Township,'CCCM Dashboard'!$AH35,Camplist_Popl,\"\",CampList_Status,\"Open\")","v":1},24]
[null,null,null,null,"# of IDP",{"$f":"AI25","v":35308},{"$f":"AJ25","v":48227},{"$f":"AK25","v":7896},{"$f":"AM25","v":91431},{"$f":"AN25","v":0},null,null,null,null,null,null,null,null,null,null,null,null,null,null,null,null,null,null,null,null,null,null,null,"Injangyang",{"$f":"COUNTIFS(Camplist_Township,'CCCM Dashboard'!$AH36,Camplist_Popl,\">0\",Camplist_Popl,\"<=1000\",CampList_Status,\"Open\")","v":0},{"$f":"COUNTIFS(Camplist_Township,'CCCM Dashboard'!$AH36,Camplist_Popl,\">1000\",Camplist_Popl,\"<=5000\",CampList_Status,\"Open\")","v":0},{"$f":"COUNTIFS(Camplist_Township,'CCCM Dashboard'!$AH36,Camplist_Popl,\">5000\",Camplist_Popl,\"<=10000\",CampList_Status,\"Open\")","v":0},{"$f":"COUNTIFS(Camplist_Township,'CCCM Dashboard'!$AH36,Camplist_Popl,\">10000\",CampList_Status,\"Open\")","v":0},{"$f":"COUNTIFS(Camplist_Township,'CCCM Dashboard'!$AH36,Camplist_Popl,\"=0\",CampList_Status,\"Open\")+COUNTIFS(Camplist_Township,'CCCM Dashboard'!$AH36,Camplist_Popl,\"\",CampList_Status,\"Open\")","v":1},1]
[null,null,null,null,null,null,null,null,null,null,null,null,null,null,null,null,null,null,null,null,null,null,null,null,null,null,null,null,null,null,null,null,null,"Khaunglanhpu",{"$f":"COUNTIFS(Camplist_Township,'CCCM Dashboard'!$AH37,Camplist_Popl,\">0\",Camplist_Popl,\"<=1000\",CampList_Status,\"Open\")","v":1},{"$f":"COUNTIFS(Camplist_Township,'CCCM Dashboard'!$AH37,Camplist_Popl,\">1000\",Camplist_Popl,\"<=5000\",CampList_Status,\"Open\")","v":0},{"$f":"COUNTIFS(Camplist_Township,'CCCM Dashboard'!$AH37,Camplist_Popl,\">5000\",Camplist_Popl,\"<=10000\",CampList_Status,\"Open\")","v":0},{"$f":"COUNTIFS(Camplist_Township,'CCCM Dashboard'!$AH37,Camplist_Popl,\">10000\",CampList_Status,\"Open\")","v":0},{"$f":"COUNTIFS(Camplist_Township,'CCCM Dashboard'!$AH37,Camplist_Popl,\"=0\",CampList_Status,\"Open\")+COUNTIFS(Camplist_Township,'CCCM Dashboard'!$AH37,Camplist_Popl,\"\",CampList_Status,\"Open\")","v":0},1]
[null,null,null,null,null,null,null,null,null,null,null,null,null,null,null,null,null,null,null,null,null,null,null,null,null,null,null,null,null,null,null,null,null,"Kutkai",{"$f":"COUNTIFS(Camplist_Township,'CCCM Dashboard'!$AH38,Camplist_Popl,\">0\",Camplist_Popl,\"<=1000\",CampList_Status,\"Open\")","v":8},{"$f":"COUNTIFS(Camplist_Township,'CCCM Dashboard'!$AH38,Camplist_Popl,\">1000\",Camplist_Popl,\"<=5000\",CampList_Status,\"Open\")","v":0},{"$f":"COUNTIFS(Camplist_Township,'CCCM Dashboard'!$AH38,Camplist_Popl,\">5000\",Camplist_Popl,\"<=10000\",CampList_Status,\"Open\")","v":0},{"$f":"COUNTIFS(Camplist_Township,'CCCM Dashboard'!$AH38,Camplist_Popl,\">10000\",CampList_Status,\"Open\")","v":0},{"$f":"COUNTIFS(Camplist_Township,'CCCM Dashboard'!$AH38,Camplist_Popl,\"=0\",CampList_Status,\"Open\")+COUNTIFS(Camplist_Township,'CCCM Dashboard'!$AH38,Camplist_Popl,\"\",CampList_Status,\"Open\")","v":0},8]
[null,null,null,null,null,null,null,null,null,null,null,null,null,null,null,null,null,null,null,null,null,null,null,null,null,null,null,null,null,null,null,null,null,"Mansi",{"$f":"COUNTIFS(Camplist_Township,'CCCM Dashboard'!$AH39,Camplist_Popl,\">0\",Camplist_Popl,\"<=1000\",CampList_Status,\"Open\")","v":7},{"$f":"COUNTIFS(Camplist_Township,'CCCM Dashboard'!$AH39,Camplist_Popl,\">1000\",Camplist_Popl,\"<=5000\",CampList_Status,\"Open\")","v":6},{"$f":"COUNTIFS(Camplist_Township,'CCCM Dashboard'!$AH39,Camplist_Popl,\">5000\",Camplist_Popl,\"<=10000\",CampList_Status,\"Open\")","v":0},{"$f":"COUNTIFS(Camplist_Township,'CCCM Dashboard'!$AH39,Camplist_Popl,\">10000\",CampList_Status,\"Open\")","v":0},{"$f":"COUNTIFS(Camplist_Township,'CCCM Dashboard'!$AH39,Camplist_Popl,\"=0\",CampList_Status,\"Open\")+COUNTIFS(Camplist_Township,'CCCM Dashboard'!$AH39,Camplist_Popl,\"\",CampList_Status,\"Open\")","v":0},13]
[null,null,null,null,null,null,null,null,null,null,null,null,null,null,null,null,null,null,null,null,null,null,null,null,null,null,null,null,null,null,null,null,null,"Manton",{"$f":"COUNTIFS(Camplist_Township,'CCCM Dashboard'!$AH40,Camplist_Popl,\">0\",Camplist_Popl,\"<=1000\",CampList_Status,\"Open\")","v":2},{"$f":"COUNTIFS(Camplist_Township,'CCCM Dashboard'!$AH40,Camplist_Popl,\">1000\",Camplist_Popl,\"<=5000\",CampList_Status,\"Open\")","v":0},{"$f":"COUNTIFS(Camplist_Township,'CCCM Dashboard'!$AH40,Camplist_Popl,\">5000\",Camplist_Popl,\"<=10000\",CampList_Status,\"Open\")","v":0},{"$f":"COUNTIFS(Camplist_Township,'CCCM Dashboard'!$AH40,Camplist_Popl,\">10000\",CampList_Status,\"Open\")","v":0},{"$f":"COUNTIFS(Camplist_Township,'CCCM Dashboard'!$AH40,Camplist_Popl,\"=0\",CampList_Status,\"Open\")+COUNTIFS(Camplist_Township,'CCCM Dashboard'!$AH40,Camplist_Popl,\"\",CampList_Status,\"Open\")","v":2},4]
[null,null,null,null,null,null,null,null,null,null,null,null,null,null,null,null,null,null,null,null,null,null,null,null,null,null,null,null,null,null,null,null,null,"Mogaung",{"$f":"COUNTIFS(Camplist_Township,'CCCM Dashboard'!$AH41,Camplist_Popl,\">0\",Camplist_Popl,\"<=1000\",CampList_Status,\"Open\")","v":3},{"$f":"COUNTIFS(Camplist_Township,'CCCM Dashboard'!$AH41,Camplist_Popl,\">1000\",Camplist_Popl,\"<=5000\",CampList_Status,\"Open\")","v":0},{"$f":"COUNTIFS(Camplist_Township,'CCCM Dashboard'!$AH41,Camplist_Popl,\">5000\",Camplist_Popl,\"<=10000\",CampList_Status,\"Open\")","v":0},{"$f":"COUNTIFS(Camplist_Township,'CCCM Dashboard'!$AH41,Camplist_Popl,\">10000\",CampList_Status,\"Open\")","v":0},{"$f":"COUNTIFS(Camplist_Township,'CCCM Dashboard'!$AH41,Camplist_Popl,\"=0\",CampList_Status,\"Open\")+COUNTIFS(Camplist_Township,'CCCM Dashboard'!$AH41,Camplist_Popl,\"\",CampList_Status,\"Open\")","v":0},3]
[null,null,null,null,null,null,null,null,null,null,null,null,null,null,null,null,null,null,null,null,null,null,null,null,null,null,null,null,null,null,null,null,null,"Mohnyin",{"$f":"COUNTIFS(Camplist_Township,'CCCM Dashboard'!$AH42,Camplist_Popl,\">0\",Camplist_Popl,\"<=1000\",CampList_Status,\"Open\")","v":2},{"$f":"COUNTIFS(Camplist_Township,'CCCM Dashboard'!$AH42,Camplist_Popl,\">1000\",Camplist_Popl,\"<=5000\",CampList_Status,\"Open\")","v":0},{"$f":"COUNTIFS(Camplist_Township,'CCCM Dashboard'!$AH42,Camplist_Popl,\">5000\",Camplist_Popl,\"<=10000\",CampList_Status,\"Open\")","v":0},{"$f":"COUNTIFS(Camplist_Township,'CCCM Dashboard'!$AH42,Camplist_Popl,\">10000\",CampList_Status,\"Open\")","v":0},{"$f":"COUNTIFS(Camplist_Township,'CCCM Dashboard'!$AH42,Camplist_Popl,\"=0\",CampList_Status,\"Open\")+COUNTIFS(Camplist_Township,'CCCM Dashboard'!$AH42,Camplist_Popl,\"\",CampList_Status,\"Open\")","v":1},3]
[null,null,null,null,null,null,null,null,null,null,null,null,null,null,null,null,null,null,null,null,null,null,null,null,null,null,null,null,null,null,null,null,null,"Momauk",{"$f":"COUNTIFS(Camplist_Township,'CCCM Dashboard'!$AH43,Camplist_Popl,\">0\",Camplist_Popl,\"<=1000\",CampList_Status,\"Open\")","v":15},{"$f":"COUNTIFS(Camplist_Township,'CCCM Dashboard'!$AH43,Camplist_Popl,\">1000\",Camplist_Popl,\"<=5000\",CampList_Status,\"Open\")","v":6},{"$f":"COUNTIFS(Camplist_Township,'CCCM Dashboard'!$AH43,Camplist_Popl,\">5000\",Camplist_Popl,\"<=10000\",CampList_Status,\"Open\")","v":1},{"$f":"COUNTIFS(Camplist_Township,'CCCM Dashboard'!$AH43,Camplist_Popl,\">10000\",CampList_Status,\"Open\")","v":0},{"$f":"COUNTIFS(Camplist_Township,'CCCM Dashboard'!$AH43,Camplist_Popl,\"=0\",CampList_Status,\"Open\")+COUNTIFS(Camplist_Township,'CCCM Dashboard'!$AH43,Camplist_Popl,\"\",CampList_Status,\"Open\")","v":1},23]
[null,null,null,null,null,null,null,null,null,null,null,null,null,null,null,null,null,null,null,null,null,null,null,null,null,null,null,null,null,null,null,null,null,"Muse",{"$f":"COUNTIFS(Camplist_Township,'CCCM Dashboard'!$AH44,Camplist_Popl,\">0\",Camplist_Popl,\"<=1000\",CampList_Status,\"Open\")","v":3},{"$f":"COUNTIFS(Camplist_Township,'CCCM Dashboard'!$AH44,Camplist_Popl,\">1000\",Camplist_Popl,\"<=5000\",CampList_Status,\"Open\")","v":0},{"$f":"COUNTIFS(Camplist_Township,'CCCM Dashboard'!$AH44,Camplist_Popl,\">5000\",Camplist_Popl,\"<=10000\",CampList_Status,\"Open\")","v":0},{"$f":"COUNTIFS(Camplist_Township,'CCCM Dashboard'!$AH44,Camplist_Popl,\">10000\",CampList_Status,\"Open\")","v":0},{"$f":"COUNTIFS(Camplist_Township,'CCCM Dashboard'!$AH44,Camplist_Popl,\"=0\",CampList_Status,\"Open\")+COUNTIFS(Camplist_Township,'CCCM Dashboard'!$AH44,Camplist_Popl,\"\",CampList_Status,\"Open\")","v":0},3]
[null,null,null,null,null,null,null,null,null,null,null,null,null,null,null,null,null,null,null,null,null,null,null,null,null,null,null,null,null,null,null,null,null,"Myitkyina",{"$f":"COUNTIFS(Camplist_Township,'CCCM Dashboard'!$AH45,Camplist_Popl,\">0\",Camplist_Popl,\"<=1000\",CampList_Status,\"Open\")","v":25},{"$f":"COUNTIFS(Camplist_Township,'CCCM Dashboard'!$AH45,Camplist_Popl,\">1000\",Camplist_Popl,\"<=5000\",CampList_Status,\"Open\")","v":0},{"$f":"COUNTIFS(Camplist_Township,'CCCM Dashboard'!$AH45,Camplist_Popl,\">5000\",Camplist_Popl,\"<=10000\",CampList_Status,\"Open\")","v":0},{"$f":"COUNTIFS(Camplist_Township,'CCCM Dashboard'!$AH45,Camplist_Popl,\">10000\",CampList_Status,\"Open\")","v":0},{"$f":"COUNTIFS(Camplist_Township,'CCCM Dashboard'!$AH45,Camplist_Popl,\"=0\",CampList_Status,\"Open\")+COUNTIFS(Camplist_Township,'CCCM Dashboard'!$AH45,Camplist_Popl,\"\",CampList_Status,\"Open\")","v":0},25]
[null,null,null,null,null,null,null,null,null,null,null,null,null,null,null,null,null,null,null,null,null,null,null,null,null,null,null,null,null,null,null,null,null,"Namhkan",{"$f":"COUNTIFS(Camplist_Township,'CCCM Dashboard'!$AH46,Camplist_Popl,\">0\",Camplist_Popl,\"<=1000\",CampList_Status,\"Open\")","v":6},{"$f":"COUNTIFS(Camplist_Township,'CCCM Dashboard'!$AH46,Camplist_Popl,\">1000\",Camplist_Popl,\"<=5000\",CampList_Status,\"Open\")","v":0},{"$f":"COUNTIFS(Camplist_Township,'CCCM Dashboard'!$AH46,Camplist_Popl,\">5000\",Camplist_Popl,\"<=10000\",CampList_Status,\"Open\")","v":0},{"$f":"COUNTIFS(Camplist_Township,'CCCM Dashboard'!$AH46,Camplist_Popl,\">10000\",CampList_Status,\"Open\")","v":0},{"$f":"COUNTIFS(Camplist_Township,'CCCM Dashboard'!$AH46,Camplist_Popl,\"=0\",CampList_Status,\"Open\")+COUNTIFS(Camplist_Township,'CCCM Dashboard'!$AH46,Camplist_Popl,\"\",CampList_Status,\"Open\")","v":0},6]
[null,null,null,null,null,null,null,null,null,null,null,null,null,null,null,null,null,null,null,null,null,null,null,null,null,null,null,null,null,null,null,null,null,"Namtu",{"$f":"COUNTIFS(Camplist_Township,'CCCM Dashboard'!$AH47,Camplist_Popl,\">0\",Camplist_Popl,\"<=1000\",CampList_Status,\"Open\")","v":2},{"$f":"COUNTIFS(Camplist_Township,'CCCM Dashboard'!$AH47,Camplist_Popl,\">1000\",Camplist_Popl,\"<=5000\",CampList_Status,\"Open\")","v":0},{"$f":"COUNTIFS(Camplist_Township,'CCCM Dashboard'!$AH47,Camplist_Popl,\">5000\",Camplist_Popl,\"<=10000\",CampList_Status,\"Open\")","v":0},{"$f":"COUNTIFS(Camplist_Township,'CCCM Dashboard'!$AH47,Camplist_Popl,\">10000\",CampList_Status,\"Open\")","v":0},{"$f":"COUNTIFS(Camplist_Township,'CCCM Dashboard'!$AH47,Camplist_Popl,\"=0\",CampList_Status,\"Open\")+COUNTIFS(Camplist_Township,'CCCM Dashboard'!$AH47,Camplist_Popl,\"\",CampList_Status,\"Open\")","v":0},2]
[null,null,null,null,null,null,null,null,null,null,null,null,null,null,null,null,null,null,null,null,null,null,null,null,null,null,null,null,null,null,null,null,null,"Puta-O",{"$f":"COUNTIFS(Camplist_Township,'CCCM Dashboard'!$AH48,Camplist_Popl,\">0\",Camplist_Popl,\"<=1000\",CampList_Status,\"Open\")","v":1},{"$f":"COUNTIFS(Camplist_Township,'CCCM Dashboard'!$AH48,Camplist_Popl,\">1000\",Camplist_Popl,\"<=5000\",CampList_Status,\"Open\")","v":0},{"$f":"COUNTIFS(Camplist_Township,'CCCM Dashboard'!$AH48,Camplist_Popl,\">5000\",Camplist_Popl,\"<=10000\",CampList_Status,\"Open\")","v":0},{"$f":"COUNTIFS(Camplist_Township,'CCCM Dashboard'!$AH48,Camplist_Popl,\">10000\",CampList_Status,\"Open\")","v":0},{"$f":"COUNTIFS(Camplist_Township,'CCCM Dashboard'!$AH48,Camplist_Popl,\"=0\",CampList_Status,\"Open\")+COUNTIFS(Camplist_Township,'CCCM Dashboard'!$AH48,Camplist_Popl,\"\",CampList_Status,\"Open\")","v":0},1]
[null,null,null,null,null,null,null,null,null,null,null,null,null,null,null,null,null,null,null,null,null,null,null,null,null,null,null,null,null,null,null,null,null,"Shwegu",{"$f":"COUNTIFS(Camplist_Township,'CCCM Dashboard'!$AH49,Camplist_Popl,\">0\",Camplist_Popl,\"<=1000\",CampList_Status,\"Open\")","v":3},{"$f":"COUNTIFS(Camplist_Township,'CCCM Dashboard'!$AH49,Camplist_Popl,\">1000\",Camplist_Popl,\"<=5000\",CampList_Status,\"Open\")","v":1},{"$f":"COUNTIFS(Camplist_Township,'CCCM Dashboard'!$AH49,Camplist_Popl,\">5000\",Camplist_Popl,\"<=10000\",CampList_Status,\"Open\")","v":0},{"$f":"COUNTIFS(Camplist_Township,'CCCM Dashboard'!$AH49,Camplist_Popl,\">10000\",CampList_Status,\"Open\")","v":0},{"$f":"COUNTIFS(Camplist_Township,'CCCM Dashboard'!$AH49,Camplist_Popl,\"=0\",CampList_Status,\"Open\")+COUNTIFS(Camplist_Township,'CCCM Dashboard'!$AH49,Camplist_Popl,\"\",CampList_Status,\"Open\")","v":0},4]
[null,null,null,null,null,null,null,null,null,null,null,null,null,null,null,null,null,null,null,null,null,null,null,null,null,null,null,null,null,null,null,null,null,"Hseni",{"$f":"COUNTIFS(Camplist_Township,'CCCM Dashboard'!$AH50,Camplist_Popl,\">0\",Camplist_Popl,\"<=1000\",CampList_Status,\"Open\")","v":1},{"$f":"COUNTIFS(Camplist_Township,'CCCM Dashboard'!$AH50,Camplist_Popl,\">1000\",Camplist_Popl,\"<=5000\",CampList_Status,\"Open\")","v":0},{"$f":"COUNTIFS(Camplist_Township,'CCCM Dashboard'!$AH50,Camplist_Popl,\">5000\",Camplist_Popl,\"<=10000\",CampList_Status,\"Open\")","v":0},{"$f":"COUNTIFS(Camplist_Township,'CCCM Dashboard'!$AH50,Camplist_Popl,\">10000\",CampList_Status,\"Open\")","v":0},{"$f":"COUNTIFS(Camplist_Township,'CCCM Dashboard'!$AH50,Camplist_Popl,\"=0\",CampList_Status,\"Open\")+COUNTIFS(Camplist_Township,'CCCM Dashboard'!$AH50,Camplist_Popl,\"\",CampList_Status,\"Open\")","v":0},1]
[null,null,null,null,null,null,null,null,null,null,null,null,null,null,null,null,null,null,null,null,null,null,null,null,null,null,null,null,null,null,null,null,null,"Sumprabum",{"$f":"COUNTIFS(Camplist_Township,'CCCM Dashboard'!$AH51,Camplist_Popl,\">0\",Camplist_Popl,\"<=1000\",CampList_Status,\"Open\")","v":1},{"$f":"COUNTIFS(Camplist_Township,'CCCM Dashboard'!$AH51,Camplist_Popl,\">1000\",Camplist_Popl,\"<=5000\",CampList_Status,\"Open\")","v":0},{"$f":"COUNTIFS(Camplist_Township,'CCCM Dashboard'!$AH51,Camplist_Popl,\">5000\",Camplist_Popl,\"<=10000\",CampList_Status,\"Open\")","v":0},{"$f":"COUNTIFS(Camplist_Township,'CCCM Dashboard'!$AH51,Camplist_Popl,\">10000\",CampList_Status,\"Open\")","v":0},{"$f":"COUNTIFS(Camplist_Township,'CCCM Dashboard'!$AH51,Camplist_Popl,\"=0\",CampList_Status,\"Open\")+COUNTIFS(Camplist_Township,'CCCM Dashboard'!$AH51,Camplist_Popl,\"\",CampList_Status,\"Open\")","v":0},1]
[null,null,null,null,null,null,null,null,null,null,null,null,null,null,null,null,null,null,null,null,null,null,null,null,null,null,null,null,null,null,null,null,null,"Waingmaw",{"$f":"COUNTIFS(Camplist_Township,'CCCM Dashboard'!$AH52,Camplist_Popl,\">0\",Camplist_Popl,\"<=1000\",CampList_Status,\"Open\")","v":16},{"$f":"COUNTIFS(Camplist_Township,'CCCM Dashboard'!$AH52,Camplist_Popl,\">1000\",Camplist_Popl,\"<=5000\",CampList_Status,\"Open\")","v":9},{"$f":"COUNTIFS(Camplist_Township,'CCCM Dashboard'!$AH52,Camplist_Popl,\">5000\",Camplist_Popl,\"<=10000\",CampList_Status,\"Open\")","v":0},{"$f":"COUNTIFS(Camplist_Township,'CCCM Dashboard'!$AH52,Camplist_Popl,\">10000\",CampList_Status,\"Open\")","v":0},{"$f":"COUNTIFS(Camplist_Township,'CCCM Dashboard'!$AH52,Camplist_Popl,\"=0\",CampList_Status,\"Open\")+COUNTIFS(Camplist_Township,'CCCM Dashboard'!$AH52,Camplist_Popl,\"\",CampList_Status,\"Open\")","v":1},26]
[null,null,null,null,null,null,null,null,null,null,null,null,null,null,null,null,null,null,null,null,null,null,null,null,null,null,null,null,null,null,null,null,null,"Total",{"$f":"SUM(AI33:AI52)","v":132},25,1,0,9,167]

{"sheet":"Shelter Tracking","index":4,"n_rows":154,"n_cols":21,"rows_kept":154,"cut":false,"hidden":false,"merged":[[2,0,2,15],[1,0,1,4]]}
[]
["KACHIN & NORTHEN SHAN SHELTER TRACKING"]
[{"$f":"Report_Date","v":"2013-08-01"}]
["DateUpdated","Organization","Implementing Partner","State","Township","Camp Name","HH per Shelter","# of Family Tent Planned (Target)","# of Family Tent Distributed","# of Temporary Shelter Units Planned (Target)","# of Temporary Shelter Units Built","# of Temporary Shelter Under Construction","# of Permanent House Planned (Target)","# of Permanent House Built","# of Permanent House Under Construction","HH Covered","Pcode","Status","Column 1","Column 2","Column 3"]
["31.07.2013","Caritas","KMSS Bhamo","Kachin","Shwegu","Shwe Gu Catholic Church",1,null,null,36,36,null,null,null,null,{"$f":"Table_Shelter[[#This Row],[HH per Shelter]]*(Table_Shelter[[#This Row],['# of Temporary Shelter Units Built]]+Table_Shelter[[#This Row],['# of Temporary Shelter Under Construction]]+Table_Shelter[[#This Row],['# of Permanent House Built]]+Table_Shelter[[#This Row],['# of Permanent House Under Construction]])","v":36},{"$f":"VLOOKUP(Table_Shelter[[#This Row],[Camp Name]],'Camp List'!N$5:O$400,2,0)","v":"MMR001CMP068"},{"$f":"VLOOKUP(Table_Shelter[[#This Row],[Camp Name]],'Camp List'!N$5:Z$395,14,0)","v":{"$error":"#REF!"}},null,{"$f":"MATCH(Table_Shelter[[#This Row],['# of Temporary Shelter Units Built]],Table_Shelter[[#This Row],[HH Covered]])","v":1},{"$f":"MATCH(Table_Shelter[[#This Row],['# of Temporary Shelter Units Built]],Table_Shelter[[#This Row],[HH Covered]])","v":1}]
["31.07.2013","Caritas","KMSS Bhamo","Kachin","Momauk","Momauk Catholic Church (St. Patrick)",1,null,null,48,48,null,null,null,null,{"$f":"Table_Shelter[[#This Row],[HH per Shelter]]*(Table_Shelter[[#This Row],['# of Temporary Shelter Units Built]]+Table_Shelter[[#This Row],['# of Temporary Shelter Under Construction]]+Table_Shelter[[#This Row],['# of Permanent House Built]]+Table_Shelter[[#This Row],['# of Permanent House Under Construction]])","v":48},{"$f":"VLOOKUP(Table_Shelter[[#This Row],[Camp Name]],'Camp List'!N$5:O$400,2,0)","v":"MMR001CMP057"},{"$f":"VLOOKUP(Table_Shelter[[#This Row],[Camp Name]],'Camp List'!N$5:Z$395,14,0)","v":{"$error":"#REF!"}},null,null,{"$f":"MATCH(Table_Shelter[[#This Row],['# of Temporary Shelter Units Built]],Table_Shelter[[#This Row],[HH Covered]])","v":1}]
["31.07.2013","Caritas","KMSS Bhamo","Kachin","Momauk","Momauk Catholic Church (St. Patrick)",1,null,null,10,10,null,null,null,null,{"$f":"Table_Shelter[[#This Row],[HH per Shelter]]*(Table_Shelter[[#This Row],['# of Temporary Shelter Units Built]]+Table_Shelter[[#This Row],['# of Temporary Shelter Under Construction]]+Table_Shelter[[#This Row],['# of Permanent House Built]]+Table_Shelter[[#This Row],['# of Permanent House Under Construction]])","v":10},{"$f":"VLOOKUP(Table_Shelter[[#This Row],[Camp Name]],'Camp List'!N$5:O$400,2,0)","v":"MMR001CMP057"},{"$f":"VLOOKUP(Table_Shelter[[#This Row],[Camp Name]],'Camp List'!N$5:Z$395,14,0)","v":{"$error":"#REF!"}},null,null,{"$f":"MATCH(Table_Shelter[[#This Row],['# of Temporary Shelter Units Built]],Table_Shelter[[#This Row],[HH Covered]])","v":1}]
["31.07.2013","Caritas","KMSS Bhamo","Kachin","Momauk","Man Bung Catholic compound",1,null,null,24,24,null,null,null,null,{"$f":"Table_Shelter[[#This Row],[HH per Shelter]]*(Table_Shelter[[#This Row],['# of Temporary Shelter Units Built]]+Table_Shelter[[#This Row],['# of Temporary Shelter Under Construction]]+Table_Shelter[[#This Row],['# of Permanent House Built]]+Table_Shelter[[#This Row],['# of Permanent House Under Construction]])","v":24},{"$f":"VLOOKUP(Table_Shelter[[#This Row],[Camp Name]],'Camp List'!N$5:O$400,2,0)","v":"MMR001CMP062"},{"$f":"VLOOKUP(Table_Shelter[[#This Row],[Camp Name]],'Camp List'!N$5:Z$395,14,0)","v":{"$error":"#REF!"}},null,null,{"$f":"MATCH(Table_Shelter[[#This Row],['# of Temporary Shelter Units Built]],Table_Shelter[[#This Row],[HH Covered]])","v":1}]
["31.07.2013","Caritas","KMSS Bhamo","Kachin","Mansi","Lagatyan ",1,null,null,100,100,null,null,null,null,{"$f":"Table_Shelter[[#This Row],[HH per Shelter]]*(Table_Shelter[[#This Row],['# of Temporary Shelter Units Built]]+Table_Shelter[[#This Row],['# of Temporary Shelter Under Construction]]+Table_Shelter[[#This Row],['# of Permanent House Built]]+Table_Shelter[[#This Row],['# of Permanent House Under Construction]])","v":100},{"$f":"VLOOKUP(Table_Shelter[[#This Row],[Camp Name]],'Camp List'!N$5:O$400,2,0)","v":"MMR001CMP202"},{"$f":"VLOOKUP(Table_Shelter[[#This Row],[Camp Name]],'Camp List'!N$5:Z$395,14,0)","v":{"$error":"#REF!"}},null,null,{"$f":"MATCH(Table_Shelter[[#This Row],['# of Temporary Shelter Units Built]],Table_Shelter[[#This Row],[HH Covered]])","v":1}]
["31.07.2013","Caritas","KMSS Bhamo","Kachin","Momauk","Nhkawng Pa ",1,null,null,200,null,null,null,null,null,{"$f":"Table_Shelter[[#This Row],[HH per Shelter]]*(Table_Shelter[[#This Row],['# of Temporary Shelter Units Built]]+Table_Shelter[[#This Row],['# of Temporary Shelter Under Construction]]+Table_Shelter[[#This Row],['# of Permanent House Built]]+Table_Shelter[[#This Row],['# of Permanent House Under Construction]])","v":0},{"$f":"VLOOKUP(Table_Shelter[[#This Row],[Camp Name]],'Camp List'!N$5:O$400,2,0)","v":"MMR001CMP131"},{"$f":"VLOOKUP(Table_Shelter[[#This Row],[Camp Name]],'Camp List'!N$5:Z$395,14,0)","v":{"$error":"#REF!"}},null,null,{"$f":"MATCH(Table_Shelter[[#This Row],['# of Temporary Shelter Units Built]],Table_Shelter[[#This Row],[HH Covered]])","v":1}]
["29.5.2013","Caritas","KMSS","Kachin","Myitkyina","Pa Dauk Myaing(Pa La Na)",1,null,null,30,30,null,null,null,null,{"$f":"Table_Shelter[[#This Row],[HH per Shelter]]*(Table_Shelter[[#This Row],['# of Temporary Shelter Units Built]]+Table_Shelter[[#This Row],['# of Temporary Shelter Under Construction]]+Table_Shelter[[#This Row],['# of Permanent House Built]]+Table_Shelter[[#This Row],['# of Permanent House Under Construction]])","v":30},{"$f":"VLOOKUP(Table_Shelter[[#This Row],[Camp Name]],'Camp List'!N$5:O$400,2,0)","v":"MMR001CMP162"},{"$f":"VLOOKUP(Table_Shelter[[#This Row],[Camp Name]],'Camp List'!N$5:Z$395,14,0)","v":{"$error":"#REF!"}},null,null,{"$f":"MATCH(Table_Shelter[[#This Row],['# of Temporary Shelter Units Built]],Table_Shelter[[#This Row],[HH Covered]])","v":1}]
["29.5.2013","Caritas","KMSS","Kachin","Mohnyin","St.Patrick catholic church",1,null,null,12,12,null,null,null,null,{"$f":"Table_Shelter[[#This Row],[HH per Shelter]]*(Table_Shelter[[#This Row],['# of Temporary Shelter Units Built]]+Table_Shelter[[#This Row],['# of Temporary Shelter Under Construction]]+Table_Shelter[[#This Row],['# of Permanent House Built]]+Table_Shelter[[#This Row],['# of Permanent House Under Construction]])","v":12},{"$f":"VLOOKUP(Table_Shelter[[#This Row],[Camp Name]],'Camp List'!N$5:O$400,2,0)","v":{"$error":"#N/A"}},{"$f":"VLOOKUP(Table_Shelter[[#This Row],[Camp Name]],'Camp List'!N$5:Z$395,14,0)","v":{"$error":"#N/A"}},null,null,{"$f":"MATCH(Table_Shelter[[#This Row],['# of Temporary Shelter Units Built]],Table_Shelter[[#This Row],[HH Covered]])","v":1}]
["31.12.2012","Caritas","KMSS","Kachin","Myitkyina","Jan Mai Kawng Catholic Church",1,null,null,60,60,null,null,null,null,{"$f":"Table_Shelter[[#This Row],[HH per Shelter]]*(Table_Shelter[[#This Row],['# of Temporary Shelter Units Built]]+Table_Shelter[[#This Row],['# of Temporary Shelter Under Construction]]+Table_Shelter[[#This Row],['# of Permanent House Built]]+Table_Shelter[[#This Row],['# of Permanent House Under Construction]])","v":60},{"$f":"VLOOKUP(Table_Shelter[[#This Row],[Camp Name]],'Camp List'!N$5:O$400,2,0)","v":"MMR001CMP019"},{"$f":"VLOOKUP(Table_Shelter[[#This Row],[Camp Name]],'Camp List'!N$5:Z$395,14,0)","v":{"$error":"#REF!"}},null,null,{"$f":"MATCH(Table_Shelter[[#This Row],['# of Temporary Shelter Units Built]],Table_Shelter[[#This Row],[HH Covered]])","v":1}]
["31.12.2012","Caritas","KMSS","Kachin","Waingmaw","Maina Catholic Church (St. Joseph)",1,null,null,20,20,null,null,null,null,{"$f":"Table_Shelter[[#This Row],[HH per Shelter]]*(Table_Shelter[[#This Row],['# of Temporary Shelter Units Built]]+Table_Shelter[[#This Row],['# of Temporary Shelter Under Construction]]+Table_Shelter[[#This Row],['# of Permanent House Built]]+Table_Shelter[[#This Row],['# of Permanent House Under Construction]])","v":20},{"$f":"VLOOKUP(Table_Shelter[[#This Row],[Camp Name]],'Camp List'!N$5:O$400,2,0)","v":"MMR001CMP029"},{"$f":"VLOOKUP(Table_Shelter[[#This Row],[Camp Name]],'Camp List'!N$5:Z$395,14,0)","v":{"$error":"#REF!"}},null,null,{"$f":"MATCH(Table_Shelter[[#This Row],['# of Temporary Shelter Units Built]],Table_Shelter[[#This Row],[HH Covered]])","v":1}]
["31.07.2013","DFID","KMSS Bhamo","Kachin","Momauk","Nhkawng Pa ",1,null,null,350,350,null,null,null,null,{"$f":"Table_Shelter[[#This Row],[HH per Shelter]]*(Table_Shelter[[#This Row],['# of Temporary Shelter Units Built]]+Table_Shelter[[#This Row],['# of Temporary Shelter Under Construction]]+Table_Shelter[[#This Row],['# of Permanent House Built]]+Table_Shelter[[#This Row],['# of Permanent House Under Construction]])","v":350},{"$f":"VLOOKUP(Table_Shelter[[#This Row],[Camp Name]],'Camp List'!N$5:O$400,2,0)","v":"MMR001CMP131"},{"$f":"VLOOKUP(Table_Shelter[[#This Row],[Camp Name]],'Camp List'!N$5:Z$395,14,0)","v":{"$error":"#REF!"}},null,null,{"$f":"MATCH(Table_Shelter[[#This Row],['# of Temporary Shelter Units Built]],Table_Shelter[[#This Row],[HH Covered]])","v":1}]
["30.06.2013","DRC","Shalom","Kachin","Chipwi","Lhaovao Baptist Church (LBC)",1,null,null,82,82,null,null,null,null,{"$f":"Table_Shelter[[#This Row],[HH per Shelter]]*(Table_Shelter[[#This Row],['# of Temporary Shelter Units Built]]+Table_Shelter[[#This Row],['# of Temporary Shelter Under Construction]]+Table_Shelter[[#This Row],['# of Permanent House Built]]+Table_Shelter[[#This Row],['# of Permanent House Under Construction]])","v":82},{"$f":"VLOOKUP(Table_Shelter[[#This Row],[Camp Name]],'Camp List'!N$5:O$400,2,0)","v":"MMR001CMP195"},{"$f":"VLOOKUP(Table_Shelter[[#This Row],[Camp Name]],'Camp List'!N$5:Z$395,14,0)","v":{"$error":"#REF!"}},null,null,{"$f":"MATCH(Table_Shelter[[#This Row],['# of Temporary Shelter Units Built]],Table_Shelter[[#This Row],[HH Covered]])","v":1}]
["30.06.2013","DRC","KBC","Kachin","Mansi","Man Wing Baptist Church",1,null,null,39,39,null,null,null,null,{"$f":"Table_Shelter[[#This Row],[HH per Shelter]]*(Table_Shelter[[#This Row],['# of Temporary Shelter Units Built]]+Table_Shelter[[#This Row],['# of Temporary Shelter Under Construction]]+Table_Shelter[[#This Row],['# of Permanent House Built]]+Table_Shelter[[#This Row],['# of Permanent House Under Construction]])","v":39},{"$f":"VLOOKUP(Table_Shelter[[#This Row],[Camp Name]],'Camp List'!N$5:O$400,2,0)","v":"MMR001CMP133"},{"$f":"VLOOKUP(Table_Shelter[[#This Row],[Camp Name]],'Camp List'!N$5:Z$395,14,0)","v":{"$error":"#REF!"}},null,null,{"$f":"MATCH(Table_Shelter[[#This Row],['# of Temporary Shelter Units Built]],Table_Shelter[[#This Row],[HH Covered]])","v":1}]
["30.06.2013","DRC","KMSS","Kachin","Momauk","Hpun Lum Yang ",1,null,null,338,338,null,null,null,null,{"$f":"Table_Shelter[[#This Row],[HH per Shelter]]*(Table_Shelter[[#This Row],['# of Temporary Shelter Units Built]]+Table_Shelter[[#This Row],['# of Temporary Shelter Under Construction]]+Table_Shelter[[#This Row],['# of Permanent House Built]]+Table_Shelter[[#This Row],['# of Permanent House Under Construction]])","v":338},{"$f":"VLOOKUP(Table_Shelter[[#This Row],[Camp Name]],'Camp List'!N$5:O$400,2,0)","v":"MMR001CMP122"},{"$f":"VLOOKUP(Table_Shelter[[#This Row],[Camp Name]],'Camp List'!N$5:Z$395,14,0)","v":{"$error":"#REF!"}},null,null,{"$f":"MATCH(Table_Shelter[[#This Row],['# of Temporary Shelter Units Built]],Table_Shelter[[#This Row],[HH Covered]])","v":1}]
["30.06.2013","DRC","KMSS","Kachin","Myitkyina","Nan Kway St. John Catholic Church",1,null,null,46,46,null,null,null,null,{"$f":"Table_Shelter[[#This Row],[HH per Shelter]]*(Table_Shelter[[#This Row],['# of Temporary Shelter Units Built]]+Table_Shelter[[#This Row],['# of Temporary Shelter Under Construction]]+Table_Shelter[[#This Row],['# of Permanent House Built]]+Table_Shelter[[#This Row],['# of Permanent House Under Construction]])","v":46},{"$f":"VLOOKUP(Table_Shelter[[#This Row],[Camp Name]],'Camp List'!N$5:O$400,2,0)","v":"MMR001CMP024"},{"$f":"VLOOKUP(Table_Shelter[[#This Row],[Camp Name]],'Camp List'!N$5:Z$395,14,0)","v":{"$error":"#REF!"}},null,null,{"$f":"MATCH(Table_Shelter[[#This Row],['# of Temporary Shelter Units Built]],Table_Shelter[[#This Row],[HH Covered]])","v":1}]
["30.06.2013","DRC","KBC","Kachin","Namhkan","Nam Hkam - Nay Win Ni (Palawng)",1,null,null,78,78,null,null,null,null,{"$f":"Table_Shelter[[#This Row],[HH per Shelter]]*(Table_Shelter[[#This Row],['# of Temporary Shelter Units Built]]+Table_Shelter[[#This Row],['# of Temporary Shelter Under Construction]]+Table_Shelter[[#This Row],['# of Permanent House Built]]+Table_Shelter[[#This Row],['# of Permanent House Under Construction]])","v":78},{"$f":"VLOOKUP(Table_Shelter[[#This Row],[Camp Name]],'Camp List'!N$5:O$400,2,0)","v":"MMR015CMP004"},{"$f":"VLOOKUP(Table_Shelter[[#This Row],[Camp Name]],'Camp List'!N$5:Z$395,14,0)","v":{"$error":"#REF!"}},null,null,{"$f":"MATCH(Table_Shelter[[#This Row],['# of Temporary Shelter Units Built]],Table_Shelter[[#This Row],[HH Covered]])","v":1}]
["30.06.2013","DRC","KBC","Kachin","Namhkan","Nam Hkam (KBC Jaw Wang)",1,null,null,60,60,null,null,null,null,{"$f":"Table_Shelter[[#This Row],[HH per Shelter]]*(Table_Shelter[[#This Row],['# of Temporary Shelter Units Built]]+Table_Shelter[[#This Row],['# of Temporary Shelter Under Construction]]+Table_Shelter[[#This Row],['# of Permanent House Built]]+Table_Shelter[[#This Row],['# of Permanent House Under Construction]])","v":60},{"$f":"VLOOKUP(Table_Shelter[[#This Row],[Camp Name]],'Camp List'!N$5:O$400,2,0)","v":"MMR015CMP001"},{"$f":"VLOOKUP(Table_Shelter[[#This Row],[Camp Name]],'Camp List'!N$5:Z$395,14,0)","v":{"$error":"#REF!"}},null,null,{"$f":"MATCH(Table_Shelter[[#This Row],['# of Temporary Shelter Units Built]],Table_Shelter[[#This Row],[HH Covered]])","v":1}]
["30.06.2013","DRC","Shalom","Kachin","Waingmaw","Hkat Cho ",1,null,null,60,60,null,null,null,null,{"$f":"Table_Shelter[[#This Row],[HH per Shelter]]*(Table_Shelter[[#This Row],['# of Temporary Shelter Units Built]]+Table_Shelter[[#This Row],['# of Temporary Shelter Under Construction]]+Table_Shelter[[#This Row],['# of Permanent House Built]]+Table_Shelter[[#This Row],['# of Permanent House Under Construction]])","v":60},{"$f":"VLOOKUP(Table_Shelter[[#This Row],[Camp Name]],'Camp List'!N$5:O$400,2,0)","v":"MMR001CMP028"},{"$f":"VLOOKUP(Table_Shelter[[#This Row],[Camp Name]],'Camp List'!N$5:Z$395,14,0)","v":{"$error":"#REF!"}},null,null,{"$f":"MATCH(Table_Shelter[[#This Row],['# of Temporary Shelter Units Built]],Table_Shelter[[#This Row],[HH Covered]])","v":1}]
["30.06.2013","DRC","KMSS","Kachin","Waingmaw","Maina Catholic Church (St. Joseph)",1,null,null,12,12,null,null,null,null,{"$f":"Table_Shelter[[#This Row],[HH per Shelter]]*(Table_Shelter[[#This Row],['# of Temporary Shelter Units Built]]+Table_Shelter[[#This Row],['# of Temporary Shelter Under Construction]]+Table_Shelter[[#This Row],['# of Permanent House Built]]+Table_Shelter[[#This Row],['# of Permanent House Under Construction]])","v":12},{"$f":"VLOOKUP(Table_Shelter[[#This Row],[Camp Name]],'Camp List'!N$5:O$400,2,0)","v":"MMR001CMP029"},{"$f":"VLOOKUP(Table_Shelter[[#This Row],[Camp Name]],'Camp List'!N$5:Z$395,14,0)","v":{"$error":"#REF!"}},null,null,{"$f":"MATCH(Table_Shelter[[#This Row],['# of Temporary Shelter Units Built]],Table_Shelter[[#This Row],[HH Covered]])","v":1}]
["30.06.2013","DRC","Shalom","Kachin","Waingmaw","Hkau Shau (BP 12)",1,null,null,100,100,null,null,null,null,{"$f":"Table_Shelter[[#This Row],[HH per Shelter]]*(Table_Shelter[[#This Row],['# of Temporary Shelter Units Built]]+Table_Shelter[[#This Row],['# of Temporary Shelter Under Construction]]+Table_Shelter[[#This Row],['# of Permanent House Built]]+Table_Shelter[[#This Row],['# of Permanent House Under Construction]])","v":100},{"$f":"VLOOKUP(Table_Shelter[[#This Row],[Camp Name]],'Camp List'!N$5:O$400,2,0)","v":"MMR001CMP115"},{"$f":"VLOOKUP(Table_Shelter[[#This Row],[Camp Name]],'Camp List'!N$5:Z$395,14,0)","v":{"$error":"#REF!"}},null,null,{"$f":"MATCH(Table_Shelter[[#This Row],['# of Temporary Shelter Units Built]],Table_Shelter[[#This Row],[HH Covered]])","v":1}]
["30.06.2013","DRC","KMSS","Kachin","Waingmaw","Maga Yang ",1,null,null,604,604,null,null,null,null,{"$f":"Table_Shelter[[#This Row],[HH per Shelter]]*(Table_Shelter[[#This Row],['# of Temporary Shelter Units Built]]+Table_Shelter[[#This Row],['# of Temporary Shelter Under Construction]]+Table_Shelter[[#This Row],['# of Permanent House Built]]+Table_Shelter[[#This Row],['# of Permanent House Under Construction]])","v":604},{"$f":"VLOOKUP(Table_Shelter[[#This Row],[Camp Name]],'Camp List'!N$5:O$400,2,0)","v":"MMR001CMP119"},{"$f":"VLOOKUP(Table_Shelter[[#This Row],[Camp Name]],'Camp List'!N$5:Z$395,14,0)","v":{"$error":"#REF!"}},null,null,{"$f":"MATCH(Table_Shelter[[#This Row],['# of Temporary Shelter Units Built]],Table_Shelter[[#This Row],[HH Covered]])","v":1}]
["31.07.2013","IRRC","KMSS Bhamo","Kachin","Bhamo","AD-2000 Tharthana Compound",1,null,null,18,18,null,null,null,null,{"$f":"Table_Shelter[[#This Row],[HH per Shelter]]*(Table_Shelter[[#This Row],['# of Temporary Shelter Units Built]]+Table_Shelter[[#This Row],['# of Temporary Shelter Under Construction]]+Table_Shelter[[#This Row],['# of Permanent House Built]]+Table_Shelter[[#This Row],['# of Permanent House Under Construction]])","v":18},{"$f":"VLOOKUP(Table_Shelter[[#This Row],[Camp Name]],'Camp List'!N$5:O$400,2,0)","v":"MMR001CMP050"},{"$f":"VLOOKUP(Table_Shelter[[#This Row],[Camp Name]],'Camp List'!N$5:Z$395,14,0)","v":{"$error":"#REF!"}},null,null,{"$f":"MATCH(Table_Shelter[[#This Row],['# of Temporary Shelter Units Built]],Table_Shelter[[#This Row],[HH Covered]])","v":1}]
["31.12.2012","KBC","KBC","Kachin","Myitkyina","Man Hkring Baptist Church",1,null,null,10,10,null,null,null,null,{"$f":"Table_Shelter[[#This Row],[HH per Shelter]]*(Table_Shelter[[#This Row],['# of Temporary Shelter Units Built]]+Table_Shelter[[#This Row],['# of Temporary Shelter Under Construction]]+Table_Shelter[[#This Row],['# of Permanent House Built]]+Table_Shelter[[#This Row],['# of Permanent House Under Construction]])","v":10},{"$f":"VLOOKUP(Table_Shelter[[#This Row],[Camp Name]],'Camp List'!N$5:O$400,2,0)","v":"MMR001CMP008"},{"$f":"VLOOKUP(Table_Shelter[[#This Row],[Camp Name]],'Camp List'!N$5:Z$395,14,0)","v":{"$error":"#REF!"}},null,null,{"$f":"MATCH(Table_Shelter[[#This Row],['# of Temporary Shelter Units Built]],Table_Shelter[[#This Row],[HH Covered]])","v":1}]
["31.12.2012","KBC","KBC","Kachin","Myitkyina","Njang Dung Baptist Church ",1,null,null,32,32,null,null,null,null,{"$f":"Table_Shelter[[#This Row],[HH per Shelter]]*(Table_Shelter[[#This Row],['# of Temporary Shelter Units Built]]+Table_Shelter[[#This Row],['# of Temporary Shelter Under Construction]]+Table_Shelter[[#This Row],['# of Permanent House Built]]+Table_Shelter[[#This Row],['# of Permanent House Under Construction]])","v":32},{"$f":"VLOOKUP(Table_Shelter[[#This Row],[Camp Name]],'Camp List'!N$5:O$400,2,0)","v":"MMR001CMP002"},{"$f":"VLOOKUP(Table_Shelter[[#This Row],[Camp Name]],'Camp List'!N$5:Z$395,14,0)","v":{"$error":"#REF!"}},null,null,{"$f":"MATCH(Table_Shelter[[#This Row],['# of Temporary Shelter Units Built]],Table_Shelter[[#This Row],[HH Covered]])","v":1}]
["31.12.2012","KBC","KBC","Kachin","Myitkyina","Jan Mai Kawng Baptist Church",1,null,null,20,20,null,null,null,null,{"$f":"Table_Shelter[[#This Row],[HH per Shelter]]*(Table_Shelter[[#This Row],['# of Temporary Shelter Units Built]]+Table_Shelter[[#This Row],['# of Temporary Shelter Under Construction]]+Table_Shelter[[#This Row],['# of Permanent House Built]]+Table_Shelter[[#This Row],['# of Permanent House Under Construction]])","v":20},{"$f":"VLOOKUP(Table_Shelter[[#This Row],[Camp Name]],'Camp List'!N$5:O$400,2,0)","v":"MMR001CMP018"},{"$f":"VLOOKUP(Table_Shelter[[#This Row],[Camp Name]],'Camp List'!N$5:Z$395,14,0)","v":{"$error":"#REF!"}},null,null,{"$f":"MATCH(Table_Shelter[[#This Row],['# of Temporary Shelter Units Built]],Table_Shelter[[#This Row],[HH Covered]])","v":1}]
["31.12.2012","KBC","KBC","Kachin","Myitkyina","Tat Kone Galile Baptist Church",1,null,null,12,12,null,null,null,null,{"$f":"Table_Shelter[[#This Row],[HH per Shelter]]*(Table_Shelter[[#This Row],['# of Temporary Shelter Units Built]]+Table_Shelter[[#This Row],['# of Temporary Shelter Under Construction]]+Table_Shelter[[#This Row],['# of Permanent House Built]]+Table_Shelter[[#This Row],['# of Permanent House Under Construction]])","v":12},{"$f":"VLOOKUP(Table_Shelter[[#This Row],[Camp Name]],'Camp List'!N$5:O$400,2,0)","v":"MMR001CMP003"},{"$f":"VLOOKUP(Table_Shelter[[#This Row],[Camp Name]],'Camp List'!N$5:Z$395,14,0)","v":{"$error":"#REF!"}},null,null,{"$f":"MATCH(Table_Shelter[[#This Row],['# of Temporary Shelter Units Built]],Table_Shelter[[#This Row],[HH Covered]])","v":1}]
["31.12.2012","KBC","KBC","Kachin","Waingmaw","Qtr. 2 Myoma Baptist Church",1,null,null,8,8,null,null,null,null,{"$f":"Table_Shelter[[#This Row],[HH per Shelter]]*(Table_Shelter[[#This Row],['# of Temporary Shelter Units Built]]+Table_Shelter[[#This Row],['# of Temporary Shelter Under Construction]]+Table_Shelter[[#This Row],['# of Permanent House Built]]+Table_Shelter[[#This Row],['# of Permanent House Under Construction]])","v":8},{"$f":"VLOOKUP(Table_Shelter[[#This Row],[Camp Name]],'Camp List'!N$5:O$400,2,0)","v":"MMR001CMP025"},{"$f":"VLOOKUP(Table_Shelter[[#This Row],[Camp Name]],'Camp List'!N$5:Z$395,14,0)","v":{"$error":"#REF!"}},null,null,{"$f":"MATCH(Table_Shelter[[#This Row],['# of Temporary Shelter Units Built]],Table_Shelter[[#This Row],[HH Covered]])","v":1}]
["31.07.2013","Metta Foundation",null,"Kachin","Bhamo","Yoe Kyi Monastery",1,null,null,12,30,null,null,null,null,{"$f":"Table_Shelter[[#This Row],[HH per Shelter]]*(Table_Shelter[[#This Row],['# of Temporary Shelter Units Built]]+Table_Shelter[[#This Row],['# of Temporary Shelter Under Construction]]+Table_Shelter[[#This Row],['# of Permanent House Built]]+Table_Shelter[[#This Row],['# of Permanent House Under Construction]])","v":30},{"$f":"VLOOKUP(Table_Shelter[[#This Row],[Camp Name]],'Camp List'!N$5:O$400,2,0)","v":"MMR001CMP053"},{"$f":"VLOOKUP(Table_Shelter[[#This Row],[Camp Name]],'Camp List'!N$5:Z$395,14,0)","v":{"$error":"#REF!"}},null,null,{"$f":"MATCH(Table_Shelter[[#This Row],['# of Temporary Shelter Units Built]],Table_Shelter[[#This Row],[HH Covered]])","v":1}]
["31.07.2013","Metta Foundation",null,"Kachin","Bhamo","Htoi San Church",1,null,null,null,30,null,null,null,null,{"$f":"Table_Shelter[[#This Row],[HH per Shelter]]*(Table_Shelter[[#This Row],['# of Temporary Shelter Units Built]]+Table_Shelter[[#This Row],['# of Temporary Shelter Under Construction]]+Table_Shelter[[#This Row],['# of Permanent House Built]]+Table_Shelter[[#This Row],['# of Permanent House Under Construction]])","v":30},{"$f":"VLOOKUP(Table_Shelter[[#This Row],[Camp Name]],'Camp List'!N$5:O$400,2,0)","v":"MMR001CMP052"},{"$f":"VLOOKUP(Table_Shelter[[#This Row],[Camp Name]],'Camp List'!N$5:Z$395,14,0)","v":{"$error":"#REF!"}},null,null,{"$f":"MATCH(Table_Shelter[[#This Row],['# of Temporary Shelter Units Built]],Table_Shelter[[#This Row],[HH Covered]])","v":1}]
["31.07.2013","Metta Foundation",null,"Kachin","Bhamo","Lisu Boarding-House",1,null,null,30,12,null,null,null,null,{"$f":"Table_Shelter[[#This Row],[HH per Shelter]]*(Table_Shelter[[#This Row],['# of Temporary Shelter Units Built]]+Table_Shelter[[#This Row],['# of Temporary Shelter Under Construction]]+Table_Shelter[[#This Row],['# of Permanent House Built]]+Table_Shelter[[#This Row],['# of Permanent House Under Construction]])","v":12},{"$f":"VLOOKUP(Table_Shelter[[#This Row],[Camp Name]],'Camp List'!N$5:O$400,2,0)","v":"MMR001CMP049"},{"$f":"VLOOKUP(Table_Shelter[[#This Row],[Camp Name]],'Camp List'!N$5:Z$395,14,0)","v":{"$error":"#REF!"}},null,null,{"$f":"MATCH(Table_Shelter[[#This Row],['# of Temporary Shelter Units Built]],Table_Shelter[[#This Row],[HH Covered]])","v":1}]
["31.07.2013","Metta Foundation",null,"Kachin","Momauk","Momauk Baptist Church",1,null,null,30,140,null,null,null,null,{"$f":"Table_Shelter[[#This Row],[HH per Shelter]]*(Table_Shelter[[#This Row],['# of Temporary Shelter Units Built]]+Table_Shelter[[#This Row],['# of Temporary Shelter Under Construction]]+Table_Shelter[[#This Row],['# of Permanent House Built]]+Table_Shelter[[#This Row],['# of Permanent House Under Construction]])","v":140},{"$f":"VLOOKUP(Table_Shelter[[#This Row],[Camp Name]],'Camp List'!N$5:O$400,2,0)","v":"MMR001CMP056"},{"$f":"VLOOKUP(Table_Shelter[[#This Row],[Camp Name]],'Camp List'!N$5:Z$395,14,0)","v":{"$error":"#REF!"}},null,null,{"$f":"MATCH(Table_Shelter[[#This Row],['# of Temporary Shelter Units Built]],Table_Shelter[[#This Row],[HH Covered]])","v":1}]
["31.07.2013","Metta Foundation",null,"Kachin","Momauk","Mandalay Monestry",1,null,null,null,6,null,null,null,null,{"$f":"Table_Shelter[[#This Row],[HH per Shelter]]*(Table_Shelter[[#This Row],['# of Temporary Shelter Units Built]]+Table_Shelter[[#This Row],['# of Temporary Shelter Under Construction]]+Table_Shelter[[#This Row],['# of Permanent House Built]]+Table_Shelter[[#This Row],['# of Permanent House Under Construction]])","v":6},{"$f":"VLOOKUP(Table_Shelter[[#This Row],[Camp Name]],'Camp List'!N$5:O$400,2,0)","v":"MMR001CMP058"},{"$f":"VLOOKUP(Table_Shelter[[#This Row],[Camp Name]],'Camp List'!N$5:Z$395,14,0)","v":{"$error":"#REF!"}},null,null,{"$f":"MATCH(Table_Shelter[[#This Row],['# of Temporary Shelter Units Built]],Table_Shelter[[#This Row],[HH Covered]])","v":1}]
["31.07.2013","Metta Foundation",null,"Kachin","Momauk","Ni Thaw Ka Monestry",1,null,null,null,18,null,null,null,null,{"$f":"Table_Shelter[[#This Row],[HH per Shelter]]*(Table_Shelter[[#This Row],['# of Temporary Shelter Units Built]]+Table_Shelter[[#This Row],['# of Temporary Shelter Under Construction]]+Table_Shelter[[#This Row],['# of Permanent House Built]]+Table_Shelter[[#This Row],['# of Permanent House Under Construction]])","v":18},{"$f":"VLOOKUP(Table_Shelter[[#This Row],[Camp Name]],'Camp List'!N$5:O$400,2,0)","v":"MMR001CMP059"},{"$f":"VLOOKUP(Table_Shelter[[#This Row],[Camp Name]],'Camp List'!N$5:Z$395,14,0)","v":{"$error":"#REF!"}},null,null,{"$f":"MATCH(Table_Shelter[[#This Row],['# of Temporary Shelter Units Built]],Table_Shelter[[#This Row],[HH Covered]])","v":1}]
["31.07.2013","Metta Foundation",null,"Kachin","Mansi","Mansi Baptist Church",1,null,null,30,30,null,null,null,null,{"$f":"Table_Shelter[[#This Row],[HH per Shelter]]*(Table_Shelter[[#This Row],['# of Temporary Shelter Units Built]]+Table_Shelter[[#This Row],['# of Temporary Shelter Under Construction]]+Table_Shelter[[#This Row],['# of Permanent House Built]]+Table_Shelter[[#This Row],['# of Permanent House Under Construction]])","v":30},{"$f":"VLOOKUP(Table_Shelter[[#This Row],[Camp Name]],'Camp List'!N$5:O$400,2,0)","v":"MMR001CMP066"},{"$f":"VLOOKUP(Table_Shelter[[#This Row],[Camp Name]],'Camp List'!N$5:Z$395,14,0)","v":{"$error":"#REF!"}},null,null,{"$f":"MATCH(Table_Shelter[[#This Row],['# of Temporary Shelter Units Built]],Table_Shelter[[#This Row],[HH Covered]])","v":1}]
["31.07.2013","Metta Foundation",null,"Kachin","Shwegu","Mansi Baptist Church",1,null,null,12,30,null,null,null,null,{"$f":"Table_Shelter[[#This Row],[HH per Shelter]]*(Table_Shelter[[#This Row],['# of Temporary Shelter Units Built]]+Table_Shelter[[#This Row],['# of Temporary Shelter Under Construction]]+Table_Shelter[[#This Row],['# of Permanent House Built]]+Table_Shelter[[#This Row],['# of Permanent House Under Construction]])","v":30},{"$f":"VLOOKUP(Table_Shelter[[#This Row],[Camp Name]],'Camp List'!N$5:O$400,2,0)","v":"MMR001CMP066"},{"$f":"VLOOKUP(Table_Shelter[[#This Row],[Camp Name]],'Camp List'!N$5:Z$395,14,0)","v":{"$error":"#REF!"}},null,null,{"$f":"MATCH(Table_Shelter[[#This Row],['# of Temporary Shelter Units Built]],Table_Shelter[[#This Row],[HH Covered]])","v":1}]
["31.12.2012","Miserreor","Shalom","Kachin","Myitkyina","Tat Kone COC Baptist / Tat Kone Htoi San",1,null,null,12,12,null,null,null,null,{"$f":"Table_Shelter[[#This Row],[HH per Shelter]]*(Table_Shelter[[#This Row],['# of Temporary Shelter Units Built]]+Table_Shelter[[#This Row],['# of Temporary Shelter Under Construction]]+Table_Shelter[[#This Row],['# of Permanent House Built]]+Table_Shelter[[#This Row],['# of Permanent House Under Construction]])","v":12},{"$f":"VLOOKUP(Table_Shelter[[#This Row],[Camp Name]],'Camp List'!N$5:O$400,2,0)","v":"MMR001CMP023"},{"$f":"VLOOKUP(Table_Shelter[[#This Row],[Camp Name]],'Camp List'!N$5:Z$395,14,0)","v":{"$error":"#REF!"}},null,null,{"$f":"MATCH(Table_Shelter[[#This Row],['# of Temporary Shelter Units Built]],Table_Shelter[[#This Row],[HH Covered]])","v":1}]
["31.12.2012","Oxfam","KBC","Kachin","Waingmaw","Zai Awng / Mung Ga Zup",1,null,null,220,220,null,null,null,null,{"$f":"Table_Shelter[[#This Row],[HH per Shelter]]*(Table_Shelter[[#This Row],['# of Temporary Shelter Units Built]]+Table_Shelter[[#This Row],['# of Temporary Shelter Under Construction]]+Table_Shelter[[#This Row],['# of Permanent House Built]]+Table_Shelter[[#This Row],['# of Permanent House Under Construction]])","v":220},{"$f":"VLOOKUP(Table_Shelter[[#This Row],[Camp Name]],'Camp List'!N$5:O$400,2,0)","v":"MMR001CMP111"},{"$f":"VLOOKUP(Table_Shelter[[#This Row],[Camp Name]],'Camp List'!N$5:Z$395,14,0)","v":{"$error":"#REF!"}},null,null,{"$f":"MATCH(Table_Shelter[[#This Row],['# of Temporary Shelter Units Built]],Table_Shelter[[#This Row],[HH Covered]])","v":1}]
["31.12.2012","Oxfam","KBC","Kachin","Myitkyina","Le Kone Bethlehem Church",1,null,null,5,5,null,null,null,null,{"$f":"Table_Shelter[[#This Row],[HH per Shelter]]*(Table_Shelter[[#This Row],['# of Temporary Shelter Units Built]]+Table_Shelter[[#This Row],['# of Temporary Shelter Under Construction]]+Table_Shelter[[#This Row],['# of Permanent House Built]]+Table_Shelter[[#This Row],['# of Permanent House Under Construction]])","v":5},{"$f":"VLOOKUP(Table_Shelter[[#This Row],[Camp Name]],'Camp List'!N$5:O$400,2,0)","v":"MMR001CMP015"},{"$f":"VLOOKUP(Table_Shelter[[#This Row],[Camp Name]],'Camp List'!N$5:Z$395,14,0)","v":{"$error":"#REF!"}},null,null,{"$f":"MATCH(Table_Shelter[[#This Row],['# of Temporary Shelter Units Built]],Table_Shelter[[#This Row],[HH Covered]])","v":1}]
["31.12.2012","Oxfam","KBC","Kachin","Myitkyina","Jan Mai Kawng Baptist Church",1,null,null,85,85,null,null,null,null,{"$f":"Table_Shelter[[#This Row],[HH per Shelter]]*(Table_Shelter[[#This Row],['# of Temporary Shelter Units Built]]+Table_Shelter[[#This Row],['# of Temporary Shelter Under Construction]]+Table_Shelter[[#This Row],['# of Permanent House Built]]+Table_Shelter[[#This Row],['# of Permanent House Under Construction]])","v":85},{"$f":"VLOOKUP(Table_Shelter[[#This Row],[Camp Name]],'Camp List'!N$5:O$400,2,0)","v":"MMR001CMP018"},{"$f":"VLOOKUP(Table_Shelter[[#This Row],[Camp Name]],'Camp List'!N$5:Z$395,14,0)","v":{"$error":"#REF!"}},null,null,{"$f":"MATCH(Table_Shelter[[#This Row],['# of Temporary Shelter Units Built]],Table_Shelter[[#This Row],[HH Covered]])","v":1}]
["31.12.2012","Oxfam","KBC","Kachin","Myitkyina","Le Kone Ziun Baptist Church ",1,null,null,20,20,null,null,null,null,{"$f":"Table_Shelter[[#This Row],[HH per Shelter]]*(Table_Shelter[[#This Row],['# of Temporary Shelter Units Built]]+Table_Shelter[[#This Row],['# of Temporary Shelter Under Construction]]+Table_Shelter[[#This Row],['# of Permanent House Built]]+Table_Shelter[[#This Row],['# of Permanent House Under Construction]])","v":20},{"$f":"VLOOKUP(Table_Shelter[[#This Row],[Camp Name]],'Camp List'!N$5:O$400,2,0)","v":"MMR001CMP014"},{"$f":"VLOOKUP(Table_Shelter[[#This Row],[Camp Name]],'Camp List'!N$5:Z$395,14,0)","v":{"$error":"#REF!"}},null,null,{"$f":"MATCH(Table_Shelter[[#This Row],['# of Temporary Shelter Units Built]],Table_Shelter[[#This Row],[HH Covered]])","v":1}]
["31.12.2012","Oxfam","KBC","Kachin","Waingmaw","Maina KBC (Bawng Ring)",1,null,null,50,50,null,null,null,null,{"$f":"Table_Shelter[[#This Row],[HH per Shelter]]*(Table_Shelter[[#This Row],['# of Temporary Shelter Units Built]]+Table_Shelter[[#This Row],['# of Temporary Shelter Under Construction]]+Table_Shelter[[#This Row],['# of Permanent House Built]]+Table_Shelter[[#This Row],['# of Permanent House Under Construction]])","v":50},{"$f":"VLOOKUP(Table_Shelter[[#This Row],[Camp Name]],'Camp List'!N$5:O$400,2,0)","v":"MMR001CMP040"},{"$f":"VLOOKUP(Table_Shelter[[#This Row],[Camp Name]],'Camp List'!N$5:Z$395,14,0)","v":{"$error":"#REF!"}},null,null,{"$f":"MATCH(Table_Shelter[[#This Row],['# of Temporary Shelter Units Built]],Table_Shelter[[#This Row],[HH Covered]])","v":1}]
["31.12.2012","Shalom","Shalom","Kachin","Waingmaw","Qtr. 3 Mu-yin  Baptist Church",1,null,null,12,12,null,null,null,null,{"$f":"Table_Shelter[[#This Row],[HH per Shelter]]*(Table_Shelter[[#This Row],['# of Temporary Shelter Units Built]]+Table_Shelter[[#This Row],['# of Temporary Shelter Under Construction]]+Table_Shelter[[#This Row],['# of Permanent House Built]]+Table_Shelter[[#This Row],['# of Permanent House Under Construction]])","v":12},{"$f":"VLOOKUP(Table_Shelter[[#This Row],[Camp Name]],'Camp List'!N$5:O$400,2,0)","v":"MMR001CMP030"},{"$f":"VLOOKUP(Table_Shelter[[#This Row],[Camp Name]],'Camp List'!N$5:Z$395,14,0)","v":{"$error":"#REF!"}},null,null,{"$f":"MATCH(Table_Shelter[[#This Row],['# of Temporary Shelter Units Built]],Table_Shelter[[#This Row],[HH Covered]])","v":1}]
["31.12.2012","Shalom","KBC","Kachin","Myitkyina","Shatapru Sut Ngai Tawng",1,null,null,20,20,null,null,null,null,{"$f":"Table_Shelter[[#This Row],[HH per Shelter]]*(Table_Shelter[[#This Row],['# of Temporary Shelter Units Built]]+Table_Shelter[[#This Row],['# of Temporary Shelter Under Construction]]+Table_Shelter[[#This Row],['# of Permanent House Built]]+Table_Shelter[[#This Row],['# of Permanent House Under Construction]])","v":20},{"$f":"VLOOKUP(Table_Shelter[[#This Row],[Camp Name]],'Camp List'!N$5:O$400,2,0)","v":"MMR001CMP006"},{"$f":"VLOOKUP(Table_Shelter[[#This Row],[Camp Name]],'Camp List'!N$5:Z$395,14,0)","v":{"$error":"#REF!"}},null,null,{"$f":"MATCH(Table_Shelter[[#This Row],['# of Temporary Shelter Units Built]],Table_Shelter[[#This Row],[HH Covered]])","v":1}]
["31.12.2012","UNHCR","KBC","Kachin","Myitkyina","Le Kone Bethlehem Church",1,null,null,10,10,null,null,null,null,{"$f":"Table_Shelter[[#This Row],[HH per Shelter]]*(Table_Shelter[[#This Row],['# of Temporary Shelter Units Built]]+Table_Shelter[[#This Row],['# of Temporary Shelter Under Construction]]+Table_Shelter[[#This Row],['# of Permanent House Built]]+Table_Shelter[[#This Row],['# of Permanent House Under Construction]])","v":10},{"$f":"VLOOKUP(Table_Shelter[[#This Row],[Camp Name]],'Camp List'!N$5:O$400,2,0)","v":"MMR001CMP015"},{"$f":"VLOOKUP(Table_Shelter[[#This Row],[Camp Name]],'Camp List'!N$5:Z$395,14,0)","v":{"$error":"#REF!"}},null,null,{"$f":"MATCH(Table_Shelter[[#This Row],['# of Temporary Shelter Units Built]],Table_Shelter[[#This Row],[HH Covered]])","v":1}]
["31.12.2012","UNHCR","KBC","Kachin","Myitkyina","Tat Kone Baptist Church",1,null,null,60,60,null,null,null,null,{"$f":"Table_Shelter[[#This Row],[HH per Shelter]]*(Table_Shelter[[#This Row],['# of Temporary Shelter Units Built]]+Table_Shelter[[#This Row],['# of Temporary Shelter Under Construction]]+Table_Shelter[[#This Row],['# of Permanent House Built]]+Table_Shelter[[#This Row],['# of Permanent House Under Construction]])","v":60},{"$f":"VLOOKUP(Table_Shelter[[#This Row],[Camp Name]],'Camp List'!N$5:O$400,2,0)","v":"MMR001CMP001"},{"$f":"VLOOKUP(Table_Shelter[[#This Row],[Camp Name]],'Camp List'!N$5:Z$395,14,0)","v":{"$error":"#REF!"}},null,null,{"$f":"MATCH(Table_Shelter[[#This Row],['# of Temporary Shelter Units Built]],Table_Shelter[[#This Row],[HH Covered]])","v":1}]
["31.12.2012","UNHCR","KBC","Kachin","Myitkyina","Tat Kone Galile Baptist Church",1,null,null,20,20,null,null,null,null,{"$f":"Table_Shelter[[#This Row],[HH per Shelter]]*(Table_Shelter[[#This Row],['# of Temporary Shelter Units Built]]+Table_Shelter[[#This Row],['# of Temporary Shelter Under Construction]]+Table_Shelter[[#This Row],['# of Permanent House Built]]+Table_Shelter[[#This Row],['# of Permanent House Under Construction]])","v":20},{"$f":"VLOOKUP(Table_Shelter[[#This Row],[Camp Name]],'Camp List'!N$5:O$400,2,0)","v":"MMR001CMP003"},{"$f":"VLOOKUP(Table_Shelter[[#This Row],[Camp Name]],'Camp List'!N$5:Z$395,14,0)","v":{"$error":"#REF!"}},null,null,{"$f":"MATCH(Table_Shelter[[#This Row],['# of Temporary Shelter Units Built]],Table_Shelter[[#This Row],[HH Covered]])","v":1}]
["31.12.2012","UNHCR","KBC","Kachin","Myitkyina","Kyun Pin Thar Baptist Church",1,null,null,5,5,null,null,null,null,{"$f":"Table_Shelter[[#This Row],[HH per Shelter]]*(Table_Shelter[[#This Row],['# of Temporary Shelter Units Built]]+Table_Shelter[[#This Row],['# of Temporary Shelter Under Construction]]+Table_Shelter[[#This Row],['# of Permanent House Built]]+Table_Shelter[[#This Row],['# of Permanent House Under Construction]])","v":5},{"$f":"VLOOKUP(Table_Shelter[[#This Row],[Camp Name]],'Camp List'!N$5:O$400,2,0)","v":"MMR001CMP013"},{"$f":"VLOOKUP(Table_Shelter[[#This Row],[Camp Name]],'Camp List'!N$5:Z$395,14,0)","v":{"$error":"#REF!"}},null,null,{"$f":"MATCH(Table_Shelter[[#This Row],['# of Temporary Shelter Units Built]],Table_Shelter[[#This Row],[HH Covered]])","v":1}]
["31.12.2012","UNHCR","KBC","Kachin","Myitkyina","Jan Mai Kawng Baptist Church",1,null,null,20,20,null,null,null,null,{"$f":"Table_Shelter[[#This Row],[HH per Shelter]]*(Table_Shelter[[#This Row],['# of Temporary Shelter Units Built]]+Table_Shelter[[#This Row],['# of Temporary Shelter Under Construction]]+Table_Shelter[[#This Row],['# of Permanent House Built]]+Table_Shelter[[#This Row],['# of Permanent House Under Construction]])","v":20},{"$f":"VLOOKUP(Table_Shelter[[#This Row],[Camp Name]],'Camp List'!N$5:O$400,2,0)","v":"MMR001CMP018"},{"$f":"VLOOKUP(Table_Shelter[[#This Row],[Camp Name]],'Camp List'!N$5:Z$395,14,0)","v":{"$error":"#REF!"}},null,null,{"$f":"MATCH(Table_Shelter[[#This Row],['# of Temporary Shelter Units Built]],Table_Shelter[[#This Row],[HH Covered]])","v":1}]
["31.12.2012","UNHCR","KBC","Kachin","Myitkyina","Maliyang Baptist Church",1,null,null,20,20,null,null,null,null,{"$f":"Table_Shelter[[#This Row],[HH per Shelter]]*(Table_Shelter[[#This Row],['# of Temporary Shelter Units Built]]+Table_Shelter[[#This Row],['# of Temporary Shelter Under Construction]]+Table_Shelter[[#This Row],['# of Permanent House Built]]+Table_Shelter[[#This Row],['# of Permanent House Under Construction]])","v":20},{"$f":"VLOOKUP(Table_Shelter[[#This Row],[Camp Name]],'Camp List'!N$5:O$400,2,0)","v":"MMR001CMP016"},{"$f":"VLOOKUP(Table_Shelter[[#This Row],[Camp Name]],'Camp List'!N$5:Z$395,14,0)","v":{"$error":"#REF!"}},null,null,{"$f":"MATCH(Table_Shelter[[#This Row],['# of Temporary Shelter Units Built]],Table_Shelter[[#This Row],[HH Covered]])","v":1}]
["31.12.2012","UNHCR","KBC","Kachin","Myitkyina","Man Hkring Baptist Church",1,null,null,60,60,null,null,null,null,{"$f":"Table_Shelter[[#This Row],[HH per Shelter]]*(Table_Shelter[[#This Row],['# of Temporary Shelter Units Built]]+Table_Shelter[[#This Row],['# of Temporary Shelter Under Construction]]+Table_Shelter[[#This Row],['# of Permanent House Built]]+Table_Shelter[[#This Row],['# of Permanent House Under Construction]])","v":60},{"$f":"VLOOKUP(Table_Shelter[[#This Row],[Camp Name]],'Camp List'!N$5:O$400,2,0)","v":"MMR001CMP008"},{"$f":"VLOOKUP(Table_Shelter[[#This Row],[Camp Name]],'Camp List'!N$5:Z$395,14,0)","v":{"$error":"#REF!"}},null,null,{"$f":"MATCH(Table_Shelter[[#This Row],['# of Temporary Shelter Units Built]],Table_Shelter[[#This Row],[HH Covered]])","v":1}]
["31.12.2012","UNHCR","KBC","Kachin","Myitkyina","Njang Dung Baptist Church ",1,null,null,20,20,null,null,null,null,{"$f":"Table_Shelter[[#This Row],[HH per Shelter]]*(Table_Shelter[[#This Row],['# of Temporary Shelter Units Built]]+Table_Shelter[[#This Row],['# of Temporary Shelter Under Construction]]+Table_Shelter[[#This Row],['# of Permanent House Built]]+Table_Shelter[[#This Row],['# of Permanent House Under Construction]])","v":20},{"$f":"VLOOKUP(Table_Shelter[[#This Row],[Camp Name]],'Camp List'!N$5:O$400,2,0)","v":"MMR001CMP002"},{"$f":"VLOOKUP(Table_Shelter[[#This Row],[Camp Name]],'Camp List'!N$5:Z$395,14,0)","v":{"$error":"#REF!"}},null,null,{"$f":"MATCH(Table_Shelter[[#This Row],['# of Temporary Shelter Units Built]],Table_Shelter[[#This Row],[HH Covered]])","v":1}]
["31.12.2012","UNHCR","KBC","Kachin","Myitkyina","Tat Kone San Pya Baptist Church",1,null,null,10,10,null,null,null,null,{"$f":"Table_Shelter[[#This Row],[HH per Shelter]]*(Table_Shelter[[#This Row],['# of Temporary Shelter Units Built]]+Table_Shelter[[#This Row],['# of Temporary Shelter Under Construction]]+Table_Shelter[[#This Row],['# of Permanent House Built]]+Table_Shelter[[#This Row],['# of Permanent House Under Construction]])","v":10},{"$f":"VLOOKUP(Table_Shelter[[#This Row],[Camp Name]],'Camp List'!N$5:O$400,2,0)","v":"MMR001CMP005"},{"$f":"VLOOKUP(Table_Shelter[[#This Row],[Camp Name]],'Camp List'!N$5:Z$395,14,0)","v":{"$error":"#REF!"}},null,null,{"$f":"MATCH(Table_Shelter[[#This Row],['# of Temporary Shelter Units Built]],Table_Shelter[[#This Row],[HH Covered]])","v":1}]
["31.12.2012","UNHCR","KBC","Kachin","Myitkyina","Shatapru Sut Ngai Tawng",1,null,null,10,10,null,null,null,null,{"$f":"Table_Shelter[[#This Row],[HH per Shelter]]*(Table_Shelter[[#This Row],['# of Temporary Shelter Units Built]]+Table_Shelter[[#This Row],['# of Temporary Shelter Under Construction]]+Table_Shelter[[#This Row],['# of Permanent House Built]]+Table_Shelter[[#This Row],['# of Permanent House Under Construction]])","v":10},{"$f":"VLOOKUP(Table_Shelter[[#This Row],[Camp Name]],'Camp List'!N$5:O$400,2,0)","v":"MMR001CMP006"},{"$f":"VLOOKUP(Table_Shelter[[#This Row],[Camp Name]],'Camp List'!N$5:Z$395,14,0)","v":{"$error":"#REF!"}},null,null,{"$f":"MATCH(Table_Shelter[[#This Row],['# of Temporary Shelter Units Built]],Table_Shelter[[#This Row],[HH Covered]])","v":1}]
["31.12.2012","UNHCR","KBC","Kachin","Myitkyina","Shwe Zet Baptist Church",1,null,null,50,50,null,null,null,null,{"$f":"Table_Shelter[[#This Row],[HH per Shelter]]*(Table_Shelter[[#This Row],['# of Temporary Shelter Units Built]]+Table_Shelter[[#This Row],['# of Temporary Shelter Under Construction]]+Table_Shelter[[#This Row],['# of Permanent House Built]]+Table_Shelter[[#This Row],['# of Permanent House Under Construction]])","v":50},{"$f":"VLOOKUP(Table_Shelter[[#This Row],[Camp Name]],'Camp List'!N$5:O$400,2,0)","v":"MMR001CMP009"},{"$f":"VLOOKUP(Table_Shelter[[#This Row],[Camp Name]],'Camp List'!N$5:Z$395,14,0)","v":{"$error":"#REF!"}},null,null,{"$f":"MATCH(Table_Shelter[[#This Row],['# of Temporary Shelter Units Built]],Table_Shelter[[#This Row],[HH Covered]])","v":1}]
["31.12.2012","UNHCR","KBC","Kachin","Myitkyina","Le Kone Ziun Baptist Church ",1,null,null,60,60,null,null,null,null,{"$f":"Table_Shelter[[#This Row],[HH per Shelter]]*(Table_Shelter[[#This Row],['# of Temporary Shelter Units Built]]+Table_Shelter[[#This Row],['# of Temporary Shelter Under Construction]]+Table_Shelter[[#This Row],['# of Permanent House Built]]+Table_Shelter[[#This Row],['# of Permanent House Under Construction]])","v":60},{"$f":"VLOOKUP(Table_Shelter[[#This Row],[Camp Name]],'Camp List'!N$5:O$400,2,0)","v":"MMR001CMP014"},{"$f":"VLOOKUP(Table_Shelter[[#This Row],[Camp Name]],'Camp List'!N$5:Z$395,14,0)","v":{"$error":"#REF!"}},null,null,{"$f":"MATCH(Table_Shelter[[#This Row],['# of Temporary Shelter Units Built]],Table_Shelter[[#This Row],[HH Covered]])","v":1}]
["31.12.2012","UNHCR","KBC","Kachin","Waingmaw","Maina Lawang Baptist Church",1,null,null,30,30,null,null,null,null,{"$f":"Table_Shelter[[#This Row],[HH per Shelter]]*(Table_Shelter[[#This Row],['# of Temporary Shelter Units Built]]+Table_Shelter[[#This Row],['# of Temporary Shelter Under Construction]]+Table_Shelter[[#This Row],['# of Permanent House Built]]+Table_Shelter[[#This Row],['# of Permanent House Under Construction]])","v":30},{"$f":"VLOOKUP(Table_Shelter[[#This Row],[Camp Name]],'Camp List'!N$5:O$400,2,0)","v":"MMR001CMP039"},{"$f":"VLOOKUP(Table_Shelter[[#This Row],[Camp Name]],'Camp List'!N$5:Z$395,14,0)","v":{"$error":"#REF!"}},null,null,{"$f":"MATCH(Table_Shelter[[#This Row],['# of Temporary Shelter Units Built]],Table_Shelter[[#This Row],[HH Covered]])","v":1}]
["31.12.2012","UNHCR","KBC","Kachin","Waingmaw","Waingmaw Baptist Zonal Office",1,null,null,10,10,null,null,null,null,{"$f":"Table_Shelter[[#This Row],[HH per Shelter]]*(Table_Shelter[[#This Row],['# of Temporary Shelter Units Built]]+Table_Shelter[[#This Row],['# of Temporary Shelter Under Construction]]+Table_Shelter[[#This Row],['# of Permanent House Built]]+Table_Shelter[[#This Row],['# of Permanent House Under Construction]])","v":10},{"$f":"VLOOKUP(Table_Shelter[[#This Row],[Camp Name]],'Camp List'!N$5:O$400,2,0)","v":"MMR001CMP036"},{"$f":"VLOOKUP(Table_Shelter[[#This Row],[Camp Name]],'Camp List'!N$5:Z$395,14,0)","v":{"$error":"#REF!"}},null,null,{"$f":"MATCH(Table_Shelter[[#This Row],['# of Temporary Shelter Units Built]],Table_Shelter[[#This Row],[HH Covered]])","v":1}]
["31.12.2012","UNHCR","KBC","Kachin","Waingmaw","Qtr. 2 Myoma Baptist Church",1,null,null,10,10,null,null,null,null,{"$f":"Table_Shelter[[#This Row],[HH per Shelter]]*(Table_Shelter[[#This Row],['# of Temporary Shelter Units Built]]+Table_Shelter[[#This Row],['# of Temporary Shelter Under Construction]]+Table_Shelter[[#This Row],['# of Permanent House Built]]+Table_Shelter[[#This Row],['# of Permanent House Under Construction]])","v":10},{"$f":"VLOOKUP(Table_Shelter[[#This Row],[Camp Name]],'Camp List'!N$5:O$400,2,0)","v":"MMR001CMP025"},{"$f":"VLOOKUP(Table_Shelter[[#This Row],[Camp Name]],'Camp List'!N$5:Z$395,14,0)","v":{"$error":"#REF!"}},null,null,{"$f":"MATCH(Table_Shelter[[#This Row],['# of Temporary Shelter Units Built]],Table_Shelter[[#This Row],[HH Covered]])","v":1}]
["31.12.2012","UNHCR","KBC","Kachin","Waingmaw","Maina KBC (Bawng Ring)",1,null,null,400,400,null,null,null,null,{"$f":"Table_Shelter[[#This Row],[HH per Shelter]]*(Table_Shelter[[#This Row],['# of Temporary Shelter Units Built]]+Table_Shelter[[#This Row],['# of Temporary Shelter Under Construction]]+Table_Shelter[[#This Row],['# of Permanent House Built]]+Table_Shelter[[#This Row],['# of Permanent House Under Construction]])","v":400},{"$f":"VLOOKUP(Table_Shelter[[#This Row],[Camp Name]],'Camp List'!N$5:O$400,2,0)","v":"MMR001CMP040"},{"$f":"VLOOKUP(Table_Shelter[[#This Row],[Camp Name]],'Camp List'!N$5:Z$395,14,0)","v":{"$error":"#REF!"}},null,null,{"$f":"MATCH(Table_Shelter[[#This Row],['# of Temporary Shelter Units Built]],Table_Shelter[[#This Row],[HH Covered]])","v":1}]
["31.12.2012","UNHCR","KBC","Kachin","Waingmaw","Zai Awng / Mung Ga Zup",1,null,null,325,325,null,null,null,null,{"$f":"Table_Shelter[[#This Row],[HH per Shelter]]*(Table_Shelter[[#This Row],['# of Temporary Shelter Units Built]]+Table_Shelter[[#This Row],['# of Temporary Shelter Under Construction]]+Table_Shelter[[#This Row],['# of Permanent House Built]]+Table_Shelter[[#This Row],['# of Permanent House Under Construction]])","v":325},{"$f":"VLOOKUP(Table_Shelter[[#This Row],[Camp Name]],'Camp List'!N$5:O$400,2,0)","v":"MMR001CMP111"},{"$f":"VLOOKUP(Table_Shelter[[#This Row],[Camp Name]],'Camp List'!N$5:Z$395,14,0)","v":{"$error":"#REF!"}},null,null,{"$f":"MATCH(Table_Shelter[[#This Row],['# of Temporary Shelter Units Built]],Table_Shelter[[#This Row],[HH Covered]])","v":1}]
["31.12.2012","UNHCR","KBC","Kachin","Waingmaw","Pajau / Jan Mai",1,null,null,35,35,null,null,null,null,{"$f":"Table_Shelter[[#This Row],[HH per Shelter]]*(Table_Shelter[[#This Row],['# of Temporary Shelter Units Built]]+Table_Shelter[[#This Row],['# of Temporary Shelter Under Construction]]+Table_Shelter[[#This Row],['# of Permanent House Built]]+Table_Shelter[[#This Row],['# of Permanent House Under Construction]])","v":35},{"$f":"VLOOKUP(Table_Shelter[[#This Row],[Camp Name]],'Camp List'!N$5:O$400,2,0)","v":"MMR001CMP120"},{"$f":"VLOOKUP(Table_Shelter[[#This Row],[Camp Name]],'Camp List'!N$5:Z$395,14,0)","v":{"$error":"#REF!"}},null,null,{"$f":"MATCH(Table_Shelter[[#This Row],['# of Temporary Shelter Units Built]],Table_Shelter[[#This Row],[HH Covered]])","v":1}]
["31.12.2012","UNHCR","KBC","Kachin","Waingmaw","Shing Jai",1,null,null,170,170,null,null,null,null,{"$f":"Table_Shelter[[#This Row],[HH per Shelter]]*(Table_Shelter[[#This Row],['# of Temporary Shelter Units Built]]+Table_Shelter[[#This Row],['# of Temporary Shelter Under Construction]]+Table_Shelter[[#This Row],['# of Permanent House Built]]+Table_Shelter[[#This Row],['# of Permanent House Under Construction]])","v":170},{"$f":"VLOOKUP(Table_Shelter[[#This Row],[Camp Name]],'Camp List'!N$5:O$400,2,0)","v":"MMR001CMP041"},{"$f":"VLOOKUP(Table_Shelter[[#This Row],[Camp Name]],'Camp List'!N$5:Z$395,14,0)","v":{"$error":"#REF!"}},null,null,{"$f":"MATCH(Table_Shelter[[#This Row],['# of Temporary Shelter Units Built]],Table_Shelter[[#This Row],[HH Covered]])","v":1}]
["31.12.2012","UNHCR","KBC","Kachin","Mansi","Man Wing Baptist Church",1,null,null,0,0,null,null,null,null,{"$f":"Table_Shelter[[#This Row],[HH per Shelter]]*(Table_Shelter[[#This Row],['# of Temporary Shelter Units Built]]+Table_Shelter[[#This Row],['# of Temporary Shelter Under Construction]]+Table_Shelter[[#This Row],['# of Permanent House Built]]+Table_Shelter[[#This Row],['# of Permanent House Under Construction]])","v":0},{"$f":"VLOOKUP(Table_Shelter[[#This Row],[Camp Name]],'Camp List'!N$5:O$400,2,0)","v":"MMR001CMP133"},{"$f":"VLOOKUP(Table_Shelter[[#This Row],[Camp Name]],'Camp List'!N$5:Z$395,14,0)","v":{"$error":"#REF!"}},null,null,{"$f":"MATCH(Table_Shelter[[#This Row],['# of Temporary Shelter Units Built]],Table_Shelter[[#This Row],[HH Covered]])","v":1}]
["31.12.2012","UNHCR","KBC","Kachin","Namhkan","Nam Hkam (KBC Jaw Wang)",1,null,null,0,0,null,null,null,null,{"$f":"Table_Shelter[[#This Row],[HH per Shelter]]*(Table_Shelter[[#This Row],['# of Temporary Shelter Units Built]]+Table_Shelter[[#This Row],['# of Temporary Shelter Under Construction]]+Table_Shelter[[#This Row],['# of Permanent House Built]]+Table_Shelter[[#This Row],['# of Permanent House Under Construction]])","v":0},{"$f":"VLOOKUP(Table_Shelter[[#This Row],[Camp Name]],'Camp List'!N$5:O$400,2,0)","v":"MMR015CMP001"},{"$f":"VLOOKUP(Table_Shelter[[#This Row],[Camp Name]],'Camp List'!N$5:Z$395,14,0)","v":{"$error":"#REF!"}},null,null,{"$f":"MATCH(Table_Shelter[[#This Row],['# of Temporary Shelter Units Built]],Table_Shelter[[#This Row],[HH Covered]])","v":1}]
["31.12.2012","UNHCR","KBC","Kachin","Namtu","Nam Tu",1,null,null,10,10,null,null,null,null,{"$f":"Table_Shelter[[#This Row],[HH per Shelter]]*(Table_Shelter[[#This Row],['# of Temporary Shelter Units Built]]+Table_Shelter[[#This Row],['# of Temporary Shelter Under Construction]]+Table_Shelter[[#This Row],['# of Permanent House Built]]+Table_Shelter[[#This Row],['# of Permanent House Under Construction]])","v":10},{"$f":"VLOOKUP(Table_Shelter[[#This Row],[Camp Name]],'Camp List'!N$5:O$400,2,0)","v":{"$error":"#N/A"}},{"$f":"VLOOKUP(Table_Shelter[[#This Row],[Camp Name]],'Camp List'!N$5:Z$395,14,0)","v":{"$error":"#N/A"}},null,null,{"$f":"MATCH(Table_Shelter[[#This Row],['# of Temporary Shelter Units Built]],Table_Shelter[[#This Row],[HH Covered]])","v":1}]
["31.12.2012","UNHCR","KBC","Kachin","Namhkan","Nam Hkam - Nay Win Ni (Palawng)",1,null,null,20,20,null,null,null,null,{"$f":"Table_Shelter[[#This Row],[HH per Shelter]]*(Table_Shelter[[#This Row],['# of Temporary Shelter Units Built]]+Table_Shelter[[#This Row],['# of Temporary Shelter Under Construction]]+Table_Shelter[[#This Row],['# of Permanent House Built]]+Table_Shelter[[#This Row],['# of Permanent House Under Construction]])","v":20},{"$f":"VLOOKUP(Table_Shelter[[#This Row],[Camp Name]],'Camp List'!N$5:O$400,2,0)","v":"MMR015CMP004"},{"$f":"VLOOKUP(Table_Shelter[[#This Row],[Camp Name]],'Camp List'!N$5:Z$395,14,0)","v":{"$error":"#REF!"}},null,null,{"$f":"MATCH(Table_Shelter[[#This Row],['# of Temporary Shelter Units Built]],Table_Shelter[[#This Row],[HH Covered]])","v":1}]
["31.12.2012","UNHCR","KBC","Kachin","Myitkyina","Du Kahtawng Qtr. 4",1,null,null,0,0,null,null,null,null,{"$f":"Table_Shelter[[#This Row],[HH per Shelter]]*(Table_Shelter[[#This Row],['# of Temporary Shelter Units Built]]+Table_Shelter[[#This Row],['# of Temporary Shelter Under Construction]]+Table_Shelter[[#This Row],['# of Permanent House Built]]+Table_Shelter[[#This Row],['# of Permanent House Under Construction]])","v":0},{"$f":"VLOOKUP(Table_Shelter[[#This Row],[Camp Name]],'Camp List'!N$5:O$400,2,0)","v":"MMR001CMP010"},{"$f":"VLOOKUP(Table_Shelter[[#This Row],[Camp Name]],'Camp List'!N$5:Z$395,14,0)","v":{"$error":"#REF!"}},null,null,{"$f":"MATCH(Table_Shelter[[#This Row],['# of Temporary Shelter Units Built]],Table_Shelter[[#This Row],[HH Covered]])","v":1}]
["31.12.2012","UNHCR","KBC","Kachin","Myitkyina","Du Kahtawng Qtr. 5",1,null,null,0,0,null,null,null,null,{"$f":"Table_Shelter[[#This Row],[HH per Shelter]]*(Table_Shelter[[#This Row],['# of Temporary Shelter Units Built]]+Table_Shelter[[#This Row],['# of Temporary Shelter Under Construction]]+Table_Shelter[[#This Row],['# of Permanent House Built]]+Table_Shelter[[#This Row],['# of Permanent House Under Construction]])","v":0},{"$f":"VLOOKUP(Table_Shelter[[#This Row],[Camp Name]],'Camp List'!N$5:O$400,2,0)","v":"MMR001CMP011"},{"$f":"VLOOKUP(Table_Shelter[[#This Row],[Camp Name]],'Camp List'!N$5:Z$395,14,0)","v":{"$error":"#REF!"}},null,null,{"$f":"MATCH(Table_Shelter[[#This Row],['# of Temporary Shelter Units Built]],Table_Shelter[[#This Row],[HH Covered]])","v":1}]
["31.12.2012","UNHCR","KBC","Kachin","Myitkyina","Du Kahtawng Qtr. 14",1,null,null,0,0,null,null,null,null,{"$f":"Table_Shelter[[#This Row],[HH per Shelter]]*(Table_Shelter[[#This Row],['# of Temporary Shelter Units Built]]+Table_Shelter[[#This Row],['# of Temporary Shelter Under Construction]]+Table_Shelter[[#This Row],['# of Permanent House Built]]+Table_Shelter[[#This Row],['# of Permanent House Under Construction]])","v":0},{"$f":"VLOOKUP(Table_Shelter[[#This Row],[Camp Name]],'Camp List'!N$5:O$400,2,0)","v":"MMR001CMP012"},{"$f":"VLOOKUP(Table_Shelter[[#This Row],[Camp Name]],'Camp List'!N$5:Z$395,14,0)","v":{"$error":"#REF!"}},null,null,{"$f":"MATCH(Table_Shelter[[#This Row],['# of Temporary Shelter Units Built]],Table_Shelter[[#This Row],[HH Covered]])","v":1}]
["31.12.2012","UNHCR","KBC","Kachin","Mogaung","Kyun Taw Baptist Church ",1,null,null,15,15,null,null,null,null,{"$f":"Table_Shelter[[#This Row],[HH per Shelter]]*(Table_Shelter[[#This Row],['# of Temporary Shelter Units Built]]+Table_Shelter[[#This Row],['# of Temporary Shelter Under Construction]]+Table_Shelter[[#This Row],['# of Permanent House Built]]+Table_Shelter[[#This Row],['# of Permanent House Under Construction]])","v":15},{"$f":"VLOOKUP(Table_Shelter[[#This Row],[Camp Name]],'Camp List'!N$5:O$400,2,0)","v":"MMR001CMP078"},{"$f":"VLOOKUP(Table_Shelter[[#This Row],[Camp Name]],'Camp List'!N$5:Z$395,14,0)","v":{"$error":"#REF!"}},null,null,{"$f":"MATCH(Table_Shelter[[#This Row],['# of Temporary Shelter Units Built]],Table_Shelter[[#This Row],[HH Covered]])","v":1}]
["31.12.2012","UNHCR","KBC","Kachin","Mogaung","Mang Hawng Baptist Church",1,null,null,10,10,null,null,null,null,{"$f":"Table_Shelter[[#This Row],[HH per Shelter]]*(Table_Shelter[[#This Row],['# of Temporary Shelter Units Built]]+Table_Shelter[[#This Row],['# of Temporary Shelter Under Construction]]+Table_Shelter[[#This Row],['# of Permanent House Built]]+Table_Shelter[[#This Row],['# of Permanent House Under Construction]])","v":10},{"$f":"VLOOKUP(Table_Shelter[[#This Row],[Camp Name]],'Camp List'!N$5:O$400,2,0)","v":"MMR001CMP077"},{"$f":"VLOOKUP(Table_Shelter[[#This Row],[Camp Name]],'Camp List'!N$5:Z$395,14,0)","v":{"$error":"#REF!"}},null,null,{"$f":"MATCH(Table_Shelter[[#This Row],['# of Temporary Shelter Units Built]],Table_Shelter[[#This Row],[HH Covered]])","v":1}]
["31.12.2012","UNHCR","KBC","Kachin","Mogaung","Nat Gyi Kone Baptist Church ",1,null,null,15,15,null,null,null,null,{"$f":"Table_Shelter[[#This Row],[HH per Shelter]]*(Table_Shelter[[#This Row],['# of Temporary Shelter Units Built]]+Table_Shelter[[#This Row],['# of Temporary Shelter Under Construction]]+Table_Shelter[[#This Row],['# of Permanent House Built]]+Table_Shelter[[#This Row],['# of Permanent House Under Construction]])","v":15},{"$f":"VLOOKUP(Table_Shelter[[#This Row],[Camp Name]],'Camp List'!N$5:O$400,2,0)","v":"MMR001CMP079"},{"$f":"VLOOKUP(Table_Shelter[[#This Row],[Camp Name]],'Camp List'!N$5:Z$395,14,0)","v":{"$error":"#REF!"}},null,null,{"$f":"MATCH(Table_Shelter[[#This Row],['# of Temporary Shelter Units Built]],Table_Shelter[[#This Row],[HH Covered]])","v":1}]
["31.12.2012","UNHCR","KBC","Kachin","Mohnyin","Nawng Ing (Indawgyi) Baptist Church  ",1,null,null,20,20,null,null,null,null,{"$f":"Table_Shelter[[#This Row],[HH per Shelter]]*(Table_Shelter[[#This Row],['# of Temporary Shelter Units Built]]+Table_Shelter[[#This Row],['# of Temporary Shelter Under Construction]]+Table_Shelter[[#This Row],['# of Permanent House Built]]+Table_Shelter[[#This Row],['# of Permanent House Under Construction]])","v":20},{"$f":"VLOOKUP(Table_Shelter[[#This Row],[Camp Name]],'Camp List'!N$5:O$400,2,0)","v":"MMR001CMP152"},{"$f":"VLOOKUP(Table_Shelter[[#This Row],[Camp Name]],'Camp List'!N$5:Z$395,14,0)","v":{"$error":"#REF!"}},null,null,{"$f":"MATCH(Table_Shelter[[#This Row],['# of Temporary Shelter Units Built]],Table_Shelter[[#This Row],[HH Covered]])","v":1}]
["31.12.2012","UNHCR","KMSS","Kachin","Myitkyina","Jan Mai Kawng Catholic Church",1,null,null,20,20,null,null,null,null,{"$f":"Table_Shelter[[#This Row],[HH per Shelter]]*(Table_Shelter[[#This Row],['# of Temporary Shelter Units Built]]+Table_Shelter[[#This Row],['# of Temporary Shelter Under Construction]]+Table_Shelter[[#This Row],['# of Permanent House Built]]+Table_Shelter[[#This Row],['# of Permanent House Under Construction]])","v":20},{"$f":"VLOOKUP(Table_Shelter[[#This Row],[Camp Name]],'Camp List'!N$5:O$400,2,0)","v":"MMR001CMP019"},{"$f":"VLOOKUP(Table_Shelter[[#This Row],[Camp Name]],'Camp List'!N$5:Z$395,14,0)","v":{"$error":"#REF!"}},null,null,{"$f":"MATCH(Table_Shelter[[#This Row],['# of Temporary Shelter Units Built]],Table_Shelter[[#This Row],[HH Covered]])","v":1}]
["31.12.2012","UNHCR","KMSS","Kachin","Myitkyina","Nong Pong Camp",1,null,null,21,21,null,null,null,null,{"$f":"Table_Shelter[[#This Row],[HH per Shelter]]*(Table_Shelter[[#This Row],['# of Temporary Shelter Units Built]]+Table_Shelter[[#This Row],['# of Temporary Shelter Under Construction]]+Table_Shelter[[#This Row],['# of Permanent House Built]]+Table_Shelter[[#This Row],['# of Permanent House Under Construction]])","v":21},{"$f":"VLOOKUP(Table_Shelter[[#This Row],[Camp Name]],'Camp List'!N$5:O$400,2,0)","v":{"$error":"#N/A"}},{"$f":"VLOOKUP(Table_Shelter[[#This Row],[Camp Name]],'Camp List'!N$5:Z$395,14,0)","v":{"$error":"#N/A"}},null,null,{"$f":"MATCH(Table_Shelter[[#This Row],['# of Temporary Shelter Units Built]],Table_Shelter[[#This Row],[HH Covered]])","v":1}]
["31.12.2012","UNHCR","KMSS","Kachin","Waingmaw","Maina Catholic Church (St. Joseph)",1,null,null,58,58,null,null,null,null,{"$f":"Table_Shelter[[#This Row],[HH per Shelter]]*(Table_Shelter[[#This Row],['# of Temporary Shelter Units Built]]+Table_Shelter[[#This Row],['# of Temporary Shelter Under Construction]]+Table_Shelter[[#This Row],['# of Permanent House Built]]+Table_Shelter[[#This Row],['# of Permanent House Under Construction]])","v":58},{"$f":"VLOOKUP(Table_Shelter[[#This Row],[Camp Name]],'Camp List'!N$5:O$400,2,0)","v":"MMR001CMP029"},{"$f":"VLOOKUP(Table_Shelter[[#This Row],[Camp Name]],'Camp List'!N$5:Z$395,14,0)","v":{"$error":"#REF!"}},null,null,{"$f":"MATCH(Table_Shelter[[#This Row],['# of Temporary Shelter Units Built]],Table_Shelter[[#This Row],[HH Covered]])","v":1}]
["31.12.2012","UNHCR","KMSS","Kachin","Waingmaw","Border Post 8",1,null,null,237,237,null,null,null,null,{"$f":"Table_Shelter[[#This Row],[HH per Shelter]]*(Table_Shelter[[#This Row],['# of Temporary Shelter Units Built]]+Table_Shelter[[#This Row],['# of Temporary Shelter Under Construction]]+Table_Shelter[[#This Row],['# of Permanent House Built]]+Table_Shelter[[#This Row],['# of Permanent House Under Construction]])","v":237},{"$f":"VLOOKUP(Table_Shelter[[#This Row],[Camp Name]],'Camp List'!N$5:O$400,2,0)","v":"MMR001CMP113"},{"$f":"VLOOKUP(Table_Shelter[[#This Row],[Camp Name]],'Camp List'!N$5:Z$395,14,0)","v":{"$error":"#REF!"}},null,null,{"$f":"MATCH(Table_Shelter[[#This Row],['# of Temporary Shelter Units Built]],Table_Shelter[[#This Row],[HH Covered]])","v":1}]
["31.12.2012","UNHCR","KMSS","Kachin","Waingmaw","Post 6 Camp",1,null,null,0,0,null,null,null,null,{"$f":"Table_Shelter[[#This Row],[HH per Shelter]]*(Table_Shelter[[#This Row],['# of Temporary Shelter Units Built]]+Table_Shelter[[#This Row],['# of Temporary Shelter Under Construction]]+Table_Shelter[[#This Row],['# of Permanent House Built]]+Table_Shelter[[#This Row],['# of Permanent House Under Construction]])","v":0},{"$f":"VLOOKUP(Table_Shelter[[#This Row],[Camp Name]],'Camp List'!N$5:O$400,2,0)","v":"MMR001CMP160"},{"$f":"VLOOKUP(Table_Shelter[[#This Row],[Camp Name]],'Camp List'!N$5:Z$395,14,0)","v":{"$error":"#REF!"}},null,null,{"$f":"MATCH(Table_Shelter[[#This Row],['# of Temporary Shelter Units Built]],Table_Shelter[[#This Row],[HH Covered]])","v":1}]
["31.12.2012","UNHCR","KMSS","Kachin","Momauk","Dum Bung ",1,null,null,123,123,null,null,null,null,{"$f":"Table_Shelter[[#This Row],[HH per Shelter]]*(Table_Shelter[[#This Row],['# of Temporary Shelter Units Built]]+Table_Shelter[[#This Row],['# of Temporary Shelter Under Construction]]+Table_Shelter[[#This Row],['# of Permanent House Built]]+Table_Shelter[[#This Row],['# of Permanent House Under Construction]])","v":123},{"$f":"VLOOKUP(Table_Shelter[[#This Row],[Camp Name]],'Camp List'!N$5:O$400,2,0)","v":"MMR001CMP123"},{"$f":"VLOOKUP(Table_Shelter[[#This Row],[Camp Name]],'Camp List'!N$5:Z$395,14,0)","v":{"$error":"#REF!"}},null,null,{"$f":"MATCH(Table_Shelter[[#This Row],['# of Temporary Shelter Units Built]],Table_Shelter[[#This Row],[HH Covered]])","v":1}]
["31.12.2012","UNHCR","Shalom","Kachin","Myitkyina","Wun Tho Buddhist Monastery",1,null,null,24,24,null,null,null,null,{"$f":"Table_Shelter[[#This Row],[HH per Shelter]]*(Table_Shelter[[#This Row],['# of Temporary Shelter Units Built]]+Table_Shelter[[#This Row],['# of Temporary Shelter Under Construction]]+Table_Shelter[[#This Row],['# of Permanent House Built]]+Table_Shelter[[#This Row],['# of Permanent House Under Construction]])","v":24},{"$f":"VLOOKUP(Table_Shelter[[#This Row],[Camp Name]],'Camp List'!N$5:O$400,2,0)","v":"MMR001CMP022"},{"$f":"VLOOKUP(Table_Shelter[[#This Row],[Camp Name]],'Camp List'!N$5:Z$395,14,0)","v":{"$error":"#REF!"}},null,null,{"$f":"MATCH(Table_Shelter[[#This Row],['# of Temporary Shelter Units Built]],Table_Shelter[[#This Row],[HH Covered]])","v":1}]
["31.12.2012","UNHCR","Shalom","Kachin","Myitkyina","Tat Kone COC Baptist / Tat Kone Htoi San",1,null,null,20,20,null,null,null,null,{"$f":"Table_Shelter[[#This Row],[HH per Shelter]]*(Table_Shelter[[#This Row],['# of Temporary Shelter Units Built]]+Table_Shelter[[#This Row],['# of Temporary Shelter Under Construction]]+Table_Shelter[[#This Row],['# of Permanent House Built]]+Table_Shelter[[#This Row],['# of Permanent House Under Construction]])","v":20},{"$f":"VLOOKUP(Table_Shelter[[#This Row],[Camp Name]],'Camp List'!N$5:O$400,2,0)","v":"MMR001CMP023"},{"$f":"VLOOKUP(Table_Shelter[[#This Row],[Camp Name]],'Camp List'!N$5:Z$395,14,0)","v":{"$error":"#REF!"}},null,null,{"$f":"MATCH(Table_Shelter[[#This Row],['# of Temporary Shelter Units Built]],Table_Shelter[[#This Row],[HH Covered]])","v":1}]
["31.12.2012","UNHCR","Shalom","Kachin","Myitkyina","Tat Kone San Pya Baptist Church",1,null,null,5,5,null,null,null,null,{"$f":"Table_Shelter[[#This Row],[HH per Shelter]]*(Table_Shelter[[#This Row],['# of Temporary Shelter Units Built]]+Table_Shelter[[#This Row],['# of Temporary Shelter Under Construction]]+Table_Shelter[[#This Row],['# of Permanent House Built]]+Table_Shelter[[#This Row],['# of Permanent House Under Construction]])","v":5},{"$f":"VLOOKUP(Table_Shelter[[#This Row],[Camp Name]],'Camp List'!N$5:O$400,2,0)","v":"MMR001CMP005"},{"$f":"VLOOKUP(Table_Shelter[[#This Row],[Camp Name]],'Camp List'!N$5:Z$395,14,0)","v":{"$error":"#REF!"}},null,null,{"$f":"MATCH(Table_Shelter[[#This Row],['# of Temporary Shelter Units Built]],Table_Shelter[[#This Row],[HH Covered]])","v":1}]
["31.12.2012","UNHCR","Shalom","Kachin","Myitkyina","Maw Hpawng Lhaovo Baptist Church",1,null,null,19,19,null,null,null,null,{"$f":"Table_Shelter[[#This Row],[HH per Shelter]]*(Table_Shelter[[#This Row],['# of Temporary Shelter Units Built]]+Table_Shelter[[#This Row],['# of Temporary Shelter Under Construction]]+Table_Shelter[[#This Row],['# of Permanent House Built]]+Table_Shelter[[#This Row],['# of Permanent House Under Construction]])","v":19},{"$f":"VLOOKUP(Table_Shelter[[#This Row],[Camp Name]],'Camp List'!N$5:O$400,2,0)","v":"MMR001CMP021"},{"$f":"VLOOKUP(Table_Shelter[[#This Row],[Camp Name]],'Camp List'!N$5:Z$395,14,0)","v":{"$error":"#REF!"}},null,null,{"$f":"MATCH(Table_Shelter[[#This Row],['# of Temporary Shelter Units Built]],Table_Shelter[[#This Row],[HH Covered]])","v":1}]
["31.12.2012","UNHCR","Shalom","Kachin","Myitkyina","Maw Hpawng Hka Nan Baptist Church",1,null,null,11,11,null,null,null,null,{"$f":"Table_Shelter[[#This Row],[HH per Shelter]]*(Table_Shelter[[#This Row],['# of Temporary Shelter Units Built]]+Table_Shelter[[#This Row],['# of Temporary Shelter Under Construction]]+Table_Shelter[[#This Row],['# of Permanent House Built]]+Table_Shelter[[#This Row],['# of Permanent House Under Construction]])","v":11},{"$f":"VLOOKUP(Table_Shelter[[#This Row],[Camp Name]],'Camp List'!N$5:O$400,2,0)","v":"MMR001CMP020"},{"$f":"VLOOKUP(Table_Shelter[[#This Row],[Camp Name]],'Camp List'!N$5:Z$395,14,0)","v":{"$error":"#REF!"}},null,null,{"$f":"MATCH(Table_Shelter[[#This Row],['# of Temporary Shelter Units Built]],Table_Shelter[[#This Row],[HH Covered]])","v":1}]
["31.12.2012","UNHCR","Shalom","Kachin","Waingmaw","Maina AG Church",1,null,null,54,54,null,null,null,null,{"$f":"Table_Shelter[[#This Row],[HH per Shelter]]*(Table_Shelter[[#This Row],['# of Temporary Shelter Units Built]]+Table_Shelter[[#This Row],['# of Temporary Shelter Under Construction]]+Table_Shelter[[#This Row],['# of Permanent House Built]]+Table_Shelter[[#This Row],['# of Permanent House Under Construction]])","v":54},{"$f":"VLOOKUP(Table_Shelter[[#This Row],[Camp Name]],'Camp List'!N$5:O$400,2,0)","v":"MMR001CMP031"},{"$f":"VLOOKUP(Table_Shelter[[#This Row],[Camp Name]],'Camp List'!N$5:Z$395,14,0)","v":{"$error":"#REF!"}},null,null,{"$f":"MATCH(Table_Shelter[[#This Row],['# of Temporary Shelter Units Built]],Table_Shelter[[#This Row],[HH Covered]])","v":1}]
["31.12.2012","UNHCR","Shalom","Kachin","Waingmaw","Qtr. 4 Monestry (Thargaya Thayett Taw)",1,null,null,100,100,null,null,null,null,{"$f":"Table_Shelter[[#This Row],[HH per Shelter]]*(Table_Shelter[[#This Row],['# of Temporary Shelter Units Built]]+Table_Shelter[[#This Row],['# of Temporary Shelter Under Construction]]+Table_Shelter[[#This Row],['# of Permanent House Built]]+Table_Shelter[[#This Row],['# of Permanent House Under Construction]])","v":100},{"$f":"VLOOKUP(Table_Shelter[[#This Row],[Camp Name]],'Camp List'!N$5:O$400,2,0)","v":"MMR001CMP026"},{"$f":"VLOOKUP(Table_Shelter[[#This Row],[Camp Name]],'Camp List'!N$5:Z$395,14,0)","v":{"$error":"#REF!"}},null,null,{"$f":"MATCH(Table_Shelter[[#This Row],['# of Temporary Shelter Units Built]],Table_Shelter[[#This Row],[HH Covered]])","v":1}]
["31.12.2012","UNHCR","Shalom","Kachin","Waingmaw","Thargaya Lisu Baptist Church",1,null,null,27,27,null,null,null,null,{"$f":"Table_Shelter[[#This Row],[HH per Shelter]]*(Table_Shelter[[#This Row],['# of Temporary Shelter Units Built]]+Table_Shelter[[#This Row],['# of Temporary Shelter Under Construction]]+Table_Shelter[[#This Row],['# of Permanent House Built]]+Table_Shelter[[#This Row],['# of Permanent House Under Construction]])","v":27},{"$f":"VLOOKUP(Table_Shelter[[#This Row],[Camp Name]],'Camp List'!N$5:O$400,2,0)","v":"MMR001CMP037"},{"$f":"VLOOKUP(Table_Shelter[[#This Row],[Camp Name]],'Camp List'!N$5:Z$395,14,0)","v":{"$error":"#REF!"}},null,null,{"$f":"MATCH(Table_Shelter[[#This Row],['# of Temporary Shelter Units Built]],Table_Shelter[[#This Row],[HH Covered]])","v":1}]
["31.12.2012","UNHCR","Shalom","Kachin","Waingmaw","Hkat Cho ",1,null,null,50,50,null,null,null,null,{"$f":"Table_Shelter[[#This Row],[HH per Shelter]]*(Table_Shelter[[#This Row],['# of Temporary Shelter Units Built]]+Table_Shelter[[#This Row],['# of Temporary Shelter Under Construction]]+Table_Shelter[[#This Row],['# of Permanent House Built]]+Table_Shelter[[#This Row],['# of Permanent House Under Construction]])","v":50},{"$f":"VLOOKUP(Table_Shelter[[#This Row],[Camp Name]],'Camp List'!N$5:O$400,2,0)","v":"MMR001CMP028"},{"$f":"VLOOKUP(Table_Shelter[[#This Row],[Camp Name]],'Camp List'!N$5:Z$395,14,0)","v":{"$error":"#REF!"}},null,null,{"$f":"MATCH(Table_Shelter[[#This Row],['# of Temporary Shelter Units Built]],Table_Shelter[[#This Row],[HH Covered]])","v":1}]
["31.12.2012","UNHCR","Shalom","Kachin","Waingmaw","Qtr. 3 Mu-yin  Baptist Church",1,null,null,12,12,null,null,null,null,{"$f":"Table_Shelter[[#This Row],[HH per Shelter]]*(Table_Shelter[[#This Row],['# of Temporary Shelter Units Built]]+Table_Shelter[[#This Row],['# of Temporary Shelter Under Construction]]+Table_Shelter[[#This Row],['# of Permanent House Built]]+Table_Shelter[[#This Row],['# of Permanent House Under Construction]])","v":12},{"$f":"VLOOKUP(Table_Shelter[[#This Row],[Camp Name]],'Camp List'!N$5:O$400,2,0)","v":"MMR001CMP030"},{"$f":"VLOOKUP(Table_Shelter[[#This Row],[Camp Name]],'Camp List'!N$5:Z$395,14,0)","v":{"$error":"#REF!"}},null,null,{"$f":"MATCH(Table_Shelter[[#This Row],['# of Temporary Shelter Units Built]],Table_Shelter[[#This Row],[HH Covered]])","v":1}]
["31.12.2012","UNHCR","Shalom","Kachin","Waingmaw","Waingmaw AG Church",1,null,null,28,28,null,null,null,null,{"$f":"Table_Shelter[[#This Row],[HH per Shelter]]*(Table_Shelter[[#This Row],['# of Temporary Shelter Units Built]]+Table_Shelter[[#This Row],['# of Temporary Shelter Under Construction]]+Table_Shelter[[#This Row],['# of Permanent House Built]]+Table_Shelter[[#This Row],['# of Permanent House Under Construction]])","v":28},{"$f":"VLOOKUP(Table_Shelter[[#This Row],[Camp Name]],'Camp List'!N$5:O$400,2,0)","v":"MMR001CMP038"},{"$f":"VLOOKUP(Table_Shelter[[#This Row],[Camp Name]],'Camp List'!N$5:Z$395,14,0)","v":{"$error":"#REF!"}},null,null,{"$f":"MATCH(Table_Shelter[[#This Row],['# of Temporary Shelter Units Built]],Table_Shelter[[#This Row],[HH Covered]])","v":1}]
["31.12.2012","UNHCR","Shalom","Kachin","Waingmaw","Qtr. 2 Lhaovo Baptist Church",1,null,null,45,45,null,null,null,null,{"$f":"Table_Shelter[[#This Row],[HH per Shelter]]*(Table_Shelter[[#This Row],['# of Temporary Shelter Units Built]]+Table_Shelter[[#This Row],['# of Temporary Shelter Under Construction]]+Table_Shelter[[#This Row],['# of Permanent House Built]]+Table_Shelter[[#This Row],['# of Permanent House Under Construction]])","v":45},{"$f":"VLOOKUP(Table_Shelter[[#This Row],[Camp Name]],'Camp List'!N$5:O$400,2,0)","v":"MMR001CMP032"},{"$f":"VLOOKUP(Table_Shelter[[#This Row],[Camp Name]],'Camp List'!N$5:Z$395,14,0)","v":{"$error":"#REF!"}},null,null,{"$f":"MATCH(Table_Shelter[[#This Row],['# of Temporary Shelter Units Built]],Table_Shelter[[#This Row],[HH Covered]])","v":1}]
["31.12.2012","UNHCR","Shalom","Kachin","Waingmaw","Mading Baptist Church",1,null,null,25,25,null,null,null,null,{"$f":"Table_Shelter[[#This Row],[HH per Shelter]]*(Table_Shelter[[#This Row],['# of Temporary Shelter Units Built]]+Table_Shelter[[#This Row],['# of Temporary Shelter Under Construction]]+Table_Shelter[[#This Row],['# of Permanent House Built]]+Table_Shelter[[#This Row],['# of Permanent House Under Construction]])","v":25},{"$f":"VLOOKUP(Table_Shelter[[#This Row],[Camp Name]],'Camp List'!N$5:O$400,2,0)","v":"MMR001CMP027"},{"$f":"VLOOKUP(Table_Shelter[[#This Row],[Camp Name]],'Camp List'!N$5:Z$395,14,0)","v":{"$error":"#REF!"}},null,null,{"$f":"MATCH(Table_Shelter[[#This Row],['# of Temporary Shelter Units Built]],Table_Shelter[[#This Row],[HH Covered]])","v":1}]
["31.12.2012","UNHCR","Shalom","Kachin","Waingmaw","Lhaovao Baptist Church (LBC)",1,null,null,70,70,null,null,null,null,{"$f":"Table_Shelter[[#This Row],[HH per Shelter]]*(Table_Shelter[[#This Row],['# of Temporary Shelter Units Built]]+Table_Shelter[[#This Row],['# of Temporary Shelter Under Construction]]+Table_Shelter[[#This Row],['# of Permanent House Built]]+Table_Shelter[[#This Row],['# of Permanent House Under Construction]])","v":70},{"$f":"VLOOKUP(Table_Shelter[[#This Row],[Camp Name]],'Camp List'!N$5:O$400,2,0)","v":"MMR001CMP195"},{"$f":"VLOOKUP(Table_Shelter[[#This Row],[Camp Name]],'Camp List'!N$5:Z$395,14,0)","v":{"$error":"#REF!"}},null,null,{"$f":"MATCH(Table_Shelter[[#This Row],['# of Temporary Shelter Units Built]],Table_Shelter[[#This Row],[HH Covered]])","v":1}]
["31.12.2012","UNHCR","Shalom","Kachin","Hpakant","Nga Pyaw Taw Baptist Nursery School ",1,null,null,20,20,null,null,null,null,{"$f":"Table_Shelter[[#This Row],[HH per Shelter]]*(Table_Shelter[[#This Row],['# of Temporary Shelter Units Built]]+Table_Shelter[[#This Row],['# of Temporary Shelter Under Construction]]+Table_Shelter[[#This Row],['# of Permanent House Built]]+Table_Shelter[[#This Row],['# of Permanent House Under Construction]])","v":20},{"$f":"VLOOKUP(Table_Shelter[[#This Row],[Camp Name]],'Camp List'!N$5:O$400,2,0)","v":"MMR001CMP082"},{"$f":"VLOOKUP(Table_Shelter[[#This Row],[Camp Name]],'Camp List'!N$5:Z$395,14,0)","v":{"$error":"#REF!"}},null,null,{"$f":"MATCH(Table_Shelter[[#This Row],['# of Temporary Shelter Units Built]],Table_Shelter[[#This Row],[HH Covered]])","v":1}]
["31.12.2012","UNHCR","Shalom","Kachin","Hpakant","Maw Wan, Kachin Baptist Church",1,null,null,10,10,null,null,null,null,{"$f":"Table_Shelter[[#This Row],[HH per Shelter]]*(Table_Shelter[[#This Row],['# of Temporary Shelter Units Built]]+Table_Shelter[[#This Row],['# of Temporary Shelter Under Construction]]+Table_Shelter[[#This Row],['# of Permanent House Built]]+Table_Shelter[[#This Row],['# of Permanent House Under Construction]])","v":10},{"$f":"VLOOKUP(Table_Shelter[[#This Row],[Camp Name]],'Camp List'!N$5:O$400,2,0)","v":"MMR001CMP085"},{"$f":"VLOOKUP(Table_Shelter[[#This Row],[Camp Name]],'Camp List'!N$5:Z$395,14,0)","v":{"$error":"#REF!"}},null,null,{"$f":"MATCH(Table_Shelter[[#This Row],['# of Temporary Shelter Units Built]],Table_Shelter[[#This Row],[HH Covered]])","v":1}]
["31.12.2012","UNHCR","Shalom","Kachin","Hpakant","Mashi Kahtawng Baptist  Church",1,null,null,10,10,null,null,null,null,{"$f":"Table_Shelter[[#This Row],[HH per Shelter]]*(Table_Shelter[[#This Row],['# of Temporary Shelter Units Built]]+Table_Shelter[[#This Row],['# of Temporary Shelter Under Construction]]+Table_Shelter[[#This Row],['# of Permanent House Built]]+Table_Shelter[[#This Row],['# of Permanent House Under Construction]])","v":10},{"$f":"VLOOKUP(Table_Shelter[[#This Row],[Camp Name]],'Camp List'!N$5:O$400,2,0)","v":"MMR001CMP094"},{"$f":"VLOOKUP(Table_Shelter[[#This Row],[Camp Name]],'Camp List'!N$5:Z$395,14,0)","v":{"$error":"#REF!"}},null,null,{"$f":"MATCH(Table_Shelter[[#This Row],['# of Temporary Shelter Units Built]],Table_Shelter[[#This Row],[HH Covered]])","v":1}]
["31.12.2012","UNHCR","Shalom","Kachin","Hpakant","Yumar Baptist Church",1,null,null,10,10,null,null,null,null,{"$f":"Table_Shelter[[#This Row],[HH per Shelter]]*(Table_Shelter[[#This Row],['# of Temporary Shelter Units Built]]+Table_Shelter[[#This Row],['# of Temporary Shelter Under Construction]]+Table_Shelter[[#This Row],['# of Permanent House Built]]+Table_Shelter[[#This Row],['# of Permanent House Under Construction]])","v":10},{"$f":"VLOOKUP(Table_Shelter[[#This Row],[Camp Name]],'Camp List'!N$5:O$400,2,0)","v":"MMR001CMP105"},{"$f":"VLOOKUP(Table_Shelter[[#This Row],[Camp Name]],'Camp List'!N$5:Z$395,14,0)","v":{"$error":"#REF!"}},null,null,{"$f":"MATCH(Table_Shelter[[#This Row],['# of Temporary Shelter Units Built]],Table_Shelter[[#This Row],[HH Covered]])","v":1}]
["31.12.2012","UNHCR","HCR","Kachin","Myitkyina","Shatapru Sut Ngai Tawng",1,null,null,40,40,null,null,null,null,{"$f":"Table_Shelter[[#This Row],[HH per Shelter]]*(Table_Shelter[[#This Row],['# of Temporary Shelter Units Built]]+Table_Shelter[[#This Row],['# of Temporary Shelter Under Construction]]+Table_Shelter[[#This Row],['# of Permanent House Built]]+Table_Shelter[[#This Row],['# of Permanent House Under Construction]])","v":40},{"$f":"VLOOKUP(Table_Shelter[[#This Row],[Camp Name]],'Camp List'!N$5:O$400,2,0)","v":"MMR001CMP006"},{"$f":"VLOOKUP(Table_Shelter[[#This Row],[Camp Name]],'Camp List'!N$5:Z$395,14,0)","v":{"$error":"#REF!"}},null,null,{"$f":"MATCH(Table_Shelter[[#This Row],['# of Temporary Shelter Units Built]],Table_Shelter[[#This Row],[HH Covered]])","v":1}]
["31.12.2012","UNHCR","HCR","Kachin","Myitkyina","Man Hkring Baptist Church",1,null,null,10,10,null,null,null,null,{"$f":"Table_Shelter[[#This Row],[HH per Shelter]]*(Table_Shelter[[#This Row],['# of Temporary Shelter Units Built]]+Table_Shelter[[#This Row],['# of Temporary Shelter Under Construction]]+Table_Shelter[[#This Row],['# of Permanent House Built]]+Table_Shelter[[#This Row],['# of Permanent House Under Construction]])","v":10},{"$f":"VLOOKUP(Table_Shelter[[#This Row],[Camp Name]],'Camp List'!N$5:O$400,2,0)","v":"MMR001CMP008"},{"$f":"VLOOKUP(Table_Shelter[[#This Row],[Camp Name]],'Camp List'!N$5:Z$395,14,0)","v":{"$error":"#REF!"}},null,null,{"$f":"MATCH(Table_Shelter[[#This Row],['# of Temporary Shelter Units Built]],Table_Shelter[[#This Row],[HH Covered]])","v":1}]
["31.12.2012","UNHCR","HCR","Kachin","Myitkyina","Le Kone Ziun Baptist Church ",1,null,null,5,5,null,null,null,null,{"$f":"Table_Shelter[[#This Row],[HH per Shelter]]*(Table_Shelter[[#This Row],['# of Temporary Shelter Units Built]]+Table_Shelter[[#This Row],['# of Temporary Shelter Under Construction]]+Table_Shelter[[#This Row],['# of Permanent House Built]]+Table_Shelter[[#This Row],['# of Permanent House Under Construction]])","v":5},{"$f":"VLOOKUP(Table_Shelter[[#This Row],[Camp Name]],'Camp List'!N$5:O$400,2,0)","v":"MMR001CMP014"},{"$f":"VLOOKUP(Table_Shelter[[#This Row],[Camp Name]],'Camp List'!N$5:Z$395,14,0)","v":{"$error":"#REF!"}},null,null,{"$f":"MATCH(Table_Shelter[[#This Row],['# of Temporary Shelter Units Built]],Table_Shelter[[#This Row],[HH Covered]])","v":1}]
["31.12.2012","UNHCR","HCR","Kachin","Myitkyina","Du Kahtawng Qtr. 4",1,null,null,6,6,null,null,null,null,{"$f":"Table_Shelter[[#This Row],[HH per Shelter]]*(Table_Shelter[[#This Row],['# of Temporary Shelter Units Built]]+Table_Shelter[[#This Row],['# of Temporary Shelter Under Construction]]+Table_Shelter[[#This Row],['# of Permanent House Built]]+Table_Shelter[[#This Row],['# of Permanent House Under Construction]])","v":6},{"$f":"VLOOKUP(Table_Shelter[[#This Row],[Camp Name]],'Camp List'!N$5:O$400,2,0)","v":"MMR001CMP010"},{"$f":"VLOOKUP(Table_Shelter[[#This Row],[Camp Name]],'Camp List'!N$5:Z$395,14,0)","v":{"$error":"#REF!"}},null,null,{"$f":"MATCH(Table_Shelter[[#This Row],['# of Temporary Shelter Units Built]],Table_Shelter[[#This Row],[HH Covered]])","v":1}]
["31.12.2012","UNHCR","HCR","Kachin","Myitkyina","Du Kahtawng Qtr. 5",1,null,null,3,3,null,null,null,null,{"$f":"Table_Shelter[[#This Row],[HH per Shelter]]*(Table_Shelter[[#This Row],['# of Temporary Shelter Units Built]]+Table_Shelter[[#This Row],['# of Temporary Shelter Under Construction]]+Table_Shelter[[#This Row],['# of Permanent House Built]]+Table_Shelter[[#This Row],['# of Permanent House Under Construction]])","v":3},{"$f":"VLOOKUP(Table_Shelter[[#This Row],[Camp Name]],'Camp List'!N$5:O$400,2,0)","v":"MMR001CMP011"},{"$f":"VLOOKUP(Table_Shelter[[#This Row],[Camp Name]],'Camp List'!N$5:Z$395,14,0)","v":{"$error":"#REF!"}},null,null,{"$f":"MATCH(Table_Shelter[[#This Row],['# of Temporary Shelter Units Built]],Table_Shelter[[#This Row],[HH Covered]])","v":1}]
["31.12.2012","UNHCR","HCR","Kachin","Myitkyina","Du Kahtawng Qtr. 14",1,null,null,3,3,null,null,null,null,{"$f":"Table_Shelter[[#This Row],[HH per Shelter]]*(Table_Shelter[[#This Row],['# of Temporary Shelter Units Built]]+Table_Shelter[[#This Row],['# of Temporary Shelter Under Construction]]+Table_Shelter[[#This Row],['# of Permanent House Built]]+Table_Shelter[[#This Row],['# of Permanent House Under Construction]])","v":3},{"$f":"VLOOKUP(Table_Shelter[[#This Row],[Camp Name]],'Camp List'!N$5:O$400,2,0)","v":"MMR001CMP012"},{"$f":"VLOOKUP(Table_Shelter[[#This Row],[Camp Name]],'Camp List'!N$5:Z$395,14,0)","v":{"$error":"#REF!"}},null,null,{"$f":"MATCH(Table_Shelter[[#This Row],['# of Temporary Shelter Units Built]],Table_Shelter[[#This Row],[HH Covered]])","v":1}]
["31.12.2012","UNHCR","HCR","Kachin","Myitkyina","Tat Kone Emanuel Church",1,null,null,5,5,null,null,null,null,{"$f":"Table_Shelter[[#This Row],[HH per Shelter]]*(Table_Shelter[[#This Row],['# of Temporary Shelter Units Built]]+Table_Shelter[[#This Row],['# of Temporary Shelter Under Construction]]+Table_Shelter[[#This Row],['# of Permanent House Built]]+Table_Shelter[[#This Row],['# of Permanent House Under Construction]])","v":5},{"$f":"VLOOKUP(Table_Shelter[[#This Row],[Camp Name]],'Camp List'!N$5:O$400,2,0)","v":"MMR001CMP004"},{"$f":"VLOOKUP(Table_Shelter[[#This Row],[Camp Name]],'Camp List'!N$5:Z$395,14,0)","v":{"$error":"#REF!"}},null,null,{"$f":"MATCH(Table_Shelter[[#This Row],['# of Temporary Shelter Units Built]],Table_Shelter[[#This Row],[HH Covered]])","v":1}]
["31.12.2012","UNHCR","HCR","Kachin","Myitkyina","Jan Mai Kawng Baptist Church",1,null,null,50,50,null,null,null,null,{"$f":"Table_Shelter[[#This Row],[HH per Shelter]]*(Table_Shelter[[#This Row],['# of Temporary Shelter Units Built]]+Table_Shelter[[#This Row],['# of Temporary Shelter Under Construction]]+Table_Shelter[[#This Row],['# of Permanent House Built]]+Table_Shelter[[#This Row],['# of Permanent House Under Construction]])","v":50},{"$f":"VLOOKUP(Table_Shelter[[#This Row],[Camp Name]],'Camp List'!N$5:O$400,2,0)","v":"MMR001CMP018"},{"$f":"VLOOKUP(Table_Shelter[[#This Row],[Camp Name]],'Camp List'!N$5:Z$395,14,0)","v":{"$error":"#REF!"}},null,null,{"$f":"MATCH(Table_Shelter[[#This Row],['# of Temporary Shelter Units Built]],Table_Shelter[[#This Row],[HH Covered]])","v":1}]
["31.12.2012","UNHCR","HCR","Kachin","Waingmaw","Qtr. 2 Myoma Baptist Church",1,null,null,10,10,null,null,null,null,{"$f":"Table_Shelter[[#This Row],[HH per Shelter]]*(Table_Shelter[[#This Row],['# of Temporary Shelter Units Built]]+Table_Shelter[[#This Row],['# of Temporary Shelter Under Construction]]+Table_Shelter[[#This Row],['# of Permanent House Built]]+Table_Shelter[[#This Row],['# of Permanent House Under Construction]])","v":10},{"$f":"VLOOKUP(Table_Shelter[[#This Row],[Camp Name]],'Camp List'!N$5:O$400,2,0)","v":"MMR001CMP025"},{"$f":"VLOOKUP(Table_Shelter[[#This Row],[Camp Name]],'Camp List'!N$5:Z$395,14,0)","v":{"$error":"#REF!"}},null,null,{"$f":"MATCH(Table_Shelter[[#This Row],['# of Temporary Shelter Units Built]],Table_Shelter[[#This Row],[HH Covered]])","v":1}]
["31.12.2012","UNHCR","HCR","Kachin","Waingmaw","Maina Lawang Baptist Church",1,null,null,5,5,null,null,null,null,{"$f":"Table_Shelter[[#This Row],[HH per Shelter]]*(Table_Shelter[[#This Row],['# of Temporary Shelter Units Built]]+Table_Shelter[[#This Row],['# of Temporary Shelter Under Construction]]+Table_Shelter[[#This Row],['# of Permanent House Built]]+Table_Shelter[[#This Row],['# of Permanent House Under Construction]])","v":5},{"$f":"VLOOKUP(Table_Shelter[[#This Row],[Camp Name]],'Camp List'!N$5:O$400,2,0)","v":"MMR001CMP039"},{"$f":"VLOOKUP(Table_Shelter[[#This Row],[Camp Name]],'Camp List'!N$5:Z$395,14,0)","v":{"$error":"#REF!"}},null,null,{"$f":"MATCH(Table_Shelter[[#This Row],['# of Temporary Shelter Units Built]],Table_Shelter[[#This Row],[HH Covered]])","v":1}]
["31.12.2012","UNHCR","HCR","Kachin","Waingmaw","Waingmaw Baptist Zonal Office",1,null,null,5,5,null,null,null,null,{"$f":"Table_Shelter[[#This Row],[HH per Shelter]]*(Table_Shelter[[#This Row],['# of Temporary Shelter Units Built]]+Table_Shelter[[#This Row],['# of Temporary Shelter Under Construction]]+Table_Shelter[[#This Row],['# of Permanent House Built]]+Table_Shelter[[#This Row],['# of Permanent House Under Construction]])","v":5},{"$f":"VLOOKUP(Table_Shelter[[#This Row],[Camp Name]],'Camp List'!N$5:O$400,2,0)","v":"MMR001CMP036"},{"$f":"VLOOKUP(Table_Shelter[[#This Row],[Camp Name]],'Camp List'!N$5:Z$395,14,0)","v":{"$error":"#REF!"}},null,null,{"$f":"MATCH(Table_Shelter[[#This Row],['# of Temporary Shelter Units Built]],Table_Shelter[[#This Row],[HH Covered]])","v":1}]
["31.12.2012","UNHCR","HCR","Kachin","Waingmaw","Maina Catholic Church (St. Joseph)",1,null,null,120,120,null,null,null,null,{"$f":"Table_Shelter[[#This Row],[HH per Shelter]]*(Table_Shelter[[#This Row],['# of Temporary Shelter Units Built]]+Table_Shelter[[#This Row],['# of Temporary Shelter Under Construction]]+Table_Shelter[[#This Row],['# of Permanent House Built]]+Table_Shelter[[#This Row],['# of Permanent House Under Construction]])","v":120},{"$f":"VLOOKUP(Table_Shelter[[#This Row],[Camp Name]],'Camp List'!N$5:O$400,2,0)","v":"MMR001CMP029"},{"$f":"VLOOKUP(Table_Shelter[[#This Row],[Camp Name]],'Camp List'!N$5:Z$395,14,0)","v":{"$error":"#REF!"}},null,null,{"$f":"MATCH(Table_Shelter[[#This Row],['# of Temporary Shelter Units Built]],Table_Shelter[[#This Row],[HH Covered]])","v":1}]
["31.12.2012","UNHCR","HCR","Kachin","Bhamo","Robert Church",1,null,null,140,140,null,null,null,null,{"$f":"Table_Shelter[[#This Row],[HH per Shelter]]*(Table_Shelter[[#This Row],['# of Temporary Shelter Units Built]]+Table_Shelter[[#This Row],['# of Temporary Shelter Under Construction]]+Table_Shelter[[#This Row],['# of Permanent House Built]]+Table_Shelter[[#This Row],['# of Permanent House Under Construction]])","v":140},{"$f":"VLOOKUP(Table_Shelter[[#This Row],[Camp Name]],'Camp List'!N$5:O$400,2,0)","v":"MMR001CMP047"},{"$f":"VLOOKUP(Table_Shelter[[#This Row],[Camp Name]],'Camp List'!N$5:Z$395,14,0)","v":{"$error":"#REF!"}},null,null,{"$f":"MATCH(Table_Shelter[[#This Row],['# of Temporary Shelter Units Built]],Table_Shelter[[#This Row],[HH Covered]])","v":1}]
["31.12.2012","UNHCR","HCR","Kachin","Bhamo","AD-2000 Tharthana Compound",1,null,null,10,10,null,null,null,null,{"$f":"Table_Shelter[[#This Row],[HH per Shelter]]*(Table_Shelter[[#This Row],['# of Temporary Shelter Units Built]]+Table_Shelter[[#This Row],['# of Temporary Shelter Under Construction]]+Table_Shelter[[#This Row],['# of Permanent House Built]]+Table_Shelter[[#This Row],['# of Permanent House Under Construction]])","v":10},{"$f":"VLOOKUP(Table_Shelter[[#This Row],[Camp Name]],'Camp List'!N$5:O$400,2,0)","v":"MMR001CMP050"},{"$f":"VLOOKUP(Table_Shelter[[#This Row],[Camp Name]],'Camp List'!N$5:Z$395,14,0)","v":{"$error":"#REF!"}},null,null,{"$f":"MATCH(Table_Shelter[[#This Row],['# of Temporary Shelter Units Built]],Table_Shelter[[#This Row],[HH Covered]])","v":1}]
["31.12.2012","UNHCR","HCR","Kachin","Bhamo","Lisu Boarding-House",1,null,null,15,15,null,null,null,null,{"$f":"Table_Shelter[[#This Row],[HH per Shelter]]*(Table_Shelter[[#This Row],['# of Temporary Shelter Units Built]]+Table_Shelter[[#This Row],['# of Temporary Shelter Under Construction]]+Table_Shelter[[#This Row],['# of Permanent House Built]]+Table_Shelter[[#This Row],['# of Permanent House Under Construction]])","v":15},{"$f":"VLOOKUP(Table_Shelter[[#This Row],[Camp Name]],'Camp List'!N$5:O$400,2,0)","v":"MMR001CMP049"},{"$f":"VLOOKUP(Table_Shelter[[#This Row],[Camp Name]],'Camp List'!N$5:Z$395,14,0)","v":{"$error":"#REF!"}},null,null,{"$f":"MATCH(Table_Shelter[[#This Row],['# of Temporary Shelter Units Built]],Table_Shelter[[#This Row],[HH Covered]])","v":1}]
["31.12.2012","UNHCR","HCR","Kachin","Bhamo","Nant Hlaing Church",1,null,null,10,10,null,null,null,null,{"$f":"Table_Shelter[[#This Row],[HH per Shelter]]*(Table_Shelter[[#This Row],['# of Temporary Shelter Units Built]]+Table_Shelter[[#This Row],['# of Temporary Shelter Under Construction]]+Table_Shelter[[#This Row],['# of Permanent House Built]]+Table_Shelter[[#This Row],['# of Permanent House Under Construction]])","v":10},{"$f":"VLOOKUP(Table_Shelter[[#This Row],[Camp Name]],'Camp List'!N$5:O$400,2,0)","v":"MMR001CMP054"},{"$f":"VLOOKUP(Table_Shelter[[#This Row],[Camp Name]],'Camp List'!N$5:Z$395,14,0)","v":{"$error":"#REF!"}},null,null,{"$f":"MATCH(Table_Shelter[[#This Row],['# of Temporary Shelter Units Built]],Table_Shelter[[#This Row],[HH Covered]])","v":1}]
["31.12.2012","UNHCR","HCR","Kachin","Bhamo","Ta Gun Taing Monastery (Shwe Kyi Na)",1,null,null,40,40,null,null,null,null,{"$f":"Table_Shelter[[#This Row],[HH per Shelter]]*(Table_Shelter[[#This Row],['# of Temporary Shelter Units Built]]+Table_Shelter[[#This Row],['# of Temporary Shelter Under Construction]]+Table_Shelter[[#This Row],['# of Permanent House Built]]+Table_Shelter[[#This Row],['# of Permanent House Under Construction]])","v":40},{"$f":"VLOOKUP(Table_Shelter[[#This Row],[Camp Name]],'Camp List'!N$5:O$400,2,0)","v":"MMR001CMP055"},{"$f":"VLOOKUP(Table_Shelter[[#This Row],[Camp Name]],'Camp List'!N$5:Z$395,14,0)","v":{"$error":"#REF!"}},null,null,{"$f":"MATCH(Table_Shelter[[#This Row],['# of Temporary Shelter Units Built]],Table_Shelter[[#This Row],[HH Covered]])","v":1}]
["31.12.2012","UNHCR","HCR","Kachin","Momauk","Momauk Baptist Church",1,null,null,50,50,null,null,null,null,{"$f":"Table_Shelter[[#This Row],[HH per Shelter]]*(Table_Shelter[[#This Row],['# of Temporary Shelter Units Built]]+Table_Shelter[[#This Row],['# of Temporary Shelter Under Construction]]+Table_Shelter[[#This Row],['# of Permanent House Built]]+Table_Shelter[[#This Row],['# of Permanent House Under Construction]])","v":50},{"$f":"VLOOKUP(Table_Shelter[[#This Row],[Camp Name]],'Camp List'!N$5:O$400,2,0)","v":"MMR001CMP056"},{"$f":"VLOOKUP(Table_Shelter[[#This Row],[Camp Name]],'Camp List'!N$5:Z$395,14,0)","v":{"$error":"#REF!"}},null,null,{"$f":"MATCH(Table_Shelter[[#This Row],['# of Temporary Shelter Units Built]],Table_Shelter[[#This Row],[HH Covered]])","v":1}]
["31.12.2012","UNHCR","HCR","Kachin","Momauk","Ni Thaw Ka Monestry",1,null,null,5,5,null,null,null,null,{"$f":"Table_Shelter[[#This Row],[HH per Shelter]]*(Table_Shelter[[#This Row],['# of Temporary Shelter Units Built]]+Table_Shelter[[#This Row],['# of Temporary Shelter Under Construction]]+Table_Shelter[[#This Row],['# of Permanent House Built]]+Table_Shelter[[#This Row],['# of Permanent House Under Construction]])","v":5},{"$f":"VLOOKUP(Table_Shelter[[#This Row],[Camp Name]],'Camp List'!N$5:O$400,2,0)","v":"MMR001CMP059"},{"$f":"VLOOKUP(Table_Shelter[[#This Row],[Camp Name]],'Camp List'!N$5:Z$395,14,0)","v":{"$error":"#REF!"}},null,null,{"$f":"MATCH(Table_Shelter[[#This Row],['# of Temporary Shelter Units Built]],Table_Shelter[[#This Row],[HH Covered]])","v":1}]
["31.12.2012","UNHCR","HCR","Kachin","Momauk","Man Bung Catholic compound",1,null,null,11,11,null,null,null,null,{"$f":"Table_Shelter[[#This Row],[HH per Shelter]]*(Table_Shelter[[#This Row],['# of Temporary Shelter Units Built]]+Table_Shelter[[#This Row],['# of Temporary Shelter Under Construction]]+Table_Shelter[[#This Row],['# of Permanent House Built]]+Table_Shelter[[#This Row],['# of Permanent House Under Construction]])","v":11},{"$f":"VLOOKUP(Table_Shelter[[#This Row],[Camp Name]],'Camp List'!N$5:O$400,2,0)","v":"MMR001CMP062"},{"$f":"VLOOKUP(Table_Shelter[[#This Row],[Camp Name]],'Camp List'!N$5:Z$395,14,0)","v":{"$error":"#REF!"}},null,null,{"$f":"MATCH(Table_Shelter[[#This Row],['# of Temporary Shelter Units Built]],Table_Shelter[[#This Row],[HH Covered]])","v":1}]
["31.12.2012","UNHCR","HCR","Kachin","Mansi","Mansi Baptist Church",1,null,null,10,10,null,null,null,null,{"$f":"Table_Shelter[[#This Row],[HH per Shelter]]*(Table_Shelter[[#This Row],['# of Temporary Shelter Units Built]]+Table_Shelter[[#This Row],['# of Temporary Shelter Under Construction]]+Table_Shelter[[#This Row],['# of Permanent House Built]]+Table_Shelter[[#This Row],['# of Permanent House Under Construction]])","v":10},{"$f":"VLOOKUP(Table_Shelter[[#This Row],[Camp Name]],'Camp List'!N$5:O$400,2,0)","v":"MMR001CMP066"},{"$f":"VLOOKUP(Table_Shelter[[#This Row],[Camp Name]],'Camp List'!N$5:Z$395,14,0)","v":{"$error":"#REF!"}},null,null,{"$f":"MATCH(Table_Shelter[[#This Row],['# of Temporary Shelter Units Built]],Table_Shelter[[#This Row],[HH Covered]])","v":1}]
["31.12.2012","UNHCR","HCR","Kachin","Momauk","Loi Je Baptist Church",1,null,null,12,12,null,null,null,null,{"$f":"Table_Shelter[[#This Row],[HH per Shelter]]*(Table_Shelter[[#This Row],['# of Temporary Shelter Units Built]]+Table_Shelter[[#This Row],['# of Temporary Shelter Under Construction]]+Table_Shelter[[#This Row],['# of Permanent House Built]]+Table_Shelter[[#This Row],['# of Permanent House Under Construction]])","v":12},{"$f":"VLOOKUP(Table_Shelter[[#This Row],[Camp Name]],'Camp List'!N$5:O$400,2,0)","v":"MMR001CMP071"},{"$f":"VLOOKUP(Table_Shelter[[#This Row],[Camp Name]],'Camp List'!N$5:Z$395,14,0)","v":{"$error":"#REF!"}},null,null,{"$f":"MATCH(Table_Shelter[[#This Row],['# of Temporary Shelter Units Built]],Table_Shelter[[#This Row],[HH Covered]])","v":1}]
["31.12.2012","UNHCR","HCR","Kachin","Momauk","Nyaung Na Pin ",1,null,null,45,45,null,null,null,null,{"$f":"Table_Shelter[[#This Row],[HH per Shelter]]*(Table_Shelter[[#This Row],['# of Temporary Shelter Units Built]]+Table_Shelter[[#This Row],['# of Temporary Shelter Under Construction]]+Table_Shelter[[#This Row],['# of Permanent House Built]]+Table_Shelter[[#This Row],['# of Permanent House Under Construction]])","v":45},{"$f":"VLOOKUP(Table_Shelter[[#This Row],[Camp Name]],'Camp List'!N$5:O$400,2,0)","v":"MMR001CMP072"},{"$f":"VLOOKUP(Table_Shelter[[#This Row],[Camp Name]],'Camp List'!N$5:Z$395,14,0)","v":{"$error":"#REF!"}},null,null,{"$f":"MATCH(Table_Shelter[[#This Row],['# of Temporary Shelter Units Built]],Table_Shelter[[#This Row],[HH Covered]])","v":1}]
["31.12.2012","UNHCR","HCR","Kachin","Momauk","Loi Je Lisu Camp",1,null,null,57,57,null,null,null,null,{"$f":"Table_Shelter[[#This Row],[HH per Shelter]]*(Table_Shelter[[#This Row],['# of Temporary Shelter Units Built]]+Table_Shelter[[#This Row],['# of Temporary Shelter Under Construction]]+Table_Shelter[[#This Row],['# of Permanent House Built]]+Table_Shelter[[#This Row],['# of Permanent House Under Construction]])","v":57},{"$f":"VLOOKUP(Table_Shelter[[#This Row],[Camp Name]],'Camp List'!N$5:O$400,2,0)","v":"MMR001CMP070"},{"$f":"VLOOKUP(Table_Shelter[[#This Row],[Camp Name]],'Camp List'!N$5:Z$395,14,0)","v":{"$error":"#REF!"}},null,null,{"$f":"MATCH(Table_Shelter[[#This Row],['# of Temporary Shelter Units Built]],Table_Shelter[[#This Row],[HH Covered]])","v":1}]
["31.12.2012","UNHCR","HCR","Kachin","Momauk","Seng Ja ",1,null,null,40,40,null,null,null,null,{"$f":"Table_Shelter[[#This Row],[HH per Shelter]]*(Table_Shelter[[#This Row],['# of Temporary Shelter Units Built]]+Table_Shelter[[#This Row],['# of Temporary Shelter Under Construction]]+Table_Shelter[[#This Row],['# of Permanent House Built]]+Table_Shelter[[#This Row],['# of Permanent House Under Construction]])","v":40},{"$f":"VLOOKUP(Table_Shelter[[#This Row],[Camp Name]],'Camp List'!N$5:O$400,2,0)","v":"MMR001CMP073"},{"$f":"VLOOKUP(Table_Shelter[[#This Row],[Camp Name]],'Camp List'!N$5:Z$395,14,0)","v":{"$error":"#REF!"}},null,null,{"$f":"MATCH(Table_Shelter[[#This Row],['# of Temporary Shelter Units Built]],Table_Shelter[[#This Row],[HH Covered]])","v":1}]
["31.12.2012","UNHCR","HCR","Kachin","Bhamo","Phan Khar Kone",1,null,null,30,30,null,null,null,null,{"$f":"Table_Shelter[[#This Row],[HH per Shelter]]*(Table_Shelter[[#This Row],['# of Temporary Shelter Units Built]]+Table_Shelter[[#This Row],['# of Temporary Shelter Under Construction]]+Table_Shelter[[#This Row],['# of Permanent House Built]]+Table_Shelter[[#This Row],['# of Permanent House Under Construction]])","v":30},{"$f":"VLOOKUP(Table_Shelter[[#This Row],[Camp Name]],'Camp List'!N$5:O$400,2,0)","v":"MMR001CMP193"},{"$f":"VLOOKUP(Table_Shelter[[#This Row],[Camp Name]],'Camp List'!N$5:Z$395,14,0)","v":{"$error":"#REF!"}},null,null,{"$f":"MATCH(Table_Shelter[[#This Row],['# of Temporary Shelter Units Built]],Table_Shelter[[#This Row],[HH Covered]])","v":1}]
["31.12.2012","UNHCR","HCR","Kachin","Bhamo","AD-2000 Tharthana Compound",1,null,null,10,10,null,null,null,null,{"$f":"Table_Shelter[[#This Row],[HH per Shelter]]*(Table_Shelter[[#This Row],['# of Temporary Shelter Units Built]]+Table_Shelter[[#This Row],['# of Temporary Shelter Under Construction]]+Table_Shelter[[#This Row],['# of Permanent House Built]]+Table_Shelter[[#This Row],['# of Permanent House Under Construction]])","v":10},{"$f":"VLOOKUP(Table_Shelter[[#This Row],[Camp Name]],'Camp List'!N$5:O$400,2,0)","v":"MMR001CMP050"},{"$f":"VLOOKUP(Table_Shelter[[#This Row],[Camp Name]],'Camp List'!N$5:Z$395,14,0)","v":{"$error":"#REF!"}},null,null,{"$f":"MATCH(Table_Shelter[[#This Row],['# of Temporary Shelter Units Built]],Table_Shelter[[#This Row],[HH Covered]])","v":1}]
["31.12.2012","UNHCR","KMSS Bhamo","Kachin","Momauk","Man Bung Catholic compound",1,null,null,35,35,null,null,null,null,{"$f":"Table_Shelter[[#This Row],[HH per Shelter]]*(Table_Shelter[[#This Row],['# of Temporary Shelter Units Built]]+Table_Shelter[[#This Row],['# of Temporary Shelter Under Construction]]+Table_Shelter[[#This Row],['# of Permanent House Built]]+Table_Shelter[[#This Row],['# of Permanent House Under Construction]])","v":35},{"$f":"VLOOKUP(Table_Shelter[[#This Row],[Camp Name]],'Camp List'!N$5:O$400,2,0)","v":"MMR001CMP062"},{"$f":"VLOOKUP(Table_Shelter[[#This Row],[Camp Name]],'Camp List'!N$5:Z$395,14,0)","v":{"$error":"#REF!"}},null,null,{"$f":"MATCH(Table_Shelter[[#This Row],['# of Temporary Shelter Units Built]],Table_Shelter[[#This Row],[HH Covered]])","v":1}]
["31.12.2012","UNHCR","KMSS Bhamo","Kachin","Mansi","Man Wing Catholic Church",1,null,null,200,200,null,null,null,null,{"$f":"Table_Shelter[[#This Row],[HH per Shelter]]*(Table_Shelter[[#This Row],['# of Temporary Shelter Units Built]]+Table_Shelter[[#This Row],['# of Temporary Shelter Under Construction]]+Table_Shelter[[#This Row],['# of Permanent House Built]]+Table_Shelter[[#This Row],['# of Permanent House Under Construction]])","v":200},{"$f":"VLOOKUP(Table_Shelter[[#This Row],[Camp Name]],'Camp List'!N$5:O$400,2,0)","v":"MMR001CMP132"},{"$f":"VLOOKUP(Table_Shelter[[#This Row],[Camp Name]],'Camp List'!N$5:Z$395,14,0)","v":{"$error":"#REF!"}},null,null,{"$f":"MATCH(Table_Shelter[[#This Row],['# of Temporary Shelter Units Built]],Table_Shelter[[#This Row],[HH Covered]])","v":1}]
["31.12.2012","UNHCR","KMSS Bhamo","Kachin","Shwegu","Shwe Gu Catholic Church",1,null,null,10,10,null,null,null,null,{"$f":"Table_Shelter[[#This Row],[HH per Shelter]]*(Table_Shelter[[#This Row],['# of Temporary Shelter Units Built]]+Table_Shelter[[#This Row],['# of Temporary Shelter Under Construction]]+Table_Shelter[[#This Row],['# of Permanent House Built]]+Table_Shelter[[#This Row],['# of Permanent House Under Construction]])","v":10},{"$f":"VLOOKUP(Table_Shelter[[#This Row],[Camp Name]],'Camp List'!N$5:O$400,2,0)","v":"MMR001CMP068"},{"$f":"VLOOKUP(Table_Shelter[[#This Row],[Camp Name]],'Camp List'!N$5:Z$395,14,0)","v":{"$error":"#REF!"}},null,null,{"$f":"MATCH(Table_Shelter[[#This Row],['# of Temporary Shelter Units Built]],Table_Shelter[[#This Row],[HH Covered]])","v":1}]
["31.12.2012","UNHCR","KMSS Bhamo","Kachin","Momauk","Loi Je Catholic Church",1,null,null,6,6,null,null,null,null,{"$f":"Table_Shelter[[#This Row],[HH per Shelter]]*(Table_Shelter[[#This Row],['# of Temporary Shelter Units Built]]+Table_Shelter[[#This Row],['# of Temporary Shelter Under Construction]]+Table_Shelter[[#This Row],['# of Permanent House Built]]+Table_Shelter[[#This Row],['# of Permanent House Under Construction]])","v":6},{"$f":"VLOOKUP(Table_Shelter[[#This Row],[Camp Name]],'Camp List'!N$5:O$400,2,0)","v":"MMR001CMP069"},{"$f":"VLOOKUP(Table_Shelter[[#This Row],[Camp Name]],'Camp List'!N$5:Z$395,14,0)","v":{"$error":"#REF!"}},null,null,{"$f":"MATCH(Table_Shelter[[#This Row],['# of Temporary Shelter Units Built]],Table_Shelter[[#This Row],[HH Covered]])","v":1}]
["31.12.2012","UNHCR","KMSS Bhamo","Kachin","Momauk","Pa Kahtawng ",1,null,null,130,130,null,null,null,null,{"$f":"Table_Shelter[[#This Row],[HH per Shelter]]*(Table_Shelter[[#This Row],['# of Temporary Shelter Units Built]]+Table_Shelter[[#This Row],['# of Temporary Shelter Under Construction]]+Table_Shelter[[#This Row],['# of Permanent House Built]]+Table_Shelter[[#This Row],['# of Permanent House Under Construction]])","v":130},{"$f":"VLOOKUP(Table_Shelter[[#This Row],[Camp Name]],'Camp List'!N$5:O$400,2,0)","v":"MMR001CMP126"},{"$f":"VLOOKUP(Table_Shelter[[#This Row],[Camp Name]],'Camp List'!N$5:Z$395,14,0)","v":{"$error":"#REF!"}},null,null,{"$f":"MATCH(Table_Shelter[[#This Row],['# of Temporary Shelter Units Built]],Table_Shelter[[#This Row],[HH Covered]])","v":1}]
["31.12.2012","UNHCR","KMSS Bhamo","Kachin","Momauk","Lana Zup Ja ",1,null,null,350,350,null,null,null,null,{"$f":"Table_Shelter[[#This Row],[HH per Shelter]]*(Table_Shelter[[#This Row],['# of Temporary Shelter Units Built]]+Table_Shelter[[#This Row],['# of Temporary Shelter Under Construction]]+Table_Shelter[[#This Row],['# of Permanent House Built]]+Table_Shelter[[#This Row],['# of Permanent House Under Construction]])","v":350},{"$f":"VLOOKUP(Table_Shelter[[#This Row],[Camp Name]],'Camp List'!N$5:O$400,2,0)","v":"MMR001CMP128"},{"$f":"VLOOKUP(Table_Shelter[[#This Row],[Camp Name]],'Camp List'!N$5:Z$395,14,0)","v":{"$error":"#REF!"}},null,null,{"$f":"MATCH(Table_Shelter[[#This Row],['# of Temporary Shelter Units Built]],Table_Shelter[[#This Row],[HH Covered]])","v":1}]
["31.12.2012","UNHCR","KMSS Bhamo","Kachin","Mansi","Nam Lim Pa - Scattered IDPs in forest",1,null,null,36,36,null,null,null,null,{"$f":"Table_Shelter[[#This Row],[HH per Shelter]]*(Table_Shelter[[#This Row],['# of Temporary Shelter Units Built]]+Table_Shelter[[#This Row],['# of Temporary Shelter Under Construction]]+Table_Shelter[[#This Row],['# of Permanent House Built]]+Table_Shelter[[#This Row],['# of Permanent House Under Construction]])","v":36},{"$f":"VLOOKUP(Table_Shelter[[#This Row],[Camp Name]],'Camp List'!N$5:O$400,2,0)","v":"MMR001CMP137"},{"$f":"VLOOKUP(Table_Shelter[[#This Row],[Camp Name]],'Camp List'!N$5:Z$395,14,0)","v":{"$error":"#REF!"}},null,null,{"$f":"MATCH(Table_Shelter[[#This Row],['# of Temporary Shelter Units Built]],Table_Shelter[[#This Row],[HH Covered]])","v":1}]
["31.12.2012","UNHCR","KMSS Bhamo","Kachin","Mansi","Mung Ding Pa  (Boarder)",1,null,null,24,24,null,null,null,null,{"$f":"Table_Shelter[[#This Row],[HH per Shelter]]*(Table_Shelter[[#This Row],['# of Temporary Shelter Units Built]]+Table_Shelter[[#This Row],['# of Temporary Shelter Under Construction]]+Table_Shelter[[#This Row],['# of Permanent House Built]]+Table_Shelter[[#This Row],['# of Permanent House Under Construction]])","v":24},{"$f":"VLOOKUP(Table_Shelter[[#This Row],[Camp Name]],'Camp List'!N$5:O$400,2,0)","v":"MMR001CMP203"},{"$f":"VLOOKUP(Table_Shelter[[#This Row],[Camp Name]],'Camp List'!N$5:Z$395,14,0)","v":{"$error":"#REF!"}},null,null,{"$f":"MATCH(Table_Shelter[[#This Row],['# of Temporary Shelter Units Built]],Table_Shelter[[#This Row],[HH Covered]])","v":1}]
["31.12.2012","UNHCR","KMSS Bhamo","Kachin","Momauk","Je Yang Hka ",1,null,null,249,249,null,null,null,null,{"$f":"Table_Shelter[[#This Row],[HH per Shelter]]*(Table_Shelter[[#This Row],['# of Temporary Shelter Units Built]]+Table_Shelter[[#This Row],['# of Temporary Shelter Under Construction]]+Table_Shelter[[#This Row],['# of Permanent House Built]]+Table_Shelter[[#This Row],['# of Permanent House Under Construction]])","v":249},{"$f":"VLOOKUP(Table_Shelter[[#This Row],[Camp Name]],'Camp List'!N$5:O$400,2,0)","v":"MMR001CMP121"},{"$f":"VLOOKUP(Table_Shelter[[#This Row],[Camp Name]],'Camp List'!N$5:Z$395,14,0)","v":{"$error":"#REF!"}},null,null,{"$f":"MATCH(Table_Shelter[[#This Row],['# of Temporary Shelter Units Built]],Table_Shelter[[#This Row],[HH Covered]])","v":1}]
["31.12.2012","UNHCR","KMSS Bhamo","Kachin","Momauk","Loi Je Catholic Church",1,null,null,0,0,null,null,null,null,{"$f":"Table_Shelter[[#This Row],[HH per Shelter]]*(Table_Shelter[[#This Row],['# of Temporary Shelter Units Built]]+Table_Shelter[[#This Row],['# of Temporary Shelter Under Construction]]+Table_Shelter[[#This Row],['# of Permanent House Built]]+Table_Shelter[[#This Row],['# of Permanent House Under Construction]])","v":0},{"$f":"VLOOKUP(Table_Shelter[[#This Row],[Camp Name]],'Camp List'!N$5:O$400,2,0)","v":"MMR001CMP069"},{"$f":"VLOOKUP(Table_Shelter[[#This Row],[Camp Name]],'Camp List'!N$5:Z$395,14,0)","v":{"$error":"#REF!"}},null,null,{"$f":"MATCH(Table_Shelter[[#This Row],['# of Temporary Shelter Units Built]],Table_Shelter[[#This Row],[HH Covered]])","v":1}]
["31.07.2013","UNHCR","KBC","Kachin","Hpakant","Nam Ma Phyit COC",1,null,null,40,null,40,null,null,null,null,{"$f":"VLOOKUP(Table_Shelter[[#This Row],[Camp Name]],'Camp List'!N$5:O$400,2,0)","v":{"$error":"#N/A"}},{"$f":"VLOOKUP(Table_Shelter[[#This Row],[Camp Name]],'Camp List'!N$5:Z$395,14,0)","v":{"$error":"#N/A"}},null,null,{"$f":"MATCH(Table_Shelter[[#This Row],['# of Temporary Shelter Units Built]],Table_Shelter[[#This Row],[HH Covered]])","v":{"$error":"#N/A"}}]
["31.07.2013","UNHCR","KBC","Kachin","Hpakant","5 Ward Baptist Church(lon Khin)",1,null,null,20,null,20,null,null,null,null,{"$f":"VLOOKUP(Table_Shelter[[#This Row],[Camp Name]],'Camp List'!N$5:O$400,2,0)","v":"MMR001CMP179"},{"$f":"VLOOKUP(Table_Shelter[[#This Row],[Camp Name]],'Camp List'!N$5:Z$395,14,0)","v":{"$error":"#REF!"}},null,null,{"$f":"MATCH(Table_Shelter[[#This Row],['# of Temporary Shelter Units Built]],Table_Shelter[[#This Row],[HH Covered]])","v":{"$error":"#N/A"}}]
["31.07.2013","UNHCR","KBC","Kachin","Hpakant","Baptist Church, Hmaw Si Sar(Lon Khin)",1,null,null,20,null,20,null,null,null,null,{"$f":"VLOOKUP(Table_Shelter[[#This Row],[Camp Name]],'Camp List'!N$5:O$400,2,0)","v":"MMR001CMP169"},{"$f":"VLOOKUP(Table_Shelter[[#This Row],[Camp Name]],'Camp List'!N$5:Z$395,14,0)","v":{"$error":"#REF!"}},null,null,{"$f":"MATCH(Table_Shelter[[#This Row],['# of Temporary Shelter Units Built]],Table_Shelter[[#This Row],[HH Covered]])","v":{"$error":"#N/A"}}]
["31.07.2013","UNHCR","KBC","Kachin","Hpakant","Ward 2 Sai Taung Baptist Church, Seik Mu ",1,null,null,15,null,15,null,null,null,null,{"$f":"VLOOKUP(Table_Shelter[[#This Row],[Camp Name]],'Camp List'!N$5:O$400,2,0)","v":"MMR001CMP184"},{"$f":"VLOOKUP(Table_Shelter[[#This Row],[Camp Name]],'Camp List'!N$5:Z$395,14,0)","v":{"$error":"#REF!"}},null,null,{"$f":"MATCH(Table_Shelter[[#This Row],['# of Temporary Shelter Units Built]],Table_Shelter[[#This Row],[HH Covered]])","v":{"$error":"#N/A"}}]
["31.07.2013","UNHCR","KBC","Kachin","Hpakant","Sai Nai Baptish Church, Maw Shan Vil., Seki Mu",1,null,null,5,null,5,null,null,null,null,{"$f":"VLOOKUP(Table_Shelter[[#This Row],[Camp Name]],'Camp List'!N$5:O$400,2,0)","v":"MMR001CMP183"},{"$f":"VLOOKUP(Table_Shelter[[#This Row],[Camp Name]],'Camp List'!N$5:Z$395,14,0)","v":{"$error":"#REF!"}},null,null,{"$f":"MATCH(Table_Shelter[[#This Row],['# of Temporary Shelter Units Built]],Table_Shelter[[#This Row],[HH Covered]])","v":{"$error":"#N/A"}}]
["31.07.2013","UNHCR","KMSS Bhamo","Kachin","Momauk","Momauk Catholic Church (St. Patrick)",1,null,null,12,12,null,null,null,null,{"$f":"Table_Shelter[[#This Row],[HH per Shelter]]*(Table_Shelter[[#This Row],['# of Temporary Shelter Units Built]]+Table_Shelter[[#This Row],['# of Temporary Shelter Under Construction]]+Table_Shelter[[#This Row],['# of Permanent House Built]]+Table_Shelter[[#This Row],['# of Permanent House Under Construction]])","v":12},{"$f":"VLOOKUP(Table_Shelter[[#This Row],[Camp Name]],'Camp List'!N$5:O$400,2,0)","v":"MMR001CMP057"},{"$f":"VLOOKUP(Table_Shelter[[#This Row],[Camp Name]],'Camp List'!N$5:Z$395,14,0)","v":{"$error":"#REF!"}},null,null,{"$f":"MATCH(Table_Shelter[[#This Row],['# of Temporary Shelter Units Built]],Table_Shelter[[#This Row],[HH Covered]])","v":1}]
["31.07.2013","UNHCR","KMSS Bhamo","Kachin","Waingmaw","Woi Chyai ",1,null,null,160,null,160,null,null,null,null,{"$f":"VLOOKUP(Table_Shelter[[#This Row],[Camp Name]],'Camp List'!N$5:O$400,2,0)","v":"MMR001CMP116"},{"$f":"VLOOKUP(Table_Shelter[[#This Row],[Camp Name]],'Camp List'!N$5:Z$395,14,0)","v":{"$error":"#REF!"}},null,null,{"$f":"MATCH(Table_Shelter[[#This Row],['# of Temporary Shelter Units Built]],Table_Shelter[[#This Row],[HH Covered]])","v":{"$error":"#N/A"}}]
["31.07.2013","UNHCR","KMSS Bhamo","Kachin","Bhamo","AD-2000 Tharthana Compound",1,null,null,132,132,null,null,null,null,{"$f":"Table_Shelter[[#This Row],[HH per Shelter]]*(Table_Shelter[[#This Row],['# of Temporary Shelter Units Built]]+Table_Shelter[[#This Row],['# of Temporary Shelter Under Construction]]+Table_Shelter[[#This Row],['# of Permanent House Built]]+Table_Shelter[[#This Row],['# of Permanent House Under Construction]])","v":132},{"$f":"VLOOKUP(Table_Shelter[[#This Row],[Camp Name]],'Camp List'!N$5:O$400,2,0)","v":"MMR001CMP050"},{"$f":"VLOOKUP(Table_Shelter[[#This Row],[Camp Name]],'Camp List'!N$5:Z$395,14,0)","v":{"$error":"#REF!"}},null,null,{"$f":"MATCH(Table_Shelter[[#This Row],['# of Temporary Shelter Units Built]],Table_Shelter[[#This Row],[HH Covered]])","v":1}]
["31.12.2012","World Vision","Shalom","Kachin","Waingmaw","Waingmaw AG Church",1,null,null,15,15,null,null,null,null,{"$f":"Table_Shelter[[#This Row],[HH per Shelter]]*(Table_Shelter[[#This Row],['# of Temporary Shelter Units Built]]+Table_Shelter[[#This Row],['# of Temporary Shelter Under Construction]]+Table_Shelter[[#This Row],['# of Permanent House Built]]+Table_Shelter[[#This Row],['# of Permanent House Under Construction]])","v":15},{"$f":"VLOOKUP(Table_Shelter[[#This Row],[Camp Name]],'Camp List'!N$5:O$400,2,0)","v":"MMR001CMP038"},{"$f":"VLOOKUP(Table_Shelter[[#This Row],[Camp Name]],'Camp List'!N$5:Z$395,14,0)","v":{"$error":"#REF!"}},null,null,{"$f":"MATCH(Table_Shelter[[#This Row],['# of Temporary Shelter Units Built]],Table_Shelter[[#This Row],[HH Covered]])","v":1}]
["31.12.2012","World Vision","Shalom","Kachin","Waingmaw","Qtr. 2 Lhaovo Baptist Church",1,null,null,10,10,null,null,null,null,{"$f":"Table_Shelter[[#This Row],[HH per Shelter]]*(Table_Shelter[[#This Row],['# of Temporary Shelter Units Built]]+Table_Shelter[[#This Row],['# of Temporary Shelter Under Construction]]+Table_Shelter[[#This Row],['# of Permanent House Built]]+Table_Shelter[[#This Row],['# of Permanent House Under Construction]])","v":10},{"$f":"VLOOKUP(Table_Shelter[[#This Row],[Camp Name]],'Camp List'!N$5:O$400,2,0)","v":"MMR001CMP032"},{"$f":"VLOOKUP(Table_Shelter[[#This Row],[Camp Name]],'Camp List'!N$5:Z$395,14,0)","v":{"$error":"#REF!"}},null,null,{"$f":"MATCH(Table_Shelter[[#This Row],['# of Temporary Shelter Units Built]],Table_Shelter[[#This Row],[HH Covered]])","v":1}]
["31.12.2012","World Vision","Shalom","Kachin","Waingmaw","Thargaya Lisu Baptist Church",1,null,null,18,18,null,null,null,null,{"$f":"Table_Shelter[[#This Row],[HH per Shelter]]*(Table_Shelter[[#This Row],['# of Temporary Shelter Units Built]]+Table_Shelter[[#This Row],['# of Temporary Shelter Under Construction]]+Table_Shelter[[#This Row],['# of Permanent House Built]]+Table_Shelter[[#This Row],['# of Permanent House Under Construction]])","v":18},{"$f":"VLOOKUP(Table_Shelter[[#This Row],[Camp Name]],'Camp List'!N$5:O$400,2,0)","v":"MMR001CMP037"},{"$f":"VLOOKUP(Table_Shelter[[#This Row],[Camp Name]],'Camp List'!N$5:Z$395,14,0)","v":{"$error":"#REF!"}},null,null,{"$f":"MATCH(Table_Shelter[[#This Row],['# of Temporary Shelter Units Built]],Table_Shelter[[#This Row],[HH Covered]])","v":1}]
["31.12.2012","World Vision","KBC","Kachin","Waingmaw","Waingmaw Baptist Zonal Office",1,null,null,10,10,null,null,null,null,{"$f":"Table_Shelter[[#This Row],[HH per Shelter]]*(Table_Shelter[[#This Row],['# of Temporary Shelter Units Built]]+Table_Shelter[[#This Row],['# of Temporary Shelter Under Construction]]+Table_Shelter[[#This Row],['# of Permanent House Built]]+Table_Shelter[[#This Row],['# of Permanent House Under Construction]])","v":10},{"$f":"VLOOKUP(Table_Shelter[[#This Row],[Camp Name]],'Camp List'!N$5:O$400,2,0)","v":"MMR001CMP036"},{"$f":"VLOOKUP(Table_Shelter[[#This Row],[Camp Name]],'Camp List'!N$5:Z$395,14,0)","v":{"$error":"#REF!"}},null,null,{"$f":"MATCH(Table_Shelter[[#This Row],['# of Temporary Shelter Units Built]],Table_Shelter[[#This Row],[HH Covered]])","v":1}]
["31.12.2012","World Vision","KBC","Kachin","Waingmaw","Qtr. 2 Lhaovo Baptist Church",1,null,null,10,10,null,null,null,null,{"$f":"Table_Shelter[[#This Row],[HH per Shelter]]*(Table_Shelter[[#This Row],['# of Temporary Shelter Units Built]]+Table_Shelter[[#This Row],['# of Temporary Shelter Under Construction]]+Table_Shelter[[#This Row],['# of Permanent House Built]]+Table_Shelter[[#This Row],['# of Permanent House Under Construction]])","v":10},{"$f":"VLOOKUP(Table_Shelter[[#This Row],[Camp Name]],'Camp List'!N$5:O$400,2,0)","v":"MMR001CMP032"},{"$f":"VLOOKUP(Table_Shelter[[#This Row],[Camp Name]],'Camp List'!N$5:Z$395,14,0)","v":{"$error":"#REF!"}},null,null,{"$f":"MATCH(Table_Shelter[[#This Row],['# of Temporary Shelter Units Built]],Table_Shelter[[#This Row],[HH Covered]])","v":1}]
["31.12.2012","Ye Tiek  Foundation","KBC","Kachin","Waingmaw","Maina KBC (Bawng Ring)",1,null,null,10,10,null,null,null,null,{"$f":"Table_Shelter[[#This Row],[HH per Shelter]]*(Table_Shelter[[#This Row],['# of Temporary Shelter Units Built]]+Table_Shelter[[#This Row],['# of Temporary Shelter Under Construction]]+Table_Shelter[[#This Row],['# of Permanent House Built]]+Table_Shelter[[#This Row],['# of Permanent House Under Construction]])","v":10},{"$f":"VLOOKUP(Table_Shelter[[#This Row],[Camp Name]],'Camp List'!N$5:O$400,2,0)","v":"MMR001CMP040"},{"$f":"VLOOKUP(Table_Shelter[[#This Row],[Camp Name]],'Camp List'!N$5:Z$395,14,0)","v":{"$error":"#REF!"}},null,null,{"$f":"MATCH(Table_Shelter[[#This Row],['# of Temporary Shelter Units Built]],Table_Shelter[[#This Row],[HH Covered]])","v":1}]
["31.12.2012","UNHCR","KBC","Shan_North","Manton","Howa",1,null,null,10,10,null,null,null,null,{"$f":"Table_Shelter[[#This Row],[HH per Shelter]]*(Table_Shelter[[#This Row],['# of Temporary Shelter Units Built]]+Table_Shelter[[#This Row],['# of Temporary Shelter Under Construction]]+Table_Shelter[[#This Row],['# of Permanent House Built]]+Table_Shelter[[#This Row],['# of Permanent House Under Construction]])","v":10},{"$f":"VLOOKUP(Table_Shelter[[#This Row],[Camp Name]],'Camp List'!N$5:O$400,2,0)","v":"MMR015CMP010"},{"$f":"VLOOKUP(Table_Shelter[[#This Row],[Camp Name]],'Camp List'!N$5:Z$395,14,0)","v":{"$error":"#REF!"}},null,null,{"$f":"MATCH(Table_Shelter[[#This Row],['# of Temporary Shelter Units Built]],Table_Shelter[[#This Row],[HH Covered]])","v":1}]
["31.12.2012","UNHCR","KBC","Shan_North","Manton","Mandung - Jinghpaw",1,null,null,10,10,null,null,null,null,{"$f":"Table_Shelter[[#This Row],[HH per Shelter]]*(Table_Shelter[[#This Row],['# of Temporary Shelter Units Built]]+Table_Shelter[[#This Row],['# of Temporary Shelter Under Construction]]+Table_Shelter[[#This Row],['# of Permanent House Built]]+Table_Shelter[[#This Row],['# of Permanent House Under Construction]])","v":10},{"$f":"VLOOKUP(Table_Shelter[[#This Row],[Camp Name]],'Camp List'!N$5:O$400,2,0)","v":"MMR015CMP009"},{"$f":"VLOOKUP(Table_Shelter[[#This Row],[Camp Name]],'Camp List'!N$5:Z$395,14,0)","v":{"$error":"#REF!"}},null,null,{"$f":"MATCH(Table_Shelter[[#This Row],['# of Temporary Shelter Units Built]],Table_Shelter[[#This Row],[HH Covered]])","v":1}]

{"sheet":"Shelter Progress","index":5,"n_rows":89,"n_cols":16,"rows_kept":89,"cut":false,"hidden":false,"merged":[[1,0,1,2]]}
[]
["KACHIN & NORTHERN SHAN SHELTER PROGRESS"]
[{"$f":"Report_Date","v":"2013-08-01"}]
["Township","Total # of HH (In camps)","Total # of Population (In camps)","Tents Distributed","Temporary Shelter Built","Temporary Shelter Under Construction","Temporary Shelter Planned","Permanent Shelter Built","Permament Shelter Under Construction","Permanent Shelter Planned","Coverage (HH)"," Coverage (in Pop)","Gap - HH","Covered","Ind. Not covered"]
["Bhamo",{"$f":"SUMIFS(Camplist_HH,Camplist_Township,'Shelter Progress'!$A5,Camplist_Type_Of_Acc,\"Camp\")","v":1002},{"$f":"SUMIFS(Camplist_Popl,Camplist_Township,'Shelter Progress'!$A5,Camplist_Type_Of_Acc,\"Camp\")","v":4529},{"$f":"SUMIF(Col_Shelter_Township,$A5,Col_Shelter_Tent_Dist)","v":0},{"$f":"SUMIF(Col_Shelter_Township,$A5,Col_Shelter_Temp_B)","v":477},{"$f":"SUMIF(Col_Shelter_Township,$A5,Col_Shelter_Temp_U)","v":0},{"$f":"SUMIF(Col_Shelter_Township,$A5,Col_Shelter_Temp_P)","v":447},{"$f":"SUMIF(Col_Shelter_Township,$A5,Col_Shelter_Perm_B)","v":0},{"$f":"SUMIF(Col_Shelter_Township,$A5,Col_Shelter_Perm_U)","v":0},{"$f":"SUMIF(Col_Shelter_Township,$A5,Col_Shelter_Perm_P)","v":0},{"$f":"SUMIF(Col_Shelter_Township,$A5,Shelter_HH_Covered)","v":477},{"$f":"K5*P5","v":2156.0209580838323},{"$f":"B5-K5","v":525},{"$f":"IF(K5=0,0.000001,K5/B5)","v":0.47604790419161674},{"$f":"MAX(0,C5-L5)","v":2372.9790419161677},{"$f":"IF(B5=0,5,C5/B5)","v":4.5199600798403194}]
["Chipwi",{"$f":"SUMIFS(Camplist_HH,Camplist_Township,'Shelter Progress'!$A6,Camplist_Type_Of_Acc,\"Camp\")","v":637},{"$f":"SUMIFS(Camplist_Popl,Camplist_Township,'Shelter Progress'!$A6,Camplist_Type_Of_Acc,\"Camp\")","v":3062},0,82,0,82,0,0,0,82,{"$f":"K6*P6","v":394.1664050235479},555,{"$f":"IF(K6=0,0.000001,K6/B6)","v":0.12872841444270017},2667.8335949764523,4.8069073783359499]
["Hpakant",{"$f":"SUMIFS(Camplist_HH,Camplist_Township,'Shelter Progress'!$A7,Camplist_Type_Of_Acc,\"Camp\")","v":1330},{"$f":"SUMIFS(Camplist_Popl,Camplist_Township,'Shelter Progress'!$A7,Camplist_Type_Of_Acc,\"Camp\")","v":5075},0,50,100,150,0,0,0,50,190.78947368421052,1280,3.7593984962406013E-2,4884.2105263157891,3.8157894736842106]
["Hseni",{"$f":"SUMIFS(Camplist_HH,Camplist_Township,'Shelter Progress'!$A8,Camplist_Type_Of_Acc,\"Camp\")","v":50},{"$f":"SUMIFS(Camplist_Popl,Camplist_Township,'Shelter Progress'!$A8,Camplist_Type_Of_Acc,\"Camp\")","v":258},0,0,0,0,0,0,0,0,0,50,9.9999999999999995E-7,258,5.16]
["Injangyang",{"$f":"SUMIFS(Camplist_HH,Camplist_Township,'Shelter Progress'!$A9,Camplist_Type_Of_Acc,\"Camp\")","v":0},{"$f":"SUMIFS(Camplist_Popl,Camplist_Township,'Shelter Progress'!$A9,Camplist_Type_Of_Acc,\"Camp\")","v":0},0,0,0,0,0,0,0,0,0,0,9.9999999999999995E-7,0,5]
["Khaunglanhpu",{"$f":"SUMIFS(Camplist_HH,Camplist_Township,'Shelter Progress'!$A10,Camplist_Type_Of_Acc,\"Camp\")","v":22},{"$f":"SUMIFS(Camplist_Popl,Camplist_Township,'Shelter Progress'!$A10,Camplist_Type_Of_Acc,\"Camp\")","v":107},0,0,0,0,0,0,0,0,0,22,9.9999999999999995E-7,107,4.8636363636363633]
["Kutkai",{"$f":"SUMIFS(Camplist_HH,Camplist_Township,'Shelter Progress'!$A11,Camplist_Type_Of_Acc,\"Camp\")","v":513},{"$f":"SUMIFS(Camplist_Popl,Camplist_Township,'Shelter Progress'!$A11,Camplist_Type_Of_Acc,\"Camp\")","v":2416},0,0,0,0,0,0,0,0,0,513,9.9999999999999995E-7,2416,4.7095516569200777]
["Mansi",{"$f":"SUMIFS(Camplist_HH,Camplist_Township,'Shelter Progress'!$A12,Camplist_Type_Of_Acc,\"Camp\")","v":1954},{"$f":"SUMIFS(Camplist_Popl,Camplist_Township,'Shelter Progress'!$A12,Camplist_Type_Of_Acc,\"Camp\")","v":10303},0,439,0,439,0,0,0,439,2314.7476970317298,1515,0.22466734902763563,7988.2523029682707,5.2727737973387923]
["Manton",{"$f":"SUMIFS(Camplist_HH,Camplist_Township,'Shelter Progress'!$A13,Camplist_Type_Of_Acc,\"Camp\")","v":69},{"$f":"SUMIFS(Camplist_Popl,Camplist_Township,'Shelter Progress'!$A13,Camplist_Type_Of_Acc,\"Camp\")","v":330},0,20,0,20,0,0,0,20,95.65217391304347,49,0.28985507246376813,234.34782608695653,4.7826086956521738]
["Mogaung",{"$f":"SUMIFS(Camplist_HH,Camplist_Township,'Shelter Progress'!$A14,Camplist_Type_Of_Acc,\"Camp\")","v":45},{"$f":"SUMIFS(Camplist_Popl,Camplist_Township,'Shelter Progress'!$A14,Camplist_Type_Of_Acc,\"Camp\")","v":187},0,40,0,40,0,0,0,40,166.22222222222223,5,0.88888888888888884,20.777777777777771,4.1555555555555559]
["Mohnyin",{"$f":"SUMIFS(Camplist_HH,Camplist_Township,'Shelter Progress'!$A15,Camplist_Type_Of_Acc,\"Camp\")","v":34},{"$f":"SUMIFS(Camplist_Popl,Camplist_Township,'Shelter Progress'!$A15,Camplist_Type_Of_Acc,\"Camp\")","v":144},0,32,0,32,0,0,0,32,135.52941176470588,2,0.94117647058823528,8.470588235294116,4.2352941176470589]
["Momauk",{"$f":"SUMIFS(Camplist_HH,Camplist_Township,'Shelter Progress'!$A16,Camplist_Type_Of_Acc,\"Camp\")","v":4096},{"$f":"SUMIFS(Camplist_Popl,Camplist_Township,'Shelter Progress'!$A16,Camplist_Type_Of_Acc,\"Camp\")","v":19697},0,2059,0,2125,0,0,0,2059,9901.397216796875,2037,0.502685546875,9795.602783203125,4.808837890625]
["Muse",{"$f":"SUMIFS(Camplist_HH,Camplist_Township,'Shelter Progress'!$A17,Camplist_Type_Of_Acc,\"Camp\")","v":208},{"$f":"SUMIFS(Camplist_Popl,Camplist_Township,'Shelter Progress'!$A17,Camplist_Type_Of_Acc,\"Camp\")","v":882},0,0,0,0,0,0,0,0,0,208,9.9999999999999995E-7,882,4.240384615384615]
["Myitkyina",{"$f":"SUMIFS(Camplist_HH,Camplist_Township,'Shelter Progress'!$A18,Camplist_Type_Of_Acc,\"Camp\")","v":1378},{"$f":"SUMIFS(Camplist_Popl,Camplist_Township,'Shelter Progress'!$A18,Camplist_Type_Of_Acc,\"Camp\")","v":6503},0,939,0,939,0,0,0,939,4431.289550072569,439,0.68142235123367201,2071.710449927431,4.7191582002902761]
["Namhkan",{"$f":"SUMIFS(Camplist_HH,Camplist_Township,'Shelter Progress'!$A19,Camplist_Type_Of_Acc,\"Camp\")","v":360},{"$f":"SUMIFS(Camplist_Popl,Camplist_Township,'Shelter Progress'!$A19,Camplist_Type_Of_Acc,\"Camp\")","v":1497},0,158,0,158,0,0,0,158,657.01666666666665,202,0.43888888888888888,839.98333333333335,4.1583333333333332]
["Namtu",{"$f":"SUMIFS(Camplist_HH,Camplist_Township,'Shelter Progress'!$A20,Camplist_Type_Of_Acc,\"Camp\")","v":177},{"$f":"SUMIFS(Camplist_Popl,Camplist_Township,'Shelter Progress'!$A20,Camplist_Type_Of_Acc,\"Camp\")","v":807},0,10,0,10,0,0,0,10,45.593220338983052,167,5.6497175141242938E-2,761.40677966101691,4.5593220338983054]
["Puta-O",{"$f":"SUMIFS(Camplist_HH,Camplist_Township,'Shelter Progress'!$A21,Camplist_Type_Of_Acc,\"Camp\")","v":7},{"$f":"SUMIFS(Camplist_Popl,Camplist_Township,'Shelter Progress'!$A21,Camplist_Type_Of_Acc,\"Camp\")","v":15},0,0,0,0,0,0,0,0,0,7,9.9999999999999995E-7,15,2.1428571428571428]
["Shwegu",{"$f":"SUMIFS(Camplist_HH,Camplist_Township,'Shelter Progress'!$A22,Camplist_Type_Of_Acc,\"Camp\")","v":526},{"$f":"SUMIFS(Camplist_Popl,Camplist_Township,'Shelter Progress'!$A22,Camplist_Type_Of_Acc,\"Camp\")","v":2128},0,76,0,58,0,0,0,76,0,450,{"$f":"IF(K22=0,0.000001,K22/B22)","v":0.14448669201520911},2128]
["Sumprabum",{"$f":"SUMIFS(Camplist_HH,Camplist_Township,'Shelter Progress'!$A23,Camplist_Type_Of_Acc,\"Camp\")","v":8},{"$f":"SUMIFS(Camplist_Popl,Camplist_Township,'Shelter Progress'!$A23,Camplist_Type_Of_Acc,\"Camp\")","v":38},0,0,0,0,0,0,0,0,0,8,9.9999999999999995E-7,38]
["Waingmaw",{"$f":"SUMIFS(Camplist_HH,Camplist_Township,'Shelter Progress'!$A24,Camplist_Type_Of_Acc,\"Camp\")","v":5245},{"$f":"SUMIFS(Camplist_Popl,Camplist_Township,'Shelter Progress'!$A24,Camplist_Type_Of_Acc,\"Camp\")","v":23482},0,2985,160,3145,0,0,0,2985,13363.921830314586,2260,0.5691134413727359,10118.078169685414,{"$f":"IF(B24=0,5,C24/B24)","v":4.4770257387988561}]
["Total",{"$f":"SUM(B5:B24)","v":17661},81460,0,7367,260,7645,0,0,0,7367,33852.346825912973,10294,{"$f":"K25/B25","v":0.41713379763320313},{"$f":"SUM(O5:O24)","v":47607.653174087027}]
["  ","  "]
[]
["    ","  "]
["Rakhine"]
[]
[]
[]
[]
[]
[]
[]
[]
[]
[]
[]
[]
[]
[]
[]
[]
[]
[]
[]
[]
[]
[]
[]
[]
[]
[]
[]
[]
[]
[]
[]
[]
[]
[]
[]
[]
[]
[]
[]
[]
[]
[]
[]
["State","(Multiple Items)",null,null,null,null,null,"State","(Multiple Items)"]
[]
["Row Labels","Sum of HHCovered",null,null,null,null,null,"Row Labels","Sum of #ofTemporaryShelterBuilt"]
["DRC",1419,null,null,null,null,null,"DRC",1419]
["UNHCR",4395,null,null,null,null,null,"UNHCR",4395]
["KBC",82,null,null,null,null,null,"KBC",82]
["Miserreor",12,null,null,null,null,null,"Miserreor",12]
["Shalom",32,null,null,null,null,null,"Shalom",32]
["World Vision",63,null,null,null,null,null,"World Vision",63]
["Ye Tiek  Foundation",10,null,null,null,null,null,"Ye Tiek  Foundation",10]
["Oxfam",380,null,null,null,null,null,"Oxfam",380]
["DFID",350,null,null,null,null,null,"DFID",350]
["IRRC",18,null,null,null,null,null,"IRRC",18]
["Metta Foundation",590,null,null,null,null,null,"Metta Foundation",590]
["Caritas",340,null,null,null,null,null,"Caritas",340]
["Robert Church",48,null,null,null,null,null,"Robert Church",48]
["Grand Total",7739,null,null,null,null,null,"Grand Total",7739]

{"sheet":"Shelter Summary (by Agency)","index":6,"n_rows":39,"n_cols":5,"rows_kept":39,"cut":false,"hidden":false,"merged":[[2,0,2,2],[1,0,1,2]]}
[]
["KACHIN & NORTHERN SHAN SHELTER SUMMARY (BY AGENCY)"]
[{"$f":"Report_Date","v":"2013-08-01"}]
[]
["State","(Multiple Items)","(Select State)"]
[]
["Row Labels","Temporary Shelter Built","Temporary Shelter Under Construction","Permanent House Built","Permanent House Under Construction"]
["Caritas",340]
["DFID",350]
["DRC",1419]
["IRRC",18]
["KBC",82]
["Metta Foundation",590]
["Miserreor",12]
["Oxfam",380]
["Robert Church",48]
["Shalom",32]
["UNHCR",4395,260]
["World Vision",63]
["Ye Tiek  Foundation",10]
["Grand Total",7739,260]
[]
["State","(Multiple Items)"]
[]
["Row Labels","Sum of HHCovered"]
["Caritas",340]
["DFID",350]
["DRC",1419]
["IRRC",18]
["KBC",82]
["Metta Foundation",590]
["Miserreor",12]
["Oxfam",380]
["Robert Church",48]
["Shalom",32]
["UNHCR",4395]
["World Vision",63]
["Ye Tiek  Foundation",10]
["Grand Total",7739]

{"sheet":"Shelter Coverage & Gaps","index":7,"n_rows":36,"n_cols":7,"rows_kept":36,"cut":false,"hidden":false,"merged":[[1,0,1,7],[2,0,2,7],[13,1,13,3],[13,4,13,6]]}
[]
["KACHIN & NORTHERN SHAN SHELTER COVERAGE & GAPS"]
[{"$f":"Report_Date","v":"2013-08-01"}]
[]
[]
[]
[]
[]
[]
[]
[]
[]
[]
[null,"Population",null,null,"Shelter"]
["Township","# of HH","# of Ind.","# of Camp","# Ind. Covered","# Ind. Not Covered","% Coverage"]
["Bhamo",{"$f":"SUMIFS(Camplist_HH,Camplist_Township,'Shelter Coverage & Gaps'!$A16,Camplist_Type_Of_Acc,\"Camp\")","v":1002},{"$f":"SUMIFS(Camplist_Popl,Camplist_Township,'Shelter Coverage & Gaps'!$A16,Camplist_Type_Of_Acc,\"Camp\")","v":4529},{"$f":"COUNTIFS(Camplist_Township,'Shelter Coverage & Gaps'!A16,CampList_Status,\"open\",Camplist_Type_Of_Acc,\"Camp\")","v":11},{"$f":"'Shelter Progress'!L5","v":2156.0209580838323},{"$f":"'Shelter Progress'!O5","v":2372.9790419161677},{"$f":"IF(E16>0,E16/(E16+F16),0.00000001)","v":0.47604790419161674}]
["Chipwi",{"$f":"SUMIFS(Camplist_HH,Camplist_Township,'Shelter Coverage & Gaps'!$A17,Camplist_Type_Of_Acc,\"Camp\")","v":637},{"$f":"SUMIFS(Camplist_Popl,Camplist_Township,'Shelter Coverage & Gaps'!$A17,Camplist_Type_Of_Acc,\"Camp\")","v":3062},{"$f":"COUNTIFS(Camplist_Township,'Shelter Coverage & Gaps'!A17,CampList_Status,\"open\",Camplist_Type_Of_Acc,\"Camp\")","v":4},{"$f":"'Shelter Progress'!L6","v":394.1664050235479},{"$f":"'Shelter Progress'!O6","v":2667.8335949764523},{"$f":"IF(E17>0,E17/(E17+F17),0.00000001)","v":0.12872841444270017}]
["Hpakant",{"$f":"SUMIFS(Camplist_HH,Camplist_Township,'Shelter Coverage & Gaps'!$A18,Camplist_Type_Of_Acc,\"Camp\")","v":1330},{"$f":"SUMIFS(Camplist_Popl,Camplist_Township,'Shelter Coverage & Gaps'!$A18,Camplist_Type_Of_Acc,\"Camp\")","v":5075},{"$f":"COUNTIFS(Camplist_Township,'Shelter Coverage & Gaps'!A18,CampList_Status,\"open\",Camplist_Type_Of_Acc,\"Camp\")","v":24},{"$f":"'Shelter Progress'!L7","v":190.78947368421052},{"$f":"'Shelter Progress'!O7","v":4884.2105263157891},3.7593984962406013E-2]
["Hseni",{"$f":"SUMIFS(Camplist_HH,Camplist_Township,'Shelter Coverage & Gaps'!$A19,Camplist_Type_Of_Acc,\"Camp\")","v":50},{"$f":"SUMIFS(Camplist_Popl,Camplist_Township,'Shelter Coverage & Gaps'!$A19,Camplist_Type_Of_Acc,\"Camp\")","v":258},{"$f":"COUNTIFS(Camplist_Township,'Shelter Coverage & Gaps'!A19,CampList_Status,\"open\",Camplist_Type_Of_Acc,\"Camp\")","v":1},{"$f":"'Shelter Progress'!L8","v":0},{"$f":"'Shelter Progress'!O8","v":258},1E-8]
["Injangyang",{"$f":"SUMIFS(Camplist_HH,Camplist_Township,'Shelter Coverage & Gaps'!$A20,Camplist_Type_Of_Acc,\"Camp\")","v":0},{"$f":"SUMIFS(Camplist_Popl,Camplist_Township,'Shelter Coverage & Gaps'!$A20,Camplist_Type_Of_Acc,\"Camp\")","v":0},{"$f":"COUNTIFS(Camplist_Township,'Shelter Coverage & Gaps'!A20,CampList_Status,\"open\",Camplist_Type_Of_Acc,\"Camp\")","v":1},{"$f":"'Shelter Progress'!L9","v":0},{"$f":"'Shelter Progress'!O9","v":0},1E-8]
["Khaunglanhpu",{"$f":"SUMIFS(Camplist_HH,Camplist_Township,'Shelter Coverage & Gaps'!$A21,Camplist_Type_Of_Acc,\"Camp\")","v":22},{"$f":"SUMIFS(Camplist_Popl,Camplist_Township,'Shelter Coverage & Gaps'!$A21,Camplist_Type_Of_Acc,\"Camp\")","v":107},{"$f":"COUNTIFS(Camplist_Township,'Shelter Coverage & Gaps'!A21,CampList_Status,\"open\",Camplist_Type_Of_Acc,\"Camp\")","v":1},{"$f":"'Shelter Progress'!L10","v":0},{"$f":"'Shelter Progress'!O10","v":107},1E-8]
["Kutkai",{"$f":"SUMIFS(Camplist_HH,Camplist_Township,'Shelter Coverage & Gaps'!$A22,Camplist_Type_Of_Acc,\"Camp\")","v":513},{"$f":"SUMIFS(Camplist_Popl,Camplist_Township,'Shelter Coverage & Gaps'!$A22,Camplist_Type_Of_Acc,\"Camp\")","v":2416},{"$f":"COUNTIFS(Camplist_Township,'Shelter Coverage & Gaps'!A22,CampList_Status,\"open\",Camplist_Type_Of_Acc,\"Camp\")","v":8},{"$f":"'Shelter Progress'!L11","v":0},{"$f":"'Shelter Progress'!O11","v":2416},1E-8]
["Mansi",{"$f":"SUMIFS(Camplist_HH,Camplist_Township,'Shelter Coverage & Gaps'!$A23,Camplist_Type_Of_Acc,\"Camp\")","v":1954},{"$f":"SUMIFS(Camplist_Popl,Camplist_Township,'Shelter Coverage & Gaps'!$A23,Camplist_Type_Of_Acc,\"Camp\")","v":10303},{"$f":"COUNTIFS(Camplist_Township,'Shelter Coverage & Gaps'!A23,CampList_Status,\"open\",Camplist_Type_Of_Acc,\"Camp\")","v":11},{"$f":"'Shelter Progress'!L12","v":2314.7476970317298},{"$f":"'Shelter Progress'!O12","v":7988.2523029682707},0.22466734902763563]
["Manton",{"$f":"SUMIFS(Camplist_HH,Camplist_Township,'Shelter Coverage & Gaps'!$A24,Camplist_Type_Of_Acc,\"Camp\")","v":69},{"$f":"SUMIFS(Camplist_Popl,Camplist_Township,'Shelter Coverage & Gaps'!$A24,Camplist_Type_Of_Acc,\"Camp\")","v":330},{"$f":"COUNTIFS(Camplist_Township,'Shelter Coverage & Gaps'!A24,CampList_Status,\"open\",Camplist_Type_Of_Acc,\"Camp\")","v":4},{"$f":"'Shelter Progress'!L13","v":95.65217391304347},{"$f":"'Shelter Progress'!O13","v":234.34782608695653},0.28985507246376807]
["Mogaung",{"$f":"SUMIFS(Camplist_HH,Camplist_Township,'Shelter Coverage & Gaps'!$A25,Camplist_Type_Of_Acc,\"Camp\")","v":45},{"$f":"SUMIFS(Camplist_Popl,Camplist_Township,'Shelter Coverage & Gaps'!$A25,Camplist_Type_Of_Acc,\"Camp\")","v":187},{"$f":"COUNTIFS(Camplist_Township,'Shelter Coverage & Gaps'!A25,CampList_Status,\"open\",Camplist_Type_Of_Acc,\"Camp\")","v":3},{"$f":"'Shelter Progress'!L14","v":166.22222222222223},{"$f":"'Shelter Progress'!O14","v":20.777777777777771},0.88888888888888895]
["Mohnyin",{"$f":"SUMIFS(Camplist_HH,Camplist_Township,'Shelter Coverage & Gaps'!$A26,Camplist_Type_Of_Acc,\"Camp\")","v":34},{"$f":"SUMIFS(Camplist_Popl,Camplist_Township,'Shelter Coverage & Gaps'!$A26,Camplist_Type_Of_Acc,\"Camp\")","v":144},{"$f":"COUNTIFS(Camplist_Township,'Shelter Coverage & Gaps'!A26,CampList_Status,\"open\",Camplist_Type_Of_Acc,\"Camp\")","v":3},{"$f":"'Shelter Progress'!L15","v":135.52941176470588},{"$f":"'Shelter Progress'!O15","v":8.470588235294116},0.94117647058823528]
["Momauk",{"$f":"SUMIFS(Camplist_HH,Camplist_Township,'Shelter Coverage & Gaps'!$A27,Camplist_Type_Of_Acc,\"Camp\")","v":4096},{"$f":"SUMIFS(Camplist_Popl,Camplist_Township,'Shelter Coverage & Gaps'!$A27,Camplist_Type_Of_Acc,\"Camp\")","v":19697},{"$f":"COUNTIFS(Camplist_Township,'Shelter Coverage & Gaps'!A27,CampList_Status,\"open\",Camplist_Type_Of_Acc,\"Camp\")","v":16},{"$f":"'Shelter Progress'!L16","v":9901.397216796875},{"$f":"'Shelter Progress'!O16","v":9795.602783203125},0.502685546875]
["Muse",{"$f":"SUMIFS(Camplist_HH,Camplist_Township,'Shelter Coverage & Gaps'!$A28,Camplist_Type_Of_Acc,\"Camp\")","v":208},{"$f":"SUMIFS(Camplist_Popl,Camplist_Township,'Shelter Coverage & Gaps'!$A28,Camplist_Type_Of_Acc,\"Camp\")","v":882},{"$f":"COUNTIFS(Camplist_Township,'Shelter Coverage & Gaps'!A28,CampList_Status,\"open\",Camplist_Type_Of_Acc,\"Camp\")","v":3},{"$f":"'Shelter Progress'!L17","v":0},{"$f":"'Shelter Progress'!O17","v":882},1E-8]
["Myitkyina",{"$f":"SUMIFS(Camplist_HH,Camplist_Township,'Shelter Coverage & Gaps'!$A29,Camplist_Type_Of_Acc,\"Camp\")","v":1378},{"$f":"SUMIFS(Camplist_Popl,Camplist_Township,'Shelter Coverage & Gaps'!$A29,Camplist_Type_Of_Acc,\"Camp\")","v":6503},{"$f":"COUNTIFS(Camplist_Township,'Shelter Coverage & Gaps'!A29,CampList_Status,\"open\",Camplist_Type_Of_Acc,\"Camp\")","v":25},{"$f":"'Shelter Progress'!L18","v":4431.289550072569},{"$f":"'Shelter Progress'!O18","v":2071.710449927431},0.68142235123367201]
["Namhkan",{"$f":"SUMIFS(Camplist_HH,Camplist_Township,'Shelter Coverage & Gaps'!$A30,Camplist_Type_Of_Acc,\"Camp\")","v":360},{"$f":"SUMIFS(Camplist_Popl,Camplist_Township,'Shelter Coverage & Gaps'!$A30,Camplist_Type_Of_Acc,\"Camp\")","v":1497},{"$f":"COUNTIFS(Camplist_Township,'Shelter Coverage & Gaps'!A30,CampList_Status,\"open\",Camplist_Type_Of_Acc,\"Camp\")","v":6},{"$f":"'Shelter Progress'!L19","v":657.01666666666665},{"$f":"'Shelter Progress'!O19","v":839.98333333333335},0.43888888888888888]
["Namtu",{"$f":"SUMIFS(Camplist_HH,Camplist_Township,'Shelter Coverage & Gaps'!$A31,Camplist_Type_Of_Acc,\"Camp\")","v":177},{"$f":"SUMIFS(Camplist_Popl,Camplist_Township,'Shelter Coverage & Gaps'!$A31,Camplist_Type_Of_Acc,\"Camp\")","v":807},{"$f":"COUNTIFS(Camplist_Township,'Shelter Coverage & Gaps'!A31,CampList_Status,\"open\",Camplist_Type_Of_Acc,\"Camp\")","v":2},{"$f":"'Shelter Progress'!L20","v":45.593220338983052},{"$f":"'Shelter Progress'!O20","v":761.40677966101691},5.6497175141242938E-2]
["Puta-O",{"$f":"SUMIFS(Camplist_HH,Camplist_Township,'Shelter Coverage & Gaps'!$A32,Camplist_Type_Of_Acc,\"Camp\")","v":7},{"$f":"SUMIFS(Camplist_Popl,Camplist_Township,'Shelter Coverage & Gaps'!$A32,Camplist_Type_Of_Acc,\"Camp\")","v":15},{"$f":"COUNTIFS(Camplist_Township,'Shelter Coverage & Gaps'!A32,CampList_Status,\"open\",Camplist_Type_Of_Acc,\"Camp\")","v":1},{"$f":"'Shelter Progress'!L21","v":0},{"$f":"'Shelter Progress'!O21","v":15},1E-8]
["Shwegu",{"$f":"SUMIFS(Camplist_HH,Camplist_Township,'Shelter Coverage & Gaps'!$A33,Camplist_Type_Of_Acc,\"Camp\")","v":526},{"$f":"SUMIFS(Camplist_Popl,Camplist_Township,'Shelter Coverage & Gaps'!$A33,Camplist_Type_Of_Acc,\"Camp\")","v":2128},{"$f":"COUNTIFS(Camplist_Township,'Shelter Coverage & Gaps'!A33,CampList_Status,\"open\",Camplist_Type_Of_Acc,\"Camp\")","v":3},{"$f":"'Shelter Progress'!L22","v":0},{"$f":"'Shelter Progress'!O22","v":2128},1E-8]
["Sumprabum",{"$f":"SUMIFS(Camplist_HH,Camplist_Township,'Shelter Coverage & Gaps'!$A34,Camplist_Type_Of_Acc,\"Camp\")","v":8},{"$f":"SUMIFS(Camplist_Popl,Camplist_Township,'Shelter Coverage & Gaps'!$A34,Camplist_Type_Of_Acc,\"Camp\")","v":38},{"$f":"COUNTIFS(Camplist_Township,'Shelter Coverage & Gaps'!A34,CampList_Status,\"open\",Camplist_Type_Of_Acc,\"Camp\")","v":1},{"$f":"'Shelter Progress'!L23","v":0},{"$f":"'Shelter Progress'!O23","v":38},1E-8]
["Waingmaw",{"$f":"SUMIFS(Camplist_HH,Camplist_Township,'Shelter Coverage & Gaps'!$A35,Camplist_Type_Of_Acc,\"Camp\")","v":5245},{"$f":"SUMIFS(Camplist_Popl,Camplist_Township,'Shelter Coverage & Gaps'!$A35,Camplist_Type_Of_Acc,\"Camp\")","v":23482},{"$f":"COUNTIFS(Camplist_Township,'Shelter Coverage & Gaps'!A35,CampList_Status,\"open\",Camplist_Type_Of_Acc,\"Camp\")","v":24},{"$f":"'Shelter Progress'!L24","v":13363.921830314586},{"$f":"'Shelter Progress'!O24","v":10118.078169685414},0.56911344137273601]
["Total",{"$f":"SUM(B16:B35)","v":17661},{"$f":"SUM(C16:C35)","v":81460},{"$f":"SUM(D16:D35)","v":152},{"$f":"SUM(E16:E35)","v":33852.346825912973},{"$f":"SUM(F16:F35)","v":47607.653174087027},0.41557017954717618]

{"sheet":"Kachin","index":8,"n_rows":21,"n_cols":14,"rows_kept":21,"cut":false,"hidden":true,"merged":[]}
["Camp",null,null,null,null,null,null,"Shelter","NFI",null,null,"Pos",130]
["Pcode","Township","Long.","Lat.","HS","Pop","N_cps","Coverage","Hygiene","Core","Sanitary","Y","X","Column1"]
["MMR001010","Bhamo",97.219583333333318,24.26,1276,5768,{"$f":"CONCATENATE(N3, \" cp\",IF(N3>1,\"s\",\"\"))","v":"13 cps"},0.14498432601880878,0,0,0,{"$f":"1000-ROUND((D3-23.5)*$M$1,0)","v":901},{"$f":"ROUND((C3-96.5)*$M$1,0)+100","v":194},13]
["MMR001005","Chipwi",98.322799999999987,25.917999999999999,95.4,830,"6 cps",0.85953878406708595,1,0,0.95387840670859536,686,337,6]
["MMR001009","Hpakant",96.37375000000003,25.584861111111106,1330,5069,"23 cps",3.759398496240602E-2,0.69172932330827064,0,1,729,84,23]
["MMR001003","Injangyang",97.89587301587305,26.232698412698419,0,0,"1 cp",0,0,0,0,645,281,1]
["MMR001018","Khaunglanhpu",98.438571428571422,27.165142857142865,22,107,"1 cp",0,0,0,0,524,352,1]
["MMR015011","Kutkai",98.1,23.553031914893619,148,571,"8 cps",8.5177519503263813E-2,0,0,1,993,308,8]
["MMR001013","Mansi",97.372845528455244,23.94,1551.2,7286,"11 cps",0.150914193084108,0,0,0,943,213,11]
["MMR015019","Manton",97.266347826086943,23.345826086956535,53,260,"3 cps",0.54196255008529381,0,0,0,1020,200,3]
["MMR001008","Mogaung",96.82479452054794,25.25780821917807,45,188,"3 cps",1,0,0,0,771,142,3]
["MMR001007","Mohnyin",96.376558441558373,24.957077922077939,34,143,"3 cps",1,1,0,0,811,84,3]
["MMR001012","Momauk",97.449510489510473,24.6,5355,25037,"25 cps",0.26441102462473187,0.12549019607843137,0,0.58263305322128844,857,223,25]
["MMR015009","Muse",98.12,23.972235294117642,208,882,"4 cps",0,0,0,0,939,311,4]
["MMR001001","Myitkyina",97.301176470588288,25.24,1434,6480,"25 cps",0.67139423076923077,0.65062761506276146,0,0.25732217573221761,774,204,25]
["MMR015010","Namhkan",97.619855072463778,23.7,284,1367,"7 cps",1,0,0,0,974,246,7]
["MMR015015","Namtu",97.48,23.01813559322035,18,74,"1 cp",1,0,0,0,1063,227,1]
["MMR001014","Puta-O",97.435148514851463,27.327029702970304,0,0,"1 cp",0,0,0,0,502,222,1]
["MMR001011","Shwegu",96.752179487179433,24.233846153846141,535,2153,"4 cps",2.3223409196470042E-2,0,0,0,905,133,4]
["MMR001002","Waingmaw",97.7,25.37,5769,26775,"25 cps",0.57625257205686009,0.37372161553128791,0,4.6281851274050934E-2,{"$f":"1000-ROUND((D20-23.5)*$M$1,0)","v":757},{"$f":"ROUND((C20-96.5)*$M$1,0)+100","v":256},25]
[null,"Kachin/Shan","96.00","27.00",{"$f":"SUBTOTAL(109,Table58[HS])","v":18157.599999999999},{"$f":"SUBTOTAL(109,Table58[Pop])","v":82990},{"$f":"CONCATENATE(Table58[[#Totals],[Column1]],\" camps\")","v":"164 camps"},{"$f":"SUMPRODUCT(Table58[Pop]*Table58[Coverage])/Table58[[#Totals],[Pop]]","v":0.37656602224644431},{"$f":"SUMPRODUCT(Table58[Pop]*Table58[Hygiene])/Table58[[#Totals],[Pop]]","v":0.26320926835187658},{"$f":"SUMPRODUCT(Table58[Pop]*Table58[Core])/Table58[[#Totals],[Pop]]","v":0},{"$f":"SUMPRODUCT(Table58[Pop]*Table58[Sanitary])/Table58[[#Totals],[Pop]]","v":0.28829674777294872},{"$f":"1000-ROUND((D21-23.5)*$M$1,0)","v":545},{"$f":"ROUND((C21-96.5)*$M$1,0)+100","v":35},"164"]

{"sheet":"NFI Tracking","index":9,"n_rows":1069,"n_cols":29,"rows_kept":1069,"cut":false,"hidden":false,"merged":[[3,0,3,2],[1,0,1,7],[2,0,2,7]]}
[null,null,null,null,null,null,null,null,{"$f":"'NFI Covergae & Gaps'!P1","v":1}]
["KACHIN & NORTHERN SHAN NFI TRACKING"]
[{"$f":"Report_Date","v":"2013-08-01"}]
[]
["Months","Distribution Date","Organization","Implementing Partner","State","Township","Camp Name","Hygiene Kit","NFI Core Kit","Sanitary Kit","Mosquito net","Tarpaulin","Blanket","Kitchen Set","Complementary Kit","Plastic Bucket","Plastic Mat","Hygiene Kit2","NFI Core Kit3","Sanitary Kit4","Mosquito net5","Tarpaulin6","Blanket7","Kitchen Set8","Complementary Kit9","Plastic Bucket ","Plastic  Mat ","Pcode","Status"]
[{"$f":"IF(ISBLANK(B6),\"\",(Report_Date-B6)/30)","v":14.766666666666667},"2012-05-15","UNHCR","KBSS","Kachin","Bhamo","AD-2000 Tharthana Compound",null,null,0,90,0,0,0,0,null,null,{"$f":"IF(NFI_Expiration=1,IF($A6<VLOOKUP(H$5,NFI,5,0),1,0)*Table_NFI[[#This Row],[Hygiene Kit]],0)","v":0},{"$f":"IF(NFI_Expiration=1,IF($A6<VLOOKUP(I$5,NFI,5,0),1,0)*Table_NFI[[#This Row],[NFI Core Kit]],0)","v":0},{"$f":"IF(NFI_Expiration=1,IF($A6<VLOOKUP(J$5,NFI,5,0),1,0)*Table_NFI[[#This Row],[Sanitary Kit]],0)","v":0},{"$f":"IF(NFI_Expiration=1,IF($A6<VLOOKUP(K$5,NFI,5,0),1,0)*Table_NFI[[#This Row],[Mosquito net]],0)","v":0},{"$f":"IF(NFI_Expiration=1,IF($A6<VLOOKUP(L$5,NFI,5,0),1,0)*Table_NFI[[#This Row],[Tarpaulin]],0)","v":0},{"$f":"IF(NFI_Expiration=1,IF($A6<VLOOKUP(M$5,NFI,5,0),1,0)*Table_NFI[[#This Row],[Blanket]],0)","v":0},{"$f":"IF(NFI_Expiration=1,IF($A6<VLOOKUP(N$5,NFI,5,0),1,0)*Table_NFI[[#This Row],[Kitchen Set]],0)","v":0},{"$f":"IF(NFI_Expiration=1,IF($A6<VLOOKUP(O$5,NFI,5,0),1,0)*Table_NFI[[#This Row],[Complementary Kit]],0)","v":0},{"$f":"IF(NFI_Expiration=1,IF($A6<VLOOKUP(P$5,NFI,5,0),1,0)*Table_NFI[[#This Row],[Plastic Bucket]],0)","v":0},{"$f":"IF(NFI_Expiration=1,IF($A6<VLOOKUP(Q$5,NFI,5,0),1,0)*Table_NFI[[#This Row],[Plastic Mat]],0)","v":0},{"$f":"VLOOKUP(Table_NFI[[#This Row],[Camp Name]],'Camp List'!N$5:Z$347,2,0)","v":"MMR001CMP050"},{"$f":"VLOOKUP(Table_NFI[[#This Row],[Camp Name]],'Camp List'!N$5:Z$347,13,0)","v":"Open"}]
[14.566666666666666,"2012-05-21","UNHCR","UNHCR","Kachin","Bhamo","AD-2000 Tharthana Compound",null,null,0,0,15,0,0,0,null,null,{"$f":"IF(NFI_Expiration=1,IF($A7<VLOOKUP(H$5,NFI,5,0),1,0)*Table_NFI[[#This Row],[Hygiene Kit]],0)","v":0},{"$f":"IF(NFI_Expiration=1,IF($A7<VLOOKUP(I$5,NFI,5,0),1,0)*Table_NFI[[#This Row],[NFI Core Kit]],0)","v":0},{"$f":"IF(NFI_Expiration=1,IF($A7<VLOOKUP(J$5,NFI,5,0),1,0)*Table_NFI[[#This Row],[Sanitary Kit]],0)","v":0},{"$f":"IF(NFI_Expiration=1,IF($A7<VLOOKUP(K$5,NFI,5,0),1,0)*Table_NFI[[#This Row],[Mosquito net]],0)","v":0},{"$f":"IF(NFI_Expiration=1,IF($A7<VLOOKUP(L$5,NFI,5,0),1,0)*Table_NFI[[#This Row],[Tarpaulin]],0)","v":0},{"$f":"IF(NFI_Expiration=1,IF($A7<VLOOKUP(M$5,NFI,5,0),1,0)*Table_NFI[[#This Row],[Blanket]],0)","v":0},{"$f":"IF(NFI_Expiration=1,IF($A7<VLOOKUP(N$5,NFI,5,0),1,0)*Table_NFI[[#This Row],[Kitchen Set]],0)","v":0},{"$f":"IF(NFI_Expiration=1,IF($A7<VLOOKUP(O$5,NFI,5,0),1,0)*Table_NFI[[#This Row],[Complementary Kit]],0)","v":0},{"$f":"IF(NFI_Expiration=1,IF($A7<VLOOKUP(P$5,NFI,5,0),1,0)*Table_NFI[[#This Row],[Plastic Bucket]],0)","v":0},{"$f":"IF(NFI_Expiration=1,IF($A7<VLOOKUP(Q$5,NFI,5,0),1,0)*Table_NFI[[#This Row],[Plastic Mat]],0)","v":0},{"$f":"VLOOKUP(Table_NFI[[#This Row],[Camp Name]],'Camp List'!N$5:Z$347,2,0)","v":"MMR001CMP050"},{"$f":"VLOOKUP(Table_NFI[[#This Row],[Camp Name]],'Camp List'!N$5:Z$347,13,0)","v":"Open"}]
[14.233333333333333,"2012-05-31","UNHCR","KBC","Kachin","Bhamo","Robert Church",null,null,0,0,20,0,0,0,null,null,{"$f":"IF(NFI_Expiration=1,IF($A8<VLOOKUP(H$5,NFI,5,0),1,0)*Table_NFI[[#This Row],[Hygiene Kit]],0)","v":0},{"$f":"IF(NFI_Expiration=1,IF($A8<VLOOKUP(I$5,NFI,5,0),1,0)*Table_NFI[[#This Row],[NFI Core Kit]],0)","v":0},{"$f":"IF(NFI_Expiration=1,IF($A8<VLOOKUP(J$5,NFI,5,0),1,0)*Table_NFI[[#This Row],[Sanitary Kit]],0)","v":0},{"$f":"IF(NFI_Expiration=1,IF($A8<VLOOKUP(K$5,NFI,5,0),1,0)*Table_NFI[[#This Row],[Mosquito net]],0)","v":0},{"$f":"IF(NFI_Expiration=1,IF($A8<VLOOKUP(L$5,NFI,5,0),1,0)*Table_NFI[[#This Row],[Tarpaulin]],0)","v":0},{"$f":"IF(NFI_Expiration=1,IF($A8<VLOOKUP(M$5,NFI,5,0),1,0)*Table_NFI[[#This Row],[Blanket]],0)","v":0},{"$f":"IF(NFI_Expiration=1,IF($A8<VLOOKUP(N$5,NFI,5,0),1,0)*Table_NFI[[#This Row],[Kitchen Set]],0)","v":0},{"$f":"IF(NFI_Expiration=1,IF($A8<VLOOKUP(O$5,NFI,5,0),1,0)*Table_NFI[[#This Row],[Complementary Kit]],0)","v":0},{"$f":"IF(NFI_Expiration=1,IF($A8<VLOOKUP(P$5,NFI,5,0),1,0)*Table_NFI[[#This Row],[Plastic Bucket]],0)","v":0},{"$f":"IF(NFI_Expiration=1,IF($A8<VLOOKUP(Q$5,NFI,5,0),1,0)*Table_NFI[[#This Row],[Plastic Mat]],0)","v":0},{"$f":"VLOOKUP(Table_NFI[[#This Row],[Camp Name]],'Camp List'!N$5:Z$347,2,0)","v":"MMR001CMP047"},{"$f":"VLOOKUP(Table_NFI[[#This Row],[Camp Name]],'Camp List'!N$5:Z$347,13,0)","v":"Open"}]
[7.4333333333333336,"2012-12-21","UNHCR","UNHCR","Kachin","Bhamo","Robert Church",null,null,0,0,0,73,0,0,null,null,{"$f":"IF(NFI_Expiration=1,IF($A9<VLOOKUP(H$5,NFI,5,0),1,0)*Table_NFI[[#This Row],[Hygiene Kit]],0)","v":0},{"$f":"IF(NFI_Expiration=1,IF($A9<VLOOKUP(I$5,NFI,5,0),1,0)*Table_NFI[[#This Row],[NFI Core Kit]],0)","v":0},{"$f":"IF(NFI_Expiration=1,IF($A9<VLOOKUP(J$5,NFI,5,0),1,0)*Table_NFI[[#This Row],[Sanitary Kit]],0)","v":0},{"$f":"IF(NFI_Expiration=1,IF($A9<VLOOKUP(K$5,NFI,5,0),1,0)*Table_NFI[[#This Row],[Mosquito net]],0)","v":0},{"$f":"IF(NFI_Expiration=1,IF($A9<VLOOKUP(L$5,NFI,5,0),1,0)*Table_NFI[[#This Row],[Tarpaulin]],0)","v":0},{"$f":"IF(NFI_Expiration=1,IF($A9<VLOOKUP(M$5,NFI,5,0),1,0)*Table_NFI[[#This Row],[Blanket]],0)","v":73},{"$f":"IF(NFI_Expiration=1,IF($A9<VLOOKUP(N$5,NFI,5,0),1,0)*Table_NFI[[#This Row],[Kitchen Set]],0)","v":0},{"$f":"IF(NFI_Expiration=1,IF($A9<VLOOKUP(O$5,NFI,5,0),1,0)*Table_NFI[[#This Row],[Complementary Kit]],0)","v":0},{"$f":"IF(NFI_Expiration=1,IF($A9<VLOOKUP(P$5,NFI,5,0),1,0)*Table_NFI[[#This Row],[Plastic Bucket]],0)","v":0},{"$f":"IF(NFI_Expiration=1,IF($A9<VLOOKUP(Q$5,NFI,5,0),1,0)*Table_NFI[[#This Row],[Plastic Mat]],0)","v":0},{"$f":"VLOOKUP(Table_NFI[[#This Row],[Camp Name]],'Camp List'!N$5:Z$347,2,0)","v":"MMR001CMP047"},{"$f":"VLOOKUP(Table_NFI[[#This Row],[Camp Name]],'Camp List'!N$5:Z$347,13,0)","v":"Open"}]
[8.8000000000000007,"2012-11-10","UNHCR","UNHCR","Kachin","Hpakant","Hlaing Naung Baptist",null,null,0,12,0,12,0,0,null,null,{"$f":"IF(NFI_Expiration=1,IF($A10<VLOOKUP(H$5,NFI,5,0),1,0)*Table_NFI[[#This Row],[Hygiene Kit]],0)","v":0},{"$f":"IF(NFI_Expiration=1,IF($A10<VLOOKUP(I$5,NFI,5,0),1,0)*Table_NFI[[#This Row],[NFI Core Kit]],0)","v":0},{"$f":"IF(NFI_Expiration=1,IF($A10<VLOOKUP(J$5,NFI,5,0),1,0)*Table_NFI[[#This Row],[Sanitary Kit]],0)","v":0},{"$f":"IF(NFI_Expiration=1,IF($A10<VLOOKUP(K$5,NFI,5,0),1,0)*Table_NFI[[#This Row],[Mosquito net]],0)","v":12},{"$f":"IF(NFI_Expiration=1,IF($A10<VLOOKUP(L$5,NFI,5,0),1,0)*Table_NFI[[#This Row],[Tarpaulin]],0)","v":0},{"$f":"IF(NFI_Expiration=1,IF($A10<VLOOKUP(M$5,NFI,5,0),1,0)*Table_NFI[[#This Row],[Blanket]],0)","v":12},{"$f":"IF(NFI_Expiration=1,IF($A10<VLOOKUP(N$5,NFI,5,0),1,0)*Table_NFI[[#This Row],[Kitchen Set]],0)","v":0},{"$f":"IF(NFI_Expiration=1,IF($A10<VLOOKUP(O$5,NFI,5,0),1,0)*Table_NFI[[#This Row],[Complementary Kit]],0)","v":0},{"$f":"IF(NFI_Expiration=1,IF($A10<VLOOKUP(P$5,NFI,5,0),1,0)*Table_NFI[[#This Row],[Plastic Bucket]],0)","v":0},{"$f":"IF(NFI_Expiration=1,IF($A10<VLOOKUP(Q$5,NFI,5,0),1,0)*Table_NFI[[#This Row],[Plastic Mat]],0)","v":0},{"$f":"VLOOKUP(Table_NFI[[#This Row],[Camp Name]],'Camp List'!N$5:Z$347,2,0)","v":"MMR001CMP148"},{"$f":"VLOOKUP(Table_NFI[[#This Row],[Camp Name]],'Camp List'!N$5:Z$347,13,0)","v":"Open"}]
[7.4666666666666668,"2012-12-20","UNHCR","KBC","Kachin","Hpakant","Hlaing Naung Baptist",null,null,0,12,0,12,0,0,null,null,{"$f":"IF(NFI_Expiration=1,IF($A11<VLOOKUP(H$5,NFI,5,0),1,0)*Table_NFI[[#This Row],[Hygiene Kit]],0)","v":0},{"$f":"IF(NFI_Expiration=1,IF($A11<VLOOKUP(I$5,NFI,5,0),1,0)*Table_NFI[[#This Row],[NFI Core Kit]],0)","v":0},{"$f":"IF(NFI_Expiration=1,IF($A11<VLOOKUP(J$5,NFI,5,0),1,0)*Table_NFI[[#This Row],[Sanitary Kit]],0)","v":0},{"$f":"IF(NFI_Expiration=1,IF($A11<VLOOKUP(K$5,NFI,5,0),1,0)*Table_NFI[[#This Row],[Mosquito net]],0)","v":12},{"$f":"IF(NFI_Expiration=1,IF($A11<VLOOKUP(L$5,NFI,5,0),1,0)*Table_NFI[[#This Row],[Tarpaulin]],0)","v":0},{"$f":"IF(NFI_Expiration=1,IF($A11<VLOOKUP(M$5,NFI,5,0),1,0)*Table_NFI[[#This Row],[Blanket]],0)","v":12},{"$f":"IF(NFI_Expiration=1,IF($A11<VLOOKUP(N$5,NFI,5,0),1,0)*Table_NFI[[#This Row],[Kitchen Set]],0)","v":0},{"$f":"IF(NFI_Expiration=1,IF($A11<VLOOKUP(O$5,NFI,5,0),1,0)*Table_NFI[[#This Row],[Complementary Kit]],0)","v":0},{"$f":"IF(NFI_Expiration=1,IF($A11<VLOOKUP(P$5,NFI,5,0),1,0)*Table_NFI[[#This Row],[Plastic Bucket]],0)","v":0},{"$f":"IF(NFI_Expiration=1,IF($A11<VLOOKUP(Q$5,NFI,5,0),1,0)*Table_NFI[[#This Row],[Plastic Mat]],0)","v":0},{"$f":"VLOOKUP(Table_NFI[[#This Row],[Camp Name]],'Camp List'!N$5:Z$347,2,0)","v":"MMR001CMP148"},{"$f":"VLOOKUP(Table_NFI[[#This Row],[Camp Name]],'Camp List'!N$5:Z$347,13,0)","v":"Open"}]
[5.4666666666666668,"2013-02-18","UNHCR","UNHCR","Kachin","Hpakant","Hlaing Naung Baptist",null,null,30,0,0,0,0,0,null,null,{"$f":"IF(NFI_Expiration=1,IF($A12<VLOOKUP(H$5,NFI,5,0),1,0)*Table_NFI[[#This Row],[Hygiene Kit]],0)","v":0},{"$f":"IF(NFI_Expiration=1,IF($A12<VLOOKUP(I$5,NFI,5,0),1,0)*Table_NFI[[#This Row],[NFI Core Kit]],0)","v":0},{"$f":"IF(NFI_Expiration=1,IF($A12<VLOOKUP(J$5,NFI,5,0),1,0)*Table_NFI[[#This Row],[Sanitary Kit]],0)","v":30},{"$f":"IF(NFI_Expiration=1,IF($A12<VLOOKUP(K$5,NFI,5,0),1,0)*Table_NFI[[#This Row],[Mosquito net]],0)","v":0},{"$f":"IF(NFI_Expiration=1,IF($A12<VLOOKUP(L$5,NFI,5,0),1,0)*Table_NFI[[#This Row],[Tarpaulin]],0)","v":0},{"$f":"IF(NFI_Expiration=1,IF($A12<VLOOKUP(M$5,NFI,5,0),1,0)*Table_NFI[[#This Row],[Blanket]],0)","v":0},{"$f":"IF(NFI_Expiration=1,IF($A12<VLOOKUP(N$5,NFI,5,0),1,0)*Table_NFI[[#This Row],[Kitchen Set]],0)","v":0},{"$f":"IF(NFI_Expiration=1,IF($A12<VLOOKUP(O$5,NFI,5,0),1,0)*Table_NFI[[#This Row],[Complementary Kit]],0)","v":0},{"$f":"IF(NFI_Expiration=1,IF($A12<VLOOKUP(P$5,NFI,5,0),1,0)*Table_NFI[[#This Row],[Plastic Bucket]],0)","v":0},{"$f":"IF(NFI_Expiration=1,IF($A12<VLOOKUP(Q$5,NFI,5,0),1,0)*Table_NFI[[#This Row],[Plastic Mat]],0)","v":0},{"$f":"VLOOKUP(Table_NFI[[#This Row],[Camp Name]],'Camp List'!N$5:Z$347,2,0)","v":"MMR001CMP148"},{"$f":"VLOOKUP(Table_NFI[[#This Row],[Camp Name]],'Camp List'!N$5:Z$347,13,0)","v":"Open"}]
[5.4,"2013-02-20","UNHCR","UNHCR","Kachin","Hpakant","Nga Pyaw Taw Baptist Nursery School ",null,null,175,0,0,0,0,0,null,null,{"$f":"IF(NFI_Expiration=1,IF($A13<VLOOKUP(H$5,NFI,5,0),1,0)*Table_NFI[[#This Row],[Hygiene Kit]],0)","v":0},{"$f":"IF(NFI_Expiration=1,IF($A13<VLOOKUP(I$5,NFI,5,0),1,0)*Table_NFI[[#This Row],[NFI Core Kit]],0)","v":0},{"$f":"IF(NFI_Expiration=1,IF($A13<VLOOKUP(J$5,NFI,5,0),1,0)*Table_NFI[[#This Row],[Sanitary Kit]],0)","v":175},{"$f":"IF(NFI_Expiration=1,IF($A13<VLOOKUP(K$5,NFI,5,0),1,0)*Table_NFI[[#This Row],[Mosquito net]],0)","v":0},{"$f":"IF(NFI_Expiration=1,IF($A13<VLOOKUP(L$5,NFI,5,0),1,0)*Table_NFI[[#This Row],[Tarpaulin]],0)","v":0},{"$f":"IF(NFI_Expiration=1,IF($A13<VLOOKUP(M$5,NFI,5,0),1,0)*Table_NFI[[#This Row],[Blanket]],0)","v":0},{"$f":"IF(NFI_Expiration=1,IF($A13<VLOOKUP(N$5,NFI,5,0),1,0)*Table_NFI[[#This Row],[Kitchen Set]],0)","v":0},{"$f":"IF(NFI_Expiration=1,IF($A13<VLOOKUP(O$5,NFI,5,0),1,0)*Table_NFI[[#This Row],[Complementary Kit]],0)","v":0},{"$f":"IF(NFI_Expiration=1,IF($A13<VLOOKUP(P$5,NFI,5,0),1,0)*Table_NFI[[#This Row],[Plastic Bucket]],0)","v":0},{"$f":"IF(NFI_Expiration=1,IF($A13<VLOOKUP(Q$5,NFI,5,0),1,0)*Table_NFI[[#This Row],[Plastic Mat]],0)","v":0},{"$f":"VLOOKUP(Table_NFI[[#This Row],[Camp Name]],'Camp List'!N$5:Z$347,2,0)","v":"MMR001CMP082"},{"$f":"VLOOKUP(Table_NFI[[#This Row],[Camp Name]],'Camp List'!N$5:Z$347,13,0)","v":"Open"}]
[5.4,"2013-02-20","UNHCR","UNHCR","Kachin","Hpakant","Mashi Kahtawng Baptist  Church",null,null,74,0,0,0,0,0,null,null,{"$f":"IF(NFI_Expiration=1,IF($A14<VLOOKUP(H$5,NFI,5,0),1,0)*Table_NFI[[#This Row],[Hygiene Kit]],0)","v":0},{"$f":"IF(NFI_Expiration=1,IF($A14<VLOOKUP(I$5,NFI,5,0),1,0)*Table_NFI[[#This Row],[NFI Core Kit]],0)","v":0},{"$f":"IF(NFI_Expiration=1,IF($A14<VLOOKUP(J$5,NFI,5,0),1,0)*Table_NFI[[#This Row],[Sanitary Kit]],0)","v":74},{"$f":"IF(NFI_Expiration=1,IF($A14<VLOOKUP(K$5,NFI,5,0),1,0)*Table_NFI[[#This Row],[Mosquito net]],0)","v":0},{"$f":"IF(NFI_Expiration=1,IF($A14<VLOOKUP(L$5,NFI,5,0),1,0)*Table_NFI[[#This Row],[Tarpaulin]],0)","v":0},{"$f":"IF(NFI_Expiration=1,IF($A14<VLOOKUP(M$5,NFI,5,0),1,0)*Table_NFI[[#This Row],[Blanket]],0)","v":0},{"$f":"IF(NFI_Expiration=1,IF($A14<VLOOKUP(N$5,NFI,5,0),1,0)*Table_NFI[[#This Row],[Kitchen Set]],0)","v":0},{"$f":"IF(NFI_Expiration=1,IF($A14<VLOOKUP(O$5,NFI,5,0),1,0)*Table_NFI[[#This Row],[Complementary Kit]],0)","v":0},{"$f":"IF(NFI_Expiration=1,IF($A14<VLOOKUP(P$5,NFI,5,0),1,0)*Table_NFI[[#This Row],[Plastic Bucket]],0)","v":0},{"$f":"IF(NFI_Expiration=1,IF($A14<VLOOKUP(Q$5,NFI,5,0),1,0)*Table_NFI[[#This Row],[Plastic Mat]],0)","v":0},{"$f":"VLOOKUP(Table_NFI[[#This Row],[Camp Name]],'Camp List'!N$5:Z$347,2,0)","v":"MMR001CMP094"},{"$f":"VLOOKUP(Table_NFI[[#This Row],[Camp Name]],'Camp List'!N$5:Z$347,13,0)","v":"Close"}]
[5.4,"2013-02-20","UNHCR","UNHCR","Kachin","Hpakant","Yumar Baptist Church",null,null,46,0,0,0,0,0,null,null,{"$f":"IF(NFI_Expiration=1,IF($A15<VLOOKUP(H$5,NFI,5,0),1,0)*Table_NFI[[#This Row],[Hygiene Kit]],0)","v":0},{"$f":"IF(NFI_Expiration=1,IF($A15<VLOOKUP(I$5,NFI,5,0),1,0)*Table_NFI[[#This Row],[NFI Core Kit]],0)","v":0},{"$f":"IF(NFI_Expiration=1,IF($A15<VLOOKUP(J$5,NFI,5,0),1,0)*Table_NFI[[#This Row],[Sanitary Kit]],0)","v":46},{"$f":"IF(NFI_Expiration=1,IF($A15<VLOOKUP(K$5,NFI,5,0),1,0)*Table_NFI[[#This Row],[Mosquito net]],0)","v":0},{"$f":"IF(NFI_Expiration=1,IF($A15<VLOOKUP(L$5,NFI,5,0),1,0)*Table_NFI[[#This Row],[Tarpaulin]],0)","v":0},{"$f":"IF(NFI_Expiration=1,IF($A15<VLOOKUP(M$5,NFI,5,0),1,0)*Table_NFI[[#This Row],[Blanket]],0)","v":0},{"$f":"IF(NFI_Expiration=1,IF($A15<VLOOKUP(N$5,NFI,5,0),1,0)*Table_NFI[[#This Row],[Kitchen Set]],0)","v":0},{"$f":"IF(NFI_Expiration=1,IF($A15<VLOOKUP(O$5,NFI,5,0),1,0)*Table_NFI[[#This Row],[Complementary Kit]],0)","v":0},{"$f":"IF(NFI_Expiration=1,IF($A15<VLOOKUP(P$5,NFI,5,0),1,0)*Table_NFI[[#This Row],[Plastic Bucket]],0)","v":0},{"$f":"IF(NFI_Expiration=1,IF($A15<VLOOKUP(Q$5,NFI,5,0),1,0)*Table_NFI[[#This Row],[Plastic Mat]],0)","v":0},{"$f":"VLOOKUP(Table_NFI[[#This Row],[Camp Name]],'Camp List'!N$5:Z$347,2,0)","v":"MMR001CMP105"},{"$f":"VLOOKUP(Table_NFI[[#This Row],[Camp Name]],'Camp List'!N$5:Z$347,13,0)","v":"Open"}]
[5.4,"2013-02-20","UNHCR","UNHCR","Kachin","Hpakant","Nant Ma Hpit Catholic Church",null,null,35,0,0,0,0,0,null,null,{"$f":"IF(NFI_Expiration=1,IF($A16<VLOOKUP(H$5,NFI,5,0),1,0)*Table_NFI[[#This Row],[Hygiene Kit]],0)","v":0},{"$f":"IF(NFI_Expiration=1,IF($A16<VLOOKUP(I$5,NFI,5,0),1,0)*Table_NFI[[#This Row],[NFI Core Kit]],0)","v":0},{"$f":"IF(NFI_Expiration=1,IF($A16<VLOOKUP(J$5,NFI,5,0),1,0)*Table_NFI[[#This Row],[Sanitary Kit]],0)","v":35},{"$f":"IF(NFI_Expiration=1,IF($A16<VLOOKUP(K$5,NFI,5,0),1,0)*Table_NFI[[#This Row],[Mosquito net]],0)","v":0},{"$f":"IF(NFI_Expiration=1,IF($A16<VLOOKUP(L$5,NFI,5,0),1,0)*Table_NFI[[#This Row],[Tarpaulin]],0)","v":0},{"$f":"IF(NFI_Expiration=1,IF($A16<VLOOKUP(M$5,NFI,5,0),1,0)*Table_NFI[[#This Row],[Blanket]],0)","v":0},{"$f":"IF(NFI_Expiration=1,IF($A16<VLOOKUP(N$5,NFI,5,0),1,0)*Table_NFI[[#This Row],[Kitchen Set]],0)","v":0},{"$f":"IF(NFI_Expiration=1,IF($A16<VLOOKUP(O$5,NFI,5,0),1,0)*Table_NFI[[#This Row],[Complementary Kit]],0)","v":0},{"$f":"IF(NFI_Expiration=1,IF($A16<VLOOKUP(P$5,NFI,5,0),1,0)*Table_NFI[[#This Row],[Plastic Bucket]],0)","v":0},{"$f":"IF(NFI_Expiration=1,IF($A16<VLOOKUP(Q$5,NFI,5,0),1,0)*Table_NFI[[#This Row],[Plastic Mat]],0)","v":0},{"$f":"VLOOKUP(Table_NFI[[#This Row],[Camp Name]],'Camp List'!N$5:Z$347,2,0)","v":"MMR001CMP103"},{"$f":"VLOOKUP(Table_NFI[[#This Row],[Camp Name]],'Camp List'!N$5:Z$347,13,0)","v":"Open"}]
[5.4,"2013-02-20","UNHCR","UNHCR","Kachin","Hpakant","Aye Mya Tharyar Church of Christ ",null,null,18,0,0,0,0,0,null,null,{"$f":"IF(NFI_Expiration=1,IF($A17<VLOOKUP(H$5,NFI,5,0),1,0)*Table_NFI[[#This Row],[Hygiene Kit]],0)","v":0},{"$f":"IF(NFI_Expiration=1,IF($A17<VLOOKUP(I$5,NFI,5,0),1,0)*Table_NFI[[#This Row],[NFI Core Kit]],0)","v":0},{"$f":"IF(NFI_Expiration=1,IF($A17<VLOOKUP(J$5,NFI,5,0),1,0)*Table_NFI[[#This Row],[Sanitary Kit]],0)","v":18},{"$f":"IF(NFI_Expiration=1,IF($A17<VLOOKUP(K$5,NFI,5,0),1,0)*Table_NFI[[#This Row],[Mosquito net]],0)","v":0},{"$f":"IF(NFI_Expiration=1,IF($A17<VLOOKUP(L$5,NFI,5,0),1,0)*Table_NFI[[#This Row],[Tarpaulin]],0)","v":0},{"$f":"IF(NFI_Expiration=1,IF($A17<VLOOKUP(M$5,NFI,5,0),1,0)*Table_NFI[[#This Row],[Blanket]],0)","v":0},{"$f":"IF(NFI_Expiration=1,IF($A17<VLOOKUP(N$5,NFI,5,0),1,0)*Table_NFI[[#This Row],[Kitchen Set]],0)","v":0},{"$f":"IF(NFI_Expiration=1,IF($A17<VLOOKUP(O$5,NFI,5,0),1,0)*Table_NFI[[#This Row],[Complementary Kit]],0)","v":0},{"$f":"IF(NFI_Expiration=1,IF($A17<VLOOKUP(P$5,NFI,5,0),1,0)*Table_NFI[[#This Row],[Plastic Bucket]],0)","v":0},{"$f":"IF(NFI_Expiration=1,IF($A17<VLOOKUP(Q$5,NFI,5,0),1,0)*Table_NFI[[#This Row],[Plastic Mat]],0)","v":0},{"$f":"VLOOKUP(Table_NFI[[#This Row],[Camp Name]],'Camp List'!N$5:Z$347,2,0)","v":"MMR001CMP092"},{"$f":"VLOOKUP(Table_NFI[[#This Row],[Camp Name]],'Camp List'!N$5:Z$347,13,0)","v":"Close"}]
[4.4666666666666668,"2013-03-20","UNHCR","UNHCR","Kachin","Hpakant","Zomee Baptist Church camp, Hmaw Wan",null,null,6,0,0,11,0,0,null,null,{"$f":"IF(NFI_Expiration=1,IF($A18<VLOOKUP(H$5,NFI,5,0),1,0)*Table_NFI[[#This Row],[Hygiene Kit]],0)","v":0},{"$f":"IF(NFI_Expiration=1,IF($A18<VLOOKUP(I$5,NFI,5,0),1,0)*Table_NFI[[#This Row],[NFI Core Kit]],0)","v":0},{"$f":"IF(NFI_Expiration=1,IF($A18<VLOOKUP(J$5,NFI,5,0),1,0)*Table_NFI[[#This Row],[Sanitary Kit]],0)","v":6},{"$f":"IF(NFI_Expiration=1,IF($A18<VLOOKUP(K$5,NFI,5,0),1,0)*Table_NFI[[#This Row],[Mosquito net]],0)","v":0},{"$f":"IF(NFI_Expiration=1,IF($A18<VLOOKUP(L$5,NFI,5,0),1,0)*Table_NFI[[#This Row],[Tarpaulin]],0)","v":0},{"$f":"IF(NFI_Expiration=1,IF($A18<VLOOKUP(M$5,NFI,5,0),1,0)*Table_NFI[[#This Row],[Blanket]],0)","v":11},{"$f":"IF(NFI_Expiration=1,IF($A18<VLOOKUP(N$5,NFI,5,0),1,0)*Table_NFI[[#This Row],[Kitchen Set]],0)","v":0},{"$f":"IF(NFI_Expiration=1,IF($A18<VLOOKUP(O$5,NFI,5,0),1,0)*Table_NFI[[#This Row],[Complementary Kit]],0)","v":0},{"$f":"IF(NFI_Expiration=1,IF($A18<VLOOKUP(P$5,NFI,5,0),1,0)*Table_NFI[[#This Row],[Plastic Bucket]],0)","v":0},{"$f":"IF(NFI_Expiration=1,IF($A18<VLOOKUP(Q$5,NFI,5,0),1,0)*Table_NFI[[#This Row],[Plastic Mat]],0)","v":0},{"$f":"VLOOKUP(Table_NFI[[#This Row],[Camp Name]],'Camp List'!N$5:Z$347,2,0)","v":"MMR001CMP201"},{"$f":"VLOOKUP(Table_NFI[[#This Row],[Camp Name]],'Camp List'!N$5:Z$347,13,0)","v":"Close"}]
[12.666666666666666,"2012-07-17","UNHCR","UNHCR","Kachin","Mansi","Lung Kawk  ( Hka Hkye Zup)",null,null,0,0,0,0,0,0,null,null,{"$f":"IF(NFI_Expiration=1,IF($A19<VLOOKUP(H$5,NFI,5,0),1,0)*Table_NFI[[#This Row],[Hygiene Kit]],0)","v":0},{"$f":"IF(NFI_Expiration=1,IF($A19<VLOOKUP(I$5,NFI,5,0),1,0)*Table_NFI[[#This Row],[NFI Core Kit]],0)","v":0},{"$f":"IF(NFI_Expiration=1,IF($A19<VLOOKUP(J$5,NFI,5,0),1,0)*Table_NFI[[#This Row],[Sanitary Kit]],0)","v":0},{"$f":"IF(NFI_Expiration=1,IF($A19<VLOOKUP(K$5,NFI,5,0),1,0)*Table_NFI[[#This Row],[Mosquito net]],0)","v":0},{"$f":"IF(NFI_Expiration=1,IF($A19<VLOOKUP(L$5,NFI,5,0),1,0)*Table_NFI[[#This Row],[Tarpaulin]],0)","v":0},{"$f":"IF(NFI_Expiration=1,IF($A19<VLOOKUP(M$5,NFI,5,0),1,0)*Table_NFI[[#This Row],[Blanket]],0)","v":0},{"$f":"IF(NFI_Expiration=1,IF($A19<VLOOKUP(N$5,NFI,5,0),1,0)*Table_NFI[[#This Row],[Kitchen Set]],0)","v":0},{"$f":"IF(NFI_Expiration=1,IF($A19<VLOOKUP(O$5,NFI,5,0),1,0)*Table_NFI[[#This Row],[Complementary Kit]],0)","v":0},{"$f":"IF(NFI_Expiration=1,IF($A19<VLOOKUP(P$5,NFI,5,0),1,0)*Table_NFI[[#This Row],[Plastic Bucket]],0)","v":0},{"$f":"IF(NFI_Expiration=1,IF($A19<VLOOKUP(Q$5,NFI,5,0),1,0)*Table_NFI[[#This Row],[Plastic Mat]],0)","v":0},{"$f":"VLOOKUP(Table_NFI[[#This Row],[Camp Name]],'Camp List'!N$5:Z$347,2,0)","v":"MMR001CMP135"},{"$f":"VLOOKUP(Table_NFI[[#This Row],[Camp Name]],'Camp List'!N$5:Z$347,13,0)","v":"Open"}]
[12.666666666666666,"2012-07-17","UNHCR","UNHCR","Kachin","Mansi","Man Wing Baptist Church",null,null,0,0,0,0,0,0,null,null,{"$f":"IF(NFI_Expiration=1,IF($A20<VLOOKUP(H$5,NFI,5,0),1,0)*Table_NFI[[#This Row],[Hygiene Kit]],0)","v":0},{"$f":"IF(NFI_Expiration=1,IF($A20<VLOOKUP(I$5,NFI,5,0),1,0)*Table_NFI[[#This Row],[NFI Core Kit]],0)","v":0},{"$f":"IF(NFI_Expiration=1,IF($A20<VLOOKUP(J$5,NFI,5,0),1,0)*Table_NFI[[#This Row],[Sanitary Kit]],0)","v":0},{"$f":"IF(NFI_Expiration=1,IF($A20<VLOOKUP(K$5,NFI,5,0),1,0)*Table_NFI[[#This Row],[Mosquito net]],0)","v":0},{"$f":"IF(NFI_Expiration=1,IF($A20<VLOOKUP(L$5,NFI,5,0),1,0)*Table_NFI[[#This Row],[Tarpaulin]],0)","v":0},{"$f":"IF(NFI_Expiration=1,IF($A20<VLOOKUP(M$5,NFI,5,0),1,0)*Table_NFI[[#This Row],[Blanket]],0)","v":0},{"$f":"IF(NFI_Expiration=1,IF($A20<VLOOKUP(N$5,NFI,5,0),1,0)*Table_NFI[[#This Row],[Kitchen Set]],0)","v":0},{"$f":"IF(NFI_Expiration=1,IF($A20<VLOOKUP(O$5,NFI,5,0),1,0)*Table_NFI[[#This Row],[Complementary Kit]],0)","v":0},{"$f":"IF(NFI_Expiration=1,IF($A20<VLOOKUP(P$5,NFI,5,0),1,0)*Table_NFI[[#This Row],[Plastic Bucket]],0)","v":0},{"$f":"IF(NFI_Expiration=1,IF($A20<VLOOKUP(Q$5,NFI,5,0),1,0)*Table_NFI[[#This Row],[Plastic Mat]],0)","v":0},{"$f":"VLOOKUP(Table_NFI[[#This Row],[Camp Name]],'Camp List'!N$5:Z$347,2,0)","v":"MMR001CMP133"},{"$f":"VLOOKUP(Table_NFI[[#This Row],[Camp Name]],'Camp List'!N$5:Z$347,13,0)","v":"Open"}]
[16.399999999999999,"2012-03-27","UNHCR","UNHCR","Kachin","Momauk","Mai Ja Yang Gat Pa ",null,null,0,52,52,0,0,0,null,null,{"$f":"IF(NFI_Expiration=1,IF($A21<VLOOKUP(H$5,NFI,5,0),1,0)*Table_NFI[[#This Row],[Hygiene Kit]],0)","v":0},{"$f":"IF(NFI_Expiration=1,IF($A21<VLOOKUP(I$5,NFI,5,0),1,0)*Table_NFI[[#This Row],[NFI Core Kit]],0)","v":0},{"$f":"IF(NFI_Expiration=1,IF($A21<VLOOKUP(J$5,NFI,5,0),1,0)*Table_NFI[[#This Row],[Sanitary Kit]],0)","v":0},{"$f":"IF(NFI_Expiration=1,IF($A21<VLOOKUP(K$5,NFI,5,0),1,0)*Table_NFI[[#This Row],[Mosquito net]],0)","v":0},{"$f":"IF(NFI_Expiration=1,IF($A21<VLOOKUP(L$5,NFI,5,0),1,0)*Table_NFI[[#This Row],[Tarpaulin]],0)","v":0},{"$f":"IF(NFI_Expiration=1,IF($A21<VLOOKUP(M$5,NFI,5,0),1,0)*Table_NFI[[#This Row],[Blanket]],0)","v":0},{"$f":"IF(NFI_Expiration=1,IF($A21<VLOOKUP(N$5,NFI,5,0),1,0)*Table_NFI[[#This Row],[Kitchen Set]],0)","v":0},{"$f":"IF(NFI_Expiration=1,IF($A21<VLOOKUP(O$5,NFI,5,0),1,0)*Table_NFI[[#This Row],[Complementary Kit]],0)","v":0},{"$f":"IF(NFI_Expiration=1,IF($A21<VLOOKUP(P$5,NFI,5,0),1,0)*Table_NFI[[#This Row],[Plastic Bucket]],0)","v":0},{"$f":"IF(NFI_Expiration=1,IF($A21<VLOOKUP(Q$5,NFI,5,0),1,0)*Table_NFI[[#This Row],[Plastic Mat]],0)","v":0},{"$f":"VLOOKUP(Table_NFI[[#This Row],[Camp Name]],'Camp List'!N$5:Z$347,2,0)","v":{"$error":"#N/A"}},{"$f":"VLOOKUP(Table_NFI[[#This Row],[Camp Name]],'Camp List'!N$5:Z$347,13,0)","v":{"$error":"#N/A"}}]
[16.366666666666667,"2012-03-28","UNHCR","UNHCR","Kachin","Momauk","Mai Ja Yang Ung Lung ",null,null,0,217,217,0,0,0,null,null,{"$f":"IF(NFI_Expiration=1,IF($A22<VLOOKUP(H$5,NFI,5,0),1,0)*Table_NFI[[#This Row],[Hygiene Kit]],0)","v":0},{"$f":"IF(NFI_Expiration=1,IF($A22<VLOOKUP(I$5,NFI,5,0),1,0)*Table_NFI[[#This Row],[NFI Core Kit]],0)","v":0},{"$f":"IF(NFI_Expiration=1,IF($A22<VLOOKUP(J$5,NFI,5,0),1,0)*Table_NFI[[#This Row],[Sanitary Kit]],0)","v":0},{"$f":"IF(NFI_Expiration=1,IF($A22<VLOOKUP(K$5,NFI,5,0),1,0)*Table_NFI[[#This Row],[Mosquito net]],0)","v":0},{"$f":"IF(NFI_Expiration=1,IF($A22<VLOOKUP(L$5,NFI,5,0),1,0)*Table_NFI[[#This Row],[Tarpaulin]],0)","v":0},{"$f":"IF(NFI_Expiration=1,IF($A22<VLOOKUP(M$5,NFI,5,0),1,0)*Table_NFI[[#This Row],[Blanket]],0)","v":0},{"$f":"IF(NFI_Expiration=1,IF($A22<VLOOKUP(N$5,NFI,5,0),1,0)*Table_NFI[[#This Row],[Kitchen Set]],0)","v":0},{"$f":"IF(NFI_Expiration=1,IF($A22<VLOOKUP(O$5,NFI,5,0),1,0)*Table_NFI[[#This Row],[Complementary Kit]],0)","v":0},{"$f":"IF(NFI_Expiration=1,IF($A22<VLOOKUP(P$5,NFI,5,0),1,0)*Table_NFI[[#This Row],[Plastic Bucket]],0)","v":0},{"$f":"IF(NFI_Expiration=1,IF($A22<VLOOKUP(Q$5,NFI,5,0),1,0)*Table_NFI[[#This Row],[Plastic Mat]],0)","v":0},{"$f":"VLOOKUP(Table_NFI[[#This Row],[Camp Name]],'Camp List'!N$5:Z$347,2,0)","v":{"$error":"#N/A"}},{"$f":"VLOOKUP(Table_NFI[[#This Row],[Camp Name]],'Camp List'!N$5:Z$347,13,0)","v":{"$error":"#N/A"}}]
[16.333333333333332,"2012-03-29","UNHCR","UNHCR","Kachin","Momauk","Seng Ja ",null,null,0,66,66,0,0,0,null,null,{"$f":"IF(NFI_Expiration=1,IF($A23<VLOOKUP(H$5,NFI,5,0),1,0)*Table_NFI[[#This Row],[Hygiene Kit]],0)","v":0},{"$f":"IF(NFI_Expiration=1,IF($A23<VLOOKUP(I$5,NFI,5,0),1,0)*Table_NFI[[#This Row],[NFI Core Kit]],0)","v":0},{"$f":"IF(NFI_Expiration=1,IF($A23<VLOOKUP(J$5,NFI,5,0),1,0)*Table_NFI[[#This Row],[Sanitary Kit]],0)","v":0},{"$f":"IF(NFI_Expiration=1,IF($A23<VLOOKUP(K$5,NFI,5,0),1,0)*Table_NFI[[#This Row],[Mosquito net]],0)","v":0},{"$f":"IF(NFI_Expiration=1,IF($A23<VLOOKUP(L$5,NFI,5,0),1,0)*Table_NFI[[#This Row],[Tarpaulin]],0)","v":0},{"$f":"IF(NFI_Expiration=1,IF($A23<VLOOKUP(M$5,NFI,5,0),1,0)*Table_NFI[[#This Row],[Blanket]],0)","v":0},{"$f":"IF(NFI_Expiration=1,IF($A23<VLOOKUP(N$5,NFI,5,0),1,0)*Table_NFI[[#This Row],[Kitchen Set]],0)","v":0},{"$f":"IF(NFI_Expiration=1,IF($A23<VLOOKUP(O$5,NFI,5,0),1,0)*Table_NFI[[#This Row],[Complementary Kit]],0)","v":0},{"$f":"IF(NFI_Expiration=1,IF($A23<VLOOKUP(P$5,NFI,5,0),1,0)*Table_NFI[[#This Row],[Plastic Bucket]],0)","v":0},{"$f":"IF(NFI_Expiration=1,IF($A23<VLOOKUP(Q$5,NFI,5,0),1,0)*Table_NFI[[#This Row],[Plastic Mat]],0)","v":0},{"$f":"VLOOKUP(Table_NFI[[#This Row],[Camp Name]],'Camp List'!N$5:Z$347,2,0)","v":"MMR001CMP073"},{"$f":"VLOOKUP(Table_NFI[[#This Row],[Camp Name]],'Camp List'!N$5:Z$347,13,0)","v":"Open"}]
[16.333333333333332,"2012-03-29","UNHCR","UNHCR","Kachin","Momauk","Bum Tsit Pa ",null,null,0,66,66,0,0,0,null,null,{"$f":"IF(NFI_Expiration=1,IF($A24<VLOOKUP(H$5,NFI,5,0),1,0)*Table_NFI[[#This Row],[Hygiene Kit]],0)","v":0},{"$f":"IF(NFI_Expiration=1,IF($A24<VLOOKUP(I$5,NFI,5,0),1,0)*Table_NFI[[#This Row],[NFI Core Kit]],0)","v":0},{"$f":"IF(NFI_Expiration=1,IF($A24<VLOOKUP(J$5,NFI,5,0),1,0)*Table_NFI[[#This Row],[Sanitary Kit]],0)","v":0},{"$f":"IF(NFI_Expiration=1,IF($A24<VLOOKUP(K$5,NFI,5,0),1,0)*Table_NFI[[#This Row],[Mosquito net]],0)","v":0},{"$f":"IF(NFI_Expiration=1,IF($A24<VLOOKUP(L$5,NFI,5,0),1,0)*Table_NFI[[#This Row],[Tarpaulin]],0)","v":0},{"$f":"IF(NFI_Expiration=1,IF($A24<VLOOKUP(M$5,NFI,5,0),1,0)*Table_NFI[[#This Row],[Blanket]],0)","v":0},{"$f":"IF(NFI_Expiration=1,IF($A24<VLOOKUP(N$5,NFI,5,0),1,0)*Table_NFI[[#This Row],[Kitchen Set]],0)","v":0},{"$f":"IF(NFI_Expiration=1,IF($A24<VLOOKUP(O$5,NFI,5,0),1,0)*Table_NFI[[#This Row],[Complementary Kit]],0)","v":0},{"$f":"IF(NFI_Expiration=1,IF($A24<VLOOKUP(P$5,NFI,5,0),1,0)*Table_NFI[[#This Row],[Plastic Bucket]],0)","v":0},{"$f":"IF(NFI_Expiration=1,IF($A24<VLOOKUP(Q$5,NFI,5,0),1,0)*Table_NFI[[#This Row],[Plastic Mat]],0)","v":0},{"$f":"VLOOKUP(Table_NFI[[#This Row],[Camp Name]],'Camp List'!N$5:Z$347,2,0)","v":"MMR001CMP129"},{"$f":"VLOOKUP(Table_NFI[[#This Row],[Camp Name]],'Camp List'!N$5:Z$347,13,0)","v":"Open"}]
[16.333333333333332,"2012-03-29","UNHCR","UNHCR","Kachin","Momauk","Pa Kahtawng ",null,null,0,0,50,0,0,0,null,null,{"$f":"IF(NFI_Expiration=1,IF($A25<VLOOKUP(H$5,NFI,5,0),1,0)*Table_NFI[[#This Row],[Hygiene Kit]],0)","v":0},{"$f":"IF(NFI_Expiration=1,IF($A25<VLOOKUP(I$5,NFI,5,0),1,0)*Table_NFI[[#This Row],[NFI Core Kit]],0)","v":0},{"$f":"IF(NFI_Expiration=1,IF($A25<VLOOKUP(J$5,NFI,5,0),1,0)*Table_NFI[[#This Row],[Sanitary Kit]],0)","v":0},{"$f":"IF(NFI_Expiration=1,IF($A25<VLOOKUP(K$5,NFI,5,0),1,0)*Table_NFI[[#This Row],[Mosquito net]],0)","v":0},{"$f":"IF(NFI_Expiration=1,IF($A25<VLOOKUP(L$5,NFI,5,0),1,0)*Table_NFI[[#This Row],[Tarpaulin]],0)","v":0},{"$f":"IF(NFI_Expiration=1,IF($A25<VLOOKUP(M$5,NFI,5,0),1,0)*Table_NFI[[#This Row],[Blanket]],0)","v":0},{"$f":"IF(NFI_Expiration=1,IF($A25<VLOOKUP(N$5,NFI,5,0),1,0)*Table_NFI[[#This Row],[Kitchen Set]],0)","v":0},{"$f":"IF(NFI_Expiration=1,IF($A25<VLOOKUP(O$5,NFI,5,0),1,0)*Table_NFI[[#This Row],[Complementary Kit]],0)","v":0},{"$f":"IF(NFI_Expiration=1,IF($A25<VLOOKUP(P$5,NFI,5,0),1,0)*Table_NFI[[#This Row],[Plastic Bucket]],0)","v":0},{"$f":"IF(NFI_Expiration=1,IF($A25<VLOOKUP(Q$5,NFI,5,0),1,0)*Table_NFI[[#This Row],[Plastic Mat]],0)","v":0},{"$f":"VLOOKUP(Table_NFI[[#This Row],[Camp Name]],'Camp List'!N$5:Z$347,2,0)","v":"MMR001CMP126"},{"$f":"VLOOKUP(Table_NFI[[#This Row],[Camp Name]],'Camp List'!N$5:Z$347,13,0)","v":"Open"}]
[16.100000000000001,"2012-04-05","UNHCR","UNHCR","Kachin","Momauk","Momauk Catholic Church (St. Patrick)",null,null,0,0,50,0,0,0,null,null,{"$f":"IF(NFI_Expiration=1,IF($A26<VLOOKUP(H$5,NFI,5,0),1,0)*Table_NFI[[#This Row],[Hygiene Kit]],0)","v":0},{"$f":"IF(NFI_Expiration=1,IF($A26<VLOOKUP(I$5,NFI,5,0),1,0)*Table_NFI[[#This Row],[NFI Core Kit]],0)","v":0},{"$f":"IF(NFI_Expiration=1,IF($A26<VLOOKUP(J$5,NFI,5,0),1,0)*Table_NFI[[#This Row],[Sanitary Kit]],0)","v":0},{"$f":"IF(NFI_Expiration=1,IF($A26<VLOOKUP(K$5,NFI,5,0),1,0)*Table_NFI[[#This Row],[Mosquito net]],0)","v":0},{"$f":"IF(NFI_Expiration=1,IF($A26<VLOOKUP(L$5,NFI,5,0),1,0)*Table_NFI[[#This Row],[Tarpaulin]],0)","v":0},{"$f":"IF(NFI_Expiration=1,IF($A26<VLOOKUP(M$5,NFI,5,0),1,0)*Table_NFI[[#This Row],[Blanket]],0)","v":0},{"$f":"IF(NFI_Expiration=1,IF($A26<VLOOKUP(N$5,NFI,5,0),1,0)*Table_NFI[[#This Row],[Kitchen Set]],0)","v":0},{"$f":"IF(NFI_Expiration=1,IF($A26<VLOOKUP(O$5,NFI,5,0),1,0)*Table_NFI[[#This Row],[Complementary Kit]],0)","v":0},{"$f":"IF(NFI_Expiration=1,IF($A26<VLOOKUP(P$5,NFI,5,0),1,0)*Table_NFI[[#This Row],[Plastic Bucket]],0)","v":0},{"$f":"IF(NFI_Expiration=1,IF($A26<VLOOKUP(Q$5,NFI,5,0),1,0)*Table_NFI[[#This Row],[Plastic Mat]],0)","v":0},{"$f":"VLOOKUP(Table_NFI[[#This Row],[Camp Name]],'Camp List'!N$5:Z$347,2,0)","v":"MMR001CMP057"},{"$f":"VLOOKUP(Table_NFI[[#This Row],[Camp Name]],'Camp List'!N$5:Z$347,13,0)","v":"Open"}]
[14.033333333333333,"2012-06-06","UNHCR","UNHCR ","Kachin","Momauk","Hpun Lum Yang ",null,null,0,0,200,0,0,0,null,null,{"$f":"IF(NFI_Expiration=1,IF($A27<VLOOKUP(H$5,NFI,5,0),1,0)*Table_NFI[[#This Row],[Hygiene Kit]],0)","v":0},{"$f":"IF(NFI_Expiration=1,IF($A27<VLOOKUP(I$5,NFI,5,0),1,0)*Table_NFI[[#This Row],[NFI Core Kit]],0)","v":0},{"$f":"IF(NFI_Expiration=1,IF($A27<VLOOKUP(J$5,NFI,5,0),1,0)*Table_NFI[[#This Row],[Sanitary Kit]],0)","v":0},{"$f":"IF(NFI_Expiration=1,IF($A27<VLOOKUP(K$5,NFI,5,0),1,0)*Table_NFI[[#This Row],[Mosquito net]],0)","v":0},{"$f":"IF(NFI_Expiration=1,IF($A27<VLOOKUP(L$5,NFI,5,0),1,0)*Table_NFI[[#This Row],[Tarpaulin]],0)","v":0},{"$f":"IF(NFI_Expiration=1,IF($A27<VLOOKUP(M$5,NFI,5,0),1,0)*Table_NFI[[#This Row],[Blanket]],0)","v":0},{"$f":"IF(NFI_Expiration=1,IF($A27<VLOOKUP(N$5,NFI,5,0),1,0)*Table_NFI[[#This Row],[Kitchen Set]],0)","v":0},{"$f":"IF(NFI_Expiration=1,IF($A27<VLOOKUP(O$5,NFI,5,0),1,0)*Table_NFI[[#This Row],[Complementary Kit]],0)","v":0},{"$f":"IF(NFI_Expiration=1,IF($A27<VLOOKUP(P$5,NFI,5,0),1,0)*Table_NFI[[#This Row],[Plastic Bucket]],0)","v":0},{"$f":"IF(NFI_Expiration=1,IF($A27<VLOOKUP(Q$5,NFI,5,0),1,0)*Table_NFI[[#This Row],[Plastic Mat]],0)","v":0},{"$f":"VLOOKUP(Table_NFI[[#This Row],[Camp Name]],'Camp List'!N$5:Z$347,2,0)","v":"MMR001CMP122"},{"$f":"VLOOKUP(Table_NFI[[#This Row],[Camp Name]],'Camp List'!N$5:Z$347,13,0)","v":"Open"}]
[12.666666666666666,"2012-07-17","UNHCR","UNHCR","Kachin","Momauk","Pa Kahtawng ",null,null,0,0,0,0,0,0,null,null,{"$f":"IF(NFI_Expiration=1,IF($A28<VLOOKUP(H$5,NFI,5,0),1,0)*Table_NFI[[#This Row],[Hygiene Kit]],0)","v":0},{"$f":"IF(NFI_Expiration=1,IF($A28<VLOOKUP(I$5,NFI,5,0),1,0)*Table_NFI[[#This Row],[NFI Core Kit]],0)","v":0},{"$f":"IF(NFI_Expiration=1,IF($A28<VLOOKUP(J$5,NFI,5,0),1,0)*Table_NFI[[#This Row],[Sanitary Kit]],0)","v":0},{"$f":"IF(NFI_Expiration=1,IF($A28<VLOOKUP(K$5,NFI,5,0),1,0)*Table_NFI[[#This Row],[Mosquito net]],0)","v":0},{"$f":"IF(NFI_Expiration=1,IF($A28<VLOOKUP(L$5,NFI,5,0),1,0)*Table_NFI[[#This Row],[Tarpaulin]],0)","v":0},{"$f":"IF(NFI_Expiration=1,IF($A28<VLOOKUP(M$5,NFI,5,0),1,0)*Table_NFI[[#This Row],[Blanket]],0)","v":0},{"$f":"IF(NFI_Expiration=1,IF($A28<VLOOKUP(N$5,NFI,5,0),1,0)*Table_NFI[[#This Row],[Kitchen Set]],0)","v":0},{"$f":"IF(NFI_Expiration=1,IF($A28<VLOOKUP(O$5,NFI,5,0),1,0)*Table_NFI[[#This Row],[Complementary Kit]],0)","v":0},{"$f":"IF(NFI_Expiration=1,IF($A28<VLOOKUP(P$5,NFI,5,0),1,0)*Table_NFI[[#This Row],[Plastic Bucket]],0)","v":0},{"$f":"IF(NFI_Expiration=1,IF($A28<VLOOKUP(Q$5,NFI,5,0),1,0)*Table_NFI[[#This Row],[Plastic Mat]],0)","v":0},{"$f":"VLOOKUP(Table_NFI[[#This Row],[Camp Name]],'Camp List'!N$5:Z$347,2,0)","v":"MMR001CMP126"},{"$f":"VLOOKUP(Table_NFI[[#This Row],[Camp Name]],'Camp List'!N$5:Z$347,13,0)","v":"Open"}]
[12.666666666666666,"2012-07-17","UNHCR","UNHCR","Kachin","Momauk","Hpun Lum Yang ",null,null,0,0,0,0,0,0,null,null,{"$f":"IF(NFI_Expiration=1,IF($A29<VLOOKUP(H$5,NFI,5,0),1,0)*Table_NFI[[#This Row],[Hygiene Kit]],0)","v":0},{"$f":"IF(NFI_Expiration=1,IF($A29<VLOOKUP(I$5,NFI,5,0),1,0)*Table_NFI[[#This Row],[NFI Core Kit]],0)","v":0},{"$f":"IF(NFI_Expiration=1,IF($A29<VLOOKUP(J$5,NFI,5,0),1,0)*Table_NFI[[#This Row],[Sanitary Kit]],0)","v":0},{"$f":"IF(NFI_Expiration=1,IF($A29<VLOOKUP(K$5,NFI,5,0),1,0)*Table_NFI[[#This Row],[Mosquito net]],0)","v":0},{"$f":"IF(NFI_Expiration=1,IF($A29<VLOOKUP(L$5,NFI,5,0),1,0)*Table_NFI[[#This Row],[Tarpaulin]],0)","v":0},{"$f":"IF(NFI_Expiration=1,IF($A29<VLOOKUP(M$5,NFI,5,0),1,0)*Table_NFI[[#This Row],[Blanket]],0)","v":0},{"$f":"IF(NFI_Expiration=1,IF($A29<VLOOKUP(N$5,NFI,5,0),1,0)*Table_NFI[[#This Row],[Kitchen Set]],0)","v":0},{"$f":"IF(NFI_Expiration=1,IF($A29<VLOOKUP(O$5,NFI,5,0),1,0)*Table_NFI[[#This Row],[Complementary Kit]],0)","v":0},{"$f":"IF(NFI_Expiration=1,IF($A29<VLOOKUP(P$5,NFI,5,0),1,0)*Table_NFI[[#This Row],[Plastic Bucket]],0)","v":0},{"$f":"IF(NFI_Expiration=1,IF($A29<VLOOKUP(Q$5,NFI,5,0),1,0)*Table_NFI[[#This Row],[Plastic Mat]],0)","v":0},{"$f":"VLOOKUP(Table_NFI[[#This Row],[Camp Name]],'Camp List'!N$5:Z$347,2,0)","v":"MMR001CMP122"},{"$f":"VLOOKUP(Table_NFI[[#This Row],[Camp Name]],'Camp List'!N$5:Z$347,13,0)","v":"Open"}]
[12.666666666666666,"2012-07-17","UNHCR","UNHCR","Kachin","Momauk","Loi Je Lisu Camp",null,null,0,0,0,0,0,0,null,null,{"$f":"IF(NFI_Expiration=1,IF($A30<VLOOKUP(H$5,NFI,5,0),1,0)*Table_NFI[[#This Row],[Hygiene Kit]],0)","v":0},{"$f":"IF(NFI_Expiration=1,IF($A30<VLOOKUP(I$5,NFI,5,0),1,0)*Table_NFI[[#This Row],[NFI Core Kit]],0)","v":0},{"$f":"IF(NFI_Expiration=1,IF($A30<VLOOKUP(J$5,NFI,5,0),1,0)*Table_NFI[[#This Row],[Sanitary Kit]],0)","v":0},{"$f":"IF(NFI_Expiration=1,IF($A30<VLOOKUP(K$5,NFI,5,0),1,0)*Table_NFI[[#This Row],[Mosquito net]],0)","v":0},{"$f":"IF(NFI_Expiration=1,IF($A30<VLOOKUP(L$5,NFI,5,0),1,0)*Table_NFI[[#This Row],[Tarpaulin]],0)","v":0},{"$f":"IF(NFI_Expiration=1,IF($A30<VLOOKUP(M$5,NFI,5,0),1,0)*Table_NFI[[#This Row],[Blanket]],0)","v":0},{"$f":"IF(NFI_Expiration=1,IF($A30<VLOOKUP(N$5,NFI,5,0),1,0)*Table_NFI[[#This Row],[Kitchen Set]],0)","v":0},{"$f":"IF(NFI_Expiration=1,IF($A30<VLOOKUP(O$5,NFI,5,0),1,0)*Table_NFI[[#This Row],[Complementary Kit]],0)","v":0},{"$f":"IF(NFI_Expiration=1,IF($A30<VLOOKUP(P$5,NFI,5,0),1,0)*Table_NFI[[#This Row],[Plastic Bucket]],0)","v":0},{"$f":"IF(NFI_Expiration=1,IF($A30<VLOOKUP(Q$5,NFI,5,0),1,0)*Table_NFI[[#This Row],[Plastic Mat]],0)","v":0},{"$f":"VLOOKUP(Table_NFI[[#This Row],[Camp Name]],'Camp List'!N$5:Z$347,2,0)","v":"MMR001CMP070"},{"$f":"VLOOKUP(Table_NFI[[#This Row],[Camp Name]],'Camp List'!N$5:Z$347,13,0)","v":"Open"}]
[12.666666666666666,"2012-07-17","UNHCR","UNHCR","Kachin","Momauk","Pa Kahtawng ",null,null,0,0,0,0,0,0,null,null,{"$f":"IF(NFI_Expiration=1,IF($A31<VLOOKUP(H$5,NFI,5,0),1,0)*Table_NFI[[#This Row],[Hygiene Kit]],0)","v":0},{"$f":"IF(NFI_Expiration=1,IF($A31<VLOOKUP(I$5,NFI,5,0),1,0)*Table_NFI[[#This Row],[NFI Core Kit]],0)","v":0},{"$f":"IF(NFI_Expiration=1,IF($A31<VLOOKUP(J$5,NFI,5,0),1,0)*Table_NFI[[#This Row],[Sanitary Kit]],0)","v":0},{"$f":"IF(NFI_Expiration=1,IF($A31<VLOOKUP(K$5,NFI,5,0),1,0)*Table_NFI[[#This Row],[Mosquito net]],0)","v":0},{"$f":"IF(NFI_Expiration=1,IF($A31<VLOOKUP(L$5,NFI,5,0),1,0)*Table_NFI[[#This Row],[Tarpaulin]],0)","v":0},{"$f":"IF(NFI_Expiration=1,IF($A31<VLOOKUP(M$5,NFI,5,0),1,0)*Table_NFI[[#This Row],[Blanket]],0)","v":0},{"$f":"IF(NFI_Expiration=1,IF($A31<VLOOKUP(N$5,NFI,5,0),1,0)*Table_NFI[[#This Row],[Kitchen Set]],0)","v":0},{"$f":"IF(NFI_Expiration=1,IF($A31<VLOOKUP(O$5,NFI,5,0),1,0)*Table_NFI[[#This Row],[Complementary Kit]],0)","v":0},{"$f":"IF(NFI_Expiration=1,IF($A31<VLOOKUP(P$5,NFI,5,0),1,0)*Table_NFI[[#This Row],[Plastic Bucket]],0)","v":0},{"$f":"IF(NFI_Expiration=1,IF($A31<VLOOKUP(Q$5,NFI,5,0),1,0)*Table_NFI[[#This Row],[Plastic Mat]],0)","v":0},{"$f":"VLOOKUP(Table_NFI[[#This Row],[Camp Name]],'Camp List'!N$5:Z$347,2,0)","v":"MMR001CMP126"},{"$f":"VLOOKUP(Table_NFI[[#This Row],[Camp Name]],'Camp List'!N$5:Z$347,13,0)","v":"Open"}]
[12.666666666666666,"2012-07-17","UNHCR","UNHCR","Kachin","Momauk","Mai Khat ",null,null,0,0,0,0,0,0,null,null,{"$f":"IF(NFI_Expiration=1,IF($A32<VLOOKUP(H$5,NFI,5,0),1,0)*Table_NFI[[#This Row],[Hygiene Kit]],0)","v":0},{"$f":"IF(NFI_Expiration=1,IF($A32<VLOOKUP(I$5,NFI,5,0),1,0)*Table_NFI[[#This Row],[NFI Core Kit]],0)","v":0},{"$f":"IF(NFI_Expiration=1,IF($A32<VLOOKUP(J$5,NFI,5,0),1,0)*Table_NFI[[#This Row],[Sanitary Kit]],0)","v":0},{"$f":"IF(NFI_Expiration=1,IF($A32<VLOOKUP(K$5,NFI,5,0),1,0)*Table_NFI[[#This Row],[Mosquito net]],0)","v":0},{"$f":"IF(NFI_Expiration=1,IF($A32<VLOOKUP(L$5,NFI,5,0),1,0)*Table_NFI[[#This Row],[Tarpaulin]],0)","v":0},{"$f":"IF(NFI_Expiration=1,IF($A32<VLOOKUP(M$5,NFI,5,0),1,0)*Table_NFI[[#This Row],[Blanket]],0)","v":0},{"$f":"IF(NFI_Expiration=1,IF($A32<VLOOKUP(N$5,NFI,5,0),1,0)*Table_NFI[[#This Row],[Kitchen Set]],0)","v":0},{"$f":"IF(NFI_Expiration=1,IF($A32<VLOOKUP(O$5,NFI,5,0),1,0)*Table_NFI[[#This Row],[Complementary Kit]],0)","v":0},{"$f":"IF(NFI_Expiration=1,IF($A32<VLOOKUP(P$5,NFI,5,0),1,0)*Table_NFI[[#This Row],[Plastic Bucket]],0)","v":0},{"$f":"IF(NFI_Expiration=1,IF($A32<VLOOKUP(Q$5,NFI,5,0),1,0)*Table_NFI[[#This Row],[Plastic Mat]],0)","v":0},{"$f":"VLOOKUP(Table_NFI[[#This Row],[Camp Name]],'Camp List'!N$5:Z$347,2,0)","v":"MMR001CMP064"},{"$f":"VLOOKUP(Table_NFI[[#This Row],[Camp Name]],'Camp List'!N$5:Z$347,13,0)","v":"Open"}]
[12.666666666666666,"2012-07-17","UNHCR","UNHCR","Kachin","Momauk","Mai Khat ",null,null,0,0,0,0,0,0,null,null,{"$f":"IF(NFI_Expiration=1,IF($A33<VLOOKUP(H$5,NFI,5,0),1,0)*Table_NFI[[#This Row],[Hygiene Kit]],0)","v":0},{"$f":"IF(NFI_Expiration=1,IF($A33<VLOOKUP(I$5,NFI,5,0),1,0)*Table_NFI[[#This Row],[NFI Core Kit]],0)","v":0},{"$f":"IF(NFI_Expiration=1,IF($A33<VLOOKUP(J$5,NFI,5,0),1,0)*Table_NFI[[#This Row],[Sanitary Kit]],0)","v":0},{"$f":"IF(NFI_Expiration=1,IF($A33<VLOOKUP(K$5,NFI,5,0),1,0)*Table_NFI[[#This Row],[Mosquito net]],0)","v":0},{"$f":"IF(NFI_Expiration=1,IF($A33<VLOOKUP(L$5,NFI,5,0),1,0)*Table_NFI[[#This Row],[Tarpaulin]],0)","v":0},{"$f":"IF(NFI_Expiration=1,IF($A33<VLOOKUP(M$5,NFI,5,0),1,0)*Table_NFI[[#This Row],[Blanket]],0)","v":0},{"$f":"IF(NFI_Expiration=1,IF($A33<VLOOKUP(N$5,NFI,5,0),1,0)*Table_NFI[[#This Row],[Kitchen Set]],0)","v":0},{"$f":"IF(NFI_Expiration=1,IF($A33<VLOOKUP(O$5,NFI,5,0),1,0)*Table_NFI[[#This Row],[Complementary Kit]],0)","v":0},{"$f":"IF(NFI_Expiration=1,IF($A33<VLOOKUP(P$5,NFI,5,0),1,0)*Table_NFI[[#This Row],[Plastic Bucket]],0)","v":0},{"$f":"IF(NFI_Expiration=1,IF($A33<VLOOKUP(Q$5,NFI,5,0),1,0)*Table_NFI[[#This Row],[Plastic Mat]],0)","v":0},{"$f":"VLOOKUP(Table_NFI[[#This Row],[Camp Name]],'Camp List'!N$5:Z$347,2,0)","v":"MMR001CMP064"},{"$f":"VLOOKUP(Table_NFI[[#This Row],[Camp Name]],'Camp List'!N$5:Z$347,13,0)","v":"Open"}]
[20.733333333333334,"2011-11-18","UNHCR","UNHCR","Kachin","Myitkyina","Wun Tho Buddhist Monastery",null,null,0,175,0,175,0,0,null,null,{"$f":"IF(NFI_Expiration=1,IF($A34<VLOOKUP(H$5,NFI,5,0),1,0)*Table_NFI[[#This Row],[Hygiene Kit]],0)","v":0},{"$f":"IF(NFI_Expiration=1,IF($A34<VLOOKUP(I$5,NFI,5,0),1,0)*Table_NFI[[#This Row],[NFI Core Kit]],0)","v":0},{"$f":"IF(NFI_Expiration=1,IF($A34<VLOOKUP(J$5,NFI,5,0),1,0)*Table_NFI[[#This Row],[Sanitary Kit]],0)","v":0},{"$f":"IF(NFI_Expiration=1,IF($A34<VLOOKUP(K$5,NFI,5,0),1,0)*Table_NFI[[#This Row],[Mosquito net]],0)","v":0},{"$f":"IF(NFI_Expiration=1,IF($A34<VLOOKUP(L$5,NFI,5,0),1,0)*Table_NFI[[#This Row],[Tarpaulin]],0)","v":0},{"$f":"IF(NFI_Expiration=1,IF($A34<VLOOKUP(M$5,NFI,5,0),1,0)*Table_NFI[[#This Row],[Blanket]],0)","v":0},{"$f":"IF(NFI_Expiration=1,IF($A34<VLOOKUP(N$5,NFI,5,0),1,0)*Table_NFI[[#This Row],[Kitchen Set]],0)","v":0},{"$f":"IF(NFI_Expiration=1,IF($A34<VLOOKUP(O$5,NFI,5,0),1,0)*Table_NFI[[#This Row],[Complementary Kit]],0)","v":0},{"$f":"IF(NFI_Expiration=1,IF($A34<VLOOKUP(P$5,NFI,5,0),1,0)*Table_NFI[[#This Row],[Plastic Bucket]],0)","v":0},{"$f":"IF(NFI_Expiration=1,IF($A34<VLOOKUP(Q$5,NFI,5,0),1,0)*Table_NFI[[#This Row],[Plastic Mat]],0)","v":0},{"$f":"VLOOKUP(Table_NFI[[#This Row],[Camp Name]],'Camp List'!N$5:Z$347,2,0)","v":"MMR001CMP022"},{"$f":"VLOOKUP(Table_NFI[[#This Row],[Camp Name]],'Camp List'!N$5:Z$347,13,0)","v":"Open"}]
[15.433333333333334,"2012-04-25","UNHCR","UNHCR","Kachin","Myitkyina","Wun Tho Buddhist Monastery",null,null,0,39,19,78,19,0,null,null,{"$f":"IF(NFI_Expiration=1,IF($A35<VLOOKUP(H$5,NFI,5,0),1,0)*Table_NFI[[#This Row],[Hygiene Kit]],0)","v":0},{"$f":"IF(NFI_Expiration=1,IF($A35<VLOOKUP(I$5,NFI,5,0),1,0)*Table_NFI[[#This Row],[NFI Core Kit]],0)","v":0},{"$f":"IF(NFI_Expiration=1,IF($A35<VLOOKUP(J$5,NFI,5,0),1,0)*Table_NFI[[#This Row],[Sanitary Kit]],0)","v":0},{"$f":"IF(NFI_Expiration=1,IF($A35<VLOOKUP(K$5,NFI,5,0),1,0)*Table_NFI[[#This Row],[Mosquito net]],0)","v":0},{"$f":"IF(NFI_Expiration=1,IF($A35<VLOOKUP(L$5,NFI,5,0),1,0)*Table_NFI[[#This Row],[Tarpaulin]],0)","v":0},{"$f":"IF(NFI_Expiration=1,IF($A35<VLOOKUP(M$5,NFI,5,0),1,0)*Table_NFI[[#This Row],[Blanket]],0)","v":0},{"$f":"IF(NFI_Expiration=1,IF($A35<VLOOKUP(N$5,NFI,5,0),1,0)*Table_NFI[[#This Row],[Kitchen Set]],0)","v":0},{"$f":"IF(NFI_Expiration=1,IF($A35<VLOOKUP(O$5,NFI,5,0),1,0)*Table_NFI[[#This Row],[Complementary Kit]],0)","v":0},{"$f":"IF(NFI_Expiration=1,IF($A35<VLOOKUP(P$5,NFI,5,0),1,0)*Table_NFI[[#This Row],[Plastic Bucket]],0)","v":0},{"$f":"IF(NFI_Expiration=1,IF($A35<VLOOKUP(Q$5,NFI,5,0),1,0)*Table_NFI[[#This Row],[Plastic Mat]],0)","v":0},{"$f":"VLOOKUP(Table_NFI[[#This Row],[Camp Name]],'Camp List'!N$5:Z$347,2,0)","v":"MMR001CMP022"},{"$f":"VLOOKUP(Table_NFI[[#This Row],[Camp Name]],'Camp List'!N$5:Z$347,13,0)","v":"Open"}]
[14.433333333333334,"2012-05-25","UNHCR","UNHCR","Kachin","Myitkyina","Shwe Zet Baptist Church",null,null,0,0,25,0,0,0,null,null,{"$f":"IF(NFI_Expiration=1,IF($A36<VLOOKUP(H$5,NFI,5,0),1,0)*Table_NFI[[#This Row],[Hygiene Kit]],0)","v":0},{"$f":"IF(NFI_Expiration=1,IF($A36<VLOOKUP(I$5,NFI,5,0),1,0)*Table_NFI[[#This Row],[NFI Core Kit]],0)","v":0},{"$f":"IF(NFI_Expiration=1,IF($A36<VLOOKUP(J$5,NFI,5,0),1,0)*Table_NFI[[#This Row],[Sanitary Kit]],0)","v":0},{"$f":"IF(NFI_Expiration=1,IF($A36<VLOOKUP(K$5,NFI,5,0),1,0)*Table_NFI[[#This Row],[Mosquito net]],0)","v":0},{"$f":"IF(NFI_Expiration=1,IF($A36<VLOOKUP(L$5,NFI,5,0),1,0)*Table_NFI[[#This Row],[Tarpaulin]],0)","v":0},{"$f":"IF(NFI_Expiration=1,IF($A36<VLOOKUP(M$5,NFI,5,0),1,0)*Table_NFI[[#This Row],[Blanket]],0)","v":0},{"$f":"IF(NFI_Expiration=1,IF($A36<VLOOKUP(N$5,NFI,5,0),1,0)*Table_NFI[[#This Row],[Kitchen Set]],0)","v":0},{"$f":"IF(NFI_Expiration=1,IF($A36<VLOOKUP(O$5,NFI,5,0),1,0)*Table_NFI[[#This Row],[Complementary Kit]],0)","v":0},{"$f":"IF(NFI_Expiration=1,IF($A36<VLOOKUP(P$5,NFI,5,0),1,0)*Table_NFI[[#This Row],[Plastic Bucket]],0)","v":0},{"$f":"IF(NFI_Expiration=1,IF($A36<VLOOKUP(Q$5,NFI,5,0),1,0)*Table_NFI[[#This Row],[Plastic Mat]],0)","v":0},{"$f":"VLOOKUP(Table_NFI[[#This Row],[Camp Name]],'Camp List'!N$5:Z$347,2,0)","v":"MMR001CMP009"},{"$f":"VLOOKUP(Table_NFI[[#This Row],[Camp Name]],'Camp List'!N$5:Z$347,13,0)","v":"Open"}]
[12.666666666666666,"2012-07-17","UNHCR","UNHCR","Kachin","Myitkyina","Maw Hpawng Hka Nan Baptist Church",null,null,0,0,0,0,0,0,null,null,{"$f":"IF(NFI_Expiration=1,IF($A37<VLOOKUP(H$5,NFI,5,0),1,0)*Table_NFI[[#This Row],[Hygiene Kit]],0)","v":0},{"$f":"IF(NFI_Expiration=1,IF($A37<VLOOKUP(I$5,NFI,5,0),1,0)*Table_NFI[[#This Row],[NFI Core Kit]],0)","v":0},{"$f":"IF(NFI_Expiration=1,IF($A37<VLOOKUP(J$5,NFI,5,0),1,0)*Table_NFI[[#This Row],[Sanitary Kit]],0)","v":0},{"$f":"IF(NFI_Expiration=1,IF($A37<VLOOKUP(K$5,NFI,5,0),1,0)*Table_NFI[[#This Row],[Mosquito net]],0)","v":0},{"$f":"IF(NFI_Expiration=1,IF($A37<VLOOKUP(L$5,NFI,5,0),1,0)*Table_NFI[[#This Row],[Tarpaulin]],0)","v":0},{"$f":"IF(NFI_Expiration=1,IF($A37<VLOOKUP(M$5,NFI,5,0),1,0)*Table_NFI[[#This Row],[Blanket]],0)","v":0},{"$f":"IF(NFI_Expiration=1,IF($A37<VLOOKUP(N$5,NFI,5,0),1,0)*Table_NFI[[#This Row],[Kitchen Set]],0)","v":0},{"$f":"IF(NFI_Expiration=1,IF($A37<VLOOKUP(O$5,NFI,5,0),1,0)*Table_NFI[[#This Row],[Complementary Kit]],0)","v":0},{"$f":"IF(NFI_Expiration=1,IF($A37<VLOOKUP(P$5,NFI,5,0),1,0)*Table_NFI[[#This Row],[Plastic Bucket]],0)","v":0},{"$f":"IF(NFI_Expiration=1,IF($A37<VLOOKUP(Q$5,NFI,5,0),1,0)*Table_NFI[[#This Row],[Plastic Mat]],0)","v":0},{"$f":"VLOOKUP(Table_NFI[[#This Row],[Camp Name]],'Camp List'!N$5:Z$347,2,0)","v":"MMR001CMP020"},{"$f":"VLOOKUP(Table_NFI[[#This Row],[Camp Name]],'Camp List'!N$5:Z$347,13,0)","v":"Open"}]
[14.4,"2012-05-26","UNHCR","KBC","Kachin","Shwegu","Lawk Awng Mare D. (Sinbo Area)",null,null,0,200,200,0,0,0,null,null,{"$f":"IF(NFI_Expiration=1,IF($A38<VLOOKUP(H$5,NFI,5,0),1,0)*Table_NFI[[#This Row],[Hygiene Kit]],0)","v":0},{"$f":"IF(NFI_Expiration=1,IF($A38<VLOOKUP(I$5,NFI,5,0),1,0)*Table_NFI[[#This Row],[NFI Core Kit]],0)","v":0},{"$f":"IF(NFI_Expiration=1,IF($A38<VLOOKUP(J$5,NFI,5,0),1,0)*Table_NFI[[#This Row],[Sanitary Kit]],0)","v":0},{"$f":"IF(NFI_Expiration=1,IF($A38<VLOOKUP(K$5,NFI,5,0),1,0)*Table_NFI[[#This Row],[Mosquito net]],0)","v":0},{"$f":"IF(NFI_Expiration=1,IF($A38<VLOOKUP(L$5,NFI,5,0),1,0)*Table_NFI[[#This Row],[Tarpaulin]],0)","v":0},{"$f":"IF(NFI_Expiration=1,IF($A38<VLOOKUP(M$5,NFI,5,0),1,0)*Table_NFI[[#This Row],[Blanket]],0)","v":0},{"$f":"IF(NFI_Expiration=1,IF($A38<VLOOKUP(N$5,NFI,5,0),1,0)*Table_NFI[[#This Row],[Kitchen Set]],0)","v":0},{"$f":"IF(NFI_Expiration=1,IF($A38<VLOOKUP(O$5,NFI,5,0),1,0)*Table_NFI[[#This Row],[Complementary Kit]],0)","v":0},{"$f":"IF(NFI_Expiration=1,IF($A38<VLOOKUP(P$5,NFI,5,0),1,0)*Table_NFI[[#This Row],[Plastic Bucket]],0)","v":0},{"$f":"IF(NFI_Expiration=1,IF($A38<VLOOKUP(Q$5,NFI,5,0),1,0)*Table_NFI[[#This Row],[Plastic Mat]],0)","v":0},{"$f":"VLOOKUP(Table_NFI[[#This Row],[Camp Name]],'Camp List'!N$5:Z$347,2,0)","v":"MMR001CMP147"},{"$f":"VLOOKUP(Table_NFI[[#This Row],[Camp Name]],'Camp List'!N$5:Z$347,13,0)","v":"Open"}]
[7.4333333333333336,"2012-12-21","UNHCR","UNHCR","Kachin","Shwegu","Shwe Gu Baptist Church",null,null,0,0,0,83,0,0,null,null,{"$f":"IF(NFI_Expiration=1,IF($A39<VLOOKUP(H$5,NFI,5,0),1,0)*Table_NFI[[#This Row],[Hygiene Kit]],0)","v":0},{"$f":"IF(NFI_Expiration=1,IF($A39<VLOOKUP(I$5,NFI,5,0),1,0)*Table_NFI[[#This Row],[NFI Core Kit]],0)","v":0},{"$f":"IF(NFI_Expiration=1,IF($A39<VLOOKUP(J$5,NFI,5,0),1,0)*Table_NFI[[#This Row],[Sanitary Kit]],0)","v":0},{"$f":"IF(NFI_Expiration=1,IF($A39<VLOOKUP(K$5,NFI,5,0),1,0)*Table_NFI[[#This Row],[Mosquito net]],0)","v":0},{"$f":"IF(NFI_Expiration=1,IF($A39<VLOOKUP(L$5,NFI,5,0),1,0)*Table_NFI[[#This Row],[Tarpaulin]],0)","v":0},{"$f":"IF(NFI_Expiration=1,IF($A39<VLOOKUP(M$5,NFI,5,0),1,0)*Table_NFI[[#This Row],[Blanket]],0)","v":83},{"$f":"IF(NFI_Expiration=1,IF($A39<VLOOKUP(N$5,NFI,5,0),1,0)*Table_NFI[[#This Row],[Kitchen Set]],0)","v":0},{"$f":"IF(NFI_Expiration=1,IF($A39<VLOOKUP(O$5,NFI,5,0),1,0)*Table_NFI[[#This Row],[Complementary Kit]],0)","v":0},{"$f":"IF(NFI_Expiration=1,IF($A39<VLOOKUP(P$5,NFI,5,0),1,0)*Table_NFI[[#This Row],[Plastic Bucket]],0)","v":0},{"$f":"IF(NFI_Expiration=1,IF($A39<VLOOKUP(Q$5,NFI,5,0),1,0)*Table_NFI[[#This Row],[Plastic Mat]],0)","v":0},{"$f":"VLOOKUP(Table_NFI[[#This Row],[Camp Name]],'Camp List'!N$5:Z$347,2,0)","v":"MMR001CMP067"},{"$f":"VLOOKUP(Table_NFI[[#This Row],[Camp Name]],'Camp List'!N$5:Z$347,13,0)","v":"Open"}]
[16.433333333333334,"2012-03-26","UNHCR","UNHCR","Kachin","Waingmaw","Border Post 8",null,null,0,460,250,460,230,0,null,null,{"$f":"IF(NFI_Expiration=1,IF($A40<VLOOKUP(H$5,NFI,5,0),1,0)*Table_NFI[[#This Row],[Hygiene Kit]],0)","v":0},{"$f":"IF(NFI_Expiration=1,IF($A40<VLOOKUP(I$5,NFI,5,0),1,0)*Table_NFI[[#This Row],[NFI Core Kit]],0)","v":0},{"$f":"IF(NFI_Expiration=1,IF($A40<VLOOKUP(J$5,NFI,5,0),1,0)*Table_NFI[[#This Row],[Sanitary Kit]],0)","v":0},{"$f":"IF(NFI_Expiration=1,IF($A40<VLOOKUP(K$5,NFI,5,0),1,0)*Table_NFI[[#This Row],[Mosquito net]],0)","v":0},{"$f":"IF(NFI_Expiration=1,IF($A40<VLOOKUP(L$5,NFI,5,0),1,0)*Table_NFI[[#This Row],[Tarpaulin]],0)","v":0},{"$f":"IF(NFI_Expiration=1,IF($A40<VLOOKUP(M$5,NFI,5,0),1,0)*Table_NFI[[#This Row],[Blanket]],0)","v":0},{"$f":"IF(NFI_Expiration=1,IF($A40<VLOOKUP(N$5,NFI,5,0),1,0)*Table_NFI[[#This Row],[Kitchen Set]],0)","v":0},{"$f":"IF(NFI_Expiration=1,IF($A40<VLOOKUP(O$5,NFI,5,0),1,0)*Table_NFI[[#This Row],[Complementary Kit]],0)","v":0},{"$f":"IF(NFI_Expiration=1,IF($A40<VLOOKUP(P$5,NFI,5,0),1,0)*Table_NFI[[#This Row],[Plastic Bucket]],0)","v":0},{"$f":"IF(NFI_Expiration=1,IF($A40<VLOOKUP(Q$5,NFI,5,0),1,0)*Table_NFI[[#This Row],[Plastic Mat]],0)","v":0},{"$f":"VLOOKUP(Table_NFI[[#This Row],[Camp Name]],'Camp List'!N$5:Z$347,2,0)","v":"MMR001CMP113"},{"$f":"VLOOKUP(Table_NFI[[#This Row],[Camp Name]],'Camp List'!N$5:Z$347,13,0)","v":"Open"}]
[16.399999999999999,"2012-03-27","UNHCR","UNHCR","Kachin","Waingmaw","Post 6 Camp",null,null,0,0,40,0,0,0,null,null,{"$f":"IF(NFI_Expiration=1,IF($A41<VLOOKUP(H$5,NFI,5,0),1,0)*Table_NFI[[#This Row],[Hygiene Kit]],0)","v":0},{"$f":"IF(NFI_Expiration=1,IF($A41<VLOOKUP(I$5,NFI,5,0),1,0)*Table_NFI[[#This Row],[NFI Core Kit]],0)","v":0},{"$f":"IF(NFI_Expiration=1,IF($A41<VLOOKUP(J$5,NFI,5,0),1,0)*Table_NFI[[#This Row],[Sanitary Kit]],0)","v":0},{"$f":"IF(NFI_Expiration=1,IF($A41<VLOOKUP(K$5,NFI,5,0),1,0)*Table_NFI[[#This Row],[Mosquito net]],0)","v":0},{"$f":"IF(NFI_Expiration=1,IF($A41<VLOOKUP(L$5,NFI,5,0),1,0)*Table_NFI[[#This Row],[Tarpaulin]],0)","v":0},{"$f":"IF(NFI_Expiration=1,IF($A41<VLOOKUP(M$5,NFI,5,0),1,0)*Table_NFI[[#This Row],[Blanket]],0)","v":0},{"$f":"IF(NFI_Expiration=1,IF($A41<VLOOKUP(N$5,NFI,5,0),1,0)*Table_NFI[[#This Row],[Kitchen Set]],0)","v":0},{"$f":"IF(NFI_Expiration=1,IF($A41<VLOOKUP(O$5,NFI,5,0),1,0)*Table_NFI[[#This Row],[Complementary Kit]],0)","v":0},{"$f":"IF(NFI_Expiration=1,IF($A41<VLOOKUP(P$5,NFI,5,0),1,0)*Table_NFI[[#This Row],[Plastic Bucket]],0)","v":0},{"$f":"IF(NFI_Expiration=1,IF($A41<VLOOKUP(Q$5,NFI,5,0),1,0)*Table_NFI[[#This Row],[Plastic Mat]],0)","v":0},{"$f":"VLOOKUP(Table_NFI[[#This Row],[Camp Name]],'Camp List'!N$5:Z$347,2,0)","v":"MMR001CMP160"},{"$f":"VLOOKUP(Table_NFI[[#This Row],[Camp Name]],'Camp List'!N$5:Z$347,13,0)","v":"Open"}]
[14.333333333333334,"2012-05-28","UNHCR","UNHCR","Kachin","Waingmaw","Qtr. 3 Mu-yin  Baptist Church",null,null,0,0,11,0,0,0,null,null,{"$f":"IF(NFI_Expiration=1,IF($A42<VLOOKUP(H$5,NFI,5,0),1,0)*Table_NFI[[#This Row],[Hygiene Kit]],0)","v":0},{"$f":"IF(NFI_Expiration=1,IF($A42<VLOOKUP(I$5,NFI,5,0),1,0)*Table_NFI[[#This Row],[NFI Core Kit]],0)","v":0},{"$f":"IF(NFI_Expiration=1,IF($A42<VLOOKUP(J$5,NFI,5,0),1,0)*Table_NFI[[#This Row],[Sanitary Kit]],0)","v":0},{"$f":"IF(NFI_Expiration=1,IF($A42<VLOOKUP(K$5,NFI,5,0),1,0)*Table_NFI[[#This Row],[Mosquito net]],0)","v":0},{"$f":"IF(NFI_Expiration=1,IF($A42<VLOOKUP(L$5,NFI,5,0),1,0)*Table_NFI[[#This Row],[Tarpaulin]],0)","v":0},{"$f":"IF(NFI_Expiration=1,IF($A42<VLOOKUP(M$5,NFI,5,0),1,0)*Table_NFI[[#This Row],[Blanket]],0)","v":0},{"$f":"IF(NFI_Expiration=1,IF($A42<VLOOKUP(N$5,NFI,5,0),1,0)*Table_NFI[[#This Row],[Kitchen Set]],0)","v":0},{"$f":"IF(NFI_Expiration=1,IF($A42<VLOOKUP(O$5,NFI,5,0),1,0)*Table_NFI[[#This Row],[Complementary Kit]],0)","v":0},{"$f":"IF(NFI_Expiration=1,IF($A42<VLOOKUP(P$5,NFI,5,0),1,0)*Table_NFI[[#This Row],[Plastic Bucket]],0)","v":0},{"$f":"IF(NFI_Expiration=1,IF($A42<VLOOKUP(Q$5,NFI,5,0),1,0)*Table_NFI[[#This Row],[Plastic Mat]],0)","v":0},{"$f":"VLOOKUP(Table_NFI[[#This Row],[Camp Name]],'Camp List'!N$5:Z$347,2,0)","v":"MMR001CMP030"},{"$f":"VLOOKUP(Table_NFI[[#This Row],[Camp Name]],'Camp List'!N$5:Z$347,13,0)","v":"Open"}]
[12.9,"2012-07-10","UNHCR","KMSS","Kachin","Waingmaw","Maga Yang ",null,null,0,0,599,675,599,0,null,null,{"$f":"IF(NFI_Expiration=1,IF($A43<VLOOKUP(H$5,NFI,5,0),1,0)*Table_NFI[[#This Row],[Hygiene Kit]],0)","v":0},{"$f":"IF(NFI_Expiration=1,IF($A43<VLOOKUP(I$5,NFI,5,0),1,0)*Table_NFI[[#This Row],[NFI Core Kit]],0)","v":0},{"$f":"IF(NFI_Expiration=1,IF($A43<VLOOKUP(J$5,NFI,5,0),1,0)*Table_NFI[[#This Row],[Sanitary Kit]],0)","v":0},{"$f":"IF(NFI_Expiration=1,IF($A43<VLOOKUP(K$5,NFI,5,0),1,0)*Table_NFI[[#This Row],[Mosquito net]],0)","v":0},{"$f":"IF(NFI_Expiration=1,IF($A43<VLOOKUP(L$5,NFI,5,0),1,0)*Table_NFI[[#This Row],[Tarpaulin]],0)","v":0},{"$f":"IF(NFI_Expiration=1,IF($A43<VLOOKUP(M$5,NFI,5,0),1,0)*Table_NFI[[#This Row],[Blanket]],0)","v":0},{"$f":"IF(NFI_Expiration=1,IF($A43<VLOOKUP(N$5,NFI,5,0),1,0)*Table_NFI[[#This Row],[Kitchen Set]],0)","v":0},{"$f":"IF(NFI_Expiration=1,IF($A43<VLOOKUP(O$5,NFI,5,0),1,0)*Table_NFI[[#This Row],[Complementary Kit]],0)","v":0},{"$f":"IF(NFI_Expiration=1,IF($A43<VLOOKUP(P$5,NFI,5,0),1,0)*Table_NFI[[#This Row],[Plastic Bucket]],0)","v":0},{"$f":"IF(NFI_Expiration=1,IF($A43<VLOOKUP(Q$5,NFI,5,0),1,0)*Table_NFI[[#This Row],[Plastic Mat]],0)","v":0},{"$f":"VLOOKUP(Table_NFI[[#This Row],[Camp Name]],'Camp List'!N$5:Z$347,2,0)","v":"MMR001CMP119"},{"$f":"VLOOKUP(Table_NFI[[#This Row],[Camp Name]],'Camp List'!N$5:Z$347,13,0)","v":"Open"}]
[12.666666666666666,"2012-07-17","UNHCR","UNHCR","Kachin","Waingmaw","Moke Lwe Village / Hkar Shi",null,null,0,0,0,0,0,0,null,null,{"$f":"IF(NFI_Expiration=1,IF($A44<VLOOKUP(H$5,NFI,5,0),1,0)*Table_NFI[[#This Row],[Hygiene Kit]],0)","v":0},{"$f":"IF(NFI_Expiration=1,IF($A44<VLOOKUP(I$5,NFI,5,0),1,0)*Table_NFI[[#This Row],[NFI Core Kit]],0)","v":0},{"$f":"IF(NFI_Expiration=1,IF($A44<VLOOKUP(J$5,NFI,5,0),1,0)*Table_NFI[[#This Row],[Sanitary Kit]],0)","v":0},{"$f":"IF(NFI_Expiration=1,IF($A44<VLOOKUP(K$5,NFI,5,0),1,0)*Table_NFI[[#This Row],[Mosquito net]],0)","v":0},{"$f":"IF(NFI_Expiration=1,IF($A44<VLOOKUP(L$5,NFI,5,0),1,0)*Table_NFI[[#This Row],[Tarpaulin]],0)","v":0},{"$f":"IF(NFI_Expiration=1,IF($A44<VLOOKUP(M$5,NFI,5,0),1,0)*Table_NFI[[#This Row],[Blanket]],0)","v":0},{"$f":"IF(NFI_Expiration=1,IF($A44<VLOOKUP(N$5,NFI,5,0),1,0)*Table_NFI[[#This Row],[Kitchen Set]],0)","v":0},{"$f":"IF(NFI_Expiration=1,IF($A44<VLOOKUP(O$5,NFI,5,0),1,0)*Table_NFI[[#This Row],[Complementary Kit]],0)","v":0},{"$f":"IF(NFI_Expiration=1,IF($A44<VLOOKUP(P$5,NFI,5,0),1,0)*Table_NFI[[#This Row],[Plastic Bucket]],0)","v":0},{"$f":"IF(NFI_Expiration=1,IF($A44<VLOOKUP(Q$5,NFI,5,0),1,0)*Table_NFI[[#This Row],[Plastic Mat]],0)","v":0},{"$f":"VLOOKUP(Table_NFI[[#This Row],[Camp Name]],'Camp List'!N$5:Z$347,2,0)","v":"MMR001CMP035"},{"$f":"VLOOKUP(Table_NFI[[#This Row],[Camp Name]],'Camp List'!N$5:Z$347,13,0)","v":"Close"}]
[21.266666666666666,"2011-11-02","UNHCR","KBC","Kachin","Myitkyina","Shatapru Thida Aye Baptist Church",null,null,0,2,1,2,1,1,1,{"$f":"O45","v":1},{"$f":"IF(NFI_Expiration=1,IF($A45<VLOOKUP(H$5,NFI,5,0),1,0)*Table_NFI[[#This Row],[Hygiene Kit]],0)","v":0},{"$f":"IF(NFI_Expiration=1,IF($A45<VLOOKUP(I$5,NFI,5,0),1,0)*Table_NFI[[#This Row],[NFI Core Kit]],0)","v":0},{"$f":"IF(NFI_Expiration=1,IF($A45<VLOOKUP(J$5,NFI,5,0),1,0)*Table_NFI[[#This Row],[Sanitary Kit]],0)","v":0},{"$f":"IF(NFI_Expiration=1,IF($A45<VLOOKUP(K$5,NFI,5,0),1,0)*Table_NFI[[#This Row],[Mosquito net]],0)","v":0},{"$f":"IF(NFI_Expiration=1,IF($A45<VLOOKUP(L$5,NFI,5,0),1,0)*Table_NFI[[#This Row],[Tarpaulin]],0)","v":0},{"$f":"IF(NFI_Expiration=1,IF($A45<VLOOKUP(M$5,NFI,5,0),1,0)*Table_NFI[[#This Row],[Blanket]],0)","v":0},{"$f":"IF(NFI_Expiration=1,IF($A45<VLOOKUP(N$5,NFI,5,0),1,0)*Table_NFI[[#This Row],[Kitchen Set]],0)","v":0},{"$f":"IF(NFI_Expiration=1,IF($A45<VLOOKUP(O$5,NFI,5,0),1,0)*Table_NFI[[#This Row],[Complementary Kit]],0)","v":0},{"$f":"IF(NFI_Expiration=1,IF($A45<VLOOKUP(P$5,NFI,5,0),1,0)*Table_NFI[[#This Row],[Plastic Bucket]],0)","v":0},{"$f":"IF(NFI_Expiration=1,IF($A45<VLOOKUP(Q$5,NFI,5,0),1,0)*Table_NFI[[#This Row],[Plastic Mat]],0)","v":0},{"$f":"VLOOKUP(Table_NFI[[#This Row],[Camp Name]],'Camp List'!N$5:Z$347,2,0)","v":"MMR001CMP007"},{"$f":"VLOOKUP(Table_NFI[[#This Row],[Camp Name]],'Camp List'!N$5:Z$347,13,0)","v":"Open"}]
[11.9,"2012-08-09","UNHCR","UNHCR","Kachin","Myitkyina","Maliyang Baptist Church",null,null,0,2,1,2,1,1,1,{"$f":"O46","v":1},{"$f":"IF(NFI_Expiration=1,IF($A46<VLOOKUP(H$5,NFI,5,0),1,0)*Table_NFI[[#This Row],[Hygiene Kit]],0)","v":0},{"$f":"IF(NFI_Expiration=1,IF($A46<VLOOKUP(I$5,NFI,5,0),1,0)*Table_NFI[[#This Row],[NFI Core Kit]],0)","v":0},{"$f":"IF(NFI_Expiration=1,IF($A46<VLOOKUP(J$5,NFI,5,0),1,0)*Table_NFI[[#This Row],[Sanitary Kit]],0)","v":0},{"$f":"IF(NFI_Expiration=1,IF($A46<VLOOKUP(K$5,NFI,5,0),1,0)*Table_NFI[[#This Row],[Mosquito net]],0)","v":2},{"$f":"IF(NFI_Expiration=1,IF($A46<VLOOKUP(L$5,NFI,5,0),1,0)*Table_NFI[[#This Row],[Tarpaulin]],0)","v":1},{"$f":"IF(NFI_Expiration=1,IF($A46<VLOOKUP(M$5,NFI,5,0),1,0)*Table_NFI[[#This Row],[Blanket]],0)","v":2},{"$f":"IF(NFI_Expiration=1,IF($A46<VLOOKUP(N$5,NFI,5,0),1,0)*Table_NFI[[#This Row],[Kitchen Set]],0)","v":1},{"$f":"IF(NFI_Expiration=1,IF($A46<VLOOKUP(O$5,NFI,5,0),1,0)*Table_NFI[[#This Row],[Complementary Kit]],0)","v":1},{"$f":"IF(NFI_Expiration=1,IF($A46<VLOOKUP(P$5,NFI,5,0),1,0)*Table_NFI[[#This Row],[Plastic Bucket]],0)","v":1},{"$f":"IF(NFI_Expiration=1,IF($A46<VLOOKUP(Q$5,NFI,5,0),1,0)*Table_NFI[[#This Row],[Plastic Mat]],0)","v":1},{"$f":"VLOOKUP(Table_NFI[[#This Row],[Camp Name]],'Camp List'!N$5:Z$347,2,0)","v":"MMR001CMP016"},{"$f":"VLOOKUP(Table_NFI[[#This Row],[Camp Name]],'Camp List'!N$5:Z$347,13,0)","v":"Open"}]
[11.9,"2012-08-09","UNHCR","UNHCR","Kachin","Myitkyina","Maw Hpawng Hka Nan Baptist Church",null,null,0,2,1,2,1,1,1,1,{"$f":"IF(NFI_Expiration=1,IF($A47<VLOOKUP(H$5,NFI,5,0),1,0)*Table_NFI[[#This Row],[Hygiene Kit]],0)","v":0},{"$f":"IF(NFI_Expiration=1,IF($A47<VLOOKUP(I$5,NFI,5,0),1,0)*Table_NFI[[#This Row],[NFI Core Kit]],0)","v":0},{"$f":"IF(NFI_Expiration=1,IF($A47<VLOOKUP(J$5,NFI,5,0),1,0)*Table_NFI[[#This Row],[Sanitary Kit]],0)","v":0},{"$f":"IF(NFI_Expiration=1,IF($A47<VLOOKUP(K$5,NFI,5,0),1,0)*Table_NFI[[#This Row],[Mosquito net]],0)","v":2},{"$f":"IF(NFI_Expiration=1,IF($A47<VLOOKUP(L$5,NFI,5,0),1,0)*Table_NFI[[#This Row],[Tarpaulin]],0)","v":1},{"$f":"IF(NFI_Expiration=1,IF($A47<VLOOKUP(M$5,NFI,5,0),1,0)*Table_NFI[[#This Row],[Blanket]],0)","v":2},{"$f":"IF(NFI_Expiration=1,IF($A47<VLOOKUP(N$5,NFI,5,0),1,0)*Table_NFI[[#This Row],[Kitchen Set]],0)","v":1},{"$f":"IF(NFI_Expiration=1,IF($A47<VLOOKUP(O$5,NFI,5,0),1,0)*Table_NFI[[#This Row],[Complementary Kit]],0)","v":1},{"$f":"IF(NFI_Expiration=1,IF($A47<VLOOKUP(P$5,NFI,5,0),1,0)*Table_NFI[[#This Row],[Plastic Bucket]],0)","v":1},{"$f":"IF(NFI_Expiration=1,IF($A47<VLOOKUP(Q$5,NFI,5,0),1,0)*Table_NFI[[#This Row],[Plastic Mat]],0)","v":1},{"$f":"VLOOKUP(Table_NFI[[#This Row],[Camp Name]],'Camp List'!N$5:Z$347,2,0)","v":"MMR001CMP020"},{"$f":"VLOOKUP(Table_NFI[[#This Row],[Camp Name]],'Camp List'!N$5:Z$347,13,0)","v":"Open"}]
[11.3,"2012-08-27","UNHCR","UNHCR","Kachin","Myitkyina","Maliyang Baptist Church",null,null,0,2,1,2,1,1,1,1,{"$f":"IF(NFI_Expiration=1,IF($A48<VLOOKUP(H$5,NFI,5,0),1,0)*Table_NFI[[#This Row],[Hygiene Kit]],0)","v":0},{"$f":"IF(NFI_Expiration=1,IF($A48<VLOOKUP(I$5,NFI,5,0),1,0)*Table_NFI[[#This Row],[NFI Core Kit]],0)","v":0},{"$f":"IF(NFI_Expiration=1,IF($A48<VLOOKUP(J$5,NFI,5,0),1,0)*Table_NFI[[#This Row],[Sanitary Kit]],0)","v":0},{"$f":"IF(NFI_Expiration=1,IF($A48<VLOOKUP(K$5,NFI,5,0),1,0)*Table_NFI[[#This Row],[Mosquito net]],0)","v":2},{"$f":"IF(NFI_Expiration=1,IF($A48<VLOOKUP(L$5,NFI,5,0),1,0)*Table_NFI[[#This Row],[Tarpaulin]],0)","v":1},{"$f":"IF(NFI_Expiration=1,IF($A48<VLOOKUP(M$5,NFI,5,0),1,0)*Table_NFI[[#This Row],[Blanket]],0)","v":2},{"$f":"IF(NFI_Expiration=1,IF($A48<VLOOKUP(N$5,NFI,5,0),1,0)*Table_NFI[[#This Row],[Kitchen Set]],0)","v":1},{"$f":"IF(NFI_Expiration=1,IF($A48<VLOOKUP(O$5,NFI,5,0),1,0)*Table_NFI[[#This Row],[Complementary Kit]],0)","v":1},{"$f":"IF(NFI_Expiration=1,IF($A48<VLOOKUP(P$5,NFI,5,0),1,0)*Table_NFI[[#This Row],[Plastic Bucket]],0)","v":1},{"$f":"IF(NFI_Expiration=1,IF($A48<VLOOKUP(Q$5,NFI,5,0),1,0)*Table_NFI[[#This Row],[Plastic Mat]],0)","v":1},{"$f":"VLOOKUP(Table_NFI[[#This Row],[Camp Name]],'Camp List'!N$5:Z$347,2,0)","v":"MMR001CMP016"},{"$f":"VLOOKUP(Table_NFI[[#This Row],[Camp Name]],'Camp List'!N$5:Z$347,13,0)","v":"Open"}]
[11.3,"2012-08-27","UNHCR","UNHCR","Kachin","Myitkyina","Maw Hpawng Hka Nan Baptist Church",null,null,0,2,1,2,1,1,1,1,{"$f":"IF(NFI_Expiration=1,IF($A49<VLOOKUP(H$5,NFI,5,0),1,0)*Table_NFI[[#This Row],[Hygiene Kit]],0)","v":0},{"$f":"IF(NFI_Expiration=1,IF($A49<VLOOKUP(I$5,NFI,5,0),1,0)*Table_NFI[[#This Row],[NFI Core Kit]],0)","v":0},{"$f":"IF(NFI_Expiration=1,IF($A49<VLOOKUP(J$5,NFI,5,0),1,0)*Table_NFI[[#This Row],[Sanitary Kit]],0)","v":0},{"$f":"IF(NFI_Expiration=1,IF($A49<VLOOKUP(K$5,NFI,5,0),1,0)*Table_NFI[[#This Row],[Mosquito net]],0)","v":2},{"$f":"IF(NFI_Expiration=1,IF($A49<VLOOKUP(L$5,NFI,5,0),1,0)*Table_NFI[[#This Row],[Tarpaulin]],0)","v":1},{"$f":"IF(NFI_Expiration=1,IF($A49<VLOOKUP(M$5,NFI,5,0),1,0)*Table_NFI[[#This Row],[Blanket]],0)","v":2},{"$f":"IF(NFI_Expiration=1,IF($A49<VLOOKUP(N$5,NFI,5,0),1,0)*Table_NFI[[#This Row],[Kitchen Set]],0)","v":1},{"$f":"IF(NFI_Expiration=1,IF($A49<VLOOKUP(O$5,NFI,5,0),1,0)*Table_NFI[[#This Row],[Complementary Kit]],0)","v":1},{"$f":"IF(NFI_Expiration=1,IF($A49<VLOOKUP(P$5,NFI,5,0),1,0)*Table_NFI[[#This Row],[Plastic Bucket]],0)","v":1},{"$f":"IF(NFI_Expiration=1,IF($A49<VLOOKUP(Q$5,NFI,5,0),1,0)*Table_NFI[[#This Row],[Plastic Mat]],0)","v":1},{"$f":"VLOOKUP(Table_NFI[[#This Row],[Camp Name]],'Camp List'!N$5:Z$347,2,0)","v":"MMR001CMP020"},{"$f":"VLOOKUP(Table_NFI[[#This Row],[Camp Name]],'Camp List'!N$5:Z$347,13,0)","v":"Open"}]
[5.4333333333333336,"2013-02-19","UNHCR","UNHCR","Kachin","Hpakant","Wrad(5) Christian Association",null,null,2,3,2,7,2,2,2,2,{"$f":"IF(NFI_Expiration=1,IF($A50<VLOOKUP(H$5,NFI,5,0),1,0)*Table_NFI[[#This Row],[Hygiene Kit]],0)","v":0},{"$f":"IF(NFI_Expiration=1,IF($A50<VLOOKUP(I$5,NFI,5,0),1,0)*Table_NFI[[#This Row],[NFI Core Kit]],0)","v":0},{"$f":"IF(NFI_Expiration=1,IF($A50<VLOOKUP(J$5,NFI,5,0),1,0)*Table_NFI[[#This Row],[Sanitary Kit]],0)","v":2},{"$f":"IF(NFI_Expiration=1,IF($A50<VLOOKUP(K$5,NFI,5,0),1,0)*Table_NFI[[#This Row],[Mosquito net]],0)","v":3},{"$f":"IF(NFI_Expiration=1,IF($A50<VLOOKUP(L$5,NFI,5,0),1,0)*Table_NFI[[#This Row],[Tarpaulin]],0)","v":2},{"$f":"IF(NFI_Expiration=1,IF($A50<VLOOKUP(M$5,NFI,5,0),1,0)*Table_NFI[[#This Row],[Blanket]],0)","v":7},{"$f":"IF(NFI_Expiration=1,IF($A50<VLOOKUP(N$5,NFI,5,0),1,0)*Table_NFI[[#This Row],[Kitchen Set]],0)","v":2},{"$f":"IF(NFI_Expiration=1,IF($A50<VLOOKUP(O$5,NFI,5,0),1,0)*Table_NFI[[#This Row],[Complementary Kit]],0)","v":2},{"$f":"IF(NFI_Expiration=1,IF($A50<VLOOKUP(P$5,NFI,5,0),1,0)*Table_NFI[[#This Row],[Plastic Bucket]],0)","v":2},{"$f":"IF(NFI_Expiration=1,IF($A50<VLOOKUP(Q$5,NFI,5,0),1,0)*Table_NFI[[#This Row],[Plastic Mat]],0)","v":2},{"$f":"VLOOKUP(Table_NFI[[#This Row],[Camp Name]],'Camp List'!N$5:Z$347,2,0)","v":"MMR001CMP175"},{"$f":"VLOOKUP(Table_NFI[[#This Row],[Camp Name]],'Camp List'!N$5:Z$347,13,0)","v":"Close"}]
[19.966666666666665,"2011-12-11","UNHCR","KBC","Kachin","Myitkyina","Tat Kone San Pya Baptist Church",null,null,0,3,2,3,2,2,2,2,{"$f":"IF(NFI_Expiration=1,IF($A51<VLOOKUP(H$5,NFI,5,0),1,0)*Table_NFI[[#This Row],[Hygiene Kit]],0)","v":0},{"$f":"IF(NFI_Expiration=1,IF($A51<VLOOKUP(I$5,NFI,5,0),1,0)*Table_NFI[[#This Row],[NFI Core Kit]],0)","v":0},{"$f":"IF(NFI_Expiration=1,IF($A51<VLOOKUP(J$5,NFI,5,0),1,0)*Table_NFI[[#This Row],[Sanitary Kit]],0)","v":0},{"$f":"IF(NFI_Expiration=1,IF($A51<VLOOKUP(K$5,NFI,5,0),1,0)*Table_NFI[[#This Row],[Mosquito net]],0)","v":0},{"$f":"IF(NFI_Expiration=1,IF($A51<VLOOKUP(L$5,NFI,5,0),1,0)*Table_NFI[[#This Row],[Tarpaulin]],0)","v":0},{"$f":"IF(NFI_Expiration=1,IF($A51<VLOOKUP(M$5,NFI,5,0),1,0)*Table_NFI[[#This Row],[Blanket]],0)","v":0},{"$f":"IF(NFI_Expiration=1,IF($A51<VLOOKUP(N$5,NFI,5,0),1,0)*Table_NFI[[#This Row],[Kitchen Set]],0)","v":0},{"$f":"IF(NFI_Expiration=1,IF($A51<VLOOKUP(O$5,NFI,5,0),1,0)*Table_NFI[[#This Row],[Complementary Kit]],0)","v":0},{"$f":"IF(NFI_Expiration=1,IF($A51<VLOOKUP(P$5,NFI,5,0),1,0)*Table_NFI[[#This Row],[Plastic Bucket]],0)","v":0},{"$f":"IF(NFI_Expiration=1,IF($A51<VLOOKUP(Q$5,NFI,5,0),1,0)*Table_NFI[[#This Row],[Plastic Mat]],0)","v":0},{"$f":"VLOOKUP(Table_NFI[[#This Row],[Camp Name]],'Camp List'!N$5:Z$347,2,0)","v":"MMR001CMP005"},{"$f":"VLOOKUP(Table_NFI[[#This Row],[Camp Name]],'Camp List'!N$5:Z$347,13,0)","v":"Open"}]
[19.966666666666665,"2011-12-11","UNHCR","KBC","Kachin","Myitkyina","Shatapru Sut Ngai Tawng",null,null,0,2,2,2,2,2,2,2,{"$f":"IF(NFI_Expiration=1,IF($A52<VLOOKUP(H$5,NFI,5,0),1,0)*Table_NFI[[#This Row],[Hygiene Kit]],0)","v":0},{"$f":"IF(NFI_Expiration=1,IF($A52<VLOOKUP(I$5,NFI,5,0),1,0)*Table_NFI[[#This Row],[NFI Core Kit]],0)","v":0},{"$f":"IF(NFI_Expiration=1,IF($A52<VLOOKUP(J$5,NFI,5,0),1,0)*Table_NFI[[#This Row],[Sanitary Kit]],0)","v":0},{"$f":"IF(NFI_Expiration=1,IF($A52<VLOOKUP(K$5,NFI,5,0),1,0)*Table_NFI[[#This Row],[Mosquito net]],0)","v":0},{"$f":"IF(NFI_Expiration=1,IF($A52<VLOOKUP(L$5,NFI,5,0),1,0)*Table_NFI[[#This Row],[Tarpaulin]],0)","v":0},{"$f":"IF(NFI_Expiration=1,IF($A52<VLOOKUP(M$5,NFI,5,0),1,0)*Table_NFI[[#This Row],[Blanket]],0)","v":0},{"$f":"IF(NFI_Expiration=1,IF($A52<VLOOKUP(N$5,NFI,5,0),1,0)*Table_NFI[[#This Row],[Kitchen Set]],0)","v":0},{"$f":"IF(NFI_Expiration=1,IF($A52<VLOOKUP(O$5,NFI,5,0),1,0)*Table_NFI[[#This Row],[Complementary Kit]],0)","v":0},{"$f":"IF(NFI_Expiration=1,IF($A52<VLOOKUP(P$5,NFI,5,0),1,0)*Table_NFI[[#This Row],[Plastic Bucket]],0)","v":0},{"$f":"IF(NFI_Expiration=1,IF($A52<VLOOKUP(Q$5,NFI,5,0),1,0)*Table_NFI[[#This Row],[Plastic Mat]],0)","v":0},{"$f":"VLOOKUP(Table_NFI[[#This Row],[Camp Name]],'Camp List'!N$5:Z$347,2,0)","v":"MMR001CMP006"},{"$f":"VLOOKUP(Table_NFI[[#This Row],[Camp Name]],'Camp List'!N$5:Z$347,13,0)","v":"Open"}]
[12.6,"2012-07-19","UNHCR","UNHCR","Kachin","Myitkyina","Tat Kone COC Baptist / Tat Kone Htoi San",null,null,0,3,2,3,2,2,2,2,{"$f":"IF(NFI_Expiration=1,IF($A53<VLOOKUP(H$5,NFI,5,0),1,0)*Table_NFI[[#This Row],[Hygiene Kit]],0)","v":0},{"$f":"IF(NFI_Expiration=1,IF($A53<VLOOKUP(I$5,NFI,5,0),1,0)*Table_NFI[[#This Row],[NFI Core Kit]],0)","v":0},{"$f":"IF(NFI_Expiration=1,IF($A53<VLOOKUP(J$5,NFI,5,0),1,0)*Table_NFI[[#This Row],[Sanitary Kit]],0)","v":0},{"$f":"IF(NFI_Expiration=1,IF($A53<VLOOKUP(K$5,NFI,5,0),1,0)*Table_NFI[[#This Row],[Mosquito net]],0)","v":0},{"$f":"IF(NFI_Expiration=1,IF($A53<VLOOKUP(L$5,NFI,5,0),1,0)*Table_NFI[[#This Row],[Tarpaulin]],0)","v":0},{"$f":"IF(NFI_Expiration=1,IF($A53<VLOOKUP(M$5,NFI,5,0),1,0)*Table_NFI[[#This Row],[Blanket]],0)","v":0},{"$f":"IF(NFI_Expiration=1,IF($A53<VLOOKUP(N$5,NFI,5,0),1,0)*Table_NFI[[#This Row],[Kitchen Set]],0)","v":0},{"$f":"IF(NFI_Expiration=1,IF($A53<VLOOKUP(O$5,NFI,5,0),1,0)*Table_NFI[[#This Row],[Complementary Kit]],0)","v":0},{"$f":"IF(NFI_Expiration=1,IF($A53<VLOOKUP(P$5,NFI,5,0),1,0)*Table_NFI[[#This Row],[Plastic Bucket]],0)","v":0},{"$f":"IF(NFI_Expiration=1,IF($A53<VLOOKUP(Q$5,NFI,5,0),1,0)*Table_NFI[[#This Row],[Plastic Mat]],0)","v":0},{"$f":"VLOOKUP(Table_NFI[[#This Row],[Camp Name]],'Camp List'!N$5:Z$347,2,0)","v":"MMR001CMP023"},{"$f":"VLOOKUP(Table_NFI[[#This Row],[Camp Name]],'Camp List'!N$5:Z$347,13,0)","v":"Open"}]
[12.8,"2012-07-13","UNHCR","UNHCR","Kachin","Waingmaw","Waingmaw Baptist Zonal Office",null,null,0,2,2,2,2,2,2,2,{"$f":"IF(NFI_Expiration=1,IF($A54<VLOOKUP(H$5,NFI,5,0),1,0)*Table_NFI[[#This Row],[Hygiene Kit]],0)","v":0},{"$f":"IF(NFI_Expiration=1,IF($A54<VLOOKUP(I$5,NFI,5,0),1,0)*Table_NFI[[#This Row],[NFI Core Kit]],0)","v":0},{"$f":"IF(NFI_Expiration=1,IF($A54<VLOOKUP(J$5,NFI,5,0),1,0)*Table_NFI[[#This Row],[Sanitary Kit]],0)","v":0},{"$f":"IF(NFI_Expiration=1,IF($A54<VLOOKUP(K$5,NFI,5,0),1,0)*Table_NFI[[#This Row],[Mosquito net]],0)","v":0},{"$f":"IF(NFI_Expiration=1,IF($A54<VLOOKUP(L$5,NFI,5,0),1,0)*Table_NFI[[#This Row],[Tarpaulin]],0)","v":0},{"$f":"IF(NFI_Expiration=1,IF($A54<VLOOKUP(M$5,NFI,5,0),1,0)*Table_NFI[[#This Row],[Blanket]],0)","v":0},{"$f":"IF(NFI_Expiration=1,IF($A54<VLOOKUP(N$5,NFI,5,0),1,0)*Table_NFI[[#This Row],[Kitchen Set]],0)","v":0},{"$f":"IF(NFI_Expiration=1,IF($A54<VLOOKUP(O$5,NFI,5,0),1,0)*Table_NFI[[#This Row],[Complementary Kit]],0)","v":0},{"$f":"IF(NFI_Expiration=1,IF($A54<VLOOKUP(P$5,NFI,5,0),1,0)*Table_NFI[[#This Row],[Plastic Bucket]],0)","v":0},{"$f":"IF(NFI_Expiration=1,IF($A54<VLOOKUP(Q$5,NFI,5,0),1,0)*Table_NFI[[#This Row],[Plastic Mat]],0)","v":0},{"$f":"VLOOKUP(Table_NFI[[#This Row],[Camp Name]],'Camp List'!N$5:Z$347,2,0)","v":"MMR001CMP036"},{"$f":"VLOOKUP(Table_NFI[[#This Row],[Camp Name]],'Camp List'!N$5:Z$347,13,0)","v":"Open"}]
[7.4333333333333336,"2012-12-21","UNHCR","UNHCR","Kachin","Bhamo","Yoe Kyi Monastery",null,null,0,0,3,0,3,3,3,3,{"$f":"IF(NFI_Expiration=1,IF($A55<VLOOKUP(H$5,NFI,5,0),1,0)*Table_NFI[[#This Row],[Hygiene Kit]],0)","v":0},{"$f":"IF(NFI_Expiration=1,IF($A55<VLOOKUP(I$5,NFI,5,0),1,0)*Table_NFI[[#This Row],[NFI Core Kit]],0)","v":0},{"$f":"IF(NFI_Expiration=1,IF($A55<VLOOKUP(J$5,NFI,5,0),1,0)*Table_NFI[[#This Row],[Sanitary Kit]],0)","v":0},{"$f":"IF(NFI_Expiration=1,IF($A55<VLOOKUP(K$5,NFI,5,0),1,0)*Table_NFI[[#This Row],[Mosquito net]],0)","v":0},{"$f":"IF(NFI_Expiration=1,IF($A55<VLOOKUP(L$5,NFI,5,0),1,0)*Table_NFI[[#This Row],[Tarpaulin]],0)","v":3},{"$f":"IF(NFI_Expiration=1,IF($A55<VLOOKUP(M$5,NFI,5,0),1,0)*Table_NFI[[#This Row],[Blanket]],0)","v":0},{"$f":"IF(NFI_Expiration=1,IF($A55<VLOOKUP(N$5,NFI,5,0),1,0)*Table_NFI[[#This Row],[Kitchen Set]],0)","v":3},{"$f":"IF(NFI_Expiration=1,IF($A55<VLOOKUP(O$5,NFI,5,0),1,0)*Table_NFI[[#This Row],[Complementary Kit]],0)","v":3},{"$f":"IF(NFI_Expiration=1,IF($A55<VLOOKUP(P$5,NFI,5,0),1,0)*Table_NFI[[#This Row],[Plastic Bucket]],0)","v":3},{"$f":"IF(NFI_Expiration=1,IF($A55<VLOOKUP(Q$5,NFI,5,0),1,0)*Table_NFI[[#This Row],[Plastic Mat]],0)","v":3},{"$f":"VLOOKUP(Table_NFI[[#This Row],[Camp Name]],'Camp List'!N$5:Z$347,2,0)","v":"MMR001CMP053"},{"$f":"VLOOKUP(Table_NFI[[#This Row],[Camp Name]],'Camp List'!N$5:Z$347,13,0)","v":"Open"}]
[20.733333333333334,"2011-11-18","UNHCR","UNHCR","Kachin","Myitkyina","Bomb Blast Victims",null,null,0,24,3,24,3,3,3,3,{"$f":"IF(NFI_Expiration=1,IF($A56<VLOOKUP(H$5,NFI,5,0),1,0)*Table_NFI[[#This Row],[Hygiene Kit]],0)","v":0},{"$f":"IF(NFI_Expiration=1,IF($A56<VLOOKUP(I$5,NFI,5,0),1,0)*Table_NFI[[#This Row],[NFI Core Kit]],0)","v":0},{"$f":"IF(NFI_Expiration=1,IF($A56<VLOOKUP(J$5,NFI,5,0),1,0)*Table_NFI[[#This Row],[Sanitary Kit]],0)","v":0},{"$f":"IF(NFI_Expiration=1,IF($A56<VLOOKUP(K$5,NFI,5,0),1,0)*Table_NFI[[#This Row],[Mosquito net]],0)","v":0},{"$f":"IF(NFI_Expiration=1,IF($A56<VLOOKUP(L$5,NFI,5,0),1,0)*Table_NFI[[#This Row],[Tarpaulin]],0)","v":0},{"$f":"IF(NFI_Expiration=1,IF($A56<VLOOKUP(M$5,NFI,5,0),1,0)*Table_NFI[[#This Row],[Blanket]],0)","v":0},{"$f":"IF(NFI_Expiration=1,IF($A56<VLOOKUP(N$5,NFI,5,0),1,0)*Table_NFI[[#This Row],[Kitchen Set]],0)","v":0},{"$f":"IF(NFI_Expiration=1,IF($A56<VLOOKUP(O$5,NFI,5,0),1,0)*Table_NFI[[#This Row],[Complementary Kit]],0)","v":0},{"$f":"IF(NFI_Expiration=1,IF($A56<VLOOKUP(P$5,NFI,5,0),1,0)*Table_NFI[[#This Row],[Plastic Bucket]],0)","v":0},{"$f":"IF(NFI_Expiration=1,IF($A56<VLOOKUP(Q$5,NFI,5,0),1,0)*Table_NFI[[#This Row],[Plastic Mat]],0)","v":0},{"$f":"VLOOKUP(Table_NFI[[#This Row],[Camp Name]],'Camp List'!N$5:Z$347,2,0)","v":{"$error":"#N/A"}},{"$f":"VLOOKUP(Table_NFI[[#This Row],[Camp Name]],'Camp List'!N$5:Z$347,13,0)","v":{"$error":"#N/A"}}]
[12.7,"2012-07-16","UNHCR","UNHCR","Kachin","Myitkyina","Maliyang Baptist Church",null,null,0,3,3,3,3,3,3,3,{"$f":"IF(NFI_Expiration=1,IF($A57<VLOOKUP(H$5,NFI,5,0),1,0)*Table_NFI[[#This Row],[Hygiene Kit]],0)","v":0},{"$f":"IF(NFI_Expiration=1,IF($A57<VLOOKUP(I$5,NFI,5,0),1,0)*Table_NFI[[#This Row],[NFI Core Kit]],0)","v":0},{"$f":"IF(NFI_Expiration=1,IF($A57<VLOOKUP(J$5,NFI,5,0),1,0)*Table_NFI[[#This Row],[Sanitary Kit]],0)","v":0},{"$f":"IF(NFI_Expiration=1,IF($A57<VLOOKUP(K$5,NFI,5,0),1,0)*Table_NFI[[#This Row],[Mosquito net]],0)","v":0},{"$f":"IF(NFI_Expiration=1,IF($A57<VLOOKUP(L$5,NFI,5,0),1,0)*Table_NFI[[#This Row],[Tarpaulin]],0)","v":0},{"$f":"IF(NFI_Expiration=1,IF($A57<VLOOKUP(M$5,NFI,5,0),1,0)*Table_NFI[[#This Row],[Blanket]],0)","v":0},{"$f":"IF(NFI_Expiration=1,IF($A57<VLOOKUP(N$5,NFI,5,0),1,0)*Table_NFI[[#This Row],[Kitchen Set]],0)","v":0},{"$f":"IF(NFI_Expiration=1,IF($A57<VLOOKUP(O$5,NFI,5,0),1,0)*Table_NFI[[#This Row],[Complementary Kit]],0)","v":0},{"$f":"IF(NFI_Expiration=1,IF($A57<VLOOKUP(P$5,NFI,5,0),1,0)*Table_NFI[[#This Row],[Plastic Bucket]],0)","v":0},{"$f":"IF(NFI_Expiration=1,IF($A57<VLOOKUP(Q$5,NFI,5,0),1,0)*Table_NFI[[#This Row],[Plastic Mat]],0)","v":0},{"$f":"VLOOKUP(Table_NFI[[#This Row],[Camp Name]],'Camp List'!N$5:Z$347,2,0)","v":"MMR001CMP016"},{"$f":"VLOOKUP(Table_NFI[[#This Row],[Camp Name]],'Camp List'!N$5:Z$347,13,0)","v":"Open"}]
[12.666666666666666,"2012-07-17","UNHCR","UNHCR","Kachin","Myitkyina","Shatapru Thida Aye Baptist Church",null,null,0,3,3,3,3,3,3,3,{"$f":"IF(NFI_Expiration=1,IF($A58<VLOOKUP(H$5,NFI,5,0),1,0)*Table_NFI[[#This Row],[Hygiene Kit]],0)","v":0},{"$f":"IF(NFI_Expiration=1,IF($A58<VLOOKUP(I$5,NFI,5,0),1,0)*Table_NFI[[#This Row],[NFI Core Kit]],0)","v":0},{"$f":"IF(NFI_Expiration=1,IF($A58<VLOOKUP(J$5,NFI,5,0),1,0)*Table_NFI[[#This Row],[Sanitary Kit]],0)","v":0},{"$f":"IF(NFI_Expiration=1,IF($A58<VLOOKUP(K$5,NFI,5,0),1,0)*Table_NFI[[#This Row],[Mosquito net]],0)","v":0},{"$f":"IF(NFI_Expiration=1,IF($A58<VLOOKUP(L$5,NFI,5,0),1,0)*Table_NFI[[#This Row],[Tarpaulin]],0)","v":0},{"$f":"IF(NFI_Expiration=1,IF($A58<VLOOKUP(M$5,NFI,5,0),1,0)*Table_NFI[[#This Row],[Blanket]],0)","v":0},{"$f":"IF(NFI_Expiration=1,IF($A58<VLOOKUP(N$5,NFI,5,0),1,0)*Table_NFI[[#This Row],[Kitchen Set]],0)","v":0},{"$f":"IF(NFI_Expiration=1,IF($A58<VLOOKUP(O$5,NFI,5,0),1,0)*Table_NFI[[#This Row],[Complementary Kit]],0)","v":0},{"$f":"IF(NFI_Expiration=1,IF($A58<VLOOKUP(P$5,NFI,5,0),1,0)*Table_NFI[[#This Row],[Plastic Bucket]],0)","v":0},{"$f":"IF(NFI_Expiration=1,IF($A58<VLOOKUP(Q$5,NFI,5,0),1,0)*Table_NFI[[#This Row],[Plastic Mat]],0)","v":0},{"$f":"VLOOKUP(Table_NFI[[#This Row],[Camp Name]],'Camp List'!N$5:Z$347,2,0)","v":"MMR001CMP007"},{"$f":"VLOOKUP(Table_NFI[[#This Row],[Camp Name]],'Camp List'!N$5:Z$347,13,0)","v":"Open"}]
[11.9,"2012-08-09","UNHCR","UNHCR","Kachin","Myitkyina","Jan Mai Kawng Baptist Church",null,null,0,7,3,7,3,3,3,3,{"$f":"IF(NFI_Expiration=1,IF($A59<VLOOKUP(H$5,NFI,5,0),1,0)*Table_NFI[[#This Row],[Hygiene Kit]],0)","v":0},{"$f":"IF(NFI_Expiration=1,IF($A59<VLOOKUP(I$5,NFI,5,0),1,0)*Table_NFI[[#This Row],[NFI Core Kit]],0)","v":0},{"$f":"IF(NFI_Expiration=1,IF($A59<VLOOKUP(J$5,NFI,5,0),1,0)*Table_NFI[[#This Row],[Sanitary Kit]],0)","v":0},{"$f":"IF(NFI_Expiration=1,IF($A59<VLOOKUP(K$5,NFI,5,0),1,0)*Table_NFI[[#This Row],[Mosquito net]],0)","v":7},{"$f":"IF(NFI_Expiration=1,IF($A59<VLOOKUP(L$5,NFI,5,0),1,0)*Table_NFI[[#This Row],[Tarpaulin]],0)","v":3},{"$f":"IF(NFI_Expiration=1,IF($A59<VLOOKUP(M$5,NFI,5,0),1,0)*Table_NFI[[#This Row],[Blanket]],0)","v":7},{"$f":"IF(NFI_Expiration=1,IF($A59<VLOOKUP(N$5,NFI,5,0),1,0)*Table_NFI[[#This Row],[Kitchen Set]],0)","v":3},{"$f":"IF(NFI_Expiration=1,IF($A59<VLOOKUP(O$5,NFI,5,0),1,0)*Table_NFI[[#This Row],[Complementary Kit]],0)","v":3},{"$f":"IF(NFI_Expiration=1,IF($A59<VLOOKUP(P$5,NFI,5,0),1,0)*Table_NFI[[#This Row],[Plastic Bucket]],0)","v":3},{"$f":"IF(NFI_Expiration=1,IF($A59<VLOOKUP(Q$5,NFI,5,0),1,0)*Table_NFI[[#This Row],[Plastic Mat]],0)","v":3},{"$f":"VLOOKUP(Table_NFI[[#This Row],[Camp Name]],'Camp List'!N$5:Z$347,2,0)","v":"MMR001CMP018"},{"$f":"VLOOKUP(Table_NFI[[#This Row],[Camp Name]],'Camp List'!N$5:Z$347,13,0)","v":"Open"}]
[11.3,"2012-08-27","UNHCR","UNHCR","Kachin","Myitkyina","Jan Mai Kawng Baptist Church",null,null,0,7,4,7,3,3,3,3,{"$f":"IF(NFI_Expiration=1,IF($A60<VLOOKUP(H$5,NFI,5,0),1,0)*Table_NFI[[#This Row],[Hygiene Kit]],0)","v":0},{"$f":"IF(NFI_Expiration=1,IF($A60<VLOOKUP(I$5,NFI,5,0),1,0)*Table_NFI[[#This Row],[NFI Core Kit]],0)","v":0},{"$f":"IF(NFI_Expiration=1,IF($A60<VLOOKUP(J$5,NFI,5,0),1,0)*Table_NFI[[#This Row],[Sanitary Kit]],0)","v":0},{"$f":"IF(NFI_Expiration=1,IF($A60<VLOOKUP(K$5,NFI,5,0),1,0)*Table_NFI[[#This Row],[Mosquito net]],0)","v":7},{"$f":"IF(NFI_Expiration=1,IF($A60<VLOOKUP(L$5,NFI,5,0),1,0)*Table_NFI[[#This Row],[Tarpaulin]],0)","v":4},{"$f":"IF(NFI_Expiration=1,IF($A60<VLOOKUP(M$5,NFI,5,0),1,0)*Table_NFI[[#This Row],[Blanket]],0)","v":7},{"$f":"IF(NFI_Expiration=1,IF($A60<VLOOKUP(N$5,NFI,5,0),1,0)*Table_NFI[[#This Row],[Kitchen Set]],0)","v":3},{"$f":"IF(NFI_Expiration=1,IF($A60<VLOOKUP(O$5,NFI,5,0),1,0)*Table_NFI[[#This Row],[Complementary Kit]],0)","v":3},{"$f":"IF(NFI_Expiration=1,IF($A60<VLOOKUP(P$5,NFI,5,0),1,0)*Table_NFI[[#This Row],[Plastic Bucket]],0)","v":3},{"$f":"IF(NFI_Expiration=1,IF($A60<VLOOKUP(Q$5,NFI,5,0),1,0)*Table_NFI[[#This Row],[Plastic Mat]],0)","v":3},{"$f":"VLOOKUP(Table_NFI[[#This Row],[Camp Name]],'Camp List'!N$5:Z$347,2,0)","v":"MMR001CMP018"},{"$f":"VLOOKUP(Table_NFI[[#This Row],[Camp Name]],'Camp List'!N$5:Z$347,13,0)","v":"Open"}]
[12.8,"2012-07-13","UNHCR","UNHCR","Kachin","Waingmaw","Qtr. 4 Monestry (Thargaya Thayett Taw)",null,null,0,3,3,3,3,3,3,3,{"$f":"IF(NFI_Expiration=1,IF($A61<VLOOKUP(H$5,NFI,5,0),1,0)*Table_NFI[[#This Row],[Hygiene Kit]],0)","v":0},{"$f":"IF(NFI_Expiration=1,IF($A61<VLOOKUP(I$5,NFI,5,0),1,0)*Table_NFI[[#This Row],[NFI Core Kit]],0)","v":0},{"$f":"IF(NFI_Expiration=1,IF($A61<VLOOKUP(J$5,NFI,5,0),1,0)*Table_NFI[[#This Row],[Sanitary Kit]],0)","v":0},{"$f":"IF(NFI_Expiration=1,IF($A61<VLOOKUP(K$5,NFI,5,0),1,0)*Table_NFI[[#This Row],[Mosquito net]],0)","v":0},{"$f":"IF(NFI_Expiration=1,IF($A61<VLOOKUP(L$5,NFI,5,0),1,0)*Table_NFI[[#This Row],[Tarpaulin]],0)","v":0},{"$f":"IF(NFI_Expiration=1,IF($A61<VLOOKUP(M$5,NFI,5,0),1,0)*Table_NFI[[#This Row],[Blanket]],0)","v":0},{"$f":"IF(NFI_Expiration=1,IF($A61<VLOOKUP(N$5,NFI,5,0),1,0)*Table_NFI[[#This Row],[Kitchen Set]],0)","v":0},{"$f":"IF(NFI_Expiration=1,IF($A61<VLOOKUP(O$5,NFI,5,0),1,0)*Table_NFI[[#This Row],[Complementary Kit]],0)","v":0},{"$f":"IF(NFI_Expiration=1,IF($A61<VLOOKUP(P$5,NFI,5,0),1,0)*Table_NFI[[#This Row],[Plastic Bucket]],0)","v":0},{"$f":"IF(NFI_Expiration=1,IF($A61<VLOOKUP(Q$5,NFI,5,0),1,0)*Table_NFI[[#This Row],[Plastic Mat]],0)","v":0},{"$f":"VLOOKUP(Table_NFI[[#This Row],[Camp Name]],'Camp List'!N$5:Z$347,2,0)","v":"MMR001CMP026"},{"$f":"VLOOKUP(Table_NFI[[#This Row],[Camp Name]],'Camp List'!N$5:Z$347,13,0)","v":"Open"}]
[4,"2013-04-03","UNHCR","UNHCR","Kachin","Waingmaw","Waingmaw AG Church",null,null,4,7,3,7,3,3,3,3,{"$f":"IF(NFI_Expiration=1,IF($A62<VLOOKUP(H$5,NFI,5,0),1,0)*Table_NFI[[#This Row],[Hygiene Kit]],0)","v":0},{"$f":"IF(NFI_Expiration=1,IF($A62<VLOOKUP(I$5,NFI,5,0),1,0)*Table_NFI[[#This Row],[NFI Core Kit]],0)","v":0},{"$f":"IF(NFI_Expiration=1,IF($A62<VLOOKUP(J$5,NFI,5,0),1,0)*Table_NFI[[#This Row],[Sanitary Kit]],0)","v":4},{"$f":"IF(NFI_Expiration=1,IF($A62<VLOOKUP(K$5,NFI,5,0),1,0)*Table_NFI[[#This Row],[Mosquito net]],0)","v":7},{"$f":"IF(NFI_Expiration=1,IF($A62<VLOOKUP(L$5,NFI,5,0),1,0)*Table_NFI[[#This Row],[Tarpaulin]],0)","v":3},{"$f":"IF(NFI_Expiration=1,IF($A62<VLOOKUP(M$5,NFI,5,0),1,0)*Table_NFI[[#This Row],[Blanket]],0)","v":7},{"$f":"IF(NFI_Expiration=1,IF($A62<VLOOKUP(N$5,NFI,5,0),1,0)*Table_NFI[[#This Row],[Kitchen Set]],0)","v":3},{"$f":"IF(NFI_Expiration=1,IF($A62<VLOOKUP(O$5,NFI,5,0),1,0)*Table_NFI[[#This Row],[Complementary Kit]],0)","v":3},{"$f":"IF(NFI_Expiration=1,IF($A62<VLOOKUP(P$5,NFI,5,0),1,0)*Table_NFI[[#This Row],[Plastic Bucket]],0)","v":3},{"$f":"IF(NFI_Expiration=1,IF($A62<VLOOKUP(Q$5,NFI,5,0),1,0)*Table_NFI[[#This Row],[Plastic Mat]],0)","v":3},{"$f":"VLOOKUP(Table_NFI[[#This Row],[Camp Name]],'Camp List'!N$5:Z$347,2,0)","v":"MMR001CMP038"},{"$f":"VLOOKUP(Table_NFI[[#This Row],[Camp Name]],'Camp List'!N$5:Z$347,13,0)","v":"Open"}]
[5.4333333333333336,"2013-02-19","UNHCR","UNHCR","Kachin","Hpakant","Anglican Church, Hmaw Si Sar",null,null,1,6,3,15,4,4,4,4,{"$f":"IF(NFI_Expiration=1,IF($A63<VLOOKUP(H$5,NFI,5,0),1,0)*Table_NFI[[#This Row],[Hygiene Kit]],0)","v":0},{"$f":"IF(NFI_Expiration=1,IF($A63<VLOOKUP(I$5,NFI,5,0),1,0)*Table_NFI[[#This Row],[NFI Core Kit]],0)","v":0},{"$f":"IF(NFI_Expiration=1,IF($A63<VLOOKUP(J$5,NFI,5,0),1,0)*Table_NFI[[#This Row],[Sanitary Kit]],0)","v":1},{"$f":"IF(NFI_Expiration=1,IF($A63<VLOOKUP(K$5,NFI,5,0),1,0)*Table_NFI[[#This Row],[Mosquito net]],0)","v":6},{"$f":"IF(NFI_Expiration=1,IF($A63<VLOOKUP(L$5,NFI,5,0),1,0)*Table_NFI[[#This Row],[Tarpaulin]],0)","v":3},{"$f":"IF(NFI_Expiration=1,IF($A63<VLOOKUP(M$5,NFI,5,0),1,0)*Table_NFI[[#This Row],[Blanket]],0)","v":15},{"$f":"IF(NFI_Expiration=1,IF($A63<VLOOKUP(N$5,NFI,5,0),1,0)*Table_NFI[[#This Row],[Kitchen Set]],0)","v":4},{"$f":"IF(NFI_Expiration=1,IF($A63<VLOOKUP(O$5,NFI,5,0),1,0)*Table_NFI[[#This Row],[Complementary Kit]],0)","v":4},{"$f":"IF(NFI_Expiration=1,IF($A63<VLOOKUP(P$5,NFI,5,0),1,0)*Table_NFI[[#This Row],[Plastic Bucket]],0)","v":4},{"$f":"IF(NFI_Expiration=1,IF($A63<VLOOKUP(Q$5,NFI,5,0),1,0)*Table_NFI[[#This Row],[Plastic Mat]],0)","v":4},{"$f":"VLOOKUP(Table_NFI[[#This Row],[Camp Name]],'Camp List'!N$5:Z$347,2,0)","v":"MMR001CMP173"},{"$f":"VLOOKUP(Table_NFI[[#This Row],[Camp Name]],'Camp List'!N$5:Z$347,13,0)","v":"Close"}]
[5.4333333333333336,"2013-02-19","UNHCR","UNHCR","Kachin","Hpakant","1 Ward, Sein Yadanar Company(Lon Khin)",null,null,3,7,4,7,4,4,4,4,{"$f":"IF(NFI_Expiration=1,IF($A64<VLOOKUP(H$5,NFI,5,0),1,0)*Table_NFI[[#This Row],[Hygiene Kit]],0)","v":0},{"$f":"IF(NFI_Expiration=1,IF($A64<VLOOKUP(I$5,NFI,5,0),1,0)*Table_NFI[[#This Row],[NFI Core Kit]],0)","v":0},{"$f":"IF(NFI_Expiration=1,IF($A64<VLOOKUP(J$5,NFI,5,0),1,0)*Table_NFI[[#This Row],[Sanitary Kit]],0)","v":3},{"$f":"IF(NFI_Expiration=1,IF($A64<VLOOKUP(K$5,NFI,5,0),1,0)*Table_NFI[[#This Row],[Mosquito net]],0)","v":7},{"$f":"IF(NFI_Expiration=1,IF($A64<VLOOKUP(L$5,NFI,5,0),1,0)*Table_NFI[[#This Row],[Tarpaulin]],0)","v":4},{"$f":"IF(NFI_Expiration=1,IF($A64<VLOOKUP(M$5,NFI,5,0),1,0)*Table_NFI[[#This Row],[Blanket]],0)","v":7},{"$f":"IF(NFI_Expiration=1,IF($A64<VLOOKUP(N$5,NFI,5,0),1,0)*Table_NFI[[#This Row],[Kitchen Set]],0)","v":4},{"$f":"IF(NFI_Expiration=1,IF($A64<VLOOKUP(O$5,NFI,5,0),1,0)*Table_NFI[[#This Row],[Complementary Kit]],0)","v":4},{"$f":"IF(NFI_Expiration=1,IF($A64<VLOOKUP(P$5,NFI,5,0),1,0)*Table_NFI[[#This Row],[Plastic Bucket]],0)","v":4},{"$f":"IF(NFI_Expiration=1,IF($A64<VLOOKUP(Q$5,NFI,5,0),1,0)*Table_NFI[[#This Row],[Plastic Mat]],0)","v":4},{"$f":"VLOOKUP(Table_NFI[[#This Row],[Camp Name]],'Camp List'!N$5:Z$347,2,0)","v":"MMR001CMP171"},{"$f":"VLOOKUP(Table_NFI[[#This Row],[Camp Name]],'Camp List'!N$5:Z$347,13,0)","v":"Close"}]
[1.6333333333333333,"2013-06-13","UNHCR","UNHCR","Kachin","Momauk","Loi Je Baptist Church",null,null,152,11,4,11,4,4,4,4,{"$f":"IF(NFI_Expiration=1,IF($A65<VLOOKUP(H$5,NFI,5,0),1,0)*Table_NFI[[#This Row],[Hygiene Kit]],0)","v":0},{"$f":"IF(NFI_Expiration=1,IF($A65<VLOOKUP(I$5,NFI,5,0),1,0)*Table_NFI[[#This Row],[NFI Core Kit]],0)","v":0},{"$f":"IF(NFI_Expiration=1,IF($A65<VLOOKUP(J$5,NFI,5,0),1,0)*Table_NFI[[#This Row],[Sanitary Kit]],0)","v":152},{"$f":"IF(NFI_Expiration=1,IF($A65<VLOOKUP(K$5,NFI,5,0),1,0)*Table_NFI[[#This Row],[Mosquito net]],0)","v":11},{"$f":"IF(NFI_Expiration=1,IF($A65<VLOOKUP(L$5,NFI,5,0),1,0)*Table_NFI[[#This Row],[Tarpaulin]],0)","v":4},{"$f":"IF(NFI_Expiration=1,IF($A65<VLOOKUP(M$5,NFI,5,0),1,0)*Table_NFI[[#This Row],[Blanket]],0)","v":11},{"$f":"IF(NFI_Expiration=1,IF($A65<VLOOKUP(N$5,NFI,5,0),1,0)*Table_NFI[[#This Row],[Kitchen Set]],0)","v":4},{"$f":"IF(NFI_Expiration=1,IF($A65<VLOOKUP(O$5,NFI,5,0),1,0)*Table_NFI[[#This Row],[Complementary Kit]],0)","v":4},{"$f":"IF(NFI_Expiration=1,IF($A65<VLOOKUP(P$5,NFI,5,0),1,0)*Table_NFI[[#This Row],[Plastic Bucket]],0)","v":4},{"$f":"IF(NFI_Expiration=1,IF($A65<VLOOKUP(Q$5,NFI,5,0),1,0)*Table_NFI[[#This Row],[Plastic Mat]],0)","v":4},{"$f":"VLOOKUP(Table_NFI[[#This Row],[Camp Name]],'Camp List'!N$5:Z$347,2,0)","v":"MMR001CMP071"},{"$f":"VLOOKUP(Table_NFI[[#This Row],[Camp Name]],'Camp List'!N$5:Z$347,13,0)","v":"Open"}]
[19.966666666666665,"2011-12-11","UNHCR","KBC","Kachin","Myitkyina","Man Hkring Baptist Church",null,null,0,6,4,6,4,4,4,4,{"$f":"IF(NFI_Expiration=1,IF($A66<VLOOKUP(H$5,NFI,5,0),1,0)*Table_NFI[[#This Row],[Hygiene Kit]],0)","v":0},{"$f":"IF(NFI_Expiration=1,IF($A66<VLOOKUP(I$5,NFI,5,0),1,0)*Table_NFI[[#This Row],[NFI Core Kit]],0)","v":0},{"$f":"IF(NFI_Expiration=1,IF($A66<VLOOKUP(J$5,NFI,5,0),1,0)*Table_NFI[[#This Row],[Sanitary Kit]],0)","v":0},{"$f":"IF(NFI_Expiration=1,IF($A66<VLOOKUP(K$5,NFI,5,0),1,0)*Table_NFI[[#This Row],[Mosquito net]],0)","v":0},{"$f":"IF(NFI_Expiration=1,IF($A66<VLOOKUP(L$5,NFI,5,0),1,0)*Table_NFI[[#This Row],[Tarpaulin]],0)","v":0},{"$f":"IF(NFI_Expiration=1,IF($A66<VLOOKUP(M$5,NFI,5,0),1,0)*Table_NFI[[#This Row],[Blanket]],0)","v":0},{"$f":"IF(NFI_Expiration=1,IF($A66<VLOOKUP(N$5,NFI,5,0),1,0)*Table_NFI[[#This Row],[Kitchen Set]],0)","v":0},{"$f":"IF(NFI_Expiration=1,IF($A66<VLOOKUP(O$5,NFI,5,0),1,0)*Table_NFI[[#This Row],[Complementary Kit]],0)","v":0},{"$f":"IF(NFI_Expiration=1,IF($A66<VLOOKUP(P$5,NFI,5,0),1,0)*Table_NFI[[#This Row],[Plastic Bucket]],0)","v":0},{"$f":"IF(NFI_Expiration=1,IF($A66<VLOOKUP(Q$5,NFI,5,0),1,0)*Table_NFI[[#This Row],[Plastic Mat]],0)","v":0},{"$f":"VLOOKUP(Table_NFI[[#This Row],[Camp Name]],'Camp List'!N$5:Z$347,2,0)","v":"MMR001CMP008"},{"$f":"VLOOKUP(Table_NFI[[#This Row],[Camp Name]],'Camp List'!N$5:Z$347,13,0)","v":"Open"}]
[12.6,"2012-07-19","UNHCR","UNHCR","Kachin","Myitkyina","Kyun Pin Thar Baptist Church",null,null,0,6,4,6,4,4,4,4,{"$f":"IF(NFI_Expiration=1,IF($A67<VLOOKUP(H$5,NFI,5,0),1,0)*Table_NFI[[#This Row],[Hygiene Kit]],0)","v":0},{"$f":"IF(NFI_Expiration=1,IF($A67<VLOOKUP(I$5,NFI,5,0),1,0)*Table_NFI[[#This Row],[NFI Core Kit]],0)","v":0},{"$f":"IF(NFI_Expiration=1,IF($A67<VLOOKUP(J$5,NFI,5,0),1,0)*Table_NFI[[#This Row],[Sanitary Kit]],0)","v":0},{"$f":"IF(NFI_Expiration=1,IF($A67<VLOOKUP(K$5,NFI,5,0),1,0)*Table_NFI[[#This Row],[Mosquito net]],0)","v":0},{"$f":"IF(NFI_Expiration=1,IF($A67<VLOOKUP(L$5,NFI,5,0),1,0)*Table_NFI[[#This Row],[Tarpaulin]],0)","v":0},{"$f":"IF(NFI_Expiration=1,IF($A67<VLOOKUP(M$5,NFI,5,0),1,0)*Table_NFI[[#This Row],[Blanket]],0)","v":0},{"$f":"IF(NFI_Expiration=1,IF($A67<VLOOKUP(N$5,NFI,5,0),1,0)*Table_NFI[[#This Row],[Kitchen Set]],0)","v":0},{"$f":"IF(NFI_Expiration=1,IF($A67<VLOOKUP(O$5,NFI,5,0),1,0)*Table_NFI[[#This Row],[Complementary Kit]],0)","v":0},{"$f":"IF(NFI_Expiration=1,IF($A67<VLOOKUP(P$5,NFI,5,0),1,0)*Table_NFI[[#This Row],[Plastic Bucket]],0)","v":0},{"$f":"IF(NFI_Expiration=1,IF($A67<VLOOKUP(Q$5,NFI,5,0),1,0)*Table_NFI[[#This Row],[Plastic Mat]],0)","v":0},{"$f":"VLOOKUP(Table_NFI[[#This Row],[Camp Name]],'Camp List'!N$5:Z$347,2,0)","v":"MMR001CMP013"},{"$f":"VLOOKUP(Table_NFI[[#This Row],[Camp Name]],'Camp List'!N$5:Z$347,13,0)","v":"Open"}]
[19.600000000000001,"2011-12-22","UNHCR","UNHCR","Kachin","Waingmaw","Qtr. 2 Lhaovo Baptist Church",null,null,0,0,0,0,0,4,4,4,{"$f":"IF(NFI_Expiration=1,IF($A68<VLOOKUP(H$5,NFI,5,0),1,0)*Table_NFI[[#This Row],[Hygiene Kit]],0)","v":0},{"$f":"IF(NFI_Expiration=1,IF($A68<VLOOKUP(I$5,NFI,5,0),1,0)*Table_NFI[[#This Row],[NFI Core Kit]],0)","v":0},{"$f":"IF(NFI_Expiration=1,IF($A68<VLOOKUP(J$5,NFI,5,0),1,0)*Table_NFI[[#This Row],[Sanitary Kit]],0)","v":0},{"$f":"IF(NFI_Expiration=1,IF($A68<VLOOKUP(K$5,NFI,5,0),1,0)*Table_NFI[[#This Row],[Mosquito net]],0)","v":0},{"$f":"IF(NFI_Expiration=1,IF($A68<VLOOKUP(L$5,NFI,5,0),1,0)*Table_NFI[[#This Row],[Tarpaulin]],0)","v":0},{"$f":"IF(NFI_Expiration=1,IF($A68<VLOOKUP(M$5,NFI,5,0),1,0)*Table_NFI[[#This Row],[Blanket]],0)","v":0},{"$f":"IF(NFI_Expiration=1,IF($A68<VLOOKUP(N$5,NFI,5,0),1,0)*Table_NFI[[#This Row],[Kitchen Set]],0)","v":0},{"$f":"IF(NFI_Expiration=1,IF($A68<VLOOKUP(O$5,NFI,5,0),1,0)*Table_NFI[[#This Row],[Complementary Kit]],0)","v":0},{"$f":"IF(NFI_Expiration=1,IF($A68<VLOOKUP(P$5,NFI,5,0),1,0)*Table_NFI[[#This Row],[Plastic Bucket]],0)","v":0},{"$f":"IF(NFI_Expiration=1,IF($A68<VLOOKUP(Q$5,NFI,5,0),1,0)*Table_NFI[[#This Row],[Plastic Mat]],0)","v":0},{"$f":"VLOOKUP(Table_NFI[[#This Row],[Camp Name]],'Camp List'!N$5:Z$347,2,0)","v":"MMR001CMP032"},{"$f":"VLOOKUP(Table_NFI[[#This Row],[Camp Name]],'Camp List'!N$5:Z$347,13,0)","v":"Open"}]
[18.866666666666667,"2012-01-13","UNHCR","KBC","Kachin","Hpakant","Hlaing Naung Baptist",null,null,0,10,5,5,0,5,5,5,{"$f":"IF(NFI_Expiration=1,IF($A69<VLOOKUP(H$5,NFI,5,0),1,0)*Table_NFI[[#This Row],[Hygiene Kit]],0)","v":0},{"$f":"IF(NFI_Expiration=1,IF($A69<VLOOKUP(I$5,NFI,5,0),1,0)*Table_NFI[[#This Row],[NFI Core Kit]],0)","v":0},{"$f":"IF(NFI_Expiration=1,IF($A69<VLOOKUP(J$5,NFI,5,0),1,0)*Table_NFI[[#This Row],[Sanitary Kit]],0)","v":0},{"$f":"IF(NFI_Expiration=1,IF($A69<VLOOKUP(K$5,NFI,5,0),1,0)*Table_NFI[[#This Row],[Mosquito net]],0)","v":0},{"$f":"IF(NFI_Expiration=1,IF($A69<VLOOKUP(L$5,NFI,5,0),1,0)*Table_NFI[[#This Row],[Tarpaulin]],0)","v":0},{"$f":"IF(NFI_Expiration=1,IF($A69<VLOOKUP(M$5,NFI,5,0),1,0)*Table_NFI[[#This Row],[Blanket]],0)","v":0},{"$f":"IF(NFI_Expiration=1,IF($A69<VLOOKUP(N$5,NFI,5,0),1,0)*Table_NFI[[#This Row],[Kitchen Set]],0)","v":0},{"$f":"IF(NFI_Expiration=1,IF($A69<VLOOKUP(O$5,NFI,5,0),1,0)*Table_NFI[[#This Row],[Complementary Kit]],0)","v":0},{"$f":"IF(NFI_Expiration=1,IF($A69<VLOOKUP(P$5,NFI,5,0),1,0)*Table_NFI[[#This Row],[Plastic Bucket]],0)","v":0},{"$f":"IF(NFI_Expiration=1,IF($A69<VLOOKUP(Q$5,NFI,5,0),1,0)*Table_NFI[[#This Row],[Plastic Mat]],0)","v":0},{"$f":"VLOOKUP(Table_NFI[[#This Row],[Camp Name]],'Camp List'!N$5:Z$347,2,0)","v":"MMR001CMP148"},{"$f":"VLOOKUP(Table_NFI[[#This Row],[Camp Name]],'Camp List'!N$5:Z$347,13,0)","v":"Open"}]
[{"$f":"IF(ISBLANK(B70),\"\",(Report_Date-B70)/30)","v":14.066666666666666},"2012-06-05","UNHCR","UNHCR","Kachin","Momauk","Momauk Catholic Church (St. Patrick)",null,null,0,10,5,10,5,5,5,5,{"$f":"IF(NFI_Expiration=1,IF($A70<VLOOKUP(H$5,NFI,5,0),1,0)*Table_NFI[[#This Row],[Hygiene Kit]],0)","v":0},{"$f":"IF(NFI_Expiration=1,IF($A70<VLOOKUP(I$5,NFI,5,0),1,0)*Table_NFI[[#This Row],[NFI Core Kit]],0)","v":0},{"$f":"IF(NFI_Expiration=1,IF($A70<VLOOKUP(J$5,NFI,5,0),1,0)*Table_NFI[[#This Row],[Sanitary Kit]],0)","v":0},{"$f":"IF(NFI_Expiration=1,IF($A70<VLOOKUP(K$5,NFI,5,0),1,0)*Table_NFI[[#This Row],[Mosquito net]],0)","v":0},{"$f":"IF(NFI_Expiration=1,IF($A70<VLOOKUP(L$5,NFI,5,0),1,0)*Table_NFI[[#This Row],[Tarpaulin]],0)","v":0},{"$f":"IF(NFI_Expiration=1,IF($A70<VLOOKUP(M$5,NFI,5,0),1,0)*Table_NFI[[#This Row],[Blanket]],0)","v":0},{"$f":"IF(NFI_Expiration=1,IF($A70<VLOOKUP(N$5,NFI,5,0),1,0)*Table_NFI[[#This Row],[Kitchen Set]],0)","v":0},{"$f":"IF(NFI_Expiration=1,IF($A70<VLOOKUP(O$5,NFI,5,0),1,0)*Table_NFI[[#This Row],[Complementary Kit]],0)","v":0},{"$f":"IF(NFI_Expiration=1,IF($A70<VLOOKUP(P$5,NFI,5,0),1,0)*Table_NFI[[#This Row],[Plastic Bucket]],0)","v":0},{"$f":"IF(NFI_Expiration=1,IF($A70<VLOOKUP(Q$5,NFI,5,0),1,0)*Table_NFI[[#This Row],[Plastic Mat]],0)","v":0},{"$f":"VLOOKUP(Table_NFI[[#This Row],[Camp Name]],'Camp List'!N$5:Z$347,2,0)","v":"MMR001CMP057"},{"$f":"VLOOKUP(Table_NFI[[#This Row],[Camp Name]],'Camp List'!N$5:Z$347,13,0)","v":"Open"}]
[21.266666666666666,"2011-11-02","UNHCR","KBC","Kachin","Myitkyina","Du Kahtawng Qtr. 14",null,null,0,0,5,0,5,5,5,5,{"$f":"IF(NFI_Expiration=1,IF($A71<VLOOKUP(H$5,NFI,5,0),1,0)*Table_NFI[[#This Row],[Hygiene Kit]],0)","v":0},{"$f":"IF(NFI_Expiration=1,IF($A71<VLOOKUP(I$5,NFI,5,0),1,0)*Table_NFI[[#This Row],[NFI Core Kit]],0)","v":0},{"$f":"IF(NFI_Expiration=1,IF($A71<VLOOKUP(J$5,NFI,5,0),1,0)*Table_NFI[[#This Row],[Sanitary Kit]],0)","v":0},{"$f":"IF(NFI_Expiration=1,IF($A71<VLOOKUP(K$5,NFI,5,0),1,0)*Table_NFI[[#This Row],[Mosquito net]],0)","v":0},{"$f":"IF(NFI_Expiration=1,IF($A71<VLOOKUP(L$5,NFI,5,0),1,0)*Table_NFI[[#This Row],[Tarpaulin]],0)","v":0},{"$f":"IF(NFI_Expiration=1,IF($A71<VLOOKUP(M$5,NFI,5,0),1,0)*Table_NFI[[#This Row],[Blanket]],0)","v":0},{"$f":"IF(NFI_Expiration=1,IF($A71<VLOOKUP(N$5,NFI,5,0),1,0)*Table_NFI[[#This Row],[Kitchen Set]],0)","v":0},{"$f":"IF(NFI_Expiration=1,IF($A71<VLOOKUP(O$5,NFI,5,0),1,0)*Table_NFI[[#This Row],[Complementary Kit]],0)","v":0},{"$f":"IF(NFI_Expiration=1,IF($A71<VLOOKUP(P$5,NFI,5,0),1,0)*Table_NFI[[#This Row],[Plastic Bucket]],0)","v":0},{"$f":"IF(NFI_Expiration=1,IF($A71<VLOOKUP(Q$5,NFI,5,0),1,0)*Table_NFI[[#This Row],[Plastic Mat]],0)","v":0},{"$f":"VLOOKUP(Table_NFI[[#This Row],[Camp Name]],'Camp List'!N$5:Z$347,2,0)","v":"MMR001CMP012"},{"$f":"VLOOKUP(Table_NFI[[#This Row],[Camp Name]],'Camp List'!N$5:Z$347,13,0)","v":"Open"}]
[15.166666666666666,"2012-05-03","UNHCR","UNHCR","Kachin","Myitkyina","Myay Myint Baptist Church",null,null,0,0,0,0,0,5,5,5,{"$f":"IF(NFI_Expiration=1,IF($A72<VLOOKUP(H$5,NFI,5,0),1,0)*Table_NFI[[#This Row],[Hygiene Kit]],0)","v":0},{"$f":"IF(NFI_Expiration=1,IF($A72<VLOOKUP(I$5,NFI,5,0),1,0)*Table_NFI[[#This Row],[NFI Core Kit]],0)","v":0},{"$f":"IF(NFI_Expiration=1,IF($A72<VLOOKUP(J$5,NFI,5,0),1,0)*Table_NFI[[#This Row],[Sanitary Kit]],0)","v":0},{"$f":"IF(NFI_Expiration=1,IF($A72<VLOOKUP(K$5,NFI,5,0),1,0)*Table_NFI[[#This Row],[Mosquito net]],0)","v":0},{"$f":"IF(NFI_Expiration=1,IF($A72<VLOOKUP(L$5,NFI,5,0),1,0)*Table_NFI[[#This Row],[Tarpaulin]],0)","v":0},{"$f":"IF(NFI_Expiration=1,IF($A72<VLOOKUP(M$5,NFI,5,0),1,0)*Table_NFI[[#This Row],[Blanket]],0)","v":0},{"$f":"IF(NFI_Expiration=1,IF($A72<VLOOKUP(N$5,NFI,5,0),1,0)*Table_NFI[[#This Row],[Kitchen Set]],0)","v":0},{"$f":"IF(NFI_Expiration=1,IF($A72<VLOOKUP(O$5,NFI,5,0),1,0)*Table_NFI[[#This Row],[Complementary Kit]],0)","v":0},{"$f":"IF(NFI_Expiration=1,IF($A72<VLOOKUP(P$5,NFI,5,0),1,0)*Table_NFI[[#This Row],[Plastic Bucket]],0)","v":0},{"$f":"IF(NFI_Expiration=1,IF($A72<VLOOKUP(Q$5,NFI,5,0),1,0)*Table_NFI[[#This Row],[Plastic Mat]],0)","v":0},{"$f":"VLOOKUP(Table_NFI[[#This Row],[Camp Name]],'Camp List'!N$5:Z$347,2,0)","v":"MMR001CMP017"},{"$f":"VLOOKUP(Table_NFI[[#This Row],[Camp Name]],'Camp List'!N$5:Z$347,13,0)","v":"Open"}]
[12.666666666666666,"2012-07-17","UNHCR","UNHCR","Kachin","Myitkyina","Du Kahtawng Qtr. 14",null,null,0,5,5,5,5,5,5,5,{"$f":"IF(NFI_Expiration=1,IF($A73<VLOOKUP(H$5,NFI,5,0),1,0)*Table_NFI[[#This Row],[Hygiene Kit]],0)","v":0},{"$f":"IF(NFI_Expiration=1,IF($A73<VLOOKUP(I$5,NFI,5,0),1,0)*Table_NFI[[#This Row],[NFI Core Kit]],0)","v":0},{"$f":"IF(NFI_Expiration=1,IF($A73<VLOOKUP(J$5,NFI,5,0),1,0)*Table_NFI[[#This Row],[Sanitary Kit]],0)","v":0},{"$f":"IF(NFI_Expiration=1,IF($A73<VLOOKUP(K$5,NFI,5,0),1,0)*Table_NFI[[#This Row],[Mosquito net]],0)","v":0},{"$f":"IF(NFI_Expiration=1,IF($A73<VLOOKUP(L$5,NFI,5,0),1,0)*Table_NFI[[#This Row],[Tarpaulin]],0)","v":0},{"$f":"IF(NFI_Expiration=1,IF($A73<VLOOKUP(M$5,NFI,5,0),1,0)*Table_NFI[[#This Row],[Blanket]],0)","v":0},{"$f":"IF(NFI_Expiration=1,IF($A73<VLOOKUP(N$5,NFI,5,0),1,0)*Table_NFI[[#This Row],[Kitchen Set]],0)","v":0},{"$f":"IF(NFI_Expiration=1,IF($A73<VLOOKUP(O$5,NFI,5,0),1,0)*Table_NFI[[#This Row],[Complementary Kit]],0)","v":0},{"$f":"IF(NFI_Expiration=1,IF($A73<VLOOKUP(P$5,NFI,5,0),1,0)*Table_NFI[[#This Row],[Plastic Bucket]],0)","v":0},{"$f":"IF(NFI_Expiration=1,IF($A73<VLOOKUP(Q$5,NFI,5,0),1,0)*Table_NFI[[#This Row],[Plastic Mat]],0)","v":0},{"$f":"VLOOKUP(Table_NFI[[#This Row],[Camp Name]],'Camp List'!N$5:Z$347,2,0)","v":"MMR001CMP012"},{"$f":"VLOOKUP(Table_NFI[[#This Row],[Camp Name]],'Camp List'!N$5:Z$347,13,0)","v":"Open"}]
[12.6,"2012-07-19","UNHCR","UNHCR","Kachin","Myitkyina","Wun Tho Buddhist Monastery",null,null,0,9,5,9,5,5,5,5,{"$f":"IF(NFI_Expiration=1,IF($A74<VLOOKUP(H$5,NFI,5,0),1,0)*Table_NFI[[#This Row],[Hygiene Kit]],0)","v":0},{"$f":"IF(NFI_Expiration=1,IF($A74<VLOOKUP(I$5,NFI,5,0),1,0)*Table_NFI[[#This Row],[NFI Core Kit]],0)","v":0},{"$f":"IF(NFI_Expiration=1,IF($A74<VLOOKUP(J$5,NFI,5,0),1,0)*Table_NFI[[#This Row],[Sanitary Kit]],0)","v":0},{"$f":"IF(NFI_Expiration=1,IF($A74<VLOOKUP(K$5,NFI,5,0),1,0)*Table_NFI[[#This Row],[Mosquito net]],0)","v":0},{"$f":"IF(NFI_Expiration=1,IF($A74<VLOOKUP(L$5,NFI,5,0),1,0)*Table_NFI[[#This Row],[Tarpaulin]],0)","v":0},{"$f":"IF(NFI_Expiration=1,IF($A74<VLOOKUP(M$5,NFI,5,0),1,0)*Table_NFI[[#This Row],[Blanket]],0)","v":0},{"$f":"IF(NFI_Expiration=1,IF($A74<VLOOKUP(N$5,NFI,5,0),1,0)*Table_NFI[[#This Row],[Kitchen Set]],0)","v":0},{"$f":"IF(NFI_Expiration=1,IF($A74<VLOOKUP(O$5,NFI,5,0),1,0)*Table_NFI[[#This Row],[Complementary Kit]],0)","v":0},{"$f":"IF(NFI_Expiration=1,IF($A74<VLOOKUP(P$5,NFI,5,0),1,0)*Table_NFI[[#This Row],[Plastic Bucket]],0)","v":0},{"$f":"IF(NFI_Expiration=1,IF($A74<VLOOKUP(Q$5,NFI,5,0),1,0)*Table_NFI[[#This Row],[Plastic Mat]],0)","v":0},{"$f":"VLOOKUP(Table_NFI[[#This Row],[Camp Name]],'Camp List'!N$5:Z$347,2,0)","v":"MMR001CMP022"},{"$f":"VLOOKUP(Table_NFI[[#This Row],[Camp Name]],'Camp List'!N$5:Z$347,13,0)","v":"Open"}]
[11.9,"2012-08-09","UNHCR","UNHCR","Kachin","Myitkyina","Wun Tho Buddhist Monastery",null,null,0,10,5,10,5,5,5,5,{"$f":"IF(NFI_Expiration=1,IF($A75<VLOOKUP(H$5,NFI,5,0),1,0)*Table_NFI[[#This Row],[Hygiene Kit]],0)","v":0},{"$f":"IF(NFI_Expiration=1,IF($A75<VLOOKUP(I$5,NFI,5,0),1,0)*Table_NFI[[#This Row],[NFI Core Kit]],0)","v":0},{"$f":"IF(NFI_Expiration=1,IF($A75<VLOOKUP(J$5,NFI,5,0),1,0)*Table_NFI[[#This Row],[Sanitary Kit]],0)","v":0},{"$f":"IF(NFI_Expiration=1,IF($A75<VLOOKUP(K$5,NFI,5,0),1,0)*Table_NFI[[#This Row],[Mosquito net]],0)","v":10},{"$f":"IF(NFI_Expiration=1,IF($A75<VLOOKUP(L$5,NFI,5,0),1,0)*Table_NFI[[#This Row],[Tarpaulin]],0)","v":5},{"$f":"IF(NFI_Expiration=1,IF($A75<VLOOKUP(M$5,NFI,5,0),1,0)*Table_NFI[[#This Row],[Blanket]],0)","v":10},{"$f":"IF(NFI_Expiration=1,IF($A75<VLOOKUP(N$5,NFI,5,0),1,0)*Table_NFI[[#This Row],[Kitchen Set]],0)","v":5},{"$f":"IF(NFI_Expiration=1,IF($A75<VLOOKUP(O$5,NFI,5,0),1,0)*Table_NFI[[#This Row],[Complementary Kit]],0)","v":5},{"$f":"IF(NFI_Expiration=1,IF($A75<VLOOKUP(P$5,NFI,5,0),1,0)*Table_NFI[[#This Row],[Plastic Bucket]],0)","v":5},{"$f":"IF(NFI_Expiration=1,IF($A75<VLOOKUP(Q$5,NFI,5,0),1,0)*Table_NFI[[#This Row],[Plastic Mat]],0)","v":5},{"$f":"VLOOKUP(Table_NFI[[#This Row],[Camp Name]],'Camp List'!N$5:Z$347,2,0)","v":"MMR001CMP022"},{"$f":"VLOOKUP(Table_NFI[[#This Row],[Camp Name]],'Camp List'!N$5:Z$347,13,0)","v":"Open"}]
[11.9,"2012-08-09","UNHCR","UNHCR","Kachin","Myitkyina","Maw Hpawng Lhaovo Baptist Church",null,null,0,10,5,10,5,5,5,5,{"$f":"IF(NFI_Expiration=1,IF($A76<VLOOKUP(H$5,NFI,5,0),1,0)*Table_NFI[[#This Row],[Hygiene Kit]],0)","v":0},{"$f":"IF(NFI_Expiration=1,IF($A76<VLOOKUP(I$5,NFI,5,0),1,0)*Table_NFI[[#This Row],[NFI Core Kit]],0)","v":0},{"$f":"IF(NFI_Expiration=1,IF($A76<VLOOKUP(J$5,NFI,5,0),1,0)*Table_NFI[[#This Row],[Sanitary Kit]],0)","v":0},{"$f":"IF(NFI_Expiration=1,IF($A76<VLOOKUP(K$5,NFI,5,0),1,0)*Table_NFI[[#This Row],[Mosquito net]],0)","v":10},{"$f":"IF(NFI_Expiration=1,IF($A76<VLOOKUP(L$5,NFI,5,0),1,0)*Table_NFI[[#This Row],[Tarpaulin]],0)","v":5},{"$f":"IF(NFI_Expiration=1,IF($A76<VLOOKUP(M$5,NFI,5,0),1,0)*Table_NFI[[#This Row],[Blanket]],0)","v":10},{"$f":"IF(NFI_Expiration=1,IF($A76<VLOOKUP(N$5,NFI,5,0),1,0)*Table_NFI[[#This Row],[Kitchen Set]],0)","v":5},{"$f":"IF(NFI_Expiration=1,IF($A76<VLOOKUP(O$5,NFI,5,0),1,0)*Table_NFI[[#This Row],[Complementary Kit]],0)","v":5},{"$f":"IF(NFI_Expiration=1,IF($A76<VLOOKUP(P$5,NFI,5,0),1,0)*Table_NFI[[#This Row],[Plastic Bucket]],0)","v":5},{"$f":"IF(NFI_Expiration=1,IF($A76<VLOOKUP(Q$5,NFI,5,0),1,0)*Table_NFI[[#This Row],[Plastic Mat]],0)","v":5},{"$f":"VLOOKUP(Table_NFI[[#This Row],[Camp Name]],'Camp List'!N$5:Z$347,2,0)","v":"MMR001CMP021"},{"$f":"VLOOKUP(Table_NFI[[#This Row],[Camp Name]],'Camp List'!N$5:Z$347,13,0)","v":"Open"}]
[11.3,"2012-08-27","UNHCR","UNHCR","Kachin","Myitkyina","Wun Tho Buddhist Monastery",null,null,0,10,5,10,5,5,5,5,{"$f":"IF(NFI_Expiration=1,IF($A77<VLOOKUP(H$5,NFI,5,0),1,0)*Table_NFI[[#This Row],[Hygiene Kit]],0)","v":0},{"$f":"IF(NFI_Expiration=1,IF($A77<VLOOKUP(I$5,NFI,5,0),1,0)*Table_NFI[[#This Row],[NFI Core Kit]],0)","v":0},{"$f":"IF(NFI_Expiration=1,IF($A77<VLOOKUP(J$5,NFI,5,0),1,0)*Table_NFI[[#This Row],[Sanitary Kit]],0)","v":0},{"$f":"IF(NFI_Expiration=1,IF($A77<VLOOKUP(K$5,NFI,5,0),1,0)*Table_NFI[[#This Row],[Mosquito net]],0)","v":10},{"$f":"IF(NFI_Expiration=1,IF($A77<VLOOKUP(L$5,NFI,5,0),1,0)*Table_NFI[[#This Row],[Tarpaulin]],0)","v":5},{"$f":"IF(NFI_Expiration=1,IF($A77<VLOOKUP(M$5,NFI,5,0),1,0)*Table_NFI[[#This Row],[Blanket]],0)","v":10},{"$f":"IF(NFI_Expiration=1,IF($A77<VLOOKUP(N$5,NFI,5,0),1,0)*Table_NFI[[#This Row],[Kitchen Set]],0)","v":5},{"$f":"IF(NFI_Expiration=1,IF($A77<VLOOKUP(O$5,NFI,5,0),1,0)*Table_NFI[[#This Row],[Complementary Kit]],0)","v":5},{"$f":"IF(NFI_Expiration=1,IF($A77<VLOOKUP(P$5,NFI,5,0),1,0)*Table_NFI[[#This Row],[Plastic Bucket]],0)","v":5},{"$f":"IF(NFI_Expiration=1,IF($A77<VLOOKUP(Q$5,NFI,5,0),1,0)*Table_NFI[[#This Row],[Plastic Mat]],0)","v":5},{"$f":"VLOOKUP(Table_NFI[[#This Row],[Camp Name]],'Camp List'!N$5:Z$347,2,0)","v":"MMR001CMP022"},{"$f":"VLOOKUP(Table_NFI[[#This Row],[Camp Name]],'Camp List'!N$5:Z$347,13,0)","v":"Open"}]
[11.3,"2012-08-27","UNHCR","UNHCR","Kachin","Myitkyina","Maw Hpawng Lhaovo Baptist Church",null,null,0,10,5,10,5,5,5,5,{"$f":"IF(NFI_Expiration=1,IF($A78<VLOOKUP(H$5,NFI,5,0),1,0)*Table_NFI[[#This Row],[Hygiene Kit]],0)","v":0},{"$f":"IF(NFI_Expiration=1,IF($A78<VLOOKUP(I$5,NFI,5,0),1,0)*Table_NFI[[#This Row],[NFI Core Kit]],0)","v":0},{"$f":"IF(NFI_Expiration=1,IF($A78<VLOOKUP(J$5,NFI,5,0),1,0)*Table_NFI[[#This Row],[Sanitary Kit]],0)","v":0},{"$f":"IF(NFI_Expiration=1,IF($A78<VLOOKUP(K$5,NFI,5,0),1,0)*Table_NFI[[#This Row],[Mosquito net]],0)","v":10},{"$f":"IF(NFI_Expiration=1,IF($A78<VLOOKUP(L$5,NFI,5,0),1,0)*Table_NFI[[#This Row],[Tarpaulin]],0)","v":5},{"$f":"IF(NFI_Expiration=1,IF($A78<VLOOKUP(M$5,NFI,5,0),1,0)*Table_NFI[[#This Row],[Blanket]],0)","v":10},{"$f":"IF(NFI_Expiration=1,IF($A78<VLOOKUP(N$5,NFI,5,0),1,0)*Table_NFI[[#This Row],[Kitchen Set]],0)","v":5},{"$f":"IF(NFI_Expiration=1,IF($A78<VLOOKUP(O$5,NFI,5,0),1,0)*Table_NFI[[#This Row],[Complementary Kit]],0)","v":5},{"$f":"IF(NFI_Expiration=1,IF($A78<VLOOKUP(P$5,NFI,5,0),1,0)*Table_NFI[[#This Row],[Plastic Bucket]],0)","v":5},{"$f":"IF(NFI_Expiration=1,IF($A78<VLOOKUP(Q$5,NFI,5,0),1,0)*Table_NFI[[#This Row],[Plastic Mat]],0)","v":5},{"$f":"VLOOKUP(Table_NFI[[#This Row],[Camp Name]],'Camp List'!N$5:Z$347,2,0)","v":"MMR001CMP021"},{"$f":"VLOOKUP(Table_NFI[[#This Row],[Camp Name]],'Camp List'!N$5:Z$347,13,0)","v":"Open"}]
[5.9333333333333336,"2013-02-04","UNHCR","UNHCR","Kachin","Myitkyina","Pa Dauk Myaing(Pa La Na)",null,null,5,8,5,8,5,5,5,5,{"$f":"IF(NFI_Expiration=1,IF($A79<VLOOKUP(H$5,NFI,5,0),1,0)*Table_NFI[[#This Row],[Hygiene Kit]],0)","v":0},{"$f":"IF(NFI_Expiration=1,IF($A79<VLOOKUP(I$5,NFI,5,0),1,0)*Table_NFI[[#This Row],[NFI Core Kit]],0)","v":0},{"$f":"IF(NFI_Expiration=1,IF($A79<VLOOKUP(J$5,NFI,5,0),1,0)*Table_NFI[[#This Row],[Sanitary Kit]],0)","v":5},{"$f":"IF(NFI_Expiration=1,IF($A79<VLOOKUP(K$5,NFI,5,0),1,0)*Table_NFI[[#This Row],[Mosquito net]],0)","v":8},{"$f":"IF(NFI_Expiration=1,IF($A79<VLOOKUP(L$5,NFI,5,0),1,0)*Table_NFI[[#This Row],[Tarpaulin]],0)","v":5},{"$f":"IF(NFI_Expiration=1,IF($A79<VLOOKUP(M$5,NFI,5,0),1,0)*Table_NFI[[#This Row],[Blanket]],0)","v":8},{"$f":"IF(NFI_Expiration=1,IF($A79<VLOOKUP(N$5,NFI,5,0),1,0)*Table_NFI[[#This Row],[Kitchen Set]],0)","v":5},{"$f":"IF(NFI_Expiration=1,IF($A79<VLOOKUP(O$5,NFI,5,0),1,0)*Table_NFI[[#This Row],[Complementary Kit]],0)","v":5},{"$f":"IF(NFI_Expiration=1,IF($A79<VLOOKUP(P$5,NFI,5,0),1,0)*Table_NFI[[#This Row],[Plastic Bucket]],0)","v":5},{"$f":"IF(NFI_Expiration=1,IF($A79<VLOOKUP(Q$5,NFI,5,0),1,0)*Table_NFI[[#This Row],[Plastic Mat]],0)","v":5},{"$f":"VLOOKUP(Table_NFI[[#This Row],[Camp Name]],'Camp List'!N$5:Z$347,2,0)","v":"MMR001CMP162"},{"$f":"VLOOKUP(Table_NFI[[#This Row],[Camp Name]],'Camp List'!N$5:Z$347,13,0)","v":"Open"}]
[8.7333333333333325,"2012-11-12","UNHCR","UNHCR","Kachin","Waingmaw","Qtr. 2 Lhaovo Baptist Church",null,null,0,12,12,12,5,5,5,5,{"$f":"IF(NFI_Expiration=1,IF($A80<VLOOKUP(H$5,NFI,5,0),1,0)*Table_NFI[[#This Row],[Hygiene Kit]],0)","v":0},{"$f":"IF(NFI_Expiration=1,IF($A80<VLOOKUP(I$5,NFI,5,0),1,0)*Table_NFI[[#This Row],[NFI Core Kit]],0)","v":0},{"$f":"IF(NFI_Expiration=1,IF($A80<VLOOKUP(J$5,NFI,5,0),1,0)*Table_NFI[[#This Row],[Sanitary Kit]],0)","v":0},{"$f":"IF(NFI_Expiration=1,IF($A80<VLOOKUP(K$5,NFI,5,0),1,0)*Table_NFI[[#This Row],[Mosquito net]],0)","v":12},{"$f":"IF(NFI_Expiration=1,IF($A80<VLOOKUP(L$5,NFI,5,0),1,0)*Table_NFI[[#This Row],[Tarpaulin]],0)","v":12},{"$f":"IF(NFI_Expiration=1,IF($A80<VLOOKUP(M$5,NFI,5,0),1,0)*Table_NFI[[#This Row],[Blanket]],0)","v":12},{"$f":"IF(NFI_Expiration=1,IF($A80<VLOOKUP(N$5,NFI,5,0),1,0)*Table_NFI[[#This Row],[Kitchen Set]],0)","v":5},{"$f":"IF(NFI_Expiration=1,IF($A80<VLOOKUP(O$5,NFI,5,0),1,0)*Table_NFI[[#This Row],[Complementary Kit]],0)","v":5},{"$f":"IF(NFI_Expiration=1,IF($A80<VLOOKUP(P$5,NFI,5,0),1,0)*Table_NFI[[#This Row],[Plastic Bucket]],0)","v":5},{"$f":"IF(NFI_Expiration=1,IF($A80<VLOOKUP(Q$5,NFI,5,0),1,0)*Table_NFI[[#This Row],[Plastic Mat]],0)","v":5},{"$f":"VLOOKUP(Table_NFI[[#This Row],[Camp Name]],'Camp List'!N$5:Z$347,2,0)","v":"MMR001CMP032"},{"$f":"VLOOKUP(Table_NFI[[#This Row],[Camp Name]],'Camp List'!N$5:Z$347,13,0)","v":"Open"}]
[4.9333333333333336,"2013-03-06","UNHCR","UNHCR","Kachin","Waingmaw","Qtr. 2 Lhaovo Baptist Church",null,null,6,11,5,11,5,5,5,5,{"$f":"IF(NFI_Expiration=1,IF($A81<VLOOKUP(H$5,NFI,5,0),1,0)*Table_NFI[[#This Row],[Hygiene Kit]],0)","v":0},{"$f":"IF(NFI_Expiration=1,IF($A81<VLOOKUP(I$5,NFI,5,0),1,0)*Table_NFI[[#This Row],[NFI Core Kit]],0)","v":0},{"$f":"IF(NFI_Expiration=1,IF($A81<VLOOKUP(J$5,NFI,5,0),1,0)*Table_NFI[[#This Row],[Sanitary Kit]],0)","v":6},{"$f":"IF(NFI_Expiration=1,IF($A81<VLOOKUP(K$5,NFI,5,0),1,0)*Table_NFI[[#This Row],[Mosquito net]],0)","v":11},{"$f":"IF(NFI_Expiration=1,IF($A81<VLOOKUP(L$5,NFI,5,0),1,0)*Table_NFI[[#This Row],[Tarpaulin]],0)","v":5},{"$f":"IF(NFI_Expiration=1,IF($A81<VLOOKUP(M$5,NFI,5,0),1,0)*Table_NFI[[#This Row],[Blanket]],0)","v":11},{"$f":"IF(NFI_Expiration=1,IF($A81<VLOOKUP(N$5,NFI,5,0),1,0)*Table_NFI[[#This Row],[Kitchen Set]],0)","v":5},{"$f":"IF(NFI_Expiration=1,IF($A81<VLOOKUP(O$5,NFI,5,0),1,0)*Table_NFI[[#This Row],[Complementary Kit]],0)","v":5},{"$f":"IF(NFI_Expiration=1,IF($A81<VLOOKUP(P$5,NFI,5,0),1,0)*Table_NFI[[#This Row],[Plastic Bucket]],0)","v":5},{"$f":"IF(NFI_Expiration=1,IF($A81<VLOOKUP(Q$5,NFI,5,0),1,0)*Table_NFI[[#This Row],[Plastic Mat]],0)","v":5},{"$f":"VLOOKUP(Table_NFI[[#This Row],[Camp Name]],'Camp List'!N$5:Z$347,2,0)","v":"MMR001CMP032"},{"$f":"VLOOKUP(Table_NFI[[#This Row],[Camp Name]],'Camp List'!N$5:Z$347,13,0)","v":"Open"}]
[18.866666666666667,"2012-01-13","UNHCR","KBC","Kachin",null,"Le Pyin Christian Church",null,null,0,10,5,5,0,5,5,5,{"$f":"IF(NFI_Expiration=1,IF($A82<VLOOKUP(H$5,NFI,5,0),1,0)*Table_NFI[[#This Row],[Hygiene Kit]],0)","v":0},{"$f":"IF(NFI_Expiration=1,IF($A82<VLOOKUP(I$5,NFI,5,0),1,0)*Table_NFI[[#This Row],[NFI Core Kit]],0)","v":0},{"$f":"IF(NFI_Expiration=1,IF($A82<VLOOKUP(J$5,NFI,5,0),1,0)*Table_NFI[[#This Row],[Sanitary Kit]],0)","v":0},{"$f":"IF(NFI_Expiration=1,IF($A82<VLOOKUP(K$5,NFI,5,0),1,0)*Table_NFI[[#This Row],[Mosquito net]],0)","v":0},{"$f":"IF(NFI_Expiration=1,IF($A82<VLOOKUP(L$5,NFI,5,0),1,0)*Table_NFI[[#This Row],[Tarpaulin]],0)","v":0},{"$f":"IF(NFI_Expiration=1,IF($A82<VLOOKUP(M$5,NFI,5,0),1,0)*Table_NFI[[#This Row],[Blanket]],0)","v":0},{"$f":"IF(NFI_Expiration=1,IF($A82<VLOOKUP(N$5,NFI,5,0),1,0)*Table_NFI[[#This Row],[Kitchen Set]],0)","v":0},{"$f":"IF(NFI_Expiration=1,IF($A82<VLOOKUP(O$5,NFI,5,0),1,0)*Table_NFI[[#This Row],[Complementary Kit]],0)","v":0},{"$f":"IF(NFI_Expiration=1,IF($A82<VLOOKUP(P$5,NFI,5,0),1,0)*Table_NFI[[#This Row],[Plastic Bucket]],0)","v":0},{"$f":"IF(NFI_Expiration=1,IF($A82<VLOOKUP(Q$5,NFI,5,0),1,0)*Table_NFI[[#This Row],[Plastic Mat]],0)","v":0},{"$f":"VLOOKUP(Table_NFI[[#This Row],[Camp Name]],'Camp List'!N$5:Z$347,2,0)","v":{"$error":"#N/A"}},{"$f":"VLOOKUP(Table_NFI[[#This Row],[Camp Name]],'Camp List'!N$5:Z$347,13,0)","v":{"$error":"#N/A"}}]
[13.966666666666667,"2012-06-08","UNHCR","UNHCR","Kachin","Bhamo","Nant Hlaing Church",null,null,0,12,6,12,6,6,6,6,{"$f":"IF(NFI_Expiration=1,IF($A83<VLOOKUP(H$5,NFI,5,0),1,0)*Table_NFI[[#This Row],[Hygiene Kit]],0)","v":0},{"$f":"IF(NFI_Expiration=1,IF($A83<VLOOKUP(I$5,NFI,5,0),1,0)*Table_NFI[[#This Row],[NFI Core Kit]],0)","v":0},{"$f":"IF(NFI_Expiration=1,IF($A83<VLOOKUP(J$5,NFI,5,0),1,0)*Table_NFI[[#This Row],[Sanitary Kit]],0)","v":0},{"$f":"IF(NFI_Expiration=1,IF($A83<VLOOKUP(K$5,NFI,5,0),1,0)*Table_NFI[[#This Row],[Mosquito net]],0)","v":0},{"$f":"IF(NFI_Expiration=1,IF($A83<VLOOKUP(L$5,NFI,5,0),1,0)*Table_NFI[[#This Row],[Tarpaulin]],0)","v":0},{"$f":"IF(NFI_Expiration=1,IF($A83<VLOOKUP(M$5,NFI,5,0),1,0)*Table_NFI[[#This Row],[Blanket]],0)","v":0},{"$f":"IF(NFI_Expiration=1,IF($A83<VLOOKUP(N$5,NFI,5,0),1,0)*Table_NFI[[#This Row],[Kitchen Set]],0)","v":0},{"$f":"IF(NFI_Expiration=1,IF($A83<VLOOKUP(O$5,NFI,5,0),1,0)*Table_NFI[[#This Row],[Complementary Kit]],0)","v":0},{"$f":"IF(NFI_Expiration=1,IF($A83<VLOOKUP(P$5,NFI,5,0),1,0)*Table_NFI[[#This Row],[Plastic Bucket]],0)","v":0},{"$f":"IF(NFI_Expiration=1,IF($A83<VLOOKUP(Q$5,NFI,5,0),1,0)*Table_NFI[[#This Row],[Plastic Mat]],0)","v":0},{"$f":"VLOOKUP(Table_NFI[[#This Row],[Camp Name]],'Camp List'!N$5:Z$347,2,0)","v":"MMR001CMP054"},{"$f":"VLOOKUP(Table_NFI[[#This Row],[Camp Name]],'Camp List'!N$5:Z$347,13,0)","v":"Open"}]
[5.4,"2013-02-20","UNHCR","UNHCR","Kachin","Hpakant","Zomee Baptist Church camp, Hmaw Wan",null,null,0,11,6,0,6,6,6,6,{"$f":"IF(NFI_Expiration=1,IF($A84<VLOOKUP(H$5,NFI,5,0),1,0)*Table_NFI[[#This Row],[Hygiene Kit]],0)","v":0},{"$f":"IF(NFI_Expiration=1,IF($A84<VLOOKUP(I$5,NFI,5,0),1,0)*Table_NFI[[#This Row],[NFI Core Kit]],0)","v":0},{"$f":"IF(NFI_Expiration=1,IF($A84<VLOOKUP(J$5,NFI,5,0),1,0)*Table_NFI[[#This Row],[Sanitary Kit]],0)","v":0},{"$f":"IF(NFI_Expiration=1,IF($A84<VLOOKUP(K$5,NFI,5,0),1,0)*Table_NFI[[#This Row],[Mosquito net]],0)","v":11},{"$f":"IF(NFI_Expiration=1,IF($A84<VLOOKUP(L$5,NFI,5,0),1,0)*Table_NFI[[#This Row],[Tarpaulin]],0)","v":6},{"$f":"IF(NFI_Expiration=1,IF($A84<VLOOKUP(M$5,NFI,5,0),1,0)*Table_NFI[[#This Row],[Blanket]],0)","v":0},{"$f":"IF(NFI_Expiration=1,IF($A84<VLOOKUP(N$5,NFI,5,0),1,0)*Table_NFI[[#This Row],[Kitchen Set]],0)","v":6},{"$f":"IF(NFI_Expiration=1,IF($A84<VLOOKUP(O$5,NFI,5,0),1,0)*Table_NFI[[#This Row],[Complementary Kit]],0)","v":6},{"$f":"IF(NFI_Expiration=1,IF($A84<VLOOKUP(P$5,NFI,5,0),1,0)*Table_NFI[[#This Row],[Plastic Bucket]],0)","v":6},{"$f":"IF(NFI_Expiration=1,IF($A84<VLOOKUP(Q$5,NFI,5,0),1,0)*Table_NFI[[#This Row],[Plastic Mat]],0)","v":6},{"$f":"VLOOKUP(Table_NFI[[#This Row],[Camp Name]],'Camp List'!N$5:Z$347,2,0)","v":"MMR001CMP201"},{"$f":"VLOOKUP(Table_NFI[[#This Row],[Camp Name]],'Camp List'!N$5:Z$347,13,0)","v":"Close"}]
[21.266666666666666,"2011-11-02","UNHCR","KBC","Kachin","Myitkyina","Du Kahtawng Qtr. 4",null,null,0,0,6,0,6,6,6,6,{"$f":"IF(NFI_Expiration=1,IF($A85<VLOOKUP(H$5,NFI,5,0),1,0)*Table_NFI[[#This Row],[Hygiene Kit]],0)","v":0},{"$f":"IF(NFI_Expiration=1,IF($A85<VLOOKUP(I$5,NFI,5,0),1,0)*Table_NFI[[#This Row],[NFI Core Kit]],0)","v":0},{"$f":"IF(NFI_Expiration=1,IF($A85<VLOOKUP(J$5,NFI,5,0),1,0)*Table_NFI[[#This Row],[Sanitary Kit]],0)","v":0},{"$f":"IF(NFI_Expiration=1,IF($A85<VLOOKUP(K$5,NFI,5,0),1,0)*Table_NFI[[#This Row],[Mosquito net]],0)","v":0},{"$f":"IF(NFI_Expiration=1,IF($A85<VLOOKUP(L$5,NFI,5,0),1,0)*Table_NFI[[#This Row],[Tarpaulin]],0)","v":0},{"$f":"IF(NFI_Expiration=1,IF($A85<VLOOKUP(M$5,NFI,5,0),1,0)*Table_NFI[[#This Row],[Blanket]],0)","v":0},{"$f":"IF(NFI_Expiration=1,IF($A85<VLOOKUP(N$5,NFI,5,0),1,0)*Table_NFI[[#This Row],[Kitchen Set]],0)","v":0},{"$f":"IF(NFI_Expiration=1,IF($A85<VLOOKUP(O$5,NFI,5,0),1,0)*Table_NFI[[#This Row],[Complementary Kit]],0)","v":0},{"$f":"IF(NFI_Expiration=1,IF($A85<VLOOKUP(P$5,NFI,5,0),1,0)*Table_NFI[[#This Row],[Plastic Bucket]],0)","v":0},{"$f":"IF(NFI_Expiration=1,IF($A85<VLOOKUP(Q$5,NFI,5,0),1,0)*Table_NFI[[#This Row],[Plastic Mat]],0)","v":0},{"$f":"VLOOKUP(Table_NFI[[#This Row],[Camp Name]],'Camp List'!N$5:Z$347,2,0)","v":"MMR001CMP010"},{"$f":"VLOOKUP(Table_NFI[[#This Row],[Camp Name]],'Camp List'!N$5:Z$347,13,0)","v":"Open"}]
[21.2,"2011-11-04","UNHCR","KBC","Kachin","Myitkyina","Myay Myint Baptist Church",null,null,0,10,6,10,6,6,6,6,{"$f":"IF(NFI_Expiration=1,IF($A86<VLOOKUP(H$5,NFI,5,0),1,0)*Table_NFI[[#This Row],[Hygiene Kit]],0)","v":0},{"$f":"IF(NFI_Expiration=1,IF($A86<VLOOKUP(I$5,NFI,5,0),1,0)*Table_NFI[[#This Row],[NFI Core Kit]],0)","v":0},{"$f":"IF(NFI_Expiration=1,IF($A86<VLOOKUP(J$5,NFI,5,0),1,0)*Table_NFI[[#This Row],[Sanitary Kit]],0)","v":0},{"$f":"IF(NFI_Expiration=1,IF($A86<VLOOKUP(K$5,NFI,5,0),1,0)*Table_NFI[[#This Row],[Mosquito net]],0)","v":0},{"$f":"IF(NFI_Expiration=1,IF($A86<VLOOKUP(L$5,NFI,5,0),1,0)*Table_NFI[[#This Row],[Tarpaulin]],0)","v":0},{"$f":"IF(NFI_Expiration=1,IF($A86<VLOOKUP(M$5,NFI,5,0),1,0)*Table_NFI[[#This Row],[Blanket]],0)","v":0},{"$f":"IF(NFI_Expiration=1,IF($A86<VLOOKUP(N$5,NFI,5,0),1,0)*Table_NFI[[#This Row],[Kitchen Set]],0)","v":0},{"$f":"IF(NFI_Expiration=1,IF($A86<VLOOKUP(O$5,NFI,5,0),1,0)*Table_NFI[[#This Row],[Complementary Kit]],0)","v":0},{"$f":"IF(NFI_Expiration=1,IF($A86<VLOOKUP(P$5,NFI,5,0),1,0)*Table_NFI[[#This Row],[Plastic Bucket]],0)","v":0},{"$f":"IF(NFI_Expiration=1,IF($A86<VLOOKUP(Q$5,NFI,5,0),1,0)*Table_NFI[[#This Row],[Plastic Mat]],0)","v":0},{"$f":"VLOOKUP(Table_NFI[[#This Row],[Camp Name]],'Camp List'!N$5:Z$347,2,0)","v":"MMR001CMP017"},{"$f":"VLOOKUP(Table_NFI[[#This Row],[Camp Name]],'Camp List'!N$5:Z$347,13,0)","v":"Open"}]
[20.033333333333335,"2011-12-09","UNHCR","KBC","Kachin","Myitkyina","Le Kone Bethlehem Church",null,null,0,13,6,13,6,6,6,6,{"$f":"IF(NFI_Expiration=1,IF($A87<VLOOKUP(H$5,NFI,5,0),1,0)*Table_NFI[[#This Row],[Hygiene Kit]],0)","v":0},{"$f":"IF(NFI_Expiration=1,IF($A87<VLOOKUP(I$5,NFI,5,0),1,0)*Table_NFI[[#This Row],[NFI Core Kit]],0)","v":0},{"$f":"IF(NFI_Expiration=1,IF($A87<VLOOKUP(J$5,NFI,5,0),1,0)*Table_NFI[[#This Row],[Sanitary Kit]],0)","v":0},{"$f":"IF(NFI_Expiration=1,IF($A87<VLOOKUP(K$5,NFI,5,0),1,0)*Table_NFI[[#This Row],[Mosquito net]],0)","v":0},{"$f":"IF(NFI_Expiration=1,IF($A87<VLOOKUP(L$5,NFI,5,0),1,0)*Table_NFI[[#This Row],[Tarpaulin]],0)","v":0},{"$f":"IF(NFI_Expiration=1,IF($A87<VLOOKUP(M$5,NFI,5,0),1,0)*Table_NFI[[#This Row],[Blanket]],0)","v":0},{"$f":"IF(NFI_Expiration=1,IF($A87<VLOOKUP(N$5,NFI,5,0),1,0)*Table_NFI[[#This Row],[Kitchen Set]],0)","v":0},{"$f":"IF(NFI_Expiration=1,IF($A87<VLOOKUP(O$5,NFI,5,0),1,0)*Table_NFI[[#This Row],[Complementary Kit]],0)","v":0},{"$f":"IF(NFI_Expiration=1,IF($A87<VLOOKUP(P$5,NFI,5,0),1,0)*Table_NFI[[#This Row],[Plastic Bucket]],0)","v":0},{"$f":"IF(NFI_Expiration=1,IF($A87<VLOOKUP(Q$5,NFI,5,0),1,0)*Table_NFI[[#This Row],[Plastic Mat]],0)","v":0},{"$f":"VLOOKUP(Table_NFI[[#This Row],[Camp Name]],'Camp List'!N$5:Z$347,2,0)","v":"MMR001CMP015"},{"$f":"VLOOKUP(Table_NFI[[#This Row],[Camp Name]],'Camp List'!N$5:Z$347,13,0)","v":"Open"}]
[12.7,"2012-07-16","UNHCR","UNHCR","Kachin","Myitkyina","Le Kone Bethlehem Church",null,null,0,6,6,6,6,6,6,6,{"$f":"IF(NFI_Expiration=1,IF($A88<VLOOKUP(H$5,NFI,5,0),1,0)*Table_NFI[[#This Row],[Hygiene Kit]],0)","v":0},{"$f":"IF(NFI_Expiration=1,IF($A88<VLOOKUP(I$5,NFI,5,0),1,0)*Table_NFI[[#This Row],[NFI Core Kit]],0)","v":0},{"$f":"IF(NFI_Expiration=1,IF($A88<VLOOKUP(J$5,NFI,5,0),1,0)*Table_NFI[[#This Row],[Sanitary Kit]],0)","v":0},{"$f":"IF(NFI_Expiration=1,IF($A88<VLOOKUP(K$5,NFI,5,0),1,0)*Table_NFI[[#This Row],[Mosquito net]],0)","v":0},{"$f":"IF(NFI_Expiration=1,IF($A88<VLOOKUP(L$5,NFI,5,0),1,0)*Table_NFI[[#This Row],[Tarpaulin]],0)","v":0},{"$f":"IF(NFI_Expiration=1,IF($A88<VLOOKUP(M$5,NFI,5,0),1,0)*Table_NFI[[#This Row],[Blanket]],0)","v":0},{"$f":"IF(NFI_Expiration=1,IF($A88<VLOOKUP(N$5,NFI,5,0),1,0)*Table_NFI[[#This Row],[Kitchen Set]],0)","v":0},{"$f":"IF(NFI_Expiration=1,IF($A88<VLOOKUP(O$5,NFI,5,0),1,0)*Table_NFI[[#This Row],[Complementary Kit]],0)","v":0},{"$f":"IF(NFI_Expiration=1,IF($A88<VLOOKUP(P$5,NFI,5,0),1,0)*Table_NFI[[#This Row],[Plastic Bucket]],0)","v":0},{"$f":"IF(NFI_Expiration=1,IF($A88<VLOOKUP(Q$5,NFI,5,0),1,0)*Table_NFI[[#This Row],[Plastic Mat]],0)","v":0},{"$f":"VLOOKUP(Table_NFI[[#This Row],[Camp Name]],'Camp List'!N$5:Z$347,2,0)","v":"MMR001CMP015"},{"$f":"VLOOKUP(Table_NFI[[#This Row],[Camp Name]],'Camp List'!N$5:Z$347,13,0)","v":"Open"}]
[12.666666666666666,"2012-07-17","UNHCR","UNHCR","Kachin","Myitkyina","Nan Kway St. John Catholic Church",null,null,0,6,6,6,6,6,6,6,{"$f":"IF(NFI_Expiration=1,IF($A89<VLOOKUP(H$5,NFI,5,0),1,0)*Table_NFI[[#This Row],[Hygiene Kit]],0)","v":0},{"$f":"IF(NFI_Expiration=1,IF($A89<VLOOKUP(I$5,NFI,5,0),1,0)*Table_NFI[[#This Row],[NFI Core Kit]],0)","v":0},{"$f":"IF(NFI_Expiration=1,IF($A89<VLOOKUP(J$5,NFI,5,0),1,0)*Table_NFI[[#This Row],[Sanitary Kit]],0)","v":0},{"$f":"IF(NFI_Expiration=1,IF($A89<VLOOKUP(K$5,NFI,5,0),1,0)*Table_NFI[[#This Row],[Mosquito net]],0)","v":0},{"$f":"IF(NFI_Expiration=1,IF($A89<VLOOKUP(L$5,NFI,5,0),1,0)*Table_NFI[[#This Row],[Tarpaulin]],0)","v":0},{"$f":"IF(NFI_Expiration=1,IF($A89<VLOOKUP(M$5,NFI,5,0),1,0)*Table_NFI[[#This Row],[Blanket]],0)","v":0},{"$f":"IF(NFI_Expiration=1,IF($A89<VLOOKUP(N$5,NFI,5,0),1,0)*Table_NFI[[#This Row],[Kitchen Set]],0)","v":0},{"$f":"IF(NFI_Expiration=1,IF($A89<VLOOKUP(O$5,NFI,5,0),1,0)*Table_NFI[[#This Row],[Complementary Kit]],0)","v":0},{"$f":"IF(NFI_Expiration=1,IF($A89<VLOOKUP(P$5,NFI,5,0),1,0)*Table_NFI[[#This Row],[Plastic Bucket]],0)","v":0},{"$f":"IF(NFI_Expiration=1,IF($A89<VLOOKUP(Q$5,NFI,5,0),1,0)*Table_NFI[[#This Row],[Plastic Mat]],0)","v":0},{"$f":"VLOOKUP(Table_NFI[[#This Row],[Camp Name]],'Camp List'!N$5:Z$347,2,0)","v":"MMR001CMP024"},{"$f":"VLOOKUP(Table_NFI[[#This Row],[Camp Name]],'Camp List'!N$5:Z$347,13,0)","v":"Open"}]
[12.666666666666666,"2012-07-17","UNHCR","UNHCR","Kachin","Myitkyina","Du Kahtawng Qtr. 4",null,null,0,6,6,6,6,6,6,6,{"$f":"IF(NFI_Expiration=1,IF($A90<VLOOKUP(H$5,NFI,5,0),1,0)*Table_NFI[[#This Row],[Hygiene Kit]],0)","v":0},{"$f":"IF(NFI_Expiration=1,IF($A90<VLOOKUP(I$5,NFI,5,0),1,0)*Table_NFI[[#This Row],[NFI Core Kit]],0)","v":0},{"$f":"IF(NFI_Expiration=1,IF($A90<VLOOKUP(J$5,NFI,5,0),1,0)*Table_NFI[[#This Row],[Sanitary Kit]],0)","v":0},{"$f":"IF(NFI_Expiration=1,IF($A90<VLOOKUP(K$5,NFI,5,0),1,0)*Table_NFI[[#This Row],[Mosquito net]],0)","v":0},{"$f":"IF(NFI_Expiration=1,IF($A90<VLOOKUP(L$5,NFI,5,0),1,0)*Table_NFI[[#This Row],[Tarpaulin]],0)","v":0},{"$f":"IF(NFI_Expiration=1,IF($A90<VLOOKUP(M$5,NFI,5,0),1,0)*Table_NFI[[#This Row],[Blanket]],0)","v":0},{"$f":"IF(NFI_Expiration=1,IF($A90<VLOOKUP(N$5,NFI,5,0),1,0)*Table_NFI[[#This Row],[Kitchen Set]],0)","v":0},{"$f":"IF(NFI_Expiration=1,IF($A90<VLOOKUP(O$5,NFI,5,0),1,0)*Table_NFI[[#This Row],[Complementary Kit]],0)","v":0},{"$f":"IF(NFI_Expiration=1,IF($A90<VLOOKUP(P$5,NFI,5,0),1,0)*Table_NFI[[#This Row],[Plastic Bucket]],0)","v":0},{"$f":"IF(NFI_Expiration=1,IF($A90<VLOOKUP(Q$5,NFI,5,0),1,0)*Table_NFI[[#This Row],[Plastic Mat]],0)","v":0},{"$f":"VLOOKUP(Table_NFI[[#This Row],[Camp Name]],'Camp List'!N$5:Z$347,2,0)","v":"MMR001CMP010"},{"$f":"VLOOKUP(Table_NFI[[#This Row],[Camp Name]],'Camp List'!N$5:Z$347,13,0)","v":"Open"}]
[12.666666666666666,"2012-07-17","UNHCR","UNHCR","Kachin","Myitkyina","Du Kahtawng Qtr. 5",null,null,0,6,6,6,6,6,6,6,{"$f":"IF(NFI_Expiration=1,IF($A91<VLOOKUP(H$5,NFI,5,0),1,0)*Table_NFI[[#This Row],[Hygiene Kit]],0)","v":0},{"$f":"IF(NFI_Expiration=1,IF($A91<VLOOKUP(I$5,NFI,5,0),1,0)*Table_NFI[[#This Row],[NFI Core Kit]],0)","v":0},{"$f":"IF(NFI_Expiration=1,IF($A91<VLOOKUP(J$5,NFI,5,0),1,0)*Table_NFI[[#This Row],[Sanitary Kit]],0)","v":0},{"$f":"IF(NFI_Expiration=1,IF($A91<VLOOKUP(K$5,NFI,5,0),1,0)*Table_NFI[[#This Row],[Mosquito net]],0)","v":0},{"$f":"IF(NFI_Expiration=1,IF($A91<VLOOKUP(L$5,NFI,5,0),1,0)*Table_NFI[[#This Row],[Tarpaulin]],0)","v":0},{"$f":"IF(NFI_Expiration=1,IF($A91<VLOOKUP(M$5,NFI,5,0),1,0)*Table_NFI[[#This Row],[Blanket]],0)","v":0},{"$f":"IF(NFI_Expiration=1,IF($A91<VLOOKUP(N$5,NFI,5,0),1,0)*Table_NFI[[#This Row],[Kitchen Set]],0)","v":0},{"$f":"IF(NFI_Expiration=1,IF($A91<VLOOKUP(O$5,NFI,5,0),1,0)*Table_NFI[[#This Row],[Complementary Kit]],0)","v":0},{"$f":"IF(NFI_Expiration=1,IF($A91<VLOOKUP(P$5,NFI,5,0),1,0)*Table_NFI[[#This Row],[Plastic Bucket]],0)","v":0},{"$f":"IF(NFI_Expiration=1,IF($A91<VLOOKUP(Q$5,NFI,5,0),1,0)*Table_NFI[[#This Row],[Plastic Mat]],0)","v":0},{"$f":"VLOOKUP(Table_NFI[[#This Row],[Camp Name]],'Camp List'!N$5:Z$347,2,0)","v":"MMR001CMP011"},{"$f":"VLOOKUP(Table_NFI[[#This Row],[Camp Name]],'Camp List'!N$5:Z$347,13,0)","v":"Open"}]
[10.833333333333334,"2012-09-10","UNHCR","UNHCR","Kachin","Myitkyina","Myay Myint Baptist Church",null,null,0,10,6,10,6,6,6,6,{"$f":"IF(NFI_Expiration=1,IF($A92<VLOOKUP(H$5,NFI,5,0),1,0)*Table_NFI[[#This Row],[Hygiene Kit]],0)","v":0},{"$f":"IF(NFI_Expiration=1,IF($A92<VLOOKUP(I$5,NFI,5,0),1,0)*Table_NFI[[#This Row],[NFI Core Kit]],0)","v":0},{"$f":"IF(NFI_Expiration=1,IF($A92<VLOOKUP(J$5,NFI,5,0),1,0)*Table_NFI[[#This Row],[Sanitary Kit]],0)","v":0},{"$f":"IF(NFI_Expiration=1,IF($A92<VLOOKUP(K$5,NFI,5,0),1,0)*Table_NFI[[#This Row],[Mosquito net]],0)","v":10},{"$f":"IF(NFI_Expiration=1,IF($A92<VLOOKUP(L$5,NFI,5,0),1,0)*Table_NFI[[#This Row],[Tarpaulin]],0)","v":6},{"$f":"IF(NFI_Expiration=1,IF($A92<VLOOKUP(M$5,NFI,5,0),1,0)*Table_NFI[[#This Row],[Blanket]],0)","v":10},{"$f":"IF(NFI_Expiration=1,IF($A92<VLOOKUP(N$5,NFI,5,0),1,0)*Table_NFI[[#This Row],[Kitchen Set]],0)","v":6},{"$f":"IF(NFI_Expiration=1,IF($A92<VLOOKUP(O$5,NFI,5,0),1,0)*Table_NFI[[#This Row],[Complementary Kit]],0)","v":6},{"$f":"IF(NFI_Expiration=1,IF($A92<VLOOKUP(P$5,NFI,5,0),1,0)*Table_NFI[[#This Row],[Plastic Bucket]],0)","v":6},{"$f":"IF(NFI_Expiration=1,IF($A92<VLOOKUP(Q$5,NFI,5,0),1,0)*Table_NFI[[#This Row],[Plastic Mat]],0)","v":6},{"$f":"VLOOKUP(Table_NFI[[#This Row],[Camp Name]],'Camp List'!N$5:Z$347,2,0)","v":"MMR001CMP017"},{"$f":"VLOOKUP(Table_NFI[[#This Row],[Camp Name]],'Camp List'!N$5:Z$347,13,0)","v":"Open"}]
[15.166666666666666,"2012-05-03","UNHCR","UNHCR","Kachin","Waingmaw","Qtr. 3 Mu-yin  Baptist Church",null,null,0,12,0,12,6,6,6,6,{"$f":"IF(NFI_Expiration=1,IF($A93<VLOOKUP(H$5,NFI,5,0),1,0)*Table_NFI[[#This Row],[Hygiene Kit]],0)","v":0},{"$f":"IF(NFI_Expiration=1,IF($A93<VLOOKUP(I$5,NFI,5,0),1,0)*Table_NFI[[#This Row],[NFI Core Kit]],0)","v":0},{"$f":"IF(NFI_Expiration=1,IF($A93<VLOOKUP(J$5,NFI,5,0),1,0)*Table_NFI[[#This Row],[Sanitary Kit]],0)","v":0},{"$f":"IF(NFI_Expiration=1,IF($A93<VLOOKUP(K$5,NFI,5,0),1,0)*Table_NFI[[#This Row],[Mosquito net]],0)","v":0},{"$f":"IF(NFI_Expiration=1,IF($A93<VLOOKUP(L$5,NFI,5,0),1,0)*Table_NFI[[#This Row],[Tarpaulin]],0)","v":0},{"$f":"IF(NFI_Expiration=1,IF($A93<VLOOKUP(M$5,NFI,5,0),1,0)*Table_NFI[[#This Row],[Blanket]],0)","v":0},{"$f":"IF(NFI_Expiration=1,IF($A93<VLOOKUP(N$5,NFI,5,0),1,0)*Table_NFI[[#This Row],[Kitchen Set]],0)","v":0},{"$f":"IF(NFI_Expiration=1,IF($A93<VLOOKUP(O$5,NFI,5,0),1,0)*Table_NFI[[#This Row],[Complementary Kit]],0)","v":0},{"$f":"IF(NFI_Expiration=1,IF($A93<VLOOKUP(P$5,NFI,5,0),1,0)*Table_NFI[[#This Row],[Plastic Bucket]],0)","v":0},{"$f":"IF(NFI_Expiration=1,IF($A93<VLOOKUP(Q$5,NFI,5,0),1,0)*Table_NFI[[#This Row],[Plastic Mat]],0)","v":0},{"$f":"VLOOKUP(Table_NFI[[#This Row],[Camp Name]],'Camp List'!N$5:Z$347,2,0)","v":"MMR001CMP030"},{"$f":"VLOOKUP(Table_NFI[[#This Row],[Camp Name]],'Camp List'!N$5:Z$347,13,0)","v":"Open"}]
[12.8,"2012-07-13","UNHCR","UNHCR","Kachin","Waingmaw","Maina Lawang Baptist Church",null,null,0,6,6,6,6,6,6,6,{"$f":"IF(NFI_Expiration=1,IF($A94<VLOOKUP(H$5,NFI,5,0),1,0)*Table_NFI[[#This Row],[Hygiene Kit]],0)","v":0},{"$f":"IF(NFI_Expiration=1,IF($A94<VLOOKUP(I$5,NFI,5,0),1,0)*Table_NFI[[#This Row],[NFI Core Kit]],0)","v":0},{"$f":"IF(NFI_Expiration=1,IF($A94<VLOOKUP(J$5,NFI,5,0),1,0)*Table_NFI[[#This Row],[Sanitary Kit]],0)","v":0},{"$f":"IF(NFI_Expiration=1,IF($A94<VLOOKUP(K$5,NFI,5,0),1,0)*Table_NFI[[#This Row],[Mosquito net]],0)","v":0},{"$f":"IF(NFI_Expiration=1,IF($A94<VLOOKUP(L$5,NFI,5,0),1,0)*Table_NFI[[#This Row],[Tarpaulin]],0)","v":0},{"$f":"IF(NFI_Expiration=1,IF($A94<VLOOKUP(M$5,NFI,5,0),1,0)*Table_NFI[[#This Row],[Blanket]],0)","v":0},{"$f":"IF(NFI_Expiration=1,IF($A94<VLOOKUP(N$5,NFI,5,0),1,0)*Table_NFI[[#This Row],[Kitchen Set]],0)","v":0},{"$f":"IF(NFI_Expiration=1,IF($A94<VLOOKUP(O$5,NFI,5,0),1,0)*Table_NFI[[#This Row],[Complementary Kit]],0)","v":0},{"$f":"IF(NFI_Expiration=1,IF($A94<VLOOKUP(P$5,NFI,5,0),1,0)*Table_NFI[[#This Row],[Plastic Bucket]],0)","v":0},{"$f":"IF(NFI_Expiration=1,IF($A94<VLOOKUP(Q$5,NFI,5,0),1,0)*Table_NFI[[#This Row],[Plastic Mat]],0)","v":0},{"$f":"VLOOKUP(Table_NFI[[#This Row],[Camp Name]],'Camp List'!N$5:Z$347,2,0)","v":"MMR001CMP039"},{"$f":"VLOOKUP(Table_NFI[[#This Row],[Camp Name]],'Camp List'!N$5:Z$347,13,0)","v":"Open"}]
[5.2333333333333334,"2013-02-25","UNHCR","Chipwe CM","Kachin","Chipwi","Chipwi KBC camp",null,null,11,17,7,17,7,7,7,7,{"$f":"IF(NFI_Expiration=1,IF($A95<VLOOKUP(H$5,NFI,5,0),1,0)*Table_NFI[[#This Row],[Hygiene Kit]],0)","v":0},{"$f":"IF(NFI_Expiration=1,IF($A95<VLOOKUP(I$5,NFI,5,0),1,0)*Table_NFI[[#This Row],[NFI Core Kit]],0)","v":0},{"$f":"IF(NFI_Expiration=1,IF($A95<VLOOKUP(J$5,NFI,5,0),1,0)*Table_NFI[[#This Row],[Sanitary Kit]],0)","v":11},{"$f":"IF(NFI_Expiration=1,IF($A95<VLOOKUP(K$5,NFI,5,0),1,0)*Table_NFI[[#This Row],[Mosquito net]],0)","v":17},{"$f":"IF(NFI_Expiration=1,IF($A95<VLOOKUP(L$5,NFI,5,0),1,0)*Table_NFI[[#This Row],[Tarpaulin]],0)","v":7},{"$f":"IF(NFI_Expiration=1,IF($A95<VLOOKUP(M$5,NFI,5,0),1,0)*Table_NFI[[#This Row],[Blanket]],0)","v":17},{"$f":"IF(NFI_Expiration=1,IF($A95<VLOOKUP(N$5,NFI,5,0),1,0)*Table_NFI[[#This Row],[Kitchen Set]],0)","v":7},{"$f":"IF(NFI_Expiration=1,IF($A95<VLOOKUP(O$5,NFI,5,0),1,0)*Table_NFI[[#This Row],[Complementary Kit]],0)","v":7},{"$f":"IF(NFI_Expiration=1,IF($A95<VLOOKUP(P$5,NFI,5,0),1,0)*Table_NFI[[#This Row],[Plastic Bucket]],0)","v":7},{"$f":"IF(NFI_Expiration=1,IF($A95<VLOOKUP(Q$5,NFI,5,0),1,0)*Table_NFI[[#This Row],[Plastic Mat]],0)","v":7},{"$f":"VLOOKUP(Table_NFI[[#This Row],[Camp Name]],'Camp List'!N$5:Z$347,2,0)","v":"MMR001CMP042"},{"$f":"VLOOKUP(Table_NFI[[#This Row],[Camp Name]],'Camp List'!N$5:Z$347,13,0)","v":"Open"}]
[5.2333333333333334,"2013-02-25","UNHCR","Chipwe CM","Kachin","Chipwi","Gant Gwin",null,null,11,17,7,17,7,7,7,7,{"$f":"IF(NFI_Expiration=1,IF($A96<VLOOKUP(H$5,NFI,5,0),1,0)*Table_NFI[[#This Row],[Hygiene Kit]],0)","v":0},{"$f":"IF(NFI_Expiration=1,IF($A96<VLOOKUP(I$5,NFI,5,0),1,0)*Table_NFI[[#This Row],[NFI Core Kit]],0)","v":0},{"$f":"IF(NFI_Expiration=1,IF($A96<VLOOKUP(J$5,NFI,5,0),1,0)*Table_NFI[[#This Row],[Sanitary Kit]],0)","v":11},{"$f":"IF(NFI_Expiration=1,IF($A96<VLOOKUP(K$5,NFI,5,0),1,0)*Table_NFI[[#This Row],[Mosquito net]],0)","v":17},{"$f":"IF(NFI_Expiration=1,IF($A96<VLOOKUP(L$5,NFI,5,0),1,0)*Table_NFI[[#This Row],[Tarpaulin]],0)","v":7},{"$f":"IF(NFI_Expiration=1,IF($A96<VLOOKUP(M$5,NFI,5,0),1,0)*Table_NFI[[#This Row],[Blanket]],0)","v":17},{"$f":"IF(NFI_Expiration=1,IF($A96<VLOOKUP(N$5,NFI,5,0),1,0)*Table_NFI[[#This Row],[Kitchen Set]],0)","v":7},{"$f":"IF(NFI_Expiration=1,IF($A96<VLOOKUP(O$5,NFI,5,0),1,0)*Table_NFI[[#This Row],[Complementary Kit]],0)","v":7},{"$f":"IF(NFI_Expiration=1,IF($A96<VLOOKUP(P$5,NFI,5,0),1,0)*Table_NFI[[#This Row],[Plastic Bucket]],0)","v":7},{"$f":"IF(NFI_Expiration=1,IF($A96<VLOOKUP(Q$5,NFI,5,0),1,0)*Table_NFI[[#This Row],[Plastic Mat]],0)","v":7},{"$f":"VLOOKUP(Table_NFI[[#This Row],[Camp Name]],'Camp List'!N$5:Z$347,2,0)","v":"MMR001CMP046"},{"$f":"VLOOKUP(Table_NFI[[#This Row],[Camp Name]],'Camp List'!N$5:Z$347,13,0)","v":"Open"}]
[5.2333333333333334,"2013-02-25","UNHCR","Chipwe CM","Kachin","Chipwi","Hpare Hkyer - BP6",null,null,11,17,7,17,7,7,7,7,{"$f":"IF(NFI_Expiration=1,IF($A97<VLOOKUP(H$5,NFI,5,0),1,0)*Table_NFI[[#This Row],[Hygiene Kit]],0)","v":0},{"$f":"IF(NFI_Expiration=1,IF($A97<VLOOKUP(I$5,NFI,5,0),1,0)*Table_NFI[[#This Row],[NFI Core Kit]],0)","v":0},{"$f":"IF(NFI_Expiration=1,IF($A97<VLOOKUP(J$5,NFI,5,0),1,0)*Table_NFI[[#This Row],[Sanitary Kit]],0)","v":11},{"$f":"IF(NFI_Expiration=1,IF($A97<VLOOKUP(K$5,NFI,5,0),1,0)*Table_NFI[[#This Row],[Mosquito net]],0)","v":17},{"$f":"IF(NFI_Expiration=1,IF($A97<VLOOKUP(L$5,NFI,5,0),1,0)*Table_NFI[[#This Row],[Tarpaulin]],0)","v":7},{"$f":"IF(NFI_Expiration=1,IF($A97<VLOOKUP(M$5,NFI,5,0),1,0)*Table_NFI[[#This Row],[Blanket]],0)","v":17},{"$f":"IF(NFI_Expiration=1,IF($A97<VLOOKUP(N$5,NFI,5,0),1,0)*Table_NFI[[#This Row],[Kitchen Set]],0)","v":7},{"$f":"IF(NFI_Expiration=1,IF($A97<VLOOKUP(O$5,NFI,5,0),1,0)*Table_NFI[[#This Row],[Complementary Kit]],0)","v":7},{"$f":"IF(NFI_Expiration=1,IF($A97<VLOOKUP(P$5,NFI,5,0),1,0)*Table_NFI[[#This Row],[Plastic Bucket]],0)","v":7},{"$f":"IF(NFI_Expiration=1,IF($A97<VLOOKUP(Q$5,NFI,5,0),1,0)*Table_NFI[[#This Row],[Plastic Mat]],0)","v":7},{"$f":"VLOOKUP(Table_NFI[[#This Row],[Camp Name]],'Camp List'!N$5:Z$347,2,0)","v":"MMR001CMP043"},{"$f":"VLOOKUP(Table_NFI[[#This Row],[Camp Name]],'Camp List'!N$5:Z$347,13,0)","v":"Open"}]
[5.2333333333333334,"2013-02-25","UNHCR","Chipwe CM","Kachin","Chipwi","Lan Jaw ",null,null,11,17,7,17,7,7,7,7,{"$f":"IF(NFI_Expiration=1,IF($A98<VLOOKUP(H$5,NFI,5,0),1,0)*Table_NFI[[#This Row],[Hygiene Kit]],0)","v":0},{"$f":"IF(NFI_Expiration=1,IF($A98<VLOOKUP(I$5,NFI,5,0),1,0)*Table_NFI[[#This Row],[NFI Core Kit]],0)","v":0},{"$f":"IF(NFI_Expiration=1,IF($A98<VLOOKUP(J$5,NFI,5,0),1,0)*Table_NFI[[#This Row],[Sanitary Kit]],0)","v":11},{"$f":"IF(NFI_Expiration=1,IF($A98<VLOOKUP(K$5,NFI,5,0),1,0)*Table_NFI[[#This Row],[Mosquito net]],0)","v":17},{"$f":"IF(NFI_Expiration=1,IF($A98<VLOOKUP(L$5,NFI,5,0),1,0)*Table_NFI[[#This Row],[Tarpaulin]],0)","v":7},{"$f":"IF(NFI_Expiration=1,IF($A98<VLOOKUP(M$5,NFI,5,0),1,0)*Table_NFI[[#This Row],[Blanket]],0)","v":17},{"$f":"IF(NFI_Expiration=1,IF($A98<VLOOKUP(N$5,NFI,5,0),1,0)*Table_NFI[[#This Row],[Kitchen Set]],0)","v":7},{"$f":"IF(NFI_Expiration=1,IF($A98<VLOOKUP(O$5,NFI,5,0),1,0)*Table_NFI[[#This Row],[Complementary Kit]],0)","v":7},{"$f":"IF(NFI_Expiration=1,IF($A98<VLOOKUP(P$5,NFI,5,0),1,0)*Table_NFI[[#This Row],[Plastic Bucket]],0)","v":7},{"$f":"IF(NFI_Expiration=1,IF($A98<VLOOKUP(Q$5,NFI,5,0),1,0)*Table_NFI[[#This Row],[Plastic Mat]],0)","v":7},{"$f":"VLOOKUP(Table_NFI[[#This Row],[Camp Name]],'Camp List'!N$5:Z$347,2,0)","v":"MMR001CMP045"},{"$f":"VLOOKUP(Table_NFI[[#This Row],[Camp Name]],'Camp List'!N$5:Z$347,13,0)","v":"Open"}]
[5.2333333333333334,"2013-02-25","UNHCR","Chipwe CM","Kachin","Chipwi","Lhaovao Baptist Church (LBC)",null,null,12,17,7,17,7,7,7,7,{"$f":"IF(NFI_Expiration=1,IF($A99<VLOOKUP(H$5,NFI,5,0),1,0)*Table_NFI[[#This Row],[Hygiene Kit]],0)","v":0},{"$f":"IF(NFI_Expiration=1,IF($A99<VLOOKUP(I$5,NFI,5,0),1,0)*Table_NFI[[#This Row],[NFI Core Kit]],0)","v":0},{"$f":"IF(NFI_Expiration=1,IF($A99<VLOOKUP(J$5,NFI,5,0),1,0)*Table_NFI[[#This Row],[Sanitary Kit]],0)","v":12},{"$f":"IF(NFI_Expiration=1,IF($A99<VLOOKUP(K$5,NFI,5,0),1,0)*Table_NFI[[#This Row],[Mosquito net]],0)","v":17},{"$f":"IF(NFI_Expiration=1,IF($A99<VLOOKUP(L$5,NFI,5,0),1,0)*Table_NFI[[#This Row],[Tarpaulin]],0)","v":7},{"$f":"IF(NFI_Expiration=1,IF($A99<VLOOKUP(M$5,NFI,5,0),1,0)*Table_NFI[[#This Row],[Blanket]],0)","v":17},{"$f":"IF(NFI_Expiration=1,IF($A99<VLOOKUP(N$5,NFI,5,0),1,0)*Table_NFI[[#This Row],[Kitchen Set]],0)","v":7},{"$f":"IF(NFI_Expiration=1,IF($A99<VLOOKUP(O$5,NFI,5,0),1,0)*Table_NFI[[#This Row],[Complementary Kit]],0)","v":7},{"$f":"IF(NFI_Expiration=1,IF($A99<VLOOKUP(P$5,NFI,5,0),1,0)*Table_NFI[[#This Row],[Plastic Bucket]],0)","v":7},{"$f":"IF(NFI_Expiration=1,IF($A99<VLOOKUP(Q$5,NFI,5,0),1,0)*Table_NFI[[#This Row],[Plastic Mat]],0)","v":7},{"$f":"VLOOKUP(Table_NFI[[#This Row],[Camp Name]],'Camp List'!N$5:Z$347,2,0)","v":"MMR001CMP195"},{"$f":"VLOOKUP(Table_NFI[[#This Row],[Camp Name]],'Camp List'!N$5:Z$347,13,0)","v":"Open"}]
[12.666666666666666,"2012-07-17","UNHCR","UNHCR","Kachin","Myitkyina","Tat Kone Galile Baptist Church",null,null,0,7,7,7,7,7,7,7,{"$f":"IF(NFI_Expiration=1,IF($A100<VLOOKUP(H$5,NFI,5,0),1,0)*Table_NFI[[#This Row],[Hygiene Kit]],0)","v":0},{"$f":"IF(NFI_Expiration=1,IF($A100<VLOOKUP(I$5,NFI,5,0),1,0)*Table_NFI[[#This Row],[NFI Core Kit]],0)","v":0},{"$f":"IF(NFI_Expiration=1,IF($A100<VLOOKUP(J$5,NFI,5,0),1,0)*Table_NFI[[#This Row],[Sanitary Kit]],0)","v":0},{"$f":"IF(NFI_Expiration=1,IF($A100<VLOOKUP(K$5,NFI,5,0),1,0)*Table_NFI[[#This Row],[Mosquito net]],0)","v":0},{"$f":"IF(NFI_Expiration=1,IF($A100<VLOOKUP(L$5,NFI,5,0),1,0)*Table_NFI[[#This Row],[Tarpaulin]],0)","v":0},{"$f":"IF(NFI_Expiration=1,IF($A100<VLOOKUP(M$5,NFI,5,0),1,0)*Table_NFI[[#This Row],[Blanket]],0)","v":0},{"$f":"IF(NFI_Expiration=1,IF($A100<VLOOKUP(N$5,NFI,5,0),1,0)*Table_NFI[[#This Row],[Kitchen Set]],0)","v":0},{"$f":"IF(NFI_Expiration=1,IF($A100<VLOOKUP(O$5,NFI,5,0),1,0)*Table_NFI[[#This Row],[Complementary Kit]],0)","v":0},{"$f":"IF(NFI_Expiration=1,IF($A100<VLOOKUP(P$5,NFI,5,0),1,0)*Table_NFI[[#This Row],[Plastic Bucket]],0)","v":0},{"$f":"IF(NFI_Expiration=1,IF($A100<VLOOKUP(Q$5,NFI,5,0),1,0)*Table_NFI[[#This Row],[Plastic Mat]],0)","v":0},{"$f":"VLOOKUP(Table_NFI[[#This Row],[Camp Name]],'Camp List'!N$5:Z$347,2,0)","v":"MMR001CMP003"},{"$f":"VLOOKUP(Table_NFI[[#This Row],[Camp Name]],'Camp List'!N$5:Z$347,13,0)","v":"Open"}]
[7.7,"2012-12-13","UNHCR","UNHCR","Kachin","Myitkyina","Nan Kway St. John Catholic Church",null,null,0,16,7,16,7,7,7,7,{"$f":"IF(NFI_Expiration=1,IF($A101<VLOOKUP(H$5,NFI,5,0),1,0)*Table_NFI[[#This Row],[Hygiene Kit]],0)","v":0},{"$f":"IF(NFI_Expiration=1,IF($A101<VLOOKUP(I$5,NFI,5,0),1,0)*Table_NFI[[#This Row],[NFI Core Kit]],0)","v":0},{"$f":"IF(NFI_Expiration=1,IF($A101<VLOOKUP(J$5,NFI,5,0),1,0)*Table_NFI[[#This Row],[Sanitary Kit]],0)","v":0},{"$f":"IF(NFI_Expiration=1,IF($A101<VLOOKUP(K$5,NFI,5,0),1,0)*Table_NFI[[#This Row],[Mosquito net]],0)","v":16},{"$f":"IF(NFI_Expiration=1,IF($A101<VLOOKUP(L$5,NFI,5,0),1,0)*Table_NFI[[#This Row],[Tarpaulin]],0)","v":7},{"$f":"IF(NFI_Expiration=1,IF($A101<VLOOKUP(M$5,NFI,5,0),1,0)*Table_NFI[[#This Row],[Blanket]],0)","v":16},{"$f":"IF(NFI_Expiration=1,IF($A101<VLOOKUP(N$5,NFI,5,0),1,0)*Table_NFI[[#This Row],[Kitchen Set]],0)","v":7},{"$f":"IF(NFI_Expiration=1,IF($A101<VLOOKUP(O$5,NFI,5,0),1,0)*Table_NFI[[#This Row],[Complementary Kit]],0)","v":7},{"$f":"IF(NFI_Expiration=1,IF($A101<VLOOKUP(P$5,NFI,5,0),1,0)*Table_NFI[[#This Row],[Plastic Bucket]],0)","v":7},{"$f":"IF(NFI_Expiration=1,IF($A101<VLOOKUP(Q$5,NFI,5,0),1,0)*Table_NFI[[#This Row],[Plastic Mat]],0)","v":7},{"$f":"VLOOKUP(Table_NFI[[#This Row],[Camp Name]],'Camp List'!N$5:Z$347,2,0)","v":"MMR001CMP024"},{"$f":"VLOOKUP(Table_NFI[[#This Row],[Camp Name]],'Camp List'!N$5:Z$347,13,0)","v":"Open"}]
[5.9,"2013-02-05","UNHCR","UNHCR","Kachin","Myitkyina","Maw Hpawng Lhaovo Baptist Church",null,null,10,16,7,16,7,7,7,7,{"$f":"IF(NFI_Expiration=1,IF($A102<VLOOKUP(H$5,NFI,5,0),1,0)*Table_NFI[[#This Row],[Hygiene Kit]],0)","v":0},{"$f":"IF(NFI_Expiration=1,IF($A102<VLOOKUP(I$5,NFI,5,0),1,0)*Table_NFI[[#This Row],[NFI Core Kit]],0)","v":0},{"$f":"IF(NFI_Expiration=1,IF($A102<VLOOKUP(J$5,NFI,5,0),1,0)*Table_NFI[[#This Row],[Sanitary Kit]],0)","v":10},{"$f":"IF(NFI_Expiration=1,IF($A102<VLOOKUP(K$5,NFI,5,0),1,0)*Table_NFI[[#This Row],[Mosquito net]],0)","v":16},{"$f":"IF(NFI_Expiration=1,IF($A102<VLOOKUP(L$5,NFI,5,0),1,0)*Table_NFI[[#This Row],[Tarpaulin]],0)","v":7},{"$f":"IF(NFI_Expiration=1,IF($A102<VLOOKUP(M$5,NFI,5,0),1,0)*Table_NFI[[#This Row],[Blanket]],0)","v":16},{"$f":"IF(NFI_Expiration=1,IF($A102<VLOOKUP(N$5,NFI,5,0),1,0)*Table_NFI[[#This Row],[Kitchen Set]],0)","v":7},{"$f":"IF(NFI_Expiration=1,IF($A102<VLOOKUP(O$5,NFI,5,0),1,0)*Table_NFI[[#This Row],[Complementary Kit]],0)","v":7},{"$f":"IF(NFI_Expiration=1,IF($A102<VLOOKUP(P$5,NFI,5,0),1,0)*Table_NFI[[#This Row],[Plastic Bucket]],0)","v":7},{"$f":"IF(NFI_Expiration=1,IF($A102<VLOOKUP(Q$5,NFI,5,0),1,0)*Table_NFI[[#This Row],[Plastic Mat]],0)","v":7},{"$f":"VLOOKUP(Table_NFI[[#This Row],[Camp Name]],'Camp List'!N$5:Z$347,2,0)","v":"MMR001CMP021"},{"$f":"VLOOKUP(Table_NFI[[#This Row],[Camp Name]],'Camp List'!N$5:Z$347,13,0)","v":"Open"}]
[0.26666666666666666,"2013-07-24","UNHCR","Shalom","Kachin","Waingmaw","Maina AG Church",null,null,10,14,7,14,7,7,7,7,{"$f":"IF(NFI_Expiration=1,IF($A103<VLOOKUP(H$5,NFI,5,0),1,0)*Table_NFI[[#This Row],[Hygiene Kit]],0)","v":0},{"$f":"IF(NFI_Expiration=1,IF($A103<VLOOKUP(I$5,NFI,5,0),1,0)*Table_NFI[[#This Row],[NFI Core Kit]],0)","v":0},{"$f":"IF(NFI_Expiration=1,IF($A103<VLOOKUP(J$5,NFI,5,0),1,0)*Table_NFI[[#This Row],[Sanitary Kit]],0)","v":10},{"$f":"IF(NFI_Expiration=1,IF($A103<VLOOKUP(K$5,NFI,5,0),1,0)*Table_NFI[[#This Row],[Mosquito net]],0)","v":14},{"$f":"IF(NFI_Expiration=1,IF($A103<VLOOKUP(L$5,NFI,5,0),1,0)*Table_NFI[[#This Row],[Tarpaulin]],0)","v":7},{"$f":"IF(NFI_Expiration=1,IF($A103<VLOOKUP(M$5,NFI,5,0),1,0)*Table_NFI[[#This Row],[Blanket]],0)","v":14},{"$f":"IF(NFI_Expiration=1,IF($A103<VLOOKUP(N$5,NFI,5,0),1,0)*Table_NFI[[#This Row],[Kitchen Set]],0)","v":7},{"$f":"IF(NFI_Expiration=1,IF($A103<VLOOKUP(O$5,NFI,5,0),1,0)*Table_NFI[[#This Row],[Complementary Kit]],0)","v":7},{"$f":"IF(NFI_Expiration=1,IF($A103<VLOOKUP(P$5,NFI,5,0),1,0)*Table_NFI[[#This Row],[Plastic Bucket]],0)","v":7},{"$f":"IF(NFI_Expiration=1,IF($A103<VLOOKUP(Q$5,NFI,5,0),1,0)*Table_NFI[[#This Row],[Plastic Mat]],0)","v":7},{"$f":"VLOOKUP(Table_NFI[[#This Row],[Camp Name]],'Camp List'!N$5:Z$347,2,0)","v":"MMR001CMP031"},{"$f":"VLOOKUP(Table_NFI[[#This Row],[Camp Name]],'Camp List'!N$5:Z$347,13,0)","v":"Open"}]
[5.2333333333333334,"2013-02-25","UNHCR","Chipwe CM","Kachin","Chipwi","Women's Affairs Association Building",null,null,12,18,8,18,8,8,8,8,{"$f":"IF(NFI_Expiration=1,IF($A104<VLOOKUP(H$5,NFI,5,0),1,0)*Table_NFI[[#This Row],[Hygiene Kit]],0)","v":0},{"$f":"IF(NFI_Expiration=1,IF($A104<VLOOKUP(I$5,NFI,5,0),1,0)*Table_NFI[[#This Row],[NFI Core Kit]],0)","v":0},{"$f":"IF(NFI_Expiration=1,IF($A104<VLOOKUP(J$5,NFI,5,0),1,0)*Table_NFI[[#This Row],[Sanitary Kit]],0)","v":12},{"$f":"IF(NFI_Expiration=1,IF($A104<VLOOKUP(K$5,NFI,5,0),1,0)*Table_NFI[[#This Row],[Mosquito net]],0)","v":18},{"$f":"IF(NFI_Expiration=1,IF($A104<VLOOKUP(L$5,NFI,5,0),1,0)*Table_NFI[[#This Row],[Tarpaulin]],0)","v":8},{"$f":"IF(NFI_Expiration=1,IF($A104<VLOOKUP(M$5,NFI,5,0),1,0)*Table_NFI[[#This Row],[Blanket]],0)","v":18},{"$f":"IF(NFI_Expiration=1,IF($A104<VLOOKUP(N$5,NFI,5,0),1,0)*Table_NFI[[#This Row],[Kitchen Set]],0)","v":8},{"$f":"IF(NFI_Expiration=1,IF($A104<VLOOKUP(O$5,NFI,5,0),1,0)*Table_NFI[[#This Row],[Complementary Kit]],0)","v":8},{"$f":"IF(NFI_Expiration=1,IF($A104<VLOOKUP(P$5,NFI,5,0),1,0)*Table_NFI[[#This Row],[Plastic Bucket]],0)","v":8},{"$f":"IF(NFI_Expiration=1,IF($A104<VLOOKUP(Q$5,NFI,5,0),1,0)*Table_NFI[[#This Row],[Plastic Mat]],0)","v":8},{"$f":"VLOOKUP(Table_NFI[[#This Row],[Camp Name]],'Camp List'!N$5:Z$347,2,0)","v":"MMR001CMP044"},{"$f":"VLOOKUP(Table_NFI[[#This Row],[Camp Name]],'Camp List'!N$5:Z$347,13,0)","v":"Close"}]
[5.4333333333333336,"2013-02-19","UNHCR","UNHCR","Kachin","Hpakant","Away Yar Rama Monastery, Ka Day village",null,null,8,16,8,16,8,8,8,8,{"$f":"IF(NFI_Expiration=1,IF($A105<VLOOKUP(H$5,NFI,5,0),1,0)*Table_NFI[[#This Row],[Hygiene Kit]],0)","v":0},{"$f":"IF(NFI_Expiration=1,IF($A105<VLOOKUP(I$5,NFI,5,0),1,0)*Table_NFI[[#This Row],[NFI Core Kit]],0)","v":0},{"$f":"IF(NFI_Expiration=1,IF($A105<VLOOKUP(J$5,NFI,5,0),1,0)*Table_NFI[[#This Row],[Sanitary Kit]],0)","v":8},{"$f":"IF(NFI_Expiration=1,IF($A105<VLOOKUP(K$5,NFI,5,0),1,0)*Table_NFI[[#This Row],[Mosquito net]],0)","v":16},{"$f":"IF(NFI_Expiration=1,IF($A105<VLOOKUP(L$5,NFI,5,0),1,0)*Table_NFI[[#This Row],[Tarpaulin]],0)","v":8},{"$f":"IF(NFI_Expiration=1,IF($A105<VLOOKUP(M$5,NFI,5,0),1,0)*Table_NFI[[#This Row],[Blanket]],0)","v":16},{"$f":"IF(NFI_Expiration=1,IF($A105<VLOOKUP(N$5,NFI,5,0),1,0)*Table_NFI[[#This Row],[Kitchen Set]],0)","v":8},{"$f":"IF(NFI_Expiration=1,IF($A105<VLOOKUP(O$5,NFI,5,0),1,0)*Table_NFI[[#This Row],[Complementary Kit]],0)","v":8},{"$f":"IF(NFI_Expiration=1,IF($A105<VLOOKUP(P$5,NFI,5,0),1,0)*Table_NFI[[#This Row],[Plastic Bucket]],0)","v":8},{"$f":"IF(NFI_Expiration=1,IF($A105<VLOOKUP(Q$5,NFI,5,0),1,0)*Table_NFI[[#This Row],[Plastic Mat]],0)","v":8},{"$f":"VLOOKUP(Table_NFI[[#This Row],[Camp Name]],'Camp List'!N$5:Z$347,2,0)","v":"MMR001CMP170"},{"$f":"VLOOKUP(Table_NFI[[#This Row],[Camp Name]],'Camp List'!N$5:Z$347,13,0)","v":"Close"}]
[5.4,"2013-02-20","UNHCR","UNHCR","Kachin","Hpakant","Lisu Baptist Church, Maw Wan Ward",null,null,12,20,8,20,8,8,8,8,{"$f":"IF(NFI_Expiration=1,IF($A106<VLOOKUP(H$5,NFI,5,0),1,0)*Table_NFI[[#This Row],[Hygiene Kit]],0)","v":0},{"$f":"IF(NFI_Expiration=1,IF($A106<VLOOKUP(I$5,NFI,5,0),1,0)*Table_NFI[[#This Row],[NFI Core Kit]],0)","v":0},{"$f":"IF(NFI_Expiration=1,IF($A106<VLOOKUP(J$5,NFI,5,0),1,0)*Table_NFI[[#This Row],[Sanitary Kit]],0)","v":12},{"$f":"IF(NFI_Expiration=1,IF($A106<VLOOKUP(K$5,NFI,5,0),1,0)*Table_NFI[[#This Row],[Mosquito net]],0)","v":20},{"$f":"IF(NFI_Expiration=1,IF($A106<VLOOKUP(L$5,NFI,5,0),1,0)*Table_NFI[[#This Row],[Tarpaulin]],0)","v":8},{"$f":"IF(NFI_Expiration=1,IF($A106<VLOOKUP(M$5,NFI,5,0),1,0)*Table_NFI[[#This Row],[Blanket]],0)","v":20},{"$f":"IF(NFI_Expiration=1,IF($A106<VLOOKUP(N$5,NFI,5,0),1,0)*Table_NFI[[#This Row],[Kitchen Set]],0)","v":8},{"$f":"IF(NFI_Expiration=1,IF($A106<VLOOKUP(O$5,NFI,5,0),1,0)*Table_NFI[[#This Row],[Complementary Kit]],0)","v":8},{"$f":"IF(NFI_Expiration=1,IF($A106<VLOOKUP(P$5,NFI,5,0),1,0)*Table_NFI[[#This Row],[Plastic Bucket]],0)","v":8},{"$f":"IF(NFI_Expiration=1,IF($A106<VLOOKUP(Q$5,NFI,5,0),1,0)*Table_NFI[[#This Row],[Plastic Mat]],0)","v":8},{"$f":"VLOOKUP(Table_NFI[[#This Row],[Camp Name]],'Camp List'!N$5:Z$347,2,0)","v":"MMR001CMP167"},{"$f":"VLOOKUP(Table_NFI[[#This Row],[Camp Name]],'Camp List'!N$5:Z$347,13,0)","v":"Open"}]
[12.333333333333334,"2012-07-27","UNHCR","UNHCR","Kachin","Mohnyin","St. Patrick Catholic Church ",null,null,0,0,8,0,8,8,8,8,{"$f":"IF(NFI_Expiration=1,IF($A107<VLOOKUP(H$5,NFI,5,0),1,0)*Table_NFI[[#This Row],[Hygiene Kit]],0)","v":0},{"$f":"IF(NFI_Expiration=1,IF($A107<VLOOKUP(I$5,NFI,5,0),1,0)*Table_NFI[[#This Row],[NFI Core Kit]],0)","v":0},{"$f":"IF(NFI_Expiration=1,IF($A107<VLOOKUP(J$5,NFI,5,0),1,0)*Table_NFI[[#This Row],[Sanitary Kit]],0)","v":0},{"$f":"IF(NFI_Expiration=1,IF($A107<VLOOKUP(K$5,NFI,5,0),1,0)*Table_NFI[[#This Row],[Mosquito net]],0)","v":0},{"$f":"IF(NFI_Expiration=1,IF($A107<VLOOKUP(L$5,NFI,5,0),1,0)*Table_NFI[[#This Row],[Tarpaulin]],0)","v":0},{"$f":"IF(NFI_Expiration=1,IF($A107<VLOOKUP(M$5,NFI,5,0),1,0)*Table_NFI[[#This Row],[Blanket]],0)","v":0},{"$f":"IF(NFI_Expiration=1,IF($A107<VLOOKUP(N$5,NFI,5,0),1,0)*Table_NFI[[#This Row],[Kitchen Set]],0)","v":0},{"$f":"IF(NFI_Expiration=1,IF($A107<VLOOKUP(O$5,NFI,5,0),1,0)*Table_NFI[[#This Row],[Complementary Kit]],0)","v":0},{"$f":"IF(NFI_Expiration=1,IF($A107<VLOOKUP(P$5,NFI,5,0),1,0)*Table_NFI[[#This Row],[Plastic Bucket]],0)","v":0},{"$f":"IF(NFI_Expiration=1,IF($A107<VLOOKUP(Q$5,NFI,5,0),1,0)*Table_NFI[[#This Row],[Plastic Mat]],0)","v":0},{"$f":"VLOOKUP(Table_NFI[[#This Row],[Camp Name]],'Camp List'!N$5:Z$347,2,0)","v":"MMR001CMP080"},{"$f":"VLOOKUP(Table_NFI[[#This Row],[Camp Name]],'Camp List'!N$5:Z$347,13,0)","v":"Open"}]
[21.266666666666666,"2011-11-02","UNHCR","KBC","Kachin","Myitkyina","Du Kahtawng Qtr. 5",null,null,0,39,8,39,8,8,8,8,{"$f":"IF(NFI_Expiration=1,IF($A108<VLOOKUP(H$5,NFI,5,0),1,0)*Table_NFI[[#This Row],[Hygiene Kit]],0)","v":0},{"$f":"IF(NFI_Expiration=1,IF($A108<VLOOKUP(I$5,NFI,5,0),1,0)*Table_NFI[[#This Row],[NFI Core Kit]],0)","v":0},{"$f":"IF(NFI_Expiration=1,IF($A108<VLOOKUP(J$5,NFI,5,0),1,0)*Table_NFI[[#This Row],[Sanitary Kit]],0)","v":0},{"$f":"IF(NFI_Expiration=1,IF($A108<VLOOKUP(K$5,NFI,5,0),1,0)*Table_NFI[[#This Row],[Mosquito net]],0)","v":0},{"$f":"IF(NFI_Expiration=1,IF($A108<VLOOKUP(L$5,NFI,5,0),1,0)*Table_NFI[[#This Row],[Tarpaulin]],0)","v":0},{"$f":"IF(NFI_Expiration=1,IF($A108<VLOOKUP(M$5,NFI,5,0),1,0)*Table_NFI[[#This Row],[Blanket]],0)","v":0},{"$f":"IF(NFI_Expiration=1,IF($A108<VLOOKUP(N$5,NFI,5,0),1,0)*Table_NFI[[#This Row],[Kitchen Set]],0)","v":0},{"$f":"IF(NFI_Expiration=1,IF($A108<VLOOKUP(O$5,NFI,5,0),1,0)*Table_NFI[[#This Row],[Complementary Kit]],0)","v":0},{"$f":"IF(NFI_Expiration=1,IF($A108<VLOOKUP(P$5,NFI,5,0),1,0)*Table_NFI[[#This Row],[Plastic Bucket]],0)","v":0},{"$f":"IF(NFI_Expiration=1,IF($A108<VLOOKUP(Q$5,NFI,5,0),1,0)*Table_NFI[[#This Row],[Plastic Mat]],0)","v":0},{"$f":"VLOOKUP(Table_NFI[[#This Row],[Camp Name]],'Camp List'!N$5:Z$347,2,0)","v":"MMR001CMP011"},{"$f":"VLOOKUP(Table_NFI[[#This Row],[Camp Name]],'Camp List'!N$5:Z$347,13,0)","v":"Open"}]
[21.233333333333334,"2011-11-03","UNHCR","KMSS","Kachin","Myitkyina","Shwe Zet Baptist Church",null,null,0,18,8,18,8,8,8,8,{"$f":"IF(NFI_Expiration=1,IF($A109<VLOOKUP(H$5,NFI,5,0),1,0)*Table_NFI[[#This Row],[Hygiene Kit]],0)","v":0},{"$f":"IF(NFI_Expiration=1,IF($A109<VLOOKUP(I$5,NFI,5,0),1,0)*Table_NFI[[#This Row],[NFI Core Kit]],0)","v":0},{"$f":"IF(NFI_Expiration=1,IF($A109<VLOOKUP(J$5,NFI,5,0),1,0)*Table_NFI[[#This Row],[Sanitary Kit]],0)","v":0},{"$f":"IF(NFI_Expiration=1,IF($A109<VLOOKUP(K$5,NFI,5,0),1,0)*Table_NFI[[#This Row],[Mosquito net]],0)","v":0},{"$f":"IF(NFI_Expiration=1,IF($A109<VLOOKUP(L$5,NFI,5,0),1,0)*Table_NFI[[#This Row],[Tarpaulin]],0)","v":0},{"$f":"IF(NFI_Expiration=1,IF($A109<VLOOKUP(M$5,NFI,5,0),1,0)*Table_NFI[[#This Row],[Blanket]],0)","v":0},{"$f":"IF(NFI_Expiration=1,IF($A109<VLOOKUP(N$5,NFI,5,0),1,0)*Table_NFI[[#This Row],[Kitchen Set]],0)","v":0},{"$f":"IF(NFI_Expiration=1,IF($A109<VLOOKUP(O$5,NFI,5,0),1,0)*Table_NFI[[#This Row],[Complementary Kit]],0)","v":0},{"$f":"IF(NFI_Expiration=1,IF($A109<VLOOKUP(P$5,NFI,5,0),1,0)*Table_NFI[[#This Row],[Plastic Bucket]],0)","v":0},{"$f":"IF(NFI_Expiration=1,IF($A109<VLOOKUP(Q$5,NFI,5,0),1,0)*Table_NFI[[#This Row],[Plastic Mat]],0)","v":0},{"$f":"VLOOKUP(Table_NFI[[#This Row],[Camp Name]],'Camp List'!N$5:Z$347,2,0)","v":"MMR001CMP009"},{"$f":"VLOOKUP(Table_NFI[[#This Row],[Camp Name]],'Camp List'!N$5:Z$347,13,0)","v":"Open"}]
[21.233333333333334,"2011-11-03","UNHCR","KMSS","Kachin","Myitkyina","Tat Kone Emanuel Church",null,null,0,18,8,18,8,8,8,{"$f":"O110","v":8},{"$f":"IF(NFI_Expiration=1,IF($A110<VLOOKUP(H$5,NFI,5,0),1,0)*Table_NFI[[#This Row],[Hygiene Kit]],0)","v":0},{"$f":"IF(NFI_Expiration=1,IF($A110<VLOOKUP(I$5,NFI,5,0),1,0)*Table_NFI[[#This Row],[NFI Core Kit]],0)","v":0},{"$f":"IF(NFI_Expiration=1,IF($A110<VLOOKUP(J$5,NFI,5,0),1,0)*Table_NFI[[#This Row],[Sanitary Kit]],0)","v":0},{"$f":"IF(NFI_Expiration=1,IF($A110<VLOOKUP(K$5,NFI,5,0),1,0)*Table_NFI[[#This Row],[Mosquito net]],0)","v":0},{"$f":"IF(NFI_Expiration=1,IF($A110<VLOOKUP(L$5,NFI,5,0),1,0)*Table_NFI[[#This Row],[Tarpaulin]],0)","v":0},{"$f":"IF(NFI_Expiration=1,IF($A110<VLOOKUP(M$5,NFI,5,0),1,0)*Table_NFI[[#This Row],[Blanket]],0)","v":0},{"$f":"IF(NFI_Expiration=1,IF($A110<VLOOKUP(N$5,NFI,5,0),1,0)*Table_NFI[[#This Row],[Kitchen Set]],0)","v":0},{"$f":"IF(NFI_Expiration=1,IF($A110<VLOOKUP(O$5,NFI,5,0),1,0)*Table_NFI[[#This Row],[Complementary Kit]],0)","v":0},{"$f":"IF(NFI_Expiration=1,IF($A110<VLOOKUP(P$5,NFI,5,0),1,0)*Table_NFI[[#This Row],[Plastic Bucket]],0)","v":0},{"$f":"IF(NFI_Expiration=1,IF($A110<VLOOKUP(Q$5,NFI,5,0),1,0)*Table_NFI[[#This Row],[Plastic Mat]],0)","v":0},{"$f":"VLOOKUP(Table_NFI[[#This Row],[Camp Name]],'Camp List'!N$5:Z$347,2,0)","v":"MMR001CMP004"},{"$f":"VLOOKUP(Table_NFI[[#This Row],[Camp Name]],'Camp List'!N$5:Z$347,13,0)","v":"Open"}]
[19.2,"2012-01-03","UNHCR","KMSS","Kachin","Myitkyina","Tat Kone Emanuel Church",null,null,0,0,0,0,0,8,8,8,{"$f":"IF(NFI_Expiration=1,IF($A111<VLOOKUP(H$5,NFI,5,0),1,0)*Table_NFI[[#This Row],[Hygiene Kit]],0)","v":0},{"$f":"IF(NFI_Expiration=1,IF($A111<VLOOKUP(I$5,NFI,5,0),1,0)*Table_NFI[[#This Row],[NFI Core Kit]],0)","v":0},{"$f":"IF(NFI_Expiration=1,IF($A111<VLOOKUP(J$5,NFI,5,0),1,0)*Table_NFI[[#This Row],[Sanitary Kit]],0)","v":0},{"$f":"IF(NFI_Expiration=1,IF($A111<VLOOKUP(K$5,NFI,5,0),1,0)*Table_NFI[[#This Row],[Mosquito net]],0)","v":0},{"$f":"IF(NFI_Expiration=1,IF($A111<VLOOKUP(L$5,NFI,5,0),1,0)*Table_NFI[[#This Row],[Tarpaulin]],0)","v":0},{"$f":"IF(NFI_Expiration=1,IF($A111<VLOOKUP(M$5,NFI,5,0),1,0)*Table_NFI[[#This Row],[Blanket]],0)","v":0},{"$f":"IF(NFI_Expiration=1,IF($A111<VLOOKUP(N$5,NFI,5,0),1,0)*Table_NFI[[#This Row],[Kitchen Set]],0)","v":0},{"$f":"IF(NFI_Expiration=1,IF($A111<VLOOKUP(O$5,NFI,5,0),1,0)*Table_NFI[[#This Row],[Complementary Kit]],0)","v":0},{"$f":"IF(NFI_Expiration=1,IF($A111<VLOOKUP(P$5,NFI,5,0),1,0)*Table_NFI[[#This Row],[Plastic Bucket]],0)","v":0},{"$f":"IF(NFI_Expiration=1,IF($A111<VLOOKUP(Q$5,NFI,5,0),1,0)*Table_NFI[[#This Row],[Plastic Mat]],0)","v":0},{"$f":"VLOOKUP(Table_NFI[[#This Row],[Camp Name]],'Camp List'!N$5:Z$347,2,0)","v":"MMR001CMP004"},{"$f":"VLOOKUP(Table_NFI[[#This Row],[Camp Name]],'Camp List'!N$5:Z$347,13,0)","v":"Open"}]
[5.4666666666666668,"2013-02-18","UNHCR","KBC","Shan_North","Namhkan","Nam Hkawng",null,null,16,16,8,16,8,8,8,8,{"$f":"IF(NFI_Expiration=1,IF($A112<VLOOKUP(H$5,NFI,5,0),1,0)*Table_NFI[[#This Row],[Hygiene Kit]],0)","v":0},{"$f":"IF(NFI_Expiration=1,IF($A112<VLOOKUP(I$5,NFI,5,0),1,0)*Table_NFI[[#This Row],[NFI Core Kit]],0)","v":0},{"$f":"IF(NFI_Expiration=1,IF($A112<VLOOKUP(J$5,NFI,5,0),1,0)*Table_NFI[[#This Row],[Sanitary Kit]],0)","v":16},{"$f":"IF(NFI_Expiration=1,IF($A112<VLOOKUP(K$5,NFI,5,0),1,0)*Table_NFI[[#This Row],[Mosquito net]],0)","v":16},{"$f":"IF(NFI_Expiration=1,IF($A112<VLOOKUP(L$5,NFI,5,0),1,0)*Table_NFI[[#This Row],[Tarpaulin]],0)","v":8},{"$f":"IF(NFI_Expiration=1,IF($A112<VLOOKUP(M$5,NFI,5,0),1,0)*Table_NFI[[#This Row],[Blanket]],0)","v":16},{"$f":"IF(NFI_Expiration=1,IF($A112<VLOOKUP(N$5,NFI,5,0),1,0)*Table_NFI[[#This Row],[Kitchen Set]],0)","v":8},{"$f":"IF(NFI_Expiration=1,IF($A112<VLOOKUP(O$5,NFI,5,0),1,0)*Table_NFI[[#This Row],[Complementary Kit]],0)","v":8},{"$f":"IF(NFI_Expiration=1,IF($A112<VLOOKUP(P$5,NFI,5,0),1,0)*Table_NFI[[#This Row],[Plastic Bucket]],0)","v":8},{"$f":"IF(NFI_Expiration=1,IF($A112<VLOOKUP(Q$5,NFI,5,0),1,0)*Table_NFI[[#This Row],[Plastic Mat]],0)","v":8},{"$f":"VLOOKUP(Table_NFI[[#This Row],[Camp Name]],'Camp List'!N$5:Z$347,2,0)","v":"MMR015CMP139"},{"$f":"VLOOKUP(Table_NFI[[#This Row],[Camp Name]],'Camp List'!N$5:Z$347,13,0)","v":"Open"}]
[17.066666666666666,"2012-03-07","UNHCR","UNHCR","Kachin","Waingmaw","Qtr. 2 Lhaovo Baptist Church",null,null,0,12,8,12,8,8,8,8,{"$f":"IF(NFI_Expiration=1,IF($A113<VLOOKUP(H$5,NFI,5,0),1,0)*Table_NFI[[#This Row],[Hygiene Kit]],0)","v":0},{"$f":"IF(NFI_Expiration=1,IF($A113<VLOOKUP(I$5,NFI,5,0),1,0)*Table_NFI[[#This Row],[NFI Core Kit]],0)","v":0},{"$f":"IF(NFI_Expiration=1,IF($A113<VLOOKUP(J$5,NFI,5,0),1,0)*Table_NFI[[#This Row],[Sanitary Kit]],0)","v":0},{"$f":"IF(NFI_Expiration=1,IF($A113<VLOOKUP(K$5,NFI,5,0),1,0)*Table_NFI[[#This Row],[Mosquito net]],0)","v":0},{"$f":"IF(NFI_Expiration=1,IF($A113<VLOOKUP(L$5,NFI,5,0),1,0)*Table_NFI[[#This Row],[Tarpaulin]],0)","v":0},{"$f":"IF(NFI_Expiration=1,IF($A113<VLOOKUP(M$5,NFI,5,0),1,0)*Table_NFI[[#This Row],[Blanket]],0)","v":0},{"$f":"IF(NFI_Expiration=1,IF($A113<VLOOKUP(N$5,NFI,5,0),1,0)*Table_NFI[[#This Row],[Kitchen Set]],0)","v":0},{"$f":"IF(NFI_Expiration=1,IF($A113<VLOOKUP(O$5,NFI,5,0),1,0)*Table_NFI[[#This Row],[Complementary Kit]],0)","v":0},{"$f":"IF(NFI_Expiration=1,IF($A113<VLOOKUP(P$5,NFI,5,0),1,0)*Table_NFI[[#This Row],[Plastic Bucket]],0)","v":0},{"$f":"IF(NFI_Expiration=1,IF($A113<VLOOKUP(Q$5,NFI,5,0),1,0)*Table_NFI[[#This Row],[Plastic Mat]],0)","v":0},{"$f":"VLOOKUP(Table_NFI[[#This Row],[Camp Name]],'Camp List'!N$5:Z$347,2,0)","v":"MMR001CMP032"},{"$f":"VLOOKUP(Table_NFI[[#This Row],[Camp Name]],'Camp List'!N$5:Z$347,13,0)","v":"Open"}]
[12.8,"2012-07-13","UNHCR","UNHCR","Kachin","Waingmaw","Thargaya Lisu Baptist Church",null,null,0,8,8,8,8,8,8,8,{"$f":"IF(NFI_Expiration=1,IF($A114<VLOOKUP(H$5,NFI,5,0),1,0)*Table_NFI[[#This Row],[Hygiene Kit]],0)","v":0},{"$f":"IF(NFI_Expiration=1,IF($A114<VLOOKUP(I$5,NFI,5,0),1,0)*Table_NFI[[#This Row],[NFI Core Kit]],0)","v":0},{"$f":"IF(NFI_Expiration=1,IF($A114<VLOOKUP(J$5,NFI,5,0),1,0)*Table_NFI[[#This Row],[Sanitary Kit]],0)","v":0},{"$f":"IF(NFI_Expiration=1,IF($A114<VLOOKUP(K$5,NFI,5,0),1,0)*Table_NFI[[#This Row],[Mosquito net]],0)","v":0},{"$f":"IF(NFI_Expiration=1,IF($A114<VLOOKUP(L$5,NFI,5,0),1,0)*Table_NFI[[#This Row],[Tarpaulin]],0)","v":0},{"$f":"IF(NFI_Expiration=1,IF($A114<VLOOKUP(M$5,NFI,5,0),1,0)*Table_NFI[[#This Row],[Blanket]],0)","v":0},{"$f":"IF(NFI_Expiration=1,IF($A114<VLOOKUP(N$5,NFI,5,0),1,0)*Table_NFI[[#This Row],[Kitchen Set]],0)","v":0},{"$f":"IF(NFI_Expiration=1,IF($A114<VLOOKUP(O$5,NFI,5,0),1,0)*Table_NFI[[#This Row],[Complementary Kit]],0)","v":0},{"$f":"IF(NFI_Expiration=1,IF($A114<VLOOKUP(P$5,NFI,5,0),1,0)*Table_NFI[[#This Row],[Plastic Bucket]],0)","v":0},{"$f":"IF(NFI_Expiration=1,IF($A114<VLOOKUP(Q$5,NFI,5,0),1,0)*Table_NFI[[#This Row],[Plastic Mat]],0)","v":0},{"$f":"VLOOKUP(Table_NFI[[#This Row],[Camp Name]],'Camp List'!N$5:Z$347,2,0)","v":"MMR001CMP037"},{"$f":"VLOOKUP(Table_NFI[[#This Row],[Camp Name]],'Camp List'!N$5:Z$347,13,0)","v":"Open"}]
[10.7,"2012-09-14","UNHCR","UNHCR","Kachin","Waingmaw","Waingmaw AG Church",null,null,0,14,8,14,8,8,8,8,{"$f":"IF(NFI_Expiration=1,IF($A115<VLOOKUP(H$5,NFI,5,0),1,0)*Table_NFI[[#This Row],[Hygiene Kit]],0)","v":0},{"$f":"IF(NFI_Expiration=1,IF($A115<VLOOKUP(I$5,NFI,5,0),1,0)*Table_NFI[[#This Row],[NFI Core Kit]],0)","v":0},{"$f":"IF(NFI_Expiration=1,IF($A115<VLOOKUP(J$5,NFI,5,0),1,0)*Table_NFI[[#This Row],[Sanitary Kit]],0)","v":0},{"$f":"IF(NFI_Expiration=1,IF($A115<VLOOKUP(K$5,NFI,5,0),1,0)*Table_NFI[[#This Row],[Mosquito net]],0)","v":14},{"$f":"IF(NFI_Expiration=1,IF($A115<VLOOKUP(L$5,NFI,5,0),1,0)*Table_NFI[[#This Row],[Tarpaulin]],0)","v":8},{"$f":"IF(NFI_Expiration=1,IF($A115<VLOOKUP(M$5,NFI,5,0),1,0)*Table_NFI[[#This Row],[Blanket]],0)","v":14},{"$f":"IF(NFI_Expiration=1,IF($A115<VLOOKUP(N$5,NFI,5,0),1,0)*Table_NFI[[#This Row],[Kitchen Set]],0)","v":8},{"$f":"IF(NFI_Expiration=1,IF($A115<VLOOKUP(O$5,NFI,5,0),1,0)*Table_NFI[[#This Row],[Complementary Kit]],0)","v":8},{"$f":"IF(NFI_Expiration=1,IF($A115<VLOOKUP(P$5,NFI,5,0),1,0)*Table_NFI[[#This Row],[Plastic Bucket]],0)","v":8},{"$f":"IF(NFI_Expiration=1,IF($A115<VLOOKUP(Q$5,NFI,5,0),1,0)*Table_NFI[[#This Row],[Plastic Mat]],0)","v":8},{"$f":"VLOOKUP(Table_NFI[[#This Row],[Camp Name]],'Camp List'!N$5:Z$347,2,0)","v":"MMR001CMP038"},{"$f":"VLOOKUP(Table_NFI[[#This Row],[Camp Name]],'Camp List'!N$5:Z$347,13,0)","v":"Open"}]
[5.4333333333333336,"2013-02-19","UNHCR","UNHCR","Kachin","Hpakant","May Di Ka Rama Monastery(Lon Khin)",null,null,9,21,9,21,9,9,9,9,{"$f":"IF(NFI_Expiration=1,IF($A116<VLOOKUP(H$5,NFI,5,0),1,0)*Table_NFI[[#This Row],[Hygiene Kit]],0)","v":0},{"$f":"IF(NFI_Expiration=1,IF($A116<VLOOKUP(I$5,NFI,5,0),1,0)*Table_NFI[[#This Row],[NFI Core Kit]],0)","v":0},{"$f":"IF(NFI_Expiration=1,IF($A116<VLOOKUP(J$5,NFI,5,0),1,0)*Table_NFI[[#This Row],[Sanitary Kit]],0)","v":9},{"$f":"IF(NFI_Expiration=1,IF($A116<VLOOKUP(K$5,NFI,5,0),1,0)*Table_NFI[[#This Row],[Mosquito net]],0)","v":21},{"$f":"IF(NFI_Expiration=1,IF($A116<VLOOKUP(L$5,NFI,5,0),1,0)*Table_NFI[[#This Row],[Tarpaulin]],0)","v":9},{"$f":"IF(NFI_Expiration=1,IF($A116<VLOOKUP(M$5,NFI,5,0),1,0)*Table_NFI[[#This Row],[Blanket]],0)","v":21},{"$f":"IF(NFI_Expiration=1,IF($A116<VLOOKUP(N$5,NFI,5,0),1,0)*Table_NFI[[#This Row],[Kitchen Set]],0)","v":9},{"$f":"IF(NFI_Expiration=1,IF($A116<VLOOKUP(O$5,NFI,5,0),1,0)*Table_NFI[[#This Row],[Complementary Kit]],0)","v":9},{"$f":"IF(NFI_Expiration=1,IF($A116<VLOOKUP(P$5,NFI,5,0),1,0)*Table_NFI[[#This Row],[Plastic Bucket]],0)","v":9},{"$f":"IF(NFI_Expiration=1,IF($A116<VLOOKUP(Q$5,NFI,5,0),1,0)*Table_NFI[[#This Row],[Plastic Mat]],0)","v":9},{"$f":"VLOOKUP(Table_NFI[[#This Row],[Camp Name]],'Camp List'!N$5:Z$347,2,0)","v":"MMR001CMP178"},{"$f":"VLOOKUP(Table_NFI[[#This Row],[Camp Name]],'Camp List'!N$5:Z$347,13,0)","v":"Close"}]
[19.100000000000001,"2012-01-06","UNHCR","KMSS","Kachin","Myitkyina","Jan Mai Kawng Catholic Church",null,null,0,0,0,0,0,9,9,9,{"$f":"IF(NFI_Expiration=1,IF($A117<VLOOKUP(H$5,NFI,5,0),1,0)*Table_NFI[[#This Row],[Hygiene Kit]],0)","v":0},{"$f":"IF(NFI_Expiration=1,IF($A117<VLOOKUP(I$5,NFI,5,0),1,0)*Table_NFI[[#This Row],[NFI Core Kit]],0)","v":0},{"$f":"IF(NFI_Expiration=1,IF($A117<VLOOKUP(J$5,NFI,5,0),1,0)*Table_NFI[[#This Row],[Sanitary Kit]],0)","v":0},{"$f":"IF(NFI_Expiration=1,IF($A117<VLOOKUP(K$5,NFI,5,0),1,0)*Table_NFI[[#This Row],[Mosquito net]],0)","v":0},{"$f":"IF(NFI_Expiration=1,IF($A117<VLOOKUP(L$5,NFI,5,0),1,0)*Table_NFI[[#This Row],[Tarpaulin]],0)","v":0},{"$f":"IF(NFI_Expiration=1,IF($A117<VLOOKUP(M$5,NFI,5,0),1,0)*Table_NFI[[#This Row],[Blanket]],0)","v":0},{"$f":"IF(NFI_Expiration=1,IF($A117<VLOOKUP(N$5,NFI,5,0),1,0)*Table_NFI[[#This Row],[Kitchen Set]],0)","v":0},{"$f":"IF(NFI_Expiration=1,IF($A117<VLOOKUP(O$5,NFI,5,0),1,0)*Table_NFI[[#This Row],[Complementary Kit]],0)","v":0},{"$f":"IF(NFI_Expiration=1,IF($A117<VLOOKUP(P$5,NFI,5,0),1,0)*Table_NFI[[#This Row],[Plastic Bucket]],0)","v":0},{"$f":"IF(NFI_Expiration=1,IF($A117<VLOOKUP(Q$5,NFI,5,0),1,0)*Table_NFI[[#This Row],[Plastic Mat]],0)","v":0},{"$f":"VLOOKUP(Table_NFI[[#This Row],[Camp Name]],'Camp List'!N$5:Z$347,2,0)","v":"MMR001CMP019"},{"$f":"VLOOKUP(Table_NFI[[#This Row],[Camp Name]],'Camp List'!N$5:Z$347,13,0)","v":"Open"}]
[12.8,"2012-07-13","UNHCR","UNHCR","Kachin","Waingmaw","Hkat Cho ",null,null,0,9,9,9,9,9,9,9,{"$f":"IF(NFI_Expiration=1,IF($A118<VLOOKUP(H$5,NFI,5,0),1,0)*Table_NFI[[#This Row],[Hygiene Kit]],0)","v":0},{"$f":"IF(NFI_Expiration=1,IF($A118<VLOOKUP(I$5,NFI,5,0),1,0)*Table_NFI[[#This Row],[NFI Core Kit]],0)","v":0},{"$f":"IF(NFI_Expiration=1,IF($A118<VLOOKUP(J$5,NFI,5,0),1,0)*Table_NFI[[#This Row],[Sanitary Kit]],0)","v":0},{"$f":"IF(NFI_Expiration=1,IF($A118<VLOOKUP(K$5,NFI,5,0),1,0)*Table_NFI[[#This Row],[Mosquito net]],0)","v":0},{"$f":"IF(NFI_Expiration=1,IF($A118<VLOOKUP(L$5,NFI,5,0),1,0)*Table_NFI[[#This Row],[Tarpaulin]],0)","v":0},{"$f":"IF(NFI_Expiration=1,IF($A118<VLOOKUP(M$5,NFI,5,0),1,0)*Table_NFI[[#This Row],[Blanket]],0)","v":0},{"$f":"IF(NFI_Expiration=1,IF($A118<VLOOKUP(N$5,NFI,5,0),1,0)*Table_NFI[[#This Row],[Kitchen Set]],0)","v":0},{"$f":"IF(NFI_Expiration=1,IF($A118<VLOOKUP(O$5,NFI,5,0),1,0)*Table_NFI[[#This Row],[Complementary Kit]],0)","v":0},{"$f":"IF(NFI_Expiration=1,IF($A118<VLOOKUP(P$5,NFI,5,0),1,0)*Table_NFI[[#This Row],[Plastic Bucket]],0)","v":0},{"$f":"IF(NFI_Expiration=1,IF($A118<VLOOKUP(Q$5,NFI,5,0),1,0)*Table_NFI[[#This Row],[Plastic Mat]],0)","v":0},{"$f":"VLOOKUP(Table_NFI[[#This Row],[Camp Name]],'Camp List'!N$5:Z$347,2,0)","v":"MMR001CMP028"},{"$f":"VLOOKUP(Table_NFI[[#This Row],[Camp Name]],'Camp List'!N$5:Z$347,13,0)","v":"Open"}]
[18.866666666666667,"2012-01-13","UNHCR","KBC","Kachin",null,"Le Pyin - Kar Gyi Winn",null,null,0,18,9,9,0,9,9,9,{"$f":"IF(NFI_Expiration=1,IF($A119<VLOOKUP(H$5,NFI,5,0),1,0)*Table_NFI[[#This Row],[Hygiene Kit]],0)","v":0},{"$f":"IF(NFI_Expiration=1,IF($A119<VLOOKUP(I$5,NFI,5,0),1,0)*Table_NFI[[#This Row],[NFI Core Kit]],0)","v":0},{"$f":"IF(NFI_Expiration=1,IF($A119<VLOOKUP(J$5,NFI,5,0),1,0)*Table_NFI[[#This Row],[Sanitary Kit]],0)","v":0},{"$f":"IF(NFI_Expiration=1,IF($A119<VLOOKUP(K$5,NFI,5,0),1,0)*Table_NFI[[#This Row],[Mosquito net]],0)","v":0},{"$f":"IF(NFI_Expiration=1,IF($A119<VLOOKUP(L$5,NFI,5,0),1,0)*Table_NFI[[#This Row],[Tarpaulin]],0)","v":0},{"$f":"IF(NFI_Expiration=1,IF($A119<VLOOKUP(M$5,NFI,5,0),1,0)*Table_NFI[[#This Row],[Blanket]],0)","v":0},{"$f":"IF(NFI_Expiration=1,IF($A119<VLOOKUP(N$5,NFI,5,0),1,0)*Table_NFI[[#This Row],[Kitchen Set]],0)","v":0},{"$f":"IF(NFI_Expiration=1,IF($A119<VLOOKUP(O$5,NFI,5,0),1,0)*Table_NFI[[#This Row],[Complementary Kit]],0)","v":0},{"$f":"IF(NFI_Expiration=1,IF($A119<VLOOKUP(P$5,NFI,5,0),1,0)*Table_NFI[[#This Row],[Plastic Bucket]],0)","v":0},{"$f":"IF(NFI_Expiration=1,IF($A119<VLOOKUP(Q$5,NFI,5,0),1,0)*Table_NFI[[#This Row],[Plastic Mat]],0)","v":0},{"$f":"VLOOKUP(Table_NFI[[#This Row],[Camp Name]],'Camp List'!N$5:Z$347,2,0)","v":{"$error":"#N/A"}},{"$f":"VLOOKUP(Table_NFI[[#This Row],[Camp Name]],'Camp List'!N$5:Z$347,13,0)","v":{"$error":"#N/A"}}]
[0.26666666666666666,"2013-07-24","UNHCR","KMSS","Kachin","Hpakant","Nant Ma Hpit Catholic Church",null,null,15,25,10,25,10,10,10,10,{"$f":"IF(NFI_Expiration=1,IF($A120<VLOOKUP(H$5,NFI,5,0),1,0)*Table_NFI[[#This Row],[Hygiene Kit]],0)","v":0},{"$f":"IF(NFI_Expiration=1,IF($A120<VLOOKUP(I$5,NFI,5,0),1,0)*Table_NFI[[#This Row],[NFI Core Kit]],0)","v":0},{"$f":"IF(NFI_Expiration=1,IF($A120<VLOOKUP(J$5,NFI,5,0),1,0)*Table_NFI[[#This Row],[Sanitary Kit]],0)","v":15},{"$f":"IF(NFI_Expiration=1,IF($A120<VLOOKUP(K$5,NFI,5,0),1,0)*Table_NFI[[#This Row],[Mosquito net]],0)","v":25},{"$f":"IF(NFI_Expiration=1,IF($A120<VLOOKUP(L$5,NFI,5,0),1,0)*Table_NFI[[#This Row],[Tarpaulin]],0)","v":10},{"$f":"IF(NFI_Expiration=1,IF($A120<VLOOKUP(M$5,NFI,5,0),1,0)*Table_NFI[[#This Row],[Blanket]],0)","v":25},{"$f":"IF(NFI_Expiration=1,IF($A120<VLOOKUP(N$5,NFI,5,0),1,0)*Table_NFI[[#This Row],[Kitchen Set]],0)","v":10},{"$f":"IF(NFI_Expiration=1,IF($A120<VLOOKUP(O$5,NFI,5,0),1,0)*Table_NFI[[#This Row],[Complementary Kit]],0)","v":10},{"$f":"IF(NFI_Expiration=1,IF($A120<VLOOKUP(P$5,NFI,5,0),1,0)*Table_NFI[[#This Row],[Plastic Bucket]],0)","v":10},{"$f":"IF(NFI_Expiration=1,IF($A120<VLOOKUP(Q$5,NFI,5,0),1,0)*Table_NFI[[#This Row],[Plastic Mat]],0)","v":10},{"$f":"VLOOKUP(Table_NFI[[#This Row],[Camp Name]],'Camp List'!N$5:Z$347,2,0)","v":"MMR001CMP103"},{"$f":"VLOOKUP(Table_NFI[[#This Row],[Camp Name]],'Camp List'!N$5:Z$347,13,0)","v":"Open"}]
[11,"2012-09-05","UNHCR","UNHCR","Kachin","Momauk","Loi Je Catholic Church",null,null,0,21,10,21,10,10,10,10,{"$f":"IF(NFI_Expiration=1,IF($A121<VLOOKUP(H$5,NFI,5,0),1,0)*Table_NFI[[#This Row],[Hygiene Kit]],0)","v":0},{"$f":"IF(NFI_Expiration=1,IF($A121<VLOOKUP(I$5,NFI,5,0),1,0)*Table_NFI[[#This Row],[NFI Core Kit]],0)","v":0},{"$f":"IF(NFI_Expiration=1,IF($A121<VLOOKUP(J$5,NFI,5,0),1,0)*Table_NFI[[#This Row],[Sanitary Kit]],0)","v":0},{"$f":"IF(NFI_Expiration=1,IF($A121<VLOOKUP(K$5,NFI,5,0),1,0)*Table_NFI[[#This Row],[Mosquito net]],0)","v":21},{"$f":"IF(NFI_Expiration=1,IF($A121<VLOOKUP(L$5,NFI,5,0),1,0)*Table_NFI[[#This Row],[Tarpaulin]],0)","v":10},{"$f":"IF(NFI_Expiration=1,IF($A121<VLOOKUP(M$5,NFI,5,0),1,0)*Table_NFI[[#This Row],[Blanket]],0)","v":21},{"$f":"IF(NFI_Expiration=1,IF($A121<VLOOKUP(N$5,NFI,5,0),1,0)*Table_NFI[[#This Row],[Kitchen Set]],0)","v":10},{"$f":"IF(NFI_Expiration=1,IF($A121<VLOOKUP(O$5,NFI,5,0),1,0)*Table_NFI[[#This Row],[Complementary Kit]],0)","v":10},{"$f":"IF(NFI_Expiration=1,IF($A121<VLOOKUP(P$5,NFI,5,0),1,0)*Table_NFI[[#This Row],[Plastic Bucket]],0)","v":10},{"$f":"IF(NFI_Expiration=1,IF($A121<VLOOKUP(Q$5,NFI,5,0),1,0)*Table_NFI[[#This Row],[Plastic Mat]],0)","v":10},{"$f":"VLOOKUP(Table_NFI[[#This Row],[Camp Name]],'Camp List'!N$5:Z$347,2,0)","v":"MMR001CMP069"},{"$f":"VLOOKUP(Table_NFI[[#This Row],[Camp Name]],'Camp List'!N$5:Z$347,13,0)","v":"Open"}]
[17.399999999999999,"2012-02-26","UNHCR","SC&L Group","Kachin","Myitkyina","Pan Ma Tee",null,null,0,25,0,25,0,10,10,10,{"$f":"IF(NFI_Expiration=1,IF($A122<VLOOKUP(H$5,NFI,5,0),1,0)*Table_NFI[[#This Row],[Hygiene Kit]],0)","v":0},{"$f":"IF(NFI_Expiration=1,IF($A122<VLOOKUP(I$5,NFI,5,0),1,0)*Table_NFI[[#This Row],[NFI Core Kit]],0)","v":0},{"$f":"IF(NFI_Expiration=1,IF($A122<VLOOKUP(J$5,NFI,5,0),1,0)*Table_NFI[[#This Row],[Sanitary Kit]],0)","v":0},{"$f":"IF(NFI_Expiration=1,IF($A122<VLOOKUP(K$5,NFI,5,0),1,0)*Table_NFI[[#This Row],[Mosquito net]],0)","v":0},{"$f":"IF(NFI_Expiration=1,IF($A122<VLOOKUP(L$5,NFI,5,0),1,0)*Table_NFI[[#This Row],[Tarpaulin]],0)","v":0},{"$f":"IF(NFI_Expiration=1,IF($A122<VLOOKUP(M$5,NFI,5,0),1,0)*Table_NFI[[#This Row],[Blanket]],0)","v":0},{"$f":"IF(NFI_Expiration=1,IF($A122<VLOOKUP(N$5,NFI,5,0),1,0)*Table_NFI[[#This Row],[Kitchen Set]],0)","v":0},{"$f":"IF(NFI_Expiration=1,IF($A122<VLOOKUP(O$5,NFI,5,0),1,0)*Table_NFI[[#This Row],[Complementary Kit]],0)","v":0},{"$f":"IF(NFI_Expiration=1,IF($A122<VLOOKUP(P$5,NFI,5,0),1,0)*Table_NFI[[#This Row],[Plastic Bucket]],0)","v":0},{"$f":"IF(NFI_Expiration=1,IF($A122<VLOOKUP(Q$5,NFI,5,0),1,0)*Table_NFI[[#This Row],[Plastic Mat]],0)","v":0},{"$f":"VLOOKUP(Table_NFI[[#This Row],[Camp Name]],'Camp List'!N$5:Z$347,2,0)","v":{"$error":"#N/A"}},{"$f":"VLOOKUP(Table_NFI[[#This Row],[Camp Name]],'Camp List'!N$5:Z$347,13,0)","v":{"$error":"#N/A"}}]
[7.5,"2012-12-19","UNHCR","UNHCR","Kachin","Myitkyina","Pa Dauk Myaing(Pa La Na)",null,null,0,37,10,37,10,10,10,10,{"$f":"IF(NFI_Expiration=1,IF($A123<VLOOKUP(H$5,NFI,5,0),1,0)*Table_NFI[[#This Row],[Hygiene Kit]],0)","v":0},{"$f":"IF(NFI_Expiration=1,IF($A123<VLOOKUP(I$5,NFI,5,0),1,0)*Table_NFI[[#This Row],[NFI Core Kit]],0)","v":0},{"$f":"IF(NFI_Expiration=1,IF($A123<VLOOKUP(J$5,NFI,5,0),1,0)*Table_NFI[[#This Row],[Sanitary Kit]],0)","v":0},{"$f":"IF(NFI_Expiration=1,IF($A123<VLOOKUP(K$5,NFI,5,0),1,0)*Table_NFI[[#This Row],[Mosquito net]],0)","v":37},{"$f":"IF(NFI_Expiration=1,IF($A123<VLOOKUP(L$5,NFI,5,0),1,0)*Table_NFI[[#This Row],[Tarpaulin]],0)","v":10},{"$f":"IF(NFI_Expiration=1,IF($A123<VLOOKUP(M$5,NFI,5,0),1,0)*Table_NFI[[#This Row],[Blanket]],0)","v":37},{"$f":"IF(NFI_Expiration=1,IF($A123<VLOOKUP(N$5,NFI,5,0),1,0)*Table_NFI[[#This Row],[Kitchen Set]],0)","v":10},{"$f":"IF(NFI_Expiration=1,IF($A123<VLOOKUP(O$5,NFI,5,0),1,0)*Table_NFI[[#This Row],[Complementary Kit]],0)","v":10},{"$f":"IF(NFI_Expiration=1,IF($A123<VLOOKUP(P$5,NFI,5,0),1,0)*Table_NFI[[#This Row],[Plastic Bucket]],0)","v":10},{"$f":"IF(NFI_Expiration=1,IF($A123<VLOOKUP(Q$5,NFI,5,0),1,0)*Table_NFI[[#This Row],[Plastic Mat]],0)","v":10},{"$f":"VLOOKUP(Table_NFI[[#This Row],[Camp Name]],'Camp List'!N$5:Z$347,2,0)","v":"MMR001CMP162"},{"$f":"VLOOKUP(Table_NFI[[#This Row],[Camp Name]],'Camp List'!N$5:Z$347,13,0)","v":"Open"}]
[7.4666666666666668,"2012-12-20","UNHCR","UNHCR","Kachin","Myitkyina","Jan Mai Kawng Baptist Church",null,null,0,19,10,19,10,10,10,10,{"$f":"IF(NFI_Expiration=1,IF($A124<VLOOKUP(H$5,NFI,5,0),1,0)*Table_NFI[[#This Row],[Hygiene Kit]],0)","v":0},{"$f":"IF(NFI_Expiration=1,IF($A124<VLOOKUP(I$5,NFI,5,0),1,0)*Table_NFI[[#This Row],[NFI Core Kit]],0)","v":0},{"$f":"IF(NFI_Expiration=1,IF($A124<VLOOKUP(J$5,NFI,5,0),1,0)*Table_NFI[[#This Row],[Sanitary Kit]],0)","v":0},{"$f":"IF(NFI_Expiration=1,IF($A124<VLOOKUP(K$5,NFI,5,0),1,0)*Table_NFI[[#This Row],[Mosquito net]],0)","v":19},{"$f":"IF(NFI_Expiration=1,IF($A124<VLOOKUP(L$5,NFI,5,0),1,0)*Table_NFI[[#This Row],[Tarpaulin]],0)","v":10},{"$f":"IF(NFI_Expiration=1,IF($A124<VLOOKUP(M$5,NFI,5,0),1,0)*Table_NFI[[#This Row],[Blanket]],0)","v":19},{"$f":"IF(NFI_Expiration=1,IF($A124<VLOOKUP(N$5,NFI,5,0),1,0)*Table_NFI[[#This Row],[Kitchen Set]],0)","v":10},{"$f":"IF(NFI_Expiration=1,IF($A124<VLOOKUP(O$5,NFI,5,0),1,0)*Table_NFI[[#This Row],[Complementary Kit]],0)","v":10},{"$f":"IF(NFI_Expiration=1,IF($A124<VLOOKUP(P$5,NFI,5,0),1,0)*Table_NFI[[#This Row],[Plastic Bucket]],0)","v":10},{"$f":"IF(NFI_Expiration=1,IF($A124<VLOOKUP(Q$5,NFI,5,0),1,0)*Table_NFI[[#This Row],[Plastic Mat]],0)","v":10},{"$f":"VLOOKUP(Table_NFI[[#This Row],[Camp Name]],'Camp List'!N$5:Z$347,2,0)","v":"MMR001CMP018"},{"$f":"VLOOKUP(Table_NFI[[#This Row],[Camp Name]],'Camp List'!N$5:Z$347,13,0)","v":"Open"}]
[2.3666666666666667,"2013-05-22","UNHCR","UNHCR","Kachin","Waingmaw","Qtr. 2 Lhaovo Baptist Church",null,null,18,20,14,20,10,10,10,10,{"$f":"IF(NFI_Expiration=1,IF($A125<VLOOKUP(H$5,NFI,5,0),1,0)*Table_NFI[[#This Row],[Hygiene Kit]],0)","v":0},{"$f":"IF(NFI_Expiration=1,IF($A125<VLOOKUP(I$5,NFI,5,0),1,0)*Table_NFI[[#This Row],[NFI Core Kit]],0)","v":0},{"$f":"IF(NFI_Expiration=1,IF($A125<VLOOKUP(J$5,NFI,5,0),1,0)*Table_NFI[[#This Row],[Sanitary Kit]],0)","v":18},{"$f":"IF(NFI_Expiration=1,IF($A125<VLOOKUP(K$5,NFI,5,0),1,0)*Table_NFI[[#This Row],[Mosquito net]],0)","v":20},{"$f":"IF(NFI_Expiration=1,IF($A125<VLOOKUP(L$5,NFI,5,0),1,0)*Table_NFI[[#This Row],[Tarpaulin]],0)","v":14},{"$f":"IF(NFI_Expiration=1,IF($A125<VLOOKUP(M$5,NFI,5,0),1,0)*Table_NFI[[#This Row],[Blanket]],0)","v":20},{"$f":"IF(NFI_Expiration=1,IF($A125<VLOOKUP(N$5,NFI,5,0),1,0)*Table_NFI[[#This Row],[Kitchen Set]],0)","v":10},{"$f":"IF(NFI_Expiration=1,IF($A125<VLOOKUP(O$5,NFI,5,0),1,0)*Table_NFI[[#This Row],[Complementary Kit]],0)","v":10},{"$f":"IF(NFI_Expiration=1,IF($A125<VLOOKUP(P$5,NFI,5,0),1,0)*Table_NFI[[#This Row],[Plastic Bucket]],0)","v":10},{"$f":"IF(NFI_Expiration=1,IF($A125<VLOOKUP(Q$5,NFI,5,0),1,0)*Table_NFI[[#This Row],[Plastic Mat]],0)","v":10},{"$f":"VLOOKUP(Table_NFI[[#This Row],[Camp Name]],'Camp List'!N$5:Z$347,2,0)","v":"MMR001CMP032"},{"$f":"VLOOKUP(Table_NFI[[#This Row],[Camp Name]],'Camp List'!N$5:Z$347,13,0)","v":"Open"}]
[10.333333333333334,"2012-09-25","UNHCR","Chipwe CM","Kachin","Chipwi","Chipwi KBC camp",null,null,0,33,11,33,11,11,11,11,{"$f":"IF(NFI_Expiration=1,IF($A126<VLOOKUP(H$5,NFI,5,0),1,0)*Table_NFI[[#This Row],[Hygiene Kit]],0)","v":0},{"$f":"IF(NFI_Expiration=1,IF($A126<VLOOKUP(I$5,NFI,5,0),1,0)*Table_NFI[[#This Row],[NFI Core Kit]],0)","v":0},{"$f":"IF(NFI_Expiration=1,IF($A126<VLOOKUP(J$5,NFI,5,0),1,0)*Table_NFI[[#This Row],[Sanitary Kit]],0)","v":0},{"$f":"IF(NFI_Expiration=1,IF($A126<VLOOKUP(K$5,NFI,5,0),1,0)*Table_NFI[[#This Row],[Mosquito net]],0)","v":33},{"$f":"IF(NFI_Expiration=1,IF($A126<VLOOKUP(L$5,NFI,5,0),1,0)*Table_NFI[[#This Row],[Tarpaulin]],0)","v":11},{"$f":"IF(NFI_Expiration=1,IF($A126<VLOOKUP(M$5,NFI,5,0),1,0)*Table_NFI[[#This Row],[Blanket]],0)","v":33},{"$f":"IF(NFI_Expiration=1,IF($A126<VLOOKUP(N$5,NFI,5,0),1,0)*Table_NFI[[#This Row],[Kitchen Set]],0)","v":11},{"$f":"IF(NFI_Expiration=1,IF($A126<VLOOKUP(O$5,NFI,5,0),1,0)*Table_NFI[[#This Row],[Complementary Kit]],0)","v":11},{"$f":"IF(NFI_Expiration=1,IF($A126<VLOOKUP(P$5,NFI,5,0),1,0)*Table_NFI[[#This Row],[Plastic Bucket]],0)","v":11},{"$f":"IF(NFI_Expiration=1,IF($A126<VLOOKUP(Q$5,NFI,5,0),1,0)*Table_NFI[[#This Row],[Plastic Mat]],0)","v":11},{"$f":"VLOOKUP(Table_NFI[[#This Row],[Camp Name]],'Camp List'!N$5:Z$347,2,0)","v":"MMR001CMP042"},{"$f":"VLOOKUP(Table_NFI[[#This Row],[Camp Name]],'Camp List'!N$5:Z$347,13,0)","v":"Open"}]
[10.3,"2012-09-26","UNHCR","Chipwe CM","Kachin","Chipwi","Gant Gwin",null,null,0,33,11,33,11,11,11,11,{"$f":"IF(NFI_Expiration=1,IF($A127<VLOOKUP(H$5,NFI,5,0),1,0)*Table_NFI[[#This Row],[Hygiene Kit]],0)","v":0},{"$f":"IF(NFI_Expiration=1,IF($A127<VLOOKUP(I$5,NFI,5,0),1,0)*Table_NFI[[#This Row],[NFI Core Kit]],0)","v":0},{"$f":"IF(NFI_Expiration=1,IF($A127<VLOOKUP(J$5,NFI,5,0),1,0)*Table_NFI[[#This Row],[Sanitary Kit]],0)","v":0},{"$f":"IF(NFI_Expiration=1,IF($A127<VLOOKUP(K$5,NFI,5,0),1,0)*Table_NFI[[#This Row],[Mosquito net]],0)","v":33},{"$f":"IF(NFI_Expiration=1,IF($A127<VLOOKUP(L$5,NFI,5,0),1,0)*Table_NFI[[#This Row],[Tarpaulin]],0)","v":11},{"$f":"IF(NFI_Expiration=1,IF($A127<VLOOKUP(M$5,NFI,5,0),1,0)*Table_NFI[[#This Row],[Blanket]],0)","v":33},{"$f":"IF(NFI_Expiration=1,IF($A127<VLOOKUP(N$5,NFI,5,0),1,0)*Table_NFI[[#This Row],[Kitchen Set]],0)","v":11},{"$f":"IF(NFI_Expiration=1,IF($A127<VLOOKUP(O$5,NFI,5,0),1,0)*Table_NFI[[#This Row],[Complementary Kit]],0)","v":11},{"$f":"IF(NFI_Expiration=1,IF($A127<VLOOKUP(P$5,NFI,5,0),1,0)*Table_NFI[[#This Row],[Plastic Bucket]],0)","v":11},{"$f":"IF(NFI_Expiration=1,IF($A127<VLOOKUP(Q$5,NFI,5,0),1,0)*Table_NFI[[#This Row],[Plastic Mat]],0)","v":11},{"$f":"VLOOKUP(Table_NFI[[#This Row],[Camp Name]],'Camp List'!N$5:Z$347,2,0)","v":"MMR001CMP046"},{"$f":"VLOOKUP(Table_NFI[[#This Row],[Camp Name]],'Camp List'!N$5:Z$347,13,0)","v":"Open"}]
[10.266666666666667,"2012-09-27","UNHCR","Chipwe CM","Kachin","Chipwi","Hpare Hkyer - BP6",null,null,0,33,11,33,11,11,11,11,{"$f":"IF(NFI_Expiration=1,IF($A128<VLOOKUP(H$5,NFI,5,0),1,0)*Table_NFI[[#This Row],[Hygiene Kit]],0)","v":0},{"$f":"IF(NFI_Expiration=1,IF($A128<VLOOKUP(I$5,NFI,5,0),1,0)*Table_NFI[[#This Row],[NFI Core Kit]],0)","v":0},{"$f":"IF(NFI_Expiration=1,IF($A128<VLOOKUP(J$5,NFI,5,0),1,0)*Table_NFI[[#This Row],[Sanitary Kit]],0)","v":0},{"$f":"IF(NFI_Expiration=1,IF($A128<VLOOKUP(K$5,NFI,5,0),1,0)*Table_NFI[[#This Row],[Mosquito net]],0)","v":33},{"$f":"IF(NFI_Expiration=1,IF($A128<VLOOKUP(L$5,NFI,5,0),1,0)*Table_NFI[[#This Row],[Tarpaulin]],0)","v":11},{"$f":"IF(NFI_Expiration=1,IF($A128<VLOOKUP(M$5,NFI,5,0),1,0)*Table_NFI[[#This Row],[Blanket]],0)","v":33},{"$f":"IF(NFI_Expiration=1,IF($A128<VLOOKUP(N$5,NFI,5,0),1,0)*Table_NFI[[#This Row],[Kitchen Set]],0)","v":11},{"$f":"IF(NFI_Expiration=1,IF($A128<VLOOKUP(O$5,NFI,5,0),1,0)*Table_NFI[[#This Row],[Complementary Kit]],0)","v":11},{"$f":"IF(NFI_Expiration=1,IF($A128<VLOOKUP(P$5,NFI,5,0),1,0)*Table_NFI[[#This Row],[Plastic Bucket]],0)","v":11},{"$f":"IF(NFI_Expiration=1,IF($A128<VLOOKUP(Q$5,NFI,5,0),1,0)*Table_NFI[[#This Row],[Plastic Mat]],0)","v":11},{"$f":"VLOOKUP(Table_NFI[[#This Row],[Camp Name]],'Camp List'!N$5:Z$347,2,0)","v":"MMR001CMP043"},{"$f":"VLOOKUP(Table_NFI[[#This Row],[Camp Name]],'Camp List'!N$5:Z$347,13,0)","v":"Open"}]
[10.233333333333333,"2012-09-28","UNHCR","Chipwe CM","Kachin","Chipwi","Lan Jaw ",null,null,0,33,11,33,11,11,11,11,{"$f":"IF(NFI_Expiration=1,IF($A129<VLOOKUP(H$5,NFI,5,0),1,0)*Table_NFI[[#This Row],[Hygiene Kit]],0)","v":0},{"$f":"IF(NFI_Expiration=1,IF($A129<VLOOKUP(I$5,NFI,5,0),1,0)*Table_NFI[[#This Row],[NFI Core Kit]],0)","v":0},{"$f":"IF(NFI_Expiration=1,IF($A129<VLOOKUP(J$5,NFI,5,0),1,0)*Table_NFI[[#This Row],[Sanitary Kit]],0)","v":0},{"$f":"IF(NFI_Expiration=1,IF($A129<VLOOKUP(K$5,NFI,5,0),1,0)*Table_NFI[[#This Row],[Mosquito net]],0)","v":33},{"$f":"IF(NFI_Expiration=1,IF($A129<VLOOKUP(L$5,NFI,5,0),1,0)*Table_NFI[[#This Row],[Tarpaulin]],0)","v":11},{"$f":"IF(NFI_Expiration=1,IF($A129<VLOOKUP(M$5,NFI,5,0),1,0)*Table_NFI[[#This Row],[Blanket]],0)","v":33},{"$f":"IF(NFI_Expiration=1,IF($A129<VLOOKUP(N$5,NFI,5,0),1,0)*Table_NFI[[#This Row],[Kitchen Set]],0)","v":11},{"$f":"IF(NFI_Expiration=1,IF($A129<VLOOKUP(O$5,NFI,5,0),1,0)*Table_NFI[[#This Row],[Complementary Kit]],0)","v":11},{"$f":"IF(NFI_Expiration=1,IF($A129<VLOOKUP(P$5,NFI,5,0),1,0)*Table_NFI[[#This Row],[Plastic Bucket]],0)","v":11},{"$f":"IF(NFI_Expiration=1,IF($A129<VLOOKUP(Q$5,NFI,5,0),1,0)*Table_NFI[[#This Row],[Plastic Mat]],0)","v":11},{"$f":"VLOOKUP(Table_NFI[[#This Row],[Camp Name]],'Camp List'!N$5:Z$347,2,0)","v":"MMR001CMP045"},{"$f":"VLOOKUP(Table_NFI[[#This Row],[Camp Name]],'Camp List'!N$5:Z$347,13,0)","v":"Open"}]
[11,"2012-09-05","UNHCR","UNHCR","Kachin","Momauk","Seng Ja ",null,null,0,26,11,26,11,11,11,11,{"$f":"IF(NFI_Expiration=1,IF($A130<VLOOKUP(H$5,NFI,5,0),1,0)*Table_NFI[[#This Row],[Hygiene Kit]],0)","v":0},{"$f":"IF(NFI_Expiration=1,IF($A130<VLOOKUP(I$5,NFI,5,0),1,0)*Table_NFI[[#This Row],[NFI Core Kit]],0)","v":0},{"$f":"IF(NFI_Expiration=1,IF($A130<VLOOKUP(J$5,NFI,5,0),1,0)*Table_NFI[[#This Row],[Sanitary Kit]],0)","v":0},{"$f":"IF(NFI_Expiration=1,IF($A130<VLOOKUP(K$5,NFI,5,0),1,0)*Table_NFI[[#This Row],[Mosquito net]],0)","v":26},{"$f":"IF(NFI_Expiration=1,IF($A130<VLOOKUP(L$5,NFI,5,0),1,0)*Table_NFI[[#This Row],[Tarpaulin]],0)","v":11},{"$f":"IF(NFI_Expiration=1,IF($A130<VLOOKUP(M$5,NFI,5,0),1,0)*Table_NFI[[#This Row],[Blanket]],0)","v":26},{"$f":"IF(NFI_Expiration=1,IF($A130<VLOOKUP(N$5,NFI,5,0),1,0)*Table_NFI[[#This Row],[Kitchen Set]],0)","v":11},{"$f":"IF(NFI_Expiration=1,IF($A130<VLOOKUP(O$5,NFI,5,0),1,0)*Table_NFI[[#This Row],[Complementary Kit]],0)","v":11},{"$f":"IF(NFI_Expiration=1,IF($A130<VLOOKUP(P$5,NFI,5,0),1,0)*Table_NFI[[#This Row],[Plastic Bucket]],0)","v":11},{"$f":"IF(NFI_Expiration=1,IF($A130<VLOOKUP(Q$5,NFI,5,0),1,0)*Table_NFI[[#This Row],[Plastic Mat]],0)","v":11},{"$f":"VLOOKUP(Table_NFI[[#This Row],[Camp Name]],'Camp List'!N$5:Z$347,2,0)","v":"MMR001CMP073"},{"$f":"VLOOKUP(Table_NFI[[#This Row],[Camp Name]],'Camp List'!N$5:Z$347,13,0)","v":"Open"}]
[1.6333333333333333,"2013-06-13","UNHCR","UNHCR","Kachin","Momauk","Loi Je Catholic Church",null,null,425,30,11,30,11,11,11,11,{"$f":"IF(NFI_Expiration=1,IF($A131<VLOOKUP(H$5,NFI,5,0),1,0)*Table_NFI[[#This Row],[Hygiene Kit]],0)","v":0},{"$f":"IF(NFI_Expiration=1,IF($A131<VLOOKUP(I$5,NFI,5,0),1,0)*Table_NFI[[#This Row],[NFI Core Kit]],0)","v":0},{"$f":"IF(NFI_Expiration=1,IF($A131<VLOOKUP(J$5,NFI,5,0),1,0)*Table_NFI[[#This Row],[Sanitary Kit]],0)","v":425},{"$f":"IF(NFI_Expiration=1,IF($A131<VLOOKUP(K$5,NFI,5,0),1,0)*Table_NFI[[#This Row],[Mosquito net]],0)","v":30},{"$f":"IF(NFI_Expiration=1,IF($A131<VLOOKUP(L$5,NFI,5,0),1,0)*Table_NFI[[#This Row],[Tarpaulin]],0)","v":11},{"$f":"IF(NFI_Expiration=1,IF($A131<VLOOKUP(M$5,NFI,5,0),1,0)*Table_NFI[[#This Row],[Blanket]],0)","v":30},{"$f":"IF(NFI_Expiration=1,IF($A131<VLOOKUP(N$5,NFI,5,0),1,0)*Table_NFI[[#This Row],[Kitchen Set]],0)","v":11},{"$f":"IF(NFI_Expiration=1,IF($A131<VLOOKUP(O$5,NFI,5,0),1,0)*Table_NFI[[#This Row],[Complementary Kit]],0)","v":11},{"$f":"IF(NFI_Expiration=1,IF($A131<VLOOKUP(P$5,NFI,5,0),1,0)*Table_NFI[[#This Row],[Plastic Bucket]],0)","v":11},{"$f":"IF(NFI_Expiration=1,IF($A131<VLOOKUP(Q$5,NFI,5,0),1,0)*Table_NFI[[#This Row],[Plastic Mat]],0)","v":11},{"$f":"VLOOKUP(Table_NFI[[#This Row],[Camp Name]],'Camp List'!N$5:Z$347,2,0)","v":"MMR001CMP069"},{"$f":"VLOOKUP(Table_NFI[[#This Row],[Camp Name]],'Camp List'!N$5:Z$347,13,0)","v":"Open"}]
[14.2,"2012-06-01","UNHCR","UNHCR","Kachin","Myitkyina","Maw Hpawng Hka Nan Baptist Church",null,null,0,22,11,22,11,11,11,11,{"$f":"IF(NFI_Expiration=1,IF($A132<VLOOKUP(H$5,NFI,5,0),1,0)*Table_NFI[[#This Row],[Hygiene Kit]],0)","v":0},{"$f":"IF(NFI_Expiration=1,IF($A132<VLOOKUP(I$5,NFI,5,0),1,0)*Table_NFI[[#This Row],[NFI Core Kit]],0)","v":0},{"$f":"IF(NFI_Expiration=1,IF($A132<VLOOKUP(J$5,NFI,5,0),1,0)*Table_NFI[[#This Row],[Sanitary Kit]],0)","v":0},{"$f":"IF(NFI_Expiration=1,IF($A132<VLOOKUP(K$5,NFI,5,0),1,0)*Table_NFI[[#This Row],[Mosquito net]],0)","v":0},{"$f":"IF(NFI_Expiration=1,IF($A132<VLOOKUP(L$5,NFI,5,0),1,0)*Table_NFI[[#This Row],[Tarpaulin]],0)","v":0},{"$f":"IF(NFI_Expiration=1,IF($A132<VLOOKUP(M$5,NFI,5,0),1,0)*Table_NFI[[#This Row],[Blanket]],0)","v":0},{"$f":"IF(NFI_Expiration=1,IF($A132<VLOOKUP(N$5,NFI,5,0),1,0)*Table_NFI[[#This Row],[Kitchen Set]],0)","v":0},{"$f":"IF(NFI_Expiration=1,IF($A132<VLOOKUP(O$5,NFI,5,0),1,0)*Table_NFI[[#This Row],[Complementary Kit]],0)","v":0},{"$f":"IF(NFI_Expiration=1,IF($A132<VLOOKUP(P$5,NFI,5,0),1,0)*Table_NFI[[#This Row],[Plastic Bucket]],0)","v":0},{"$f":"IF(NFI_Expiration=1,IF($A132<VLOOKUP(Q$5,NFI,5,0),1,0)*Table_NFI[[#This Row],[Plastic Mat]],0)","v":0},{"$f":"VLOOKUP(Table_NFI[[#This Row],[Camp Name]],'Camp List'!N$5:Z$347,2,0)","v":"MMR001CMP020"},{"$f":"VLOOKUP(Table_NFI[[#This Row],[Camp Name]],'Camp List'!N$5:Z$347,13,0)","v":"Open"}]
[12.466666666666667,"2012-07-23","UNHCR","UNHCR","Kachin","Myitkyina","Jan Mai Kawng Catholic Church",null,null,0,19,10,19,10,11,11,11,{"$f":"IF(NFI_Expiration=1,IF($A133<VLOOKUP(H$5,NFI,5,0),1,0)*Table_NFI[[#This Row],[Hygiene Kit]],0)","v":0},{"$f":"IF(NFI_Expiration=1,IF($A133<VLOOKUP(I$5,NFI,5,0),1,0)*Table_NFI[[#This Row],[NFI Core Kit]],0)","v":0},{"$f":"IF(NFI_Expiration=1,IF($A133<VLOOKUP(J$5,NFI,5,0),1,0)*Table_NFI[[#This Row],[Sanitary Kit]],0)","v":0},{"$f":"IF(NFI_Expiration=1,IF($A133<VLOOKUP(K$5,NFI,5,0),1,0)*Table_NFI[[#This Row],[Mosquito net]],0)","v":0},{"$f":"IF(NFI_Expiration=1,IF($A133<VLOOKUP(L$5,NFI,5,0),1,0)*Table_NFI[[#This Row],[Tarpaulin]],0)","v":0},{"$f":"IF(NFI_Expiration=1,IF($A133<VLOOKUP(M$5,NFI,5,0),1,0)*Table_NFI[[#This Row],[Blanket]],0)","v":0},{"$f":"IF(NFI_Expiration=1,IF($A133<VLOOKUP(N$5,NFI,5,0),1,0)*Table_NFI[[#This Row],[Kitchen Set]],0)","v":0},{"$f":"IF(NFI_Expiration=1,IF($A133<VLOOKUP(O$5,NFI,5,0),1,0)*Table_NFI[[#This Row],[Complementary Kit]],0)","v":0},{"$f":"IF(NFI_Expiration=1,IF($A133<VLOOKUP(P$5,NFI,5,0),1,0)*Table_NFI[[#This Row],[Plastic Bucket]],0)","v":0},{"$f":"IF(NFI_Expiration=1,IF($A133<VLOOKUP(Q$5,NFI,5,0),1,0)*Table_NFI[[#This Row],[Plastic Mat]],0)","v":0},{"$f":"VLOOKUP(Table_NFI[[#This Row],[Camp Name]],'Camp List'!N$5:Z$347,2,0)","v":"MMR001CMP019"},{"$f":"VLOOKUP(Table_NFI[[#This Row],[Camp Name]],'Camp List'!N$5:Z$347,13,0)","v":"Open"}]
[{"$f":"IF(ISBLANK(B134),\"\",(Report_Date-B134)/30)","v":-0.2},"2013-08-07","UNHCR","UNHCR","Kachin","Myitkyina","Maliyang Baptist Church",null,null,15,25,11,25,11,11,11,11,{"$f":"IF(NFI_Expiration=1,IF($A134<VLOOKUP(H$5,NFI,5,0),1,0)*Table_NFI[[#This Row],[Hygiene Kit]],0)","v":0},{"$f":"IF(NFI_Expiration=1,IF($A134<VLOOKUP(I$5,NFI,5,0),1,0)*Table_NFI[[#This Row],[NFI Core Kit]],0)","v":0},{"$f":"IF(NFI_Expiration=1,IF($A134<VLOOKUP(J$5,NFI,5,0),1,0)*Table_NFI[[#This Row],[Sanitary Kit]],0)","v":15},{"$f":"IF(NFI_Expiration=1,IF($A134<VLOOKUP(K$5,NFI,5,0),1,0)*Table_NFI[[#This Row],[Mosquito net]],0)","v":25},{"$f":"IF(NFI_Expiration=1,IF($A134<VLOOKUP(L$5,NFI,5,0),1,0)*Table_NFI[[#This Row],[Tarpaulin]],0)","v":11},{"$f":"IF(NFI_Expiration=1,IF($A134<VLOOKUP(M$5,NFI,5,0),1,0)*Table_NFI[[#This Row],[Blanket]],0)","v":25},{"$f":"IF(NFI_Expiration=1,IF($A134<VLOOKUP(N$5,NFI,5,0),1,0)*Table_NFI[[#This Row],[Kitchen Set]],0)","v":11},{"$f":"IF(NFI_Expiration=1,IF($A134<VLOOKUP(O$5,NFI,5,0),1,0)*Table_NFI[[#This Row],[Complementary Kit]],0)","v":11},{"$f":"IF(NFI_Expiration=1,IF($A134<VLOOKUP(P$5,NFI,5,0),1,0)*Table_NFI[[#This Row],[Plastic Bucket]],0)","v":11},{"$f":"IF(NFI_Expiration=1,IF($A134<VLOOKUP(Q$5,NFI,5,0),1,0)*Table_NFI[[#This Row],[Plastic Mat]],0)","v":11},{"$f":"VLOOKUP(Table_NFI[[#This Row],[Camp Name]],'Camp List'!N$5:Z$347,2,0)","v":"MMR001CMP016"},{"$f":"VLOOKUP(Table_NFI[[#This Row],[Camp Name]],'Camp List'!N$5:Z$347,13,0)","v":"Open"}]
[5.8666666666666663,"2013-02-06","UNHCR","UNHCR","Kachin","Waingmaw","Qtr. 2 Lhaovo Baptist Church",null,null,17,20,15,20,14,11,11,{"$f":"O135","v":11},{"$f":"IF(NFI_Expiration=1,IF($A135<VLOOKUP(H$5,NFI,5,0),1,0)*Table_NFI[[#This Row],[Hygiene Kit]],0)","v":0},{"$f":"IF(NFI_Expiration=1,IF($A135<VLOOKUP(I$5,NFI,5,0),1,0)*Table_NFI[[#This Row],[NFI Core Kit]],0)","v":0},{"$f":"IF(NFI_Expiration=1,IF($A135<VLOOKUP(J$5,NFI,5,0),1,0)*Table_NFI[[#This Row],[Sanitary Kit]],0)","v":17},{"$f":"IF(NFI_Expiration=1,IF($A135<VLOOKUP(K$5,NFI,5,0),1,0)*Table_NFI[[#This Row],[Mosquito net]],0)","v":20},{"$f":"IF(NFI_Expiration=1,IF($A135<VLOOKUP(L$5,NFI,5,0),1,0)*Table_NFI[[#This Row],[Tarpaulin]],0)","v":15},{"$f":"IF(NFI_Expiration=1,IF($A135<VLOOKUP(M$5,NFI,5,0),1,0)*Table_NFI[[#This Row],[Blanket]],0)","v":20},{"$f":"IF(NFI_Expiration=1,IF($A135<VLOOKUP(N$5,NFI,5,0),1,0)*Table_NFI[[#This Row],[Kitchen Set]],0)","v":14},{"$f":"IF(NFI_Expiration=1,IF($A135<VLOOKUP(O$5,NFI,5,0),1,0)*Table_NFI[[#This Row],[Complementary Kit]],0)","v":11},{"$f":"IF(NFI_Expiration=1,IF($A135<VLOOKUP(P$5,NFI,5,0),1,0)*Table_NFI[[#This Row],[Plastic Bucket]],0)","v":11},{"$f":"IF(NFI_Expiration=1,IF($A135<VLOOKUP(Q$5,NFI,5,0),1,0)*Table_NFI[[#This Row],[Plastic Mat]],0)","v":11},{"$f":"VLOOKUP(Table_NFI[[#This Row],[Camp Name]],'Camp List'!N$5:Z$347,2,0)","v":"MMR001CMP032"},{"$f":"VLOOKUP(Table_NFI[[#This Row],[Camp Name]],'Camp List'!N$5:Z$347,13,0)","v":"Open"}]
[4,"2013-04-03","UNHCR","UNHCR","Kachin","Waingmaw","Maina AG Church",null,null,15,22,11,22,11,11,11,11,{"$f":"IF(NFI_Expiration=1,IF($A136<VLOOKUP(H$5,NFI,5,0),1,0)*Table_NFI[[#This Row],[Hygiene Kit]],0)","v":0},{"$f":"IF(NFI_Expiration=1,IF($A136<VLOOKUP(I$5,NFI,5,0),1,0)*Table_NFI[[#This Row],[NFI Core Kit]],0)","v":0},{"$f":"IF(NFI_Expiration=1,IF($A136<VLOOKUP(J$5,NFI,5,0),1,0)*Table_NFI[[#This Row],[Sanitary Kit]],0)","v":15},{"$f":"IF(NFI_Expiration=1,IF($A136<VLOOKUP(K$5,NFI,5,0),1,0)*Table_NFI[[#This Row],[Mosquito net]],0)","v":22},{"$f":"IF(NFI_Expiration=1,IF($A136<VLOOKUP(L$5,NFI,5,0),1,0)*Table_NFI[[#This Row],[Tarpaulin]],0)","v":11},{"$f":"IF(NFI_Expiration=1,IF($A136<VLOOKUP(M$5,NFI,5,0),1,0)*Table_NFI[[#This Row],[Blanket]],0)","v":22},{"$f":"IF(NFI_Expiration=1,IF($A136<VLOOKUP(N$5,NFI,5,0),1,0)*Table_NFI[[#This Row],[Kitchen Set]],0)","v":11},{"$f":"IF(NFI_Expiration=1,IF($A136<VLOOKUP(O$5,NFI,5,0),1,0)*Table_NFI[[#This Row],[Complementary Kit]],0)","v":11},{"$f":"IF(NFI_Expiration=1,IF($A136<VLOOKUP(P$5,NFI,5,0),1,0)*Table_NFI[[#This Row],[Plastic Bucket]],0)","v":11},{"$f":"IF(NFI_Expiration=1,IF($A136<VLOOKUP(Q$5,NFI,5,0),1,0)*Table_NFI[[#This Row],[Plastic Mat]],0)","v":11},{"$f":"VLOOKUP(Table_NFI[[#This Row],[Camp Name]],'Camp List'!N$5:Z$347,2,0)","v":"MMR001CMP031"},{"$f":"VLOOKUP(Table_NFI[[#This Row],[Camp Name]],'Camp List'!N$5:Z$347,13,0)","v":"Open"}]
[7.4333333333333336,"2012-12-21","UNHCR","UNHCR","Kachin","Bhamo","Lisu Boarding-House",null,null,0,0,12,0,12,12,12,12,{"$f":"IF(NFI_Expiration=1,IF($A137<VLOOKUP(H$5,NFI,5,0),1,0)*Table_NFI[[#This Row],[Hygiene Kit]],0)","v":0},{"$f":"IF(NFI_Expiration=1,IF($A137<VLOOKUP(I$5,NFI,5,0),1,0)*Table_NFI[[#This Row],[NFI Core Kit]],0)","v":0},{"$f":"IF(NFI_Expiration=1,IF($A137<VLOOKUP(J$5,NFI,5,0),1,0)*Table_NFI[[#This Row],[Sanitary Kit]],0)","v":0},{"$f":"IF(NFI_Expiration=1,IF($A137<VLOOKUP(K$5,NFI,5,0),1,0)*Table_NFI[[#This Row],[Mosquito net]],0)","v":0},{"$f":"IF(NFI_Expiration=1,IF($A137<VLOOKUP(L$5,NFI,5,0),1,0)*Table_NFI[[#This Row],[Tarpaulin]],0)","v":12},{"$f":"IF(NFI_Expiration=1,IF($A137<VLOOKUP(M$5,NFI,5,0),1,0)*Table_NFI[[#This Row],[Blanket]],0)","v":0},{"$f":"IF(NFI_Expiration=1,IF($A137<VLOOKUP(N$5,NFI,5,0),1,0)*Table_NFI[[#This Row],[Kitchen Set]],0)","v":12},{"$f":"IF(NFI_Expiration=1,IF($A137<VLOOKUP(O$5,NFI,5,0),1,0)*Table_NFI[[#This Row],[Complementary Kit]],0)","v":12},{"$f":"IF(NFI_Expiration=1,IF($A137<VLOOKUP(P$5,NFI,5,0),1,0)*Table_NFI[[#This Row],[Plastic Bucket]],0)","v":12},{"$f":"IF(NFI_Expiration=1,IF($A137<VLOOKUP(Q$5,NFI,5,0),1,0)*Table_NFI[[#This Row],[Plastic Mat]],0)","v":12},{"$f":"VLOOKUP(Table_NFI[[#This Row],[Camp Name]],'Camp List'!N$5:Z$347,2,0)","v":"MMR001CMP049"},{"$f":"VLOOKUP(Table_NFI[[#This Row],[Camp Name]],'Camp List'!N$5:Z$347,13,0)","v":"Open"}]
[7.4333333333333336,"2012-12-21","UNHCR","UNHCR","Kachin","Bhamo","Robert Church",null,null,0,24,12,24,12,12,12,12,{"$f":"IF(NFI_Expiration=1,IF($A138<VLOOKUP(H$5,NFI,5,0),1,0)*Table_NFI[[#This Row],[Hygiene Kit]],0)","v":0},{"$f":"IF(NFI_Expiration=1,IF($A138<VLOOKUP(I$5,NFI,5,0),1,0)*Table_NFI[[#This Row],[NFI Core Kit]],0)","v":0},{"$f":"IF(NFI_Expiration=1,IF($A138<VLOOKUP(J$5,NFI,5,0),1,0)*Table_NFI[[#This Row],[Sanitary Kit]],0)","v":0},{"$f":"IF(NFI_Expiration=1,IF($A138<VLOOKUP(K$5,NFI,5,0),1,0)*Table_NFI[[#This Row],[Mosquito net]],0)","v":24},{"$f":"IF(NFI_Expiration=1,IF($A138<VLOOKUP(L$5,NFI,5,0),1,0)*Table_NFI[[#This Row],[Tarpaulin]],0)","v":12},{"$f":"IF(NFI_Expiration=1,IF($A138<VLOOKUP(M$5,NFI,5,0),1,0)*Table_NFI[[#This Row],[Blanket]],0)","v":24},{"$f":"IF(NFI_Expiration=1,IF($A138<VLOOKUP(N$5,NFI,5,0),1,0)*Table_NFI[[#This Row],[Kitchen Set]],0)","v":12},{"$f":"IF(NFI_Expiration=1,IF($A138<VLOOKUP(O$5,NFI,5,0),1,0)*Table_NFI[[#This Row],[Complementary Kit]],0)","v":12},{"$f":"IF(NFI_Expiration=1,IF($A138<VLOOKUP(P$5,NFI,5,0),1,0)*Table_NFI[[#This Row],[Plastic Bucket]],0)","v":12},{"$f":"IF(NFI_Expiration=1,IF($A138<VLOOKUP(Q$5,NFI,5,0),1,0)*Table_NFI[[#This Row],[Plastic Mat]],0)","v":12},{"$f":"VLOOKUP(Table_NFI[[#This Row],[Camp Name]],'Camp List'!N$5:Z$347,2,0)","v":"MMR001CMP047"},{"$f":"VLOOKUP(Table_NFI[[#This Row],[Camp Name]],'Camp List'!N$5:Z$347,13,0)","v":"Open"}]
[10.199999999999999,"2012-09-29","UNHCR","Chipwe CM","Kachin","Chipwi","Lhaovao Baptist Church (LBC)",null,null,0,34,12,34,12,12,12,12,{"$f":"IF(NFI_Expiration=1,IF($A139<VLOOKUP(H$5,NFI,5,0),1,0)*Table_NFI[[#This Row],[Hygiene Kit]],0)","v":0},{"$f":"IF(NFI_Expiration=1,IF($A139<VLOOKUP(I$5,NFI,5,0),1,0)*Table_NFI[[#This Row],[NFI Core Kit]],0)","v":0},{"$f":"IF(NFI_Expiration=1,IF($A139<VLOOKUP(J$5,NFI,5,0),1,0)*Table_NFI[[#This Row],[Sanitary Kit]],0)","v":0},{"$f":"IF(NFI_Expiration=1,IF($A139<VLOOKUP(K$5,NFI,5,0),1,0)*Table_NFI[[#This Row],[Mosquito net]],0)","v":34},{"$f":"IF(NFI_Expiration=1,IF($A139<VLOOKUP(L$5,NFI,5,0),1,0)*Table_NFI[[#This Row],[Tarpaulin]],0)","v":12},{"$f":"IF(NFI_Expiration=1,IF($A139<VLOOKUP(M$5,NFI,5,0),1,0)*Table_NFI[[#This Row],[Blanket]],0)","v":34},{"$f":"IF(NFI_Expiration=1,IF($A139<VLOOKUP(N$5,NFI,5,0),1,0)*Table_NFI[[#This Row],[Kitchen Set]],0)","v":12},{"$f":"IF(NFI_Expiration=1,IF($A139<VLOOKUP(O$5,NFI,5,0),1,0)*Table_NFI[[#This Row],[Complementary Kit]],0)","v":12},{"$f":"IF(NFI_Expiration=1,IF($A139<VLOOKUP(P$5,NFI,5,0),1,0)*Table_NFI[[#This Row],[Plastic Bucket]],0)","v":12},{"$f":"IF(NFI_Expiration=1,IF($A139<VLOOKUP(Q$5,NFI,5,0),1,0)*Table_NFI[[#This Row],[Plastic Mat]],0)","v":12},{"$f":"VLOOKUP(Table_NFI[[#This Row],[Camp Name]],'Camp List'!N$5:Z$347,2,0)","v":"MMR001CMP195"},{"$f":"VLOOKUP(Table_NFI[[#This Row],[Camp Name]],'Camp List'!N$5:Z$347,13,0)","v":"Open"}]
[10.166666666666666,"2012-09-30","UNHCR","Chipwe CM","Kachin","Chipwi","Women's Affairs Association Building",null,null,0,34,12,34,12,12,12,12,{"$f":"IF(NFI_Expiration=1,IF($A140<VLOOKUP(H$5,NFI,5,0),1,0)*Table_NFI[[#This Row],[Hygiene Kit]],0)","v":0},{"$f":"IF(NFI_Expiration=1,IF($A140<VLOOKUP(I$5,NFI,5,0),1,0)*Table_NFI[[#This Row],[NFI Core Kit]],0)","v":0},{"$f":"IF(NFI_Expiration=1,IF($A140<VLOOKUP(J$5,NFI,5,0),1,0)*Table_NFI[[#This Row],[Sanitary Kit]],0)","v":0},{"$f":"IF(NFI_Expiration=1,IF($A140<VLOOKUP(K$5,NFI,5,0),1,0)*Table_NFI[[#This Row],[Mosquito net]],0)","v":34},{"$f":"IF(NFI_Expiration=1,IF($A140<VLOOKUP(L$5,NFI,5,0),1,0)*Table_NFI[[#This Row],[Tarpaulin]],0)","v":12},{"$f":"IF(NFI_Expiration=1,IF($A140<VLOOKUP(M$5,NFI,5,0),1,0)*Table_NFI[[#This Row],[Blanket]],0)","v":34},{"$f":"IF(NFI_Expiration=1,IF($A140<VLOOKUP(N$5,NFI,5,0),1,0)*Table_NFI[[#This Row],[Kitchen Set]],0)","v":12},{"$f":"IF(NFI_Expiration=1,IF($A140<VLOOKUP(O$5,NFI,5,0),1,0)*Table_NFI[[#This Row],[Complementary Kit]],0)","v":12},{"$f":"IF(NFI_Expiration=1,IF($A140<VLOOKUP(P$5,NFI,5,0),1,0)*Table_NFI[[#This Row],[Plastic Bucket]],0)","v":12},{"$f":"IF(NFI_Expiration=1,IF($A140<VLOOKUP(Q$5,NFI,5,0),1,0)*Table_NFI[[#This Row],[Plastic Mat]],0)","v":12},{"$f":"VLOOKUP(Table_NFI[[#This Row],[Camp Name]],'Camp List'!N$5:Z$347,2,0)","v":"MMR001CMP044"},{"$f":"VLOOKUP(Table_NFI[[#This Row],[Camp Name]],'Camp List'!N$5:Z$347,13,0)","v":"Close"}]
[5.4,"2013-02-20","UNHCR","UNHCR","Kachin","Hpakant","Mashi Kahtawng Catholic Church",null,null,16,26,13,26,13,13,13,13,{"$f":"IF(NFI_Expiration=1,IF($A141<VLOOKUP(H$5,NFI,5,0),1,0)*Table_NFI[[#This Row],[Hygiene Kit]],0)","v":0},{"$f":"IF(NFI_Expiration=1,IF($A141<VLOOKUP(I$5,NFI,5,0),1,0)*Table_NFI[[#This Row],[NFI Core Kit]],0)","v":0},{"$f":"IF(NFI_Expiration=1,IF($A141<VLOOKUP(J$5,NFI,5,0),1,0)*Table_NFI[[#This Row],[Sanitary Kit]],0)","v":16},{"$f":"IF(NFI_Expiration=1,IF($A141<VLOOKUP(K$5,NFI,5,0),1,0)*Table_NFI[[#This Row],[Mosquito net]],0)","v":26},{"$f":"IF(NFI_Expiration=1,IF($A141<VLOOKUP(L$5,NFI,5,0),1,0)*Table_NFI[[#This Row],[Tarpaulin]],0)","v":13},{"$f":"IF(NFI_Expiration=1,IF($A141<VLOOKUP(M$5,NFI,5,0),1,0)*Table_NFI[[#This Row],[Blanket]],0)","v":26},{"$f":"IF(NFI_Expiration=1,IF($A141<VLOOKUP(N$5,NFI,5,0),1,0)*Table_NFI[[#This Row],[Kitchen Set]],0)","v":13},{"$f":"IF(NFI_Expiration=1,IF($A141<VLOOKUP(O$5,NFI,5,0),1,0)*Table_NFI[[#This Row],[Complementary Kit]],0)","v":13},{"$f":"IF(NFI_Expiration=1,IF($A141<VLOOKUP(P$5,NFI,5,0),1,0)*Table_NFI[[#This Row],[Plastic Bucket]],0)","v":13},{"$f":"IF(NFI_Expiration=1,IF($A141<VLOOKUP(Q$5,NFI,5,0),1,0)*Table_NFI[[#This Row],[Plastic Mat]],0)","v":13},{"$f":"VLOOKUP(Table_NFI[[#This Row],[Camp Name]],'Camp List'!N$5:Z$347,2,0)","v":"MMR001CMP093"},{"$f":"VLOOKUP(Table_NFI[[#This Row],[Camp Name]],'Camp List'!N$5:Z$347,13,0)","v":"Close"}]
[13.466666666666667,"2012-06-23","UNHCR","UNHCR","Kachin","Momauk","Dum Bung ",null,null,0,24,13,24,13,13,13,13,{"$f":"IF(NFI_Expiration=1,IF($A142<VLOOKUP(H$5,NFI,5,0),1,0)*Table_NFI[[#This Row],[Hygiene Kit]],0)","v":0},{"$f":"IF(NFI_Expiration=1,IF($A142<VLOOKUP(I$5,NFI,5,0),1,0)*Table_NFI[[#This Row],[NFI Core Kit]],0)","v":0},{"$f":"IF(NFI_Expiration=1,IF($A142<VLOOKUP(J$5,NFI,5,0),1,0)*Table_NFI[[#This Row],[Sanitary Kit]],0)","v":0},{"$f":"IF(NFI_Expiration=1,IF($A142<VLOOKUP(K$5,NFI,5,0),1,0)*Table_NFI[[#This Row],[Mosquito net]],0)","v":0},{"$f":"IF(NFI_Expiration=1,IF($A142<VLOOKUP(L$5,NFI,5,0),1,0)*Table_NFI[[#This Row],[Tarpaulin]],0)","v":0},{"$f":"IF(NFI_Expiration=1,IF($A142<VLOOKUP(M$5,NFI,5,0),1,0)*Table_NFI[[#This Row],[Blanket]],0)","v":0},{"$f":"IF(NFI_Expiration=1,IF($A142<VLOOKUP(N$5,NFI,5,0),1,0)*Table_NFI[[#This Row],[Kitchen Set]],0)","v":0},{"$f":"IF(NFI_Expiration=1,IF($A142<VLOOKUP(O$5,NFI,5,0),1,0)*Table_NFI[[#This Row],[Complementary Kit]],0)","v":0},{"$f":"IF(NFI_Expiration=1,IF($A142<VLOOKUP(P$5,NFI,5,0),1,0)*Table_NFI[[#This Row],[Plastic Bucket]],0)","v":0},{"$f":"IF(NFI_Expiration=1,IF($A142<VLOOKUP(Q$5,NFI,5,0),1,0)*Table_NFI[[#This Row],[Plastic Mat]],0)","v":0},{"$f":"VLOOKUP(Table_NFI[[#This Row],[Camp Name]],'Camp List'!N$5:Z$347,2,0)","v":"MMR001CMP123"},{"$f":"VLOOKUP(Table_NFI[[#This Row],[Camp Name]],'Camp List'!N$5:Z$347,13,0)","v":"Open"}]
[12.7,"2012-07-16","UNHCR","UNHCR","Kachin","Myitkyina","Le Kone Bethlehem Church",null,null,0,13,13,13,13,13,13,13,{"$f":"IF(NFI_Expiration=1,IF($A143<VLOOKUP(H$5,NFI,5,0),1,0)*Table_NFI[[#This Row],[Hygiene Kit]],0)","v":0},{"$f":"IF(NFI_Expiration=1,IF($A143<VLOOKUP(I$5,NFI,5,0),1,0)*Table_NFI[[#This Row],[NFI Core Kit]],0)","v":0},{"$f":"IF(NFI_Expiration=1,IF($A143<VLOOKUP(J$5,NFI,5,0),1,0)*Table_NFI[[#This Row],[Sanitary Kit]],0)","v":0},{"$f":"IF(NFI_Expiration=1,IF($A143<VLOOKUP(K$5,NFI,5,0),1,0)*Table_NFI[[#This Row],[Mosquito net]],0)","v":0},{"$f":"IF(NFI_Expiration=1,IF($A143<VLOOKUP(L$5,NFI,5,0),1,0)*Table_NFI[[#This Row],[Tarpaulin]],0)","v":0},{"$f":"IF(NFI_Expiration=1,IF($A143<VLOOKUP(M$5,NFI,5,0),1,0)*Table_NFI[[#This Row],[Blanket]],0)","v":0},{"$f":"IF(NFI_Expiration=1,IF($A143<VLOOKUP(N$5,NFI,5,0),1,0)*Table_NFI[[#This Row],[Kitchen Set]],0)","v":0},{"$f":"IF(NFI_Expiration=1,IF($A143<VLOOKUP(O$5,NFI,5,0),1,0)*Table_NFI[[#This Row],[Complementary Kit]],0)","v":0},{"$f":"IF(NFI_Expiration=1,IF($A143<VLOOKUP(P$5,NFI,5,0),1,0)*Table_NFI[[#This Row],[Plastic Bucket]],0)","v":0},{"$f":"IF(NFI_Expiration=1,IF($A143<VLOOKUP(Q$5,NFI,5,0),1,0)*Table_NFI[[#This Row],[Plastic Mat]],0)","v":0},{"$f":"VLOOKUP(Table_NFI[[#This Row],[Camp Name]],'Camp List'!N$5:Z$347,2,0)","v":"MMR001CMP015"},{"$f":"VLOOKUP(Table_NFI[[#This Row],[Camp Name]],'Camp List'!N$5:Z$347,13,0)","v":"Open"}]
[12.466666666666667,"2012-07-23","UNHCR","UNHCR","Kachin","Myitkyina","Tat Kone San Pya Baptist Church",null,null,0,24,8,24,8,13,13,13,{"$f":"IF(NFI_Expiration=1,IF($A144<VLOOKUP(H$5,NFI,5,0),1,0)*Table_NFI[[#This Row],[Hygiene Kit]],0)","v":0},{"$f":"IF(NFI_Expiration=1,IF($A144<VLOOKUP(I$5,NFI,5,0),1,0)*Table_NFI[[#This Row],[NFI Core Kit]],0)","v":0},{"$f":"IF(NFI_Expiration=1,IF($A144<VLOOKUP(J$5,NFI,5,0),1,0)*Table_NFI[[#This Row],[Sanitary Kit]],0)","v":0},{"$f":"IF(NFI_Expiration=1,IF($A144<VLOOKUP(K$5,NFI,5,0),1,0)*Table_NFI[[#This Row],[Mosquito net]],0)","v":0},{"$f":"IF(NFI_Expiration=1,IF($A144<VLOOKUP(L$5,NFI,5,0),1,0)*Table_NFI[[#This Row],[Tarpaulin]],0)","v":0},{"$f":"IF(NFI_Expiration=1,IF($A144<VLOOKUP(M$5,NFI,5,0),1,0)*Table_NFI[[#This Row],[Blanket]],0)","v":0},{"$f":"IF(NFI_Expiration=1,IF($A144<VLOOKUP(N$5,NFI,5,0),1,0)*Table_NFI[[#This Row],[Kitchen Set]],0)","v":0},{"$f":"IF(NFI_Expiration=1,IF($A144<VLOOKUP(O$5,NFI,5,0),1,0)*Table_NFI[[#This Row],[Complementary Kit]],0)","v":0},{"$f":"IF(NFI_Expiration=1,IF($A144<VLOOKUP(P$5,NFI,5,0),1,0)*Table_NFI[[#This Row],[Plastic Bucket]],0)","v":0},{"$f":"IF(NFI_Expiration=1,IF($A144<VLOOKUP(Q$5,NFI,5,0),1,0)*Table_NFI[[#This Row],[Plastic Mat]],0)","v":0},{"$f":"VLOOKUP(Table_NFI[[#This Row],[Camp Name]],'Camp List'!N$5:Z$347,2,0)","v":"MMR001CMP005"},{"$f":"VLOOKUP(Table_NFI[[#This Row],[Camp Name]],'Camp List'!N$5:Z$347,13,0)","v":"Open"}]
[18.066666666666666,"2012-02-06","UNHCR","UNHCR","Kachin","Waingmaw","Qtr. 4 Monestry (Thargaya Thayett Taw)",null,null,0,0,0,0,0,13,13,13,{"$f":"IF(NFI_Expiration=1,IF($A145<VLOOKUP(H$5,NFI,5,0),1,0)*Table_NFI[[#This Row],[Hygiene Kit]],0)","v":0},{"$f":"IF(NFI_Expiration=1,IF($A145<VLOOKUP(I$5,NFI,5,0),1,0)*Table_NFI[[#This Row],[NFI Core Kit]],0)","v":0},{"$f":"IF(NFI_Expiration=1,IF($A145<VLOOKUP(J$5,NFI,5,0),1,0)*Table_NFI[[#This Row],[Sanitary Kit]],0)","v":0},{"$f":"IF(NFI_Expiration=1,IF($A145<VLOOKUP(K$5,NFI,5,0),1,0)*Table_NFI[[#This Row],[Mosquito net]],0)","v":0},{"$f":"IF(NFI_Expiration=1,IF($A145<VLOOKUP(L$5,NFI,5,0),1,0)*Table_NFI[[#This Row],[Tarpaulin]],0)","v":0},{"$f":"IF(NFI_Expiration=1,IF($A145<VLOOKUP(M$5,NFI,5,0),1,0)*Table_NFI[[#This Row],[Blanket]],0)","v":0},{"$f":"IF(NFI_Expiration=1,IF($A145<VLOOKUP(N$5,NFI,5,0),1,0)*Table_NFI[[#This Row],[Kitchen Set]],0)","v":0},{"$f":"IF(NFI_Expiration=1,IF($A145<VLOOKUP(O$5,NFI,5,0),1,0)*Table_NFI[[#This Row],[Complementary Kit]],0)","v":0},{"$f":"IF(NFI_Expiration=1,IF($A145<VLOOKUP(P$5,NFI,5,0),1,0)*Table_NFI[[#This Row],[Plastic Bucket]],0)","v":0},{"$f":"IF(NFI_Expiration=1,IF($A145<VLOOKUP(Q$5,NFI,5,0),1,0)*Table_NFI[[#This Row],[Plastic Mat]],0)","v":0},{"$f":"VLOOKUP(Table_NFI[[#This Row],[Camp Name]],'Camp List'!N$5:Z$347,2,0)","v":"MMR001CMP026"},{"$f":"VLOOKUP(Table_NFI[[#This Row],[Camp Name]],'Camp List'!N$5:Z$347,13,0)","v":"Open"}]
[14.9,"2012-05-11","UNHCR","UNHCR","Kachin","Waingmaw","Maina KBC (Bawng Ring)",null,null,0,50,25,50,24,13,13,13,{"$f":"IF(NFI_Expiration=1,IF($A146<VLOOKUP(H$5,NFI,5,0),1,0)*Table_NFI[[#This Row],[Hygiene Kit]],0)","v":0},{"$f":"IF(NFI_Expiration=1,IF($A146<VLOOKUP(I$5,NFI,5,0),1,0)*Table_NFI[[#This Row],[NFI Core Kit]],0)","v":0},{"$f":"IF(NFI_Expiration=1,IF($A146<VLOOKUP(J$5,NFI,5,0),1,0)*Table_NFI[[#This Row],[Sanitary Kit]],0)","v":0},{"$f":"IF(NFI_Expiration=1,IF($A146<VLOOKUP(K$5,NFI,5,0),1,0)*Table_NFI[[#This Row],[Mosquito net]],0)","v":0},{"$f":"IF(NFI_Expiration=1,IF($A146<VLOOKUP(L$5,NFI,5,0),1,0)*Table_NFI[[#This Row],[Tarpaulin]],0)","v":0},{"$f":"IF(NFI_Expiration=1,IF($A146<VLOOKUP(M$5,NFI,5,0),1,0)*Table_NFI[[#This Row],[Blanket]],0)","v":0},{"$f":"IF(NFI_Expiration=1,IF($A146<VLOOKUP(N$5,NFI,5,0),1,0)*Table_NFI[[#This Row],[Kitchen Set]],0)","v":0},{"$f":"IF(NFI_Expiration=1,IF($A146<VLOOKUP(O$5,NFI,5,0),1,0)*Table_NFI[[#This Row],[Complementary Kit]],0)","v":0},{"$f":"IF(NFI_Expiration=1,IF($A146<VLOOKUP(P$5,NFI,5,0),1,0)*Table_NFI[[#This Row],[Plastic Bucket]],0)","v":0},{"$f":"IF(NFI_Expiration=1,IF($A146<VLOOKUP(Q$5,NFI,5,0),1,0)*Table_NFI[[#This Row],[Plastic Mat]],0)","v":0},{"$f":"VLOOKUP(Table_NFI[[#This Row],[Camp Name]],'Camp List'!N$5:Z$347,2,0)","v":"MMR001CMP040"},{"$f":"VLOOKUP(Table_NFI[[#This Row],[Camp Name]],'Camp List'!N$5:Z$347,13,0)","v":"Open"}]
[12.8,"2012-07-13","UNHCR","UNHCR","Kachin","Waingmaw","Qtr. 2 Lhaovo Baptist Church",null,null,0,13,13,13,13,13,13,13,{"$f":"IF(NFI_Expiration=1,IF($A147<VLOOKUP(H$5,NFI,5,0),1,0)*Table_NFI[[#This Row],[Hygiene Kit]],0)","v":0},{"$f":"IF(NFI_Expiration=1,IF($A147<VLOOKUP(I$5,NFI,5,0),1,0)*Table_NFI[[#This Row],[NFI Core Kit]],0)","v":0},{"$f":"IF(NFI_Expiration=1,IF($A147<VLOOKUP(J$5,NFI,5,0),1,0)*Table_NFI[[#This Row],[Sanitary Kit]],0)","v":0},{"$f":"IF(NFI_Expiration=1,IF($A147<VLOOKUP(K$5,NFI,5,0),1,0)*Table_NFI[[#This Row],[Mosquito net]],0)","v":0},{"$f":"IF(NFI_Expiration=1,IF($A147<VLOOKUP(L$5,NFI,5,0),1,0)*Table_NFI[[#This Row],[Tarpaulin]],0)","v":0},{"$f":"IF(NFI_Expiration=1,IF($A147<VLOOKUP(M$5,NFI,5,0),1,0)*Table_NFI[[#This Row],[Blanket]],0)","v":0},{"$f":"IF(NFI_Expiration=1,IF($A147<VLOOKUP(N$5,NFI,5,0),1,0)*Table_NFI[[#This Row],[Kitchen Set]],0)","v":0},{"$f":"IF(NFI_Expiration=1,IF($A147<VLOOKUP(O$5,NFI,5,0),1,0)*Table_NFI[[#This Row],[Complementary Kit]],0)","v":0},{"$f":"IF(NFI_Expiration=1,IF($A147<VLOOKUP(P$5,NFI,5,0),1,0)*Table_NFI[[#This Row],[Plastic Bucket]],0)","v":0},{"$f":"IF(NFI_Expiration=1,IF($A147<VLOOKUP(Q$5,NFI,5,0),1,0)*Table_NFI[[#This Row],[Plastic Mat]],0)","v":0},{"$f":"VLOOKUP(Table_NFI[[#This Row],[Camp Name]],'Camp List'!N$5:Z$347,2,0)","v":"MMR001CMP032"},{"$f":"VLOOKUP(Table_NFI[[#This Row],[Camp Name]],'Camp List'!N$5:Z$347,13,0)","v":"Open"}]
[13.066666666666666,"2012-07-05","UNHCR","UNHCR","Kachin","Bhamo","Ta Gun Taing Monastery (Shwe Kyi Na)",null,null,0,36,14,36,14,14,14,14,{"$f":"IF(NFI_Expiration=1,IF($A148<VLOOKUP(H$5,NFI,5,0),1,0)*Table_NFI[[#This Row],[Hygiene Kit]],0)","v":0},{"$f":"IF(NFI_Expiration=1,IF($A148<VLOOKUP(I$5,NFI,5,0),1,0)*Table_NFI[[#This Row],[NFI Core Kit]],0)","v":0},{"$f":"IF(NFI_Expiration=1,IF($A148<VLOOKUP(J$5,NFI,5,0),1,0)*Table_NFI[[#This Row],[Sanitary Kit]],0)","v":0},{"$f":"IF(NFI_Expiration=1,IF($A148<VLOOKUP(K$5,NFI,5,0),1,0)*Table_NFI[[#This Row],[Mosquito net]],0)","v":0},{"$f":"IF(NFI_Expiration=1,IF($A148<VLOOKUP(L$5,NFI,5,0),1,0)*Table_NFI[[#This Row],[Tarpaulin]],0)","v":0},{"$f":"IF(NFI_Expiration=1,IF($A148<VLOOKUP(M$5,NFI,5,0),1,0)*Table_NFI[[#This Row],[Blanket]],0)","v":0},{"$f":"IF(NFI_Expiration=1,IF($A148<VLOOKUP(N$5,NFI,5,0),1,0)*Table_NFI[[#This Row],[Kitchen Set]],0)","v":0},{"$f":"IF(NFI_Expiration=1,IF($A148<VLOOKUP(O$5,NFI,5,0),1,0)*Table_NFI[[#This Row],[Complementary Kit]],0)","v":0},{"$f":"IF(NFI_Expiration=1,IF($A148<VLOOKUP(P$5,NFI,5,0),1,0)*Table_NFI[[#This Row],[Plastic Bucket]],0)","v":0},{"$f":"IF(NFI_Expiration=1,IF($A148<VLOOKUP(Q$5,NFI,5,0),1,0)*Table_NFI[[#This Row],[Plastic Mat]],0)","v":0},{"$f":"VLOOKUP(Table_NFI[[#This Row],[Camp Name]],'Camp List'!N$5:Z$347,2,0)","v":"MMR001CMP055"},{"$f":"VLOOKUP(Table_NFI[[#This Row],[Camp Name]],'Camp List'!N$5:Z$347,13,0)","v":"Open"}]
[12.333333333333334,"2012-07-27","UNHCR","UNHCR","Kachin","Mogaung","Kyun Taw Baptist Church ",null,null,0,35,14,35,14,14,14,14,{"$f":"IF(NFI_Expiration=1,IF($A149<VLOOKUP(H$5,NFI,5,0),1,0)*Table_NFI[[#This Row],[Hygiene Kit]],0)","v":0},{"$f":"IF(NFI_Expiration=1,IF($A149<VLOOKUP(I$5,NFI,5,0),1,0)*Table_NFI[[#This Row],[NFI Core Kit]],0)","v":0},{"$f":"IF(NFI_Expiration=1,IF($A149<VLOOKUP(J$5,NFI,5,0),1,0)*Table_NFI[[#This Row],[Sanitary Kit]],0)","v":0},{"$f":"IF(NFI_Expiration=1,IF($A149<VLOOKUP(K$5,NFI,5,0),1,0)*Table_NFI[[#This Row],[Mosquito net]],0)","v":0},{"$f":"IF(NFI_Expiration=1,IF($A149<VLOOKUP(L$5,NFI,5,0),1,0)*Table_NFI[[#This Row],[Tarpaulin]],0)","v":0},{"$f":"IF(NFI_Expiration=1,IF($A149<VLOOKUP(M$5,NFI,5,0),1,0)*Table_NFI[[#This Row],[Blanket]],0)","v":0},{"$f":"IF(NFI_Expiration=1,IF($A149<VLOOKUP(N$5,NFI,5,0),1,0)*Table_NFI[[#This Row],[Kitchen Set]],0)","v":0},{"$f":"IF(NFI_Expiration=1,IF($A149<VLOOKUP(O$5,NFI,5,0),1,0)*Table_NFI[[#This Row],[Complementary Kit]],0)","v":0},{"$f":"IF(NFI_Expiration=1,IF($A149<VLOOKUP(P$5,NFI,5,0),1,0)*Table_NFI[[#This Row],[Plastic Bucket]],0)","v":0},{"$f":"IF(NFI_Expiration=1,IF($A149<VLOOKUP(Q$5,NFI,5,0),1,0)*Table_NFI[[#This Row],[Plastic Mat]],0)","v":0},{"$f":"VLOOKUP(Table_NFI[[#This Row],[Camp Name]],'Camp List'!N$5:Z$347,2,0)","v":"MMR001CMP078"},{"$f":"VLOOKUP(Table_NFI[[#This Row],[Camp Name]],'Camp List'!N$5:Z$347,13,0)","v":"Open"}]
[12.466666666666667,"2012-07-23","UNHCR","UNHCR","Kachin","Myitkyina","Shatapru Thida Aye Baptist Church",null,null,0,30,12,30,12,14,14,14,{"$f":"IF(NFI_Expiration=1,IF($A150<VLOOKUP(H$5,NFI,5,0),1,0)*Table_NFI[[#This Row],[Hygiene Kit]],0)","v":0},{"$f":"IF(NFI_Expiration=1,IF($A150<VLOOKUP(I$5,NFI,5,0),1,0)*Table_NFI[[#This Row],[NFI Core Kit]],0)","v":0},{"$f":"IF(NFI_Expiration=1,IF($A150<VLOOKUP(J$5,NFI,5,0),1,0)*Table_NFI[[#This Row],[Sanitary Kit]],0)","v":0},{"$f":"IF(NFI_Expiration=1,IF($A150<VLOOKUP(K$5,NFI,5,0),1,0)*Table_NFI[[#This Row],[Mosquito net]],0)","v":0},{"$f":"IF(NFI_Expiration=1,IF($A150<VLOOKUP(L$5,NFI,5,0),1,0)*Table_NFI[[#This Row],[Tarpaulin]],0)","v":0},{"$f":"IF(NFI_Expiration=1,IF($A150<VLOOKUP(M$5,NFI,5,0),1,0)*Table_NFI[[#This Row],[Blanket]],0)","v":0},{"$f":"IF(NFI_Expiration=1,IF($A150<VLOOKUP(N$5,NFI,5,0),1,0)*Table_NFI[[#This Row],[Kitchen Set]],0)","v":0},{"$f":"IF(NFI_Expiration=1,IF($A150<VLOOKUP(O$5,NFI,5,0),1,0)*Table_NFI[[#This Row],[Complementary Kit]],0)","v":0},{"$f":"IF(NFI_Expiration=1,IF($A150<VLOOKUP(P$5,NFI,5,0),1,0)*Table_NFI[[#This Row],[Plastic Bucket]],0)","v":0},{"$f":"IF(NFI_Expiration=1,IF($A150<VLOOKUP(Q$5,NFI,5,0),1,0)*Table_NFI[[#This Row],[Plastic Mat]],0)","v":0},{"$f":"VLOOKUP(Table_NFI[[#This Row],[Camp Name]],'Camp List'!N$5:Z$347,2,0)","v":"MMR001CMP007"},{"$f":"VLOOKUP(Table_NFI[[#This Row],[Camp Name]],'Camp List'!N$5:Z$347,13,0)","v":"Open"}]
[19.100000000000001,"2012-01-06","UNHCR","UNHCR","Kachin","Waingmaw","Waingmaw AG Church",null,null,0,29,14,29,14,14,14,14,{"$f":"IF(NFI_Expiration=1,IF($A151<VLOOKUP(H$5,NFI,5,0),1,0)*Table_NFI[[#This Row],[Hygiene Kit]],0)","v":0},{"$f":"IF(NFI_Expiration=1,IF($A151<VLOOKUP(I$5,NFI,5,0),1,0)*Table_NFI[[#This Row],[NFI Core Kit]],0)","v":0},{"$f":"IF(NFI_Expiration=1,IF($A151<VLOOKUP(J$5,NFI,5,0),1,0)*Table_NFI[[#This Row],[Sanitary Kit]],0)","v":0},{"$f":"IF(NFI_Expiration=1,IF($A151<VLOOKUP(K$5,NFI,5,0),1,0)*Table_NFI[[#This Row],[Mosquito net]],0)","v":0},{"$f":"IF(NFI_Expiration=1,IF($A151<VLOOKUP(L$5,NFI,5,0),1,0)*Table_NFI[[#This Row],[Tarpaulin]],0)","v":0},{"$f":"IF(NFI_Expiration=1,IF($A151<VLOOKUP(M$5,NFI,5,0),1,0)*Table_NFI[[#This Row],[Blanket]],0)","v":0},{"$f":"IF(NFI_Expiration=1,IF($A151<VLOOKUP(N$5,NFI,5,0),1,0)*Table_NFI[[#This Row],[Kitchen Set]],0)","v":0},{"$f":"IF(NFI_Expiration=1,IF($A151<VLOOKUP(O$5,NFI,5,0),1,0)*Table_NFI[[#This Row],[Complementary Kit]],0)","v":0},{"$f":"IF(NFI_Expiration=1,IF($A151<VLOOKUP(P$5,NFI,5,0),1,0)*Table_NFI[[#This Row],[Plastic Bucket]],0)","v":0},{"$f":"IF(NFI_Expiration=1,IF($A151<VLOOKUP(Q$5,NFI,5,0),1,0)*Table_NFI[[#This Row],[Plastic Mat]],0)","v":0},{"$f":"VLOOKUP(Table_NFI[[#This Row],[Camp Name]],'Camp List'!N$5:Z$347,2,0)","v":"MMR001CMP038"},{"$f":"VLOOKUP(Table_NFI[[#This Row],[Camp Name]],'Camp List'!N$5:Z$347,13,0)","v":"Open"}]
[5.4,"2013-02-20","UNHCR","UNHCR","Kachin","Hpakant","Chin(Zomi) Baptist Church",null,null,13,28,15,28,15,15,15,15,{"$f":"IF(NFI_Expiration=1,IF($A152<VLOOKUP(H$5,NFI,5,0),1,0)*Table_NFI[[#This Row],[Hygiene Kit]],0)","v":0},{"$f":"IF(NFI_Expiration=1,IF($A152<VLOOKUP(I$5,NFI,5,0),1,0)*Table_NFI[[#This Row],[NFI Core Kit]],0)","v":0},{"$f":"IF(NFI_Expiration=1,IF($A152<VLOOKUP(J$5,NFI,5,0),1,0)*Table_NFI[[#This Row],[Sanitary Kit]],0)","v":13},{"$f":"IF(NFI_Expiration=1,IF($A152<VLOOKUP(K$5,NFI,5,0),1,0)*Table_NFI[[#This Row],[Mosquito net]],0)","v":28},{"$f":"IF(NFI_Expiration=1,IF($A152<VLOOKUP(L$5,NFI,5,0),1,0)*Table_NFI[[#This Row],[Tarpaulin]],0)","v":15},{"$f":"IF(NFI_Expiration=1,IF($A152<VLOOKUP(M$5,NFI,5,0),1,0)*Table_NFI[[#This Row],[Blanket]],0)","v":28},{"$f":"IF(NFI_Expiration=1,IF($A152<VLOOKUP(N$5,NFI,5,0),1,0)*Table_NFI[[#This Row],[Kitchen Set]],0)","v":15},{"$f":"IF(NFI_Expiration=1,IF($A152<VLOOKUP(O$5,NFI,5,0),1,0)*Table_NFI[[#This Row],[Complementary Kit]],0)","v":15},{"$f":"IF(NFI_Expiration=1,IF($A152<VLOOKUP(P$5,NFI,5,0),1,0)*Table_NFI[[#This Row],[Plastic Bucket]],0)","v":15},{"$f":"IF(NFI_Expiration=1,IF($A152<VLOOKUP(Q$5,NFI,5,0),1,0)*Table_NFI[[#This Row],[Plastic Mat]],0)","v":15},{"$f":"VLOOKUP(Table_NFI[[#This Row],[Camp Name]],'Camp List'!N$5:Z$347,2,0)","v":"MMR001CMP086"},{"$f":"VLOOKUP(Table_NFI[[#This Row],[Camp Name]],'Camp List'!N$5:Z$347,13,0)","v":"Close"}]
[4.4666666666666668,"2013-03-20","UNHCR","UNHCR","Kachin","Hpakant","Chin Church, Seik Mu",null,null,3,8,8,15,8,15,15,15,{"$f":"IF(NFI_Expiration=1,IF($A153<VLOOKUP(H$5,NFI,5,0),1,0)*Table_NFI[[#This Row],[Hygiene Kit]],0)","v":0},{"$f":"IF(NFI_Expiration=1,IF($A153<VLOOKUP(I$5,NFI,5,0),1,0)*Table_NFI[[#This Row],[NFI Core Kit]],0)","v":0},{"$f":"IF(NFI_Expiration=1,IF($A153<VLOOKUP(J$5,NFI,5,0),1,0)*Table_NFI[[#This Row],[Sanitary Kit]],0)","v":3},{"$f":"IF(NFI_Expiration=1,IF($A153<VLOOKUP(K$5,NFI,5,0),1,0)*Table_NFI[[#This Row],[Mosquito net]],0)","v":8},{"$f":"IF(NFI_Expiration=1,IF($A153<VLOOKUP(L$5,NFI,5,0),1,0)*Table_NFI[[#This Row],[Tarpaulin]],0)","v":8},{"$f":"IF(NFI_Expiration=1,IF($A153<VLOOKUP(M$5,NFI,5,0),1,0)*Table_NFI[[#This Row],[Blanket]],0)","v":15},{"$f":"IF(NFI_Expiration=1,IF($A153<VLOOKUP(N$5,NFI,5,0),1,0)*Table_NFI[[#This Row],[Kitchen Set]],0)","v":8},{"$f":"IF(NFI_Expiration=1,IF($A153<VLOOKUP(O$5,NFI,5,0),1,0)*Table_NFI[[#This Row],[Complementary Kit]],0)","v":15},{"$f":"IF(NFI_Expiration=1,IF($A153<VLOOKUP(P$5,NFI,5,0),1,0)*Table_NFI[[#This Row],[Plastic Bucket]],0)","v":15},{"$f":"IF(NFI_Expiration=1,IF($A153<VLOOKUP(Q$5,NFI,5,0),1,0)*Table_NFI[[#This Row],[Plastic Mat]],0)","v":15},{"$f":"VLOOKUP(Table_NFI[[#This Row],[Camp Name]],'Camp List'!N$5:Z$347,2,0)","v":"MMR001CMP109"},{"$f":"VLOOKUP(Table_NFI[[#This Row],[Camp Name]],'Camp List'!N$5:Z$347,13,0)","v":"Open"}]
[4.4666666666666668,"2013-03-20","UNHCR","UNHCR","Kachin","Hpakant","Chin(Zomi) Baptist Church",null,null,9,6,6,15,6,15,15,15,{"$f":"IF(NFI_Expiration=1,IF($A154<VLOOKUP(H$5,NFI,5,0),1,0)*Table_NFI[[#This Row],[Hygiene Kit]],0)","v":0},{"$f":"IF(NFI_Expiration=1,IF($A154<VLOOKUP(I$5,NFI,5,0),1,0)*Table_NFI[[#This Row],[NFI Core Kit]],0)","v":0},{"$f":"IF(NFI_Expiration=1,IF($A154<VLOOKUP(J$5,NFI,5,0),1,0)*Table_NFI[[#This Row],[Sanitary Kit]],0)","v":9},{"$f":"IF(NFI_Expiration=1,IF($A154<VLOOKUP(K$5,NFI,5,0),1,0)*Table_NFI[[#This Row],[Mosquito net]],0)","v":6},{"$f":"IF(NFI_Expiration=1,IF($A154<VLOOKUP(L$5,NFI,5,0),1,0)*Table_NFI[[#This Row],[Tarpaulin]],0)","v":6},{"$f":"IF(NFI_Expiration=1,IF($A154<VLOOKUP(M$5,NFI,5,0),1,0)*Table_NFI[[#This Row],[Blanket]],0)","v":15},{"$f":"IF(NFI_Expiration=1,IF($A154<VLOOKUP(N$5,NFI,5,0),1,0)*Table_NFI[[#This Row],[Kitchen Set]],0)","v":6},{"$f":"IF(NFI_Expiration=1,IF($A154<VLOOKUP(O$5,NFI,5,0),1,0)*Table_NFI[[#This Row],[Complementary Kit]],0)","v":15},{"$f":"IF(NFI_Expiration=1,IF($A154<VLOOKUP(P$5,NFI,5,0),1,0)*Table_NFI[[#This Row],[Plastic Bucket]],0)","v":15},{"$f":"IF(NFI_Expiration=1,IF($A154<VLOOKUP(Q$5,NFI,5,0),1,0)*Table_NFI[[#This Row],[Plastic Mat]],0)","v":15},{"$f":"VLOOKUP(Table_NFI[[#This Row],[Camp Name]],'Camp List'!N$5:Z$347,2,0)","v":"MMR001CMP086"},{"$f":"VLOOKUP(Table_NFI[[#This Row],[Camp Name]],'Camp List'!N$5:Z$347,13,0)","v":"Close"}]
[14.5,"2012-05-23","UNHCR","UNHCR","Kachin","Myitkyina","Jan Mai Kawng Baptist Church",null,null,0,22,15,22,15,15,15,15,{"$f":"IF(NFI_Expiration=1,IF($A155<VLOOKUP(H$5,NFI,5,0),1,0)*Table_NFI[[#This Row],[Hygiene Kit]],0)","v":0},{"$f":"IF(NFI_Expiration=1,IF($A155<VLOOKUP(I$5,NFI,5,0),1,0)*Table_NFI[[#This Row],[NFI Core Kit]],0)","v":0},{"$f":"IF(NFI_Expiration=1,IF($A155<VLOOKUP(J$5,NFI,5,0),1,0)*Table_NFI[[#This Row],[Sanitary Kit]],0)","v":0},{"$f":"IF(NFI_Expiration=1,IF($A155<VLOOKUP(K$5,NFI,5,0),1,0)*Table_NFI[[#This Row],[Mosquito net]],0)","v":0},{"$f":"IF(NFI_Expiration=1,IF($A155<VLOOKUP(L$5,NFI,5,0),1,0)*Table_NFI[[#This Row],[Tarpaulin]],0)","v":0},{"$f":"IF(NFI_Expiration=1,IF($A155<VLOOKUP(M$5,NFI,5,0),1,0)*Table_NFI[[#This Row],[Blanket]],0)","v":0},{"$f":"IF(NFI_Expiration=1,IF($A155<VLOOKUP(N$5,NFI,5,0),1,0)*Table_NFI[[#This Row],[Kitchen Set]],0)","v":0},{"$f":"IF(NFI_Expiration=1,IF($A155<VLOOKUP(O$5,NFI,5,0),1,0)*Table_NFI[[#This Row],[Complementary Kit]],0)","v":0},{"$f":"IF(NFI_Expiration=1,IF($A155<VLOOKUP(P$5,NFI,5,0),1,0)*Table_NFI[[#This Row],[Plastic Bucket]],0)","v":0},{"$f":"IF(NFI_Expiration=1,IF($A155<VLOOKUP(Q$5,NFI,5,0),1,0)*Table_NFI[[#This Row],[Plastic Mat]],0)","v":0},{"$f":"VLOOKUP(Table_NFI[[#This Row],[Camp Name]],'Camp List'!N$5:Z$347,2,0)","v":"MMR001CMP018"},{"$f":"VLOOKUP(Table_NFI[[#This Row],[Camp Name]],'Camp List'!N$5:Z$347,13,0)","v":"Open"}]
[0.26666666666666666,"2013-07-24","UNHCR","KMSS","Kachin","Myitkyina","Nan Kway St. John Catholic Church",null,null,21,30,15,30,15,15,15,15,{"$f":"IF(NFI_Expiration=1,IF($A156<VLOOKUP(H$5,NFI,5,0),1,0)*Table_NFI[[#This Row],[Hygiene Kit]],0)","v":0},{"$f":"IF(NFI_Expiration=1,IF($A156<VLOOKUP(I$5,NFI,5,0),1,0)*Table_NFI[[#This Row],[NFI Core Kit]],0)","v":0},{"$f":"IF(NFI_Expiration=1,IF($A156<VLOOKUP(J$5,NFI,5,0),1,0)*Table_NFI[[#This Row],[Sanitary Kit]],0)","v":21},{"$f":"IF(NFI_Expiration=1,IF($A156<VLOOKUP(K$5,NFI,5,0),1,0)*Table_NFI[[#This Row],[Mosquito net]],0)","v":30},{"$f":"IF(NFI_Expiration=1,IF($A156<VLOOKUP(L$5,NFI,5,0),1,0)*Table_NFI[[#This Row],[Tarpaulin]],0)","v":15},{"$f":"IF(NFI_Expiration=1,IF($A156<VLOOKUP(M$5,NFI,5,0),1,0)*Table_NFI[[#This Row],[Blanket]],0)","v":30},{"$f":"IF(NFI_Expiration=1,IF($A156<VLOOKUP(N$5,NFI,5,0),1,0)*Table_NFI[[#This Row],[Kitchen Set]],0)","v":15},{"$f":"IF(NFI_Expiration=1,IF($A156<VLOOKUP(O$5,NFI,5,0),1,0)*Table_NFI[[#This Row],[Complementary Kit]],0)","v":15},{"$f":"IF(NFI_Expiration=1,IF($A156<VLOOKUP(P$5,NFI,5,0),1,0)*Table_NFI[[#This Row],[Plastic Bucket]],0)","v":15},{"$f":"IF(NFI_Expiration=1,IF($A156<VLOOKUP(Q$5,NFI,5,0),1,0)*Table_NFI[[#This Row],[Plastic Mat]],0)","v":15},{"$f":"VLOOKUP(Table_NFI[[#This Row],[Camp Name]],'Camp List'!N$5:Z$347,2,0)","v":"MMR001CMP024"},{"$f":"VLOOKUP(Table_NFI[[#This Row],[Camp Name]],'Camp List'!N$5:Z$347,13,0)","v":"Open"}]
[19.100000000000001,"2012-01-06","UNHCR","UNHCR","Kachin","Waingmaw","Thargaya Lisu Baptist Church",null,null,0,29,0,29,15,15,15,15,{"$f":"IF(NFI_Expiration=1,IF($A157<VLOOKUP(H$5,NFI,5,0),1,0)*Table_NFI[[#This Row],[Hygiene Kit]],0)","v":0},{"$f":"IF(NFI_Expiration=1,IF($A157<VLOOKUP(I$5,NFI,5,0),1,0)*Table_NFI[[#This Row],[NFI Core Kit]],0)","v":0},{"$f":"IF(NFI_Expiration=1,IF($A157<VLOOKUP(J$5,NFI,5,0),1,0)*Table_NFI[[#This Row],[Sanitary Kit]],0)","v":0},{"$f":"IF(NFI_Expiration=1,IF($A157<VLOOKUP(K$5,NFI,5,0),1,0)*Table_NFI[[#This Row],[Mosquito net]],0)","v":0},{"$f":"IF(NFI_Expiration=1,IF($A157<VLOOKUP(L$5,NFI,5,0),1,0)*Table_NFI[[#This Row],[Tarpaulin]],0)","v":0},{"$f":"IF(NFI_Expiration=1,IF($A157<VLOOKUP(M$5,NFI,5,0),1,0)*Table_NFI[[#This Row],[Blanket]],0)","v":0},{"$f":"IF(NFI_Expiration=1,IF($A157<VLOOKUP(N$5,NFI,5,0),1,0)*Table_NFI[[#This Row],[Kitchen Set]],0)","v":0},{"$f":"IF(NFI_Expiration=1,IF($A157<VLOOKUP(O$5,NFI,5,0),1,0)*Table_NFI[[#This Row],[Complementary Kit]],0)","v":0},{"$f":"IF(NFI_Expiration=1,IF($A157<VLOOKUP(P$5,NFI,5,0),1,0)*Table_NFI[[#This Row],[Plastic Bucket]],0)","v":0},{"$f":"IF(NFI_Expiration=1,IF($A157<VLOOKUP(Q$5,NFI,5,0),1,0)*Table_NFI[[#This Row],[Plastic Mat]],0)","v":0},{"$f":"VLOOKUP(Table_NFI[[#This Row],[Camp Name]],'Camp List'!N$5:Z$347,2,0)","v":"MMR001CMP037"},{"$f":"VLOOKUP(Table_NFI[[#This Row],[Camp Name]],'Camp List'!N$5:Z$347,13,0)","v":"Open"}]
[13.6,"2012-06-19","UNHCR","UNHCR","Kachin","Waingmaw","Thargaya Lisu Baptist Church",null,null,0,31,15,31,15,15,15,15,{"$f":"IF(NFI_Expiration=1,IF($A158<VLOOKUP(H$5,NFI,5,0),1,0)*Table_NFI[[#This Row],[Hygiene Kit]],0)","v":0},{"$f":"IF(NFI_Expiration=1,IF($A158<VLOOKUP(I$5,NFI,5,0),1,0)*Table_NFI[[#This Row],[NFI Core Kit]],0)","v":0},{"$f":"IF(NFI_Expiration=1,IF($A158<VLOOKUP(J$5,NFI,5,0),1,0)*Table_NFI[[#This Row],[Sanitary Kit]],0)","v":0},{"$f":"IF(NFI_Expiration=1,IF($A158<VLOOKUP(K$5,NFI,5,0),1,0)*Table_NFI[[#This Row],[Mosquito net]],0)","v":0},{"$f":"IF(NFI_Expiration=1,IF($A158<VLOOKUP(L$5,NFI,5,0),1,0)*Table_NFI[[#This Row],[Tarpaulin]],0)","v":0},{"$f":"IF(NFI_Expiration=1,IF($A158<VLOOKUP(M$5,NFI,5,0),1,0)*Table_NFI[[#This Row],[Blanket]],0)","v":0},{"$f":"IF(NFI_Expiration=1,IF($A158<VLOOKUP(N$5,NFI,5,0),1,0)*Table_NFI[[#This Row],[Kitchen Set]],0)","v":0},{"$f":"IF(NFI_Expiration=1,IF($A158<VLOOKUP(O$5,NFI,5,0),1,0)*Table_NFI[[#This Row],[Complementary Kit]],0)","v":0},{"$f":"IF(NFI_Expiration=1,IF($A158<VLOOKUP(P$5,NFI,5,0),1,0)*Table_NFI[[#This Row],[Plastic Bucket]],0)","v":0},{"$f":"IF(NFI_Expiration=1,IF($A158<VLOOKUP(Q$5,NFI,5,0),1,0)*Table_NFI[[#This Row],[Plastic Mat]],0)","v":0},{"$f":"VLOOKUP(Table_NFI[[#This Row],[Camp Name]],'Camp List'!N$5:Z$347,2,0)","v":"MMR001CMP037"},{"$f":"VLOOKUP(Table_NFI[[#This Row],[Camp Name]],'Camp List'!N$5:Z$347,13,0)","v":"Open"}]
[13.6,"2012-06-19","UNHCR","UNHCR","Kachin","Waingmaw","Waingmaw AG Church",null,null,0,28,15,28,15,15,15,15,{"$f":"IF(NFI_Expiration=1,IF($A159<VLOOKUP(H$5,NFI,5,0),1,0)*Table_NFI[[#This Row],[Hygiene Kit]],0)","v":0},{"$f":"IF(NFI_Expiration=1,IF($A159<VLOOKUP(I$5,NFI,5,0),1,0)*Table_NFI[[#This Row],[NFI Core Kit]],0)","v":0},{"$f":"IF(NFI_Expiration=1,IF($A159<VLOOKUP(J$5,NFI,5,0),1,0)*Table_NFI[[#This Row],[Sanitary Kit]],0)","v":0},{"$f":"IF(NFI_Expiration=1,IF($A159<VLOOKUP(K$5,NFI,5,0),1,0)*Table_NFI[[#This Row],[Mosquito net]],0)","v":0},{"$f":"IF(NFI_Expiration=1,IF($A159<VLOOKUP(L$5,NFI,5,0),1,0)*Table_NFI[[#This Row],[Tarpaulin]],0)","v":0},{"$f":"IF(NFI_Expiration=1,IF($A159<VLOOKUP(M$5,NFI,5,0),1,0)*Table_NFI[[#This Row],[Blanket]],0)","v":0},{"$f":"IF(NFI_Expiration=1,IF($A159<VLOOKUP(N$5,NFI,5,0),1,0)*Table_NFI[[#This Row],[Kitchen Set]],0)","v":0},{"$f":"IF(NFI_Expiration=1,IF($A159<VLOOKUP(O$5,NFI,5,0),1,0)*Table_NFI[[#This Row],[Complementary Kit]],0)","v":0},{"$f":"IF(NFI_Expiration=1,IF($A159<VLOOKUP(P$5,NFI,5,0),1,0)*Table_NFI[[#This Row],[Plastic Bucket]],0)","v":0},{"$f":"IF(NFI_Expiration=1,IF($A159<VLOOKUP(Q$5,NFI,5,0),1,0)*Table_NFI[[#This Row],[Plastic Mat]],0)","v":0},{"$f":"VLOOKUP(Table_NFI[[#This Row],[Camp Name]],'Camp List'!N$5:Z$347,2,0)","v":"MMR001CMP038"},{"$f":"VLOOKUP(Table_NFI[[#This Row],[Camp Name]],'Camp List'!N$5:Z$347,13,0)","v":"Open"}]
[0.26666666666666666,"2013-07-24","UNHCR","Shalom","Kachin","Waingmaw","Waingmaw AG Church",null,null,22,32,15,32,15,15,15,15,{"$f":"IF(NFI_Expiration=1,IF($A160<VLOOKUP(H$5,NFI,5,0),1,0)*Table_NFI[[#This Row],[Hygiene Kit]],0)","v":0},{"$f":"IF(NFI_Expiration=1,IF($A160<VLOOKUP(I$5,NFI,5,0),1,0)*Table_NFI[[#This Row],[NFI Core Kit]],0)","v":0},{"$f":"IF(NFI_Expiration=1,IF($A160<VLOOKUP(J$5,NFI,5,0),1,0)*Table_NFI[[#This Row],[Sanitary Kit]],0)","v":22},{"$f":"IF(NFI_Expiration=1,IF($A160<VLOOKUP(K$5,NFI,5,0),1,0)*Table_NFI[[#This Row],[Mosquito net]],0)","v":32},{"$f":"IF(NFI_Expiration=1,IF($A160<VLOOKUP(L$5,NFI,5,0),1,0)*Table_NFI[[#This Row],[Tarpaulin]],0)","v":15},{"$f":"IF(NFI_Expiration=1,IF($A160<VLOOKUP(M$5,NFI,5,0),1,0)*Table_NFI[[#This Row],[Blanket]],0)","v":32},{"$f":"IF(NFI_Expiration=1,IF($A160<VLOOKUP(N$5,NFI,5,0),1,0)*Table_NFI[[#This Row],[Kitchen Set]],0)","v":15},{"$f":"IF(NFI_Expiration=1,IF($A160<VLOOKUP(O$5,NFI,5,0),1,0)*Table_NFI[[#This Row],[Complementary Kit]],0)","v":15},{"$f":"IF(NFI_Expiration=1,IF($A160<VLOOKUP(P$5,NFI,5,0),1,0)*Table_NFI[[#This Row],[Plastic Bucket]],0)","v":15},{"$f":"IF(NFI_Expiration=1,IF($A160<VLOOKUP(Q$5,NFI,5,0),1,0)*Table_NFI[[#This Row],[Plastic Mat]],0)","v":15},{"$f":"VLOOKUP(Table_NFI[[#This Row],[Camp Name]],'Camp List'!N$5:Z$347,2,0)","v":"MMR001CMP038"},{"$f":"VLOOKUP(Table_NFI[[#This Row],[Camp Name]],'Camp List'!N$5:Z$347,13,0)","v":"Open"}]
[12.366666666666667,"2012-07-26","UNHCR","UNHCR","Kachin","Mogaung","Mang Hawng Baptist Church",null,null,0,31,15,31,15,16,16,16,{"$f":"IF(NFI_Expiration=1,IF($A161<VLOOKUP(H$5,NFI,5,0),1,0)*Table_NFI[[#This Row],[Hygiene Kit]],0)","v":0},{"$f":"IF(NFI_Expiration=1,IF($A161<VLOOKUP(I$5,NFI,5,0),1,0)*Table_NFI[[#This Row],[NFI Core Kit]],0)","v":0},{"$f":"IF(NFI_Expiration=1,IF($A161<VLOOKUP(J$5,NFI,5,0),1,0)*Table_NFI[[#This Row],[Sanitary Kit]],0)","v":0},{"$f":"IF(NFI_Expiration=1,IF($A161<VLOOKUP(K$5,NFI,5,0),1,0)*Table_NFI[[#This Row],[Mosquito net]],0)","v":0},{"$f":"IF(NFI_Expiration=1,IF($A161<VLOOKUP(L$5,NFI,5,0),1,0)*Table_NFI[[#This Row],[Tarpaulin]],0)","v":0},{"$f":"IF(NFI_Expiration=1,IF($A161<VLOOKUP(M$5,NFI,5,0),1,0)*Table_NFI[[#This Row],[Blanket]],0)","v":0},{"$f":"IF(NFI_Expiration=1,IF($A161<VLOOKUP(N$5,NFI,5,0),1,0)*Table_NFI[[#This Row],[Kitchen Set]],0)","v":0},{"$f":"IF(NFI_Expiration=1,IF($A161<VLOOKUP(O$5,NFI,5,0),1,0)*Table_NFI[[#This Row],[Complementary Kit]],0)","v":0},{"$f":"IF(NFI_Expiration=1,IF($A161<VLOOKUP(P$5,NFI,5,0),1,0)*Table_NFI[[#This Row],[Plastic Bucket]],0)","v":0},{"$f":"IF(NFI_Expiration=1,IF($A161<VLOOKUP(Q$5,NFI,5,0),1,0)*Table_NFI[[#This Row],[Plastic Mat]],0)","v":0},{"$f":"VLOOKUP(Table_NFI[[#This Row],[Camp Name]],'Camp List'!N$5:Z$347,2,0)","v":"MMR001CMP077"},{"$f":"VLOOKUP(Table_NFI[[#This Row],[Camp Name]],'Camp List'!N$5:Z$347,13,0)","v":"Open"}]
[19.066666666666666,"2012-01-07","UNHCR","KMSS","Kachin","Myitkyina","Jan Mai Kawng Baptist Church",null,null,0,32,16,32,16,16,16,16,{"$f":"IF(NFI_Expiration=1,IF($A162<VLOOKUP(H$5,NFI,5,0),1,0)*Table_NFI[[#This Row],[Hygiene Kit]],0)","v":0},{"$f":"IF(NFI_Expiration=1,IF($A162<VLOOKUP(I$5,NFI,5,0),1,0)*Table_NFI[[#This Row],[NFI Core Kit]],0)","v":0},{"$f":"IF(NFI_Expiration=1,IF($A162<VLOOKUP(J$5,NFI,5,0),1,0)*Table_NFI[[#This Row],[Sanitary Kit]],0)","v":0},{"$f":"IF(NFI_Expiration=1,IF($A162<VLOOKUP(K$5,NFI,5,0),1,0)*Table_NFI[[#This Row],[Mosquito net]],0)","v":0},{"$f":"IF(NFI_Expiration=1,IF($A162<VLOOKUP(L$5,NFI,5,0),1,0)*Table_NFI[[#This Row],[Tarpaulin]],0)","v":0},{"$f":"IF(NFI_Expiration=1,IF($A162<VLOOKUP(M$5,NFI,5,0),1,0)*Table_NFI[[#This Row],[Blanket]],0)","v":0},{"$f":"IF(NFI_Expiration=1,IF($A162<VLOOKUP(N$5,NFI,5,0),1,0)*Table_NFI[[#This Row],[Kitchen Set]],0)","v":0},{"$f":"IF(NFI_Expiration=1,IF($A162<VLOOKUP(O$5,NFI,5,0),1,0)*Table_NFI[[#This Row],[Complementary Kit]],0)","v":0},{"$f":"IF(NFI_Expiration=1,IF($A162<VLOOKUP(P$5,NFI,5,0),1,0)*Table_NFI[[#This Row],[Plastic Bucket]],0)","v":0},{"$f":"IF(NFI_Expiration=1,IF($A162<VLOOKUP(Q$5,NFI,5,0),1,0)*Table_NFI[[#This Row],[Plastic Mat]],0)","v":0},{"$f":"VLOOKUP(Table_NFI[[#This Row],[Camp Name]],'Camp List'!N$5:Z$347,2,0)","v":"MMR001CMP018"},{"$f":"VLOOKUP(Table_NFI[[#This Row],[Camp Name]],'Camp List'!N$5:Z$347,13,0)","v":"Open"}]
[0.26666666666666666,"2013-07-24","UNHCR","KBC","Kachin","Myitkyina","Shatapru Sut Ngai Tawng",null,null,21,36,16,36,16,16,16,16,{"$f":"IF(NFI_Expiration=1,IF($A163<VLOOKUP(H$5,NFI,5,0),1,0)*Table_NFI[[#This Row],[Hygiene Kit]],0)","v":0},{"$f":"IF(NFI_Expiration=1,IF($A163<VLOOKUP(I$5,NFI,5,0),1,0)*Table_NFI[[#This Row],[NFI Core Kit]],0)","v":0},{"$f":"IF(NFI_Expiration=1,IF($A163<VLOOKUP(J$5,NFI,5,0),1,0)*Table_NFI[[#This Row],[Sanitary Kit]],0)","v":21},{"$f":"IF(NFI_Expiration=1,IF($A163<VLOOKUP(K$5,NFI,5,0),1,0)*Table_NFI[[#This Row],[Mosquito net]],0)","v":36},{"$f":"IF(NFI_Expiration=1,IF($A163<VLOOKUP(L$5,NFI,5,0),1,0)*Table_NFI[[#This Row],[Tarpaulin]],0)","v":16},{"$f":"IF(NFI_Expiration=1,IF($A163<VLOOKUP(M$5,NFI,5,0),1,0)*Table_NFI[[#This Row],[Blanket]],0)","v":36},{"$f":"IF(NFI_Expiration=1,IF($A163<VLOOKUP(N$5,NFI,5,0),1,0)*Table_NFI[[#This Row],[Kitchen Set]],0)","v":16},{"$f":"IF(NFI_Expiration=1,IF($A163<VLOOKUP(O$5,NFI,5,0),1,0)*Table_NFI[[#This Row],[Complementary Kit]],0)","v":16},{"$f":"IF(NFI_Expiration=1,IF($A163<VLOOKUP(P$5,NFI,5,0),1,0)*Table_NFI[[#This Row],[Plastic Bucket]],0)","v":16},{"$f":"IF(NFI_Expiration=1,IF($A163<VLOOKUP(Q$5,NFI,5,0),1,0)*Table_NFI[[#This Row],[Plastic Mat]],0)","v":16},{"$f":"VLOOKUP(Table_NFI[[#This Row],[Camp Name]],'Camp List'!N$5:Z$347,2,0)","v":"MMR001CMP006"},{"$f":"VLOOKUP(Table_NFI[[#This Row],[Camp Name]],'Camp List'!N$5:Z$347,13,0)","v":"Open"}]
[18.866666666666667,"2012-01-13","UNHCR","KBC","Kachin","Hpakant","Maw Wan, Kachin Baptist Church",null,null,0,34,17,17,0,17,17,17,{"$f":"IF(NFI_Expiration=1,IF($A164<VLOOKUP(H$5,NFI,5,0),1,0)*Table_NFI[[#This Row],[Hygiene Kit]],0)","v":0},{"$f":"IF(NFI_Expiration=1,IF($A164<VLOOKUP(I$5,NFI,5,0),1,0)*Table_NFI[[#This Row],[NFI Core Kit]],0)","v":0},{"$f":"IF(NFI_Expiration=1,IF($A164<VLOOKUP(J$5,NFI,5,0),1,0)*Table_NFI[[#This Row],[Sanitary Kit]],0)","v":0},{"$f":"IF(NFI_Expiration=1,IF($A164<VLOOKUP(K$5,NFI,5,0),1,0)*Table_NFI[[#This Row],[Mosquito net]],0)","v":0},{"$f":"IF(NFI_Expiration=1,IF($A164<VLOOKUP(L$5,NFI,5,0),1,0)*Table_NFI[[#This Row],[Tarpaulin]],0)","v":0},{"$f":"IF(NFI_Expiration=1,IF($A164<VLOOKUP(M$5,NFI,5,0),1,0)*Table_NFI[[#This Row],[Blanket]],0)","v":0},{"$f":"IF(NFI_Expiration=1,IF($A164<VLOOKUP(N$5,NFI,5,0),1,0)*Table_NFI[[#This Row],[Kitchen Set]],0)","v":0},{"$f":"IF(NFI_Expiration=1,IF($A164<VLOOKUP(O$5,NFI,5,0),1,0)*Table_NFI[[#This Row],[Complementary Kit]],0)","v":0},{"$f":"IF(NFI_Expiration=1,IF($A164<VLOOKUP(P$5,NFI,5,0),1,0)*Table_NFI[[#This Row],[Plastic Bucket]],0)","v":0},{"$f":"IF(NFI_Expiration=1,IF($A164<VLOOKUP(Q$5,NFI,5,0),1,0)*Table_NFI[[#This Row],[Plastic Mat]],0)","v":0},{"$f":"VLOOKUP(Table_NFI[[#This Row],[Camp Name]],'Camp List'!N$5:Z$347,2,0)","v":"MMR001CMP085"},{"$f":"VLOOKUP(Table_NFI[[#This Row],[Camp Name]],'Camp List'!N$5:Z$347,13,0)","v":"Close"}]
[5.4333333333333336,"2013-02-19","UNHCR","UNHCR","Kachin","Hpakant","5 Ward Baptist Church(lon Khin)",null,null,18,30,17,64,17,17,17,17,{"$f":"IF(NFI_Expiration=1,IF($A165<VLOOKUP(H$5,NFI,5,0),1,0)*Table_NFI[[#This Row],[Hygiene Kit]],0)","v":0},{"$f":"IF(NFI_Expiration=1,IF($A165<VLOOKUP(I$5,NFI,5,0),1,0)*Table_NFI[[#This Row],[NFI Core Kit]],0)","v":0},{"$f":"IF(NFI_Expiration=1,IF($A165<VLOOKUP(J$5,NFI,5,0),1,0)*Table_NFI[[#This Row],[Sanitary Kit]],0)","v":18},{"$f":"IF(NFI_Expiration=1,IF($A165<VLOOKUP(K$5,NFI,5,0),1,0)*Table_NFI[[#This Row],[Mosquito net]],0)","v":30},{"$f":"IF(NFI_Expiration=1,IF($A165<VLOOKUP(L$5,NFI,5,0),1,0)*Table_NFI[[#This Row],[Tarpaulin]],0)","v":17},{"$f":"IF(NFI_Expiration=1,IF($A165<VLOOKUP(M$5,NFI,5,0),1,0)*Table_NFI[[#This Row],[Blanket]],0)","v":64},{"$f":"IF(NFI_Expiration=1,IF($A165<VLOOKUP(N$5,NFI,5,0),1,0)*Table_NFI[[#This Row],[Kitchen Set]],0)","v":17},{"$f":"IF(NFI_Expiration=1,IF($A165<VLOOKUP(O$5,NFI,5,0),1,0)*Table_NFI[[#This Row],[Complementary Kit]],0)","v":17},{"$f":"IF(NFI_Expiration=1,IF($A165<VLOOKUP(P$5,NFI,5,0),1,0)*Table_NFI[[#This Row],[Plastic Bucket]],0)","v":17},{"$f":"IF(NFI_Expiration=1,IF($A165<VLOOKUP(Q$5,NFI,5,0),1,0)*Table_NFI[[#This Row],[Plastic Mat]],0)","v":17},{"$f":"VLOOKUP(Table_NFI[[#This Row],[Camp Name]],'Camp List'!N$5:Z$347,2,0)","v":"MMR001CMP179"},{"$f":"VLOOKUP(Table_NFI[[#This Row],[Camp Name]],'Camp List'!N$5:Z$347,13,0)","v":"Open"}]
[4.4333333333333336,"2013-03-21","UNHCR","UNHCR","Kachin","Hpakant","Rawan Baptist Church, Maw Shan Vil., Seik Mu",null,null,15,8,8,17,8,17,17,17,{"$f":"IF(NFI_Expiration=1,IF($A166<VLOOKUP(H$5,NFI,5,0),1,0)*Table_NFI[[#This Row],[Hygiene Kit]],0)","v":0},{"$f":"IF(NFI_Expiration=1,IF($A166<VLOOKUP(I$5,NFI,5,0),1,0)*Table_NFI[[#This Row],[NFI Core Kit]],0)","v":0},{"$f":"IF(NFI_Expiration=1,IF($A166<VLOOKUP(J$5,NFI,5,0),1,0)*Table_NFI[[#This Row],[Sanitary Kit]],0)","v":15},{"$f":"IF(NFI_Expiration=1,IF($A166<VLOOKUP(K$5,NFI,5,0),1,0)*Table_NFI[[#This Row],[Mosquito net]],0)","v":8},{"$f":"IF(NFI_Expiration=1,IF($A166<VLOOKUP(L$5,NFI,5,0),1,0)*Table_NFI[[#This Row],[Tarpaulin]],0)","v":8},{"$f":"IF(NFI_Expiration=1,IF($A166<VLOOKUP(M$5,NFI,5,0),1,0)*Table_NFI[[#This Row],[Blanket]],0)","v":17},{"$f":"IF(NFI_Expiration=1,IF($A166<VLOOKUP(N$5,NFI,5,0),1,0)*Table_NFI[[#This Row],[Kitchen Set]],0)","v":8},{"$f":"IF(NFI_Expiration=1,IF($A166<VLOOKUP(O$5,NFI,5,0),1,0)*Table_NFI[[#This Row],[Complementary Kit]],0)","v":17},{"$f":"IF(NFI_Expiration=1,IF($A166<VLOOKUP(P$5,NFI,5,0),1,0)*Table_NFI[[#This Row],[Plastic Bucket]],0)","v":17},{"$f":"IF(NFI_Expiration=1,IF($A166<VLOOKUP(Q$5,NFI,5,0),1,0)*Table_NFI[[#This Row],[Plastic Mat]],0)","v":17},{"$f":"VLOOKUP(Table_NFI[[#This Row],[Camp Name]],'Camp List'!N$5:Z$347,2,0)","v":"MMR001CMP182"},{"$f":"VLOOKUP(Table_NFI[[#This Row],[Camp Name]],'Camp List'!N$5:Z$347,13,0)","v":"Open"}]
[-0.4,"2013-08-13","UNHCR","KBC","Kachin","Hseni","Narte",null,null,27,43,17,43,17,17,17,17,{"$f":"IF(NFI_Expiration=1,IF($A167<VLOOKUP(H$5,NFI,5,0),1,0)*Table_NFI[[#This Row],[Hygiene Kit]],0)","v":0},{"$f":"IF(NFI_Expiration=1,IF($A167<VLOOKUP(I$5,NFI,5,0),1,0)*Table_NFI[[#This Row],[NFI Core Kit]],0)","v":0},{"$f":"IF(NFI_Expiration=1,IF($A167<VLOOKUP(J$5,NFI,5,0),1,0)*Table_NFI[[#This Row],[Sanitary Kit]],0)","v":27},{"$f":"IF(NFI_Expiration=1,IF($A167<VLOOKUP(K$5,NFI,5,0),1,0)*Table_NFI[[#This Row],[Mosquito net]],0)","v":43},{"$f":"IF(NFI_Expiration=1,IF($A167<VLOOKUP(L$5,NFI,5,0),1,0)*Table_NFI[[#This Row],[Tarpaulin]],0)","v":17},{"$f":"IF(NFI_Expiration=1,IF($A167<VLOOKUP(M$5,NFI,5,0),1,0)*Table_NFI[[#This Row],[Blanket]],0)","v":43},{"$f":"IF(NFI_Expiration=1,IF($A167<VLOOKUP(N$5,NFI,5,0),1,0)*Table_NFI[[#This Row],[Kitchen Set]],0)","v":17},{"$f":"IF(NFI_Expiration=1,IF($A167<VLOOKUP(O$5,NFI,5,0),1,0)*Table_NFI[[#This Row],[Complementary Kit]],0)","v":17},{"$f":"IF(NFI_Expiration=1,IF($A167<VLOOKUP(P$5,NFI,5,0),1,0)*Table_NFI[[#This Row],[Plastic Bucket]],0)","v":17},{"$f":"IF(NFI_Expiration=1,IF($A167<VLOOKUP(Q$5,NFI,5,0),1,0)*Table_NFI[[#This Row],[Plastic Mat]],0)","v":17},{"$f":"VLOOKUP(Table_NFI[[#This Row],[Camp Name]],'Camp List'!N$5:Z$347,2,0)","v":"MMR015CMP207"},{"$f":"VLOOKUP(Table_NFI[[#This Row],[Camp Name]],'Camp List'!N$5:Z$347,13,0)","v":"Open"}]
[12.366666666666667,"2012-07-26","UNHCR","UNHCR","Kachin","Mogaung","Nat Gyi Kone Baptist Church ",null,null,0,21,17,21,17,17,17,17,{"$f":"IF(NFI_Expiration=1,IF($A168<VLOOKUP(H$5,NFI,5,0),1,0)*Table_NFI[[#This Row],[Hygiene Kit]],0)","v":0},{"$f":"IF(NFI_Expiration=1,IF($A168<VLOOKUP(I$5,NFI,5,0),1,0)*Table_NFI[[#This Row],[NFI Core Kit]],0)","v":0},{"$f":"IF(NFI_Expiration=1,IF($A168<VLOOKUP(J$5,NFI,5,0),1,0)*Table_NFI[[#This Row],[Sanitary Kit]],0)","v":0},{"$f":"IF(NFI_Expiration=1,IF($A168<VLOOKUP(K$5,NFI,5,0),1,0)*Table_NFI[[#This Row],[Mosquito net]],0)","v":0},{"$f":"IF(NFI_Expiration=1,IF($A168<VLOOKUP(L$5,NFI,5,0),1,0)*Table_NFI[[#This Row],[Tarpaulin]],0)","v":0},{"$f":"IF(NFI_Expiration=1,IF($A168<VLOOKUP(M$5,NFI,5,0),1,0)*Table_NFI[[#This Row],[Blanket]],0)","v":0},{"$f":"IF(NFI_Expiration=1,IF($A168<VLOOKUP(N$5,NFI,5,0),1,0)*Table_NFI[[#This Row],[Kitchen Set]],0)","v":0},{"$f":"IF(NFI_Expiration=1,IF($A168<VLOOKUP(O$5,NFI,5,0),1,0)*Table_NFI[[#This Row],[Complementary Kit]],0)","v":0},{"$f":"IF(NFI_Expiration=1,IF($A168<VLOOKUP(P$5,NFI,5,0),1,0)*Table_NFI[[#This Row],[Plastic Bucket]],0)","v":0},{"$f":"IF(NFI_Expiration=1,IF($A168<VLOOKUP(Q$5,NFI,5,0),1,0)*Table_NFI[[#This Row],[Plastic Mat]],0)","v":0},{"$f":"VLOOKUP(Table_NFI[[#This Row],[Camp Name]],'Camp List'!N$5:Z$347,2,0)","v":"MMR001CMP079"},{"$f":"VLOOKUP(Table_NFI[[#This Row],[Camp Name]],'Camp List'!N$5:Z$347,13,0)","v":"Open"}]
[11,"2012-09-05","UNHCR","UNHCR","Kachin","Momauk","Loi Je Baptist Church",null,null,0,40,17,40,17,17,17,17,{"$f":"IF(NFI_Expiration=1,IF($A169<VLOOKUP(H$5,NFI,5,0),1,0)*Table_NFI[[#This Row],[Hygiene Kit]],0)","v":0},{"$f":"IF(NFI_Expiration=1,IF($A169<VLOOKUP(I$5,NFI,5,0),1,0)*Table_NFI[[#This Row],[NFI Core Kit]],0)","v":0},{"$f":"IF(NFI_Expiration=1,IF($A169<VLOOKUP(J$5,NFI,5,0),1,0)*Table_NFI[[#This Row],[Sanitary Kit]],0)","v":0},{"$f":"IF(NFI_Expiration=1,IF($A169<VLOOKUP(K$5,NFI,5,0),1,0)*Table_NFI[[#This Row],[Mosquito net]],0)","v":40},{"$f":"IF(NFI_Expiration=1,IF($A169<VLOOKUP(L$5,NFI,5,0),1,0)*Table_NFI[[#This Row],[Tarpaulin]],0)","v":17},{"$f":"IF(NFI_Expiration=1,IF($A169<VLOOKUP(M$5,NFI,5,0),1,0)*Table_NFI[[#This Row],[Blanket]],0)","v":40},{"$f":"IF(NFI_Expiration=1,IF($A169<VLOOKUP(N$5,NFI,5,0),1,0)*Table_NFI[[#This Row],[Kitchen Set]],0)","v":17},{"$f":"IF(NFI_Expiration=1,IF($A169<VLOOKUP(O$5,NFI,5,0),1,0)*Table_NFI[[#This Row],[Complementary Kit]],0)","v":17},{"$f":"IF(NFI_Expiration=1,IF($A169<VLOOKUP(P$5,NFI,5,0),1,0)*Table_NFI[[#This Row],[Plastic Bucket]],0)","v":17},{"$f":"IF(NFI_Expiration=1,IF($A169<VLOOKUP(Q$5,NFI,5,0),1,0)*Table_NFI[[#This Row],[Plastic Mat]],0)","v":17},{"$f":"VLOOKUP(Table_NFI[[#This Row],[Camp Name]],'Camp List'!N$5:Z$347,2,0)","v":"MMR001CMP071"},{"$f":"VLOOKUP(Table_NFI[[#This Row],[Camp Name]],'Camp List'!N$5:Z$347,13,0)","v":"Open"}]
[9.8000000000000007,"2012-10-11","UNHCR","UNHCR","Kachin","Momauk","Seng Ja ",null,null,0,28,17,28,17,17,17,17,{"$f":"IF(NFI_Expiration=1,IF($A170<VLOOKUP(H$5,NFI,5,0),1,0)*Table_NFI[[#This Row],[Hygiene Kit]],0)","v":0},{"$f":"IF(NFI_Expiration=1,IF($A170<VLOOKUP(I$5,NFI,5,0),1,0)*Table_NFI[[#This Row],[NFI Core Kit]],0)","v":0},{"$f":"IF(NFI_Expiration=1,IF($A170<VLOOKUP(J$5,NFI,5,0),1,0)*Table_NFI[[#This Row],[Sanitary Kit]],0)","v":0},{"$f":"IF(NFI_Expiration=1,IF($A170<VLOOKUP(K$5,NFI,5,0),1,0)*Table_NFI[[#This Row],[Mosquito net]],0)","v":28},{"$f":"IF(NFI_Expiration=1,IF($A170<VLOOKUP(L$5,NFI,5,0),1,0)*Table_NFI[[#This Row],[Tarpaulin]],0)","v":17},{"$f":"IF(NFI_Expiration=1,IF($A170<VLOOKUP(M$5,NFI,5,0),1,0)*Table_NFI[[#This Row],[Blanket]],0)","v":28},{"$f":"IF(NFI_Expiration=1,IF($A170<VLOOKUP(N$5,NFI,5,0),1,0)*Table_NFI[[#This Row],[Kitchen Set]],0)","v":17},{"$f":"IF(NFI_Expiration=1,IF($A170<VLOOKUP(O$5,NFI,5,0),1,0)*Table_NFI[[#This Row],[Complementary Kit]],0)","v":17},{"$f":"IF(NFI_Expiration=1,IF($A170<VLOOKUP(P$5,NFI,5,0),1,0)*Table_NFI[[#This Row],[Plastic Bucket]],0)","v":17},{"$f":"IF(NFI_Expiration=1,IF($A170<VLOOKUP(Q$5,NFI,5,0),1,0)*Table_NFI[[#This Row],[Plastic Mat]],0)","v":17},{"$f":"VLOOKUP(Table_NFI[[#This Row],[Camp Name]],'Camp List'!N$5:Z$347,2,0)","v":"MMR001CMP073"},{"$f":"VLOOKUP(Table_NFI[[#This Row],[Camp Name]],'Camp List'!N$5:Z$347,13,0)","v":"Open"}]
[20.833333333333332,"2011-11-15","UNHCR","KBC","Kachin","Myitkyina","Tat Kone San Pya Baptist Church",null,null,0,30,17,30,17,17,17,17,{"$f":"IF(NFI_Expiration=1,IF($A171<VLOOKUP(H$5,NFI,5,0),1,0)*Table_NFI[[#This Row],[Hygiene Kit]],0)","v":0},{"$f":"IF(NFI_Expiration=1,IF($A171<VLOOKUP(I$5,NFI,5,0),1,0)*Table_NFI[[#This Row],[NFI Core Kit]],0)","v":0},{"$f":"IF(NFI_Expiration=1,IF($A171<VLOOKUP(J$5,NFI,5,0),1,0)*Table_NFI[[#This Row],[Sanitary Kit]],0)","v":0},{"$f":"IF(NFI_Expiration=1,IF($A171<VLOOKUP(K$5,NFI,5,0),1,0)*Table_NFI[[#This Row],[Mosquito net]],0)","v":0},{"$f":"IF(NFI_Expiration=1,IF($A171<VLOOKUP(L$5,NFI,5,0),1,0)*Table_NFI[[#This Row],[Tarpaulin]],0)","v":0},{"$f":"IF(NFI_Expiration=1,IF($A171<VLOOKUP(M$5,NFI,5,0),1,0)*Table_NFI[[#This Row],[Blanket]],0)","v":0},{"$f":"IF(NFI_Expiration=1,IF($A171<VLOOKUP(N$5,NFI,5,0),1,0)*Table_NFI[[#This Row],[Kitchen Set]],0)","v":0},{"$f":"IF(NFI_Expiration=1,IF($A171<VLOOKUP(O$5,NFI,5,0),1,0)*Table_NFI[[#This Row],[Complementary Kit]],0)","v":0},{"$f":"IF(NFI_Expiration=1,IF($A171<VLOOKUP(P$5,NFI,5,0),1,0)*Table_NFI[[#This Row],[Plastic Bucket]],0)","v":0},{"$f":"IF(NFI_Expiration=1,IF($A171<VLOOKUP(Q$5,NFI,5,0),1,0)*Table_NFI[[#This Row],[Plastic Mat]],0)","v":0},{"$f":"VLOOKUP(Table_NFI[[#This Row],[Camp Name]],'Camp List'!N$5:Z$347,2,0)","v":"MMR001CMP005"},{"$f":"VLOOKUP(Table_NFI[[#This Row],[Camp Name]],'Camp List'!N$5:Z$347,13,0)","v":"Open"}]
[14.2,"2012-06-01","UNHCR","UNHCR","Kachin","Myitkyina","Maw Hpawng Lhaovo Baptist Church",null,null,0,35,17,35,17,17,17,17,{"$f":"IF(NFI_Expiration=1,IF($A172<VLOOKUP(H$5,NFI,5,0),1,0)*Table_NFI[[#This Row],[Hygiene Kit]],0)","v":0},{"$f":"IF(NFI_Expiration=1,IF($A172<VLOOKUP(I$5,NFI,5,0),1,0)*Table_NFI[[#This Row],[NFI Core Kit]],0)","v":0},{"$f":"IF(NFI_Expiration=1,IF($A172<VLOOKUP(J$5,NFI,5,0),1,0)*Table_NFI[[#This Row],[Sanitary Kit]],0)","v":0},{"$f":"IF(NFI_Expiration=1,IF($A172<VLOOKUP(K$5,NFI,5,0),1,0)*Table_NFI[[#This Row],[Mosquito net]],0)","v":0},{"$f":"IF(NFI_Expiration=1,IF($A172<VLOOKUP(L$5,NFI,5,0),1,0)*Table_NFI[[#This Row],[Tarpaulin]],0)","v":0},{"$f":"IF(NFI_Expiration=1,IF($A172<VLOOKUP(M$5,NFI,5,0),1,0)*Table_NFI[[#This Row],[Blanket]],0)","v":0},{"$f":"IF(NFI_Expiration=1,IF($A172<VLOOKUP(N$5,NFI,5,0),1,0)*Table_NFI[[#This Row],[Kitchen Set]],0)","v":0},{"$f":"IF(NFI_Expiration=1,IF($A172<VLOOKUP(O$5,NFI,5,0),1,0)*Table_NFI[[#This Row],[Complementary Kit]],0)","v":0},{"$f":"IF(NFI_Expiration=1,IF($A172<VLOOKUP(P$5,NFI,5,0),1,0)*Table_NFI[[#This Row],[Plastic Bucket]],0)","v":0},{"$f":"IF(NFI_Expiration=1,IF($A172<VLOOKUP(Q$5,NFI,5,0),1,0)*Table_NFI[[#This Row],[Plastic Mat]],0)","v":0},{"$f":"VLOOKUP(Table_NFI[[#This Row],[Camp Name]],'Camp List'!N$5:Z$347,2,0)","v":"MMR001CMP021"},{"$f":"VLOOKUP(Table_NFI[[#This Row],[Camp Name]],'Camp List'!N$5:Z$347,13,0)","v":"Open"}]
[0.26666666666666666,"2013-07-24","UNHCR","KMSS","Kachin","Myitkyina","Pa Dauk Myaing(Pa La Na)",null,null,31,41,17,41,17,17,17,17,{"$f":"IF(NFI_Expiration=1,IF($A173<VLOOKUP(H$5,NFI,5,0),1,0)*Table_NFI[[#This Row],[Hygiene Kit]],0)","v":0},{"$f":"IF(NFI_Expiration=1,IF($A173<VLOOKUP(I$5,NFI,5,0),1,0)*Table_NFI[[#This Row],[NFI Core Kit]],0)","v":0},{"$f":"IF(NFI_Expiration=1,IF($A173<VLOOKUP(J$5,NFI,5,0),1,0)*Table_NFI[[#This Row],[Sanitary Kit]],0)","v":31},{"$f":"IF(NFI_Expiration=1,IF($A173<VLOOKUP(K$5,NFI,5,0),1,0)*Table_NFI[[#This Row],[Mosquito net]],0)","v":41},{"$f":"IF(NFI_Expiration=1,IF($A173<VLOOKUP(L$5,NFI,5,0),1,0)*Table_NFI[[#This Row],[Tarpaulin]],0)","v":17},{"$f":"IF(NFI_Expiration=1,IF($A173<VLOOKUP(M$5,NFI,5,0),1,0)*Table_NFI[[#This Row],[Blanket]],0)","v":41},{"$f":"IF(NFI_Expiration=1,IF($A173<VLOOKUP(N$5,NFI,5,0),1,0)*Table_NFI[[#This Row],[Kitchen Set]],0)","v":17},{"$f":"IF(NFI_Expiration=1,IF($A173<VLOOKUP(O$5,NFI,5,0),1,0)*Table_NFI[[#This Row],[Complementary Kit]],0)","v":17},{"$f":"IF(NFI_Expiration=1,IF($A173<VLOOKUP(P$5,NFI,5,0),1,0)*Table_NFI[[#This Row],[Plastic Bucket]],0)","v":17},{"$f":"IF(NFI_Expiration=1,IF($A173<VLOOKUP(Q$5,NFI,5,0),1,0)*Table_NFI[[#This Row],[Plastic Mat]],0)","v":17},{"$f":"VLOOKUP(Table_NFI[[#This Row],[Camp Name]],'Camp List'!N$5:Z$347,2,0)","v":"MMR001CMP162"},{"$f":"VLOOKUP(Table_NFI[[#This Row],[Camp Name]],'Camp List'!N$5:Z$347,13,0)","v":"Open"}]
[18.866666666666667,"2012-01-13","UNHCR","UNHCR","Kachin","Waingmaw","Maina Lawang Baptist Church",null,null,0,35,17,35,17,17,17,17,{"$f":"IF(NFI_Expiration=1,IF($A174<VLOOKUP(H$5,NFI,5,0),1,0)*Table_NFI[[#This Row],[Hygiene Kit]],0)","v":0},{"$f":"IF(NFI_Expiration=1,IF($A174<VLOOKUP(I$5,NFI,5,0),1,0)*Table_NFI[[#This Row],[NFI Core Kit]],0)","v":0},{"$f":"IF(NFI_Expiration=1,IF($A174<VLOOKUP(J$5,NFI,5,0),1,0)*Table_NFI[[#This Row],[Sanitary Kit]],0)","v":0},{"$f":"IF(NFI_Expiration=1,IF($A174<VLOOKUP(K$5,NFI,5,0),1,0)*Table_NFI[[#This Row],[Mosquito net]],0)","v":0},{"$f":"IF(NFI_Expiration=1,IF($A174<VLOOKUP(L$5,NFI,5,0),1,0)*Table_NFI[[#This Row],[Tarpaulin]],0)","v":0},{"$f":"IF(NFI_Expiration=1,IF($A174<VLOOKUP(M$5,NFI,5,0),1,0)*Table_NFI[[#This Row],[Blanket]],0)","v":0},{"$f":"IF(NFI_Expiration=1,IF($A174<VLOOKUP(N$5,NFI,5,0),1,0)*Table_NFI[[#This Row],[Kitchen Set]],0)","v":0},{"$f":"IF(NFI_Expiration=1,IF($A174<VLOOKUP(O$5,NFI,5,0),1,0)*Table_NFI[[#This Row],[Complementary Kit]],0)","v":0},{"$f":"IF(NFI_Expiration=1,IF($A174<VLOOKUP(P$5,NFI,5,0),1,0)*Table_NFI[[#This Row],[Plastic Bucket]],0)","v":0},{"$f":"IF(NFI_Expiration=1,IF($A174<VLOOKUP(Q$5,NFI,5,0),1,0)*Table_NFI[[#This Row],[Plastic Mat]],0)","v":0},{"$f":"VLOOKUP(Table_NFI[[#This Row],[Camp Name]],'Camp List'!N$5:Z$347,2,0)","v":"MMR001CMP039"},{"$f":"VLOOKUP(Table_NFI[[#This Row],[Camp Name]],'Camp List'!N$5:Z$347,13,0)","v":"Open"}]
[13.6,"2012-06-19","UNHCR","UNHCR","Kachin","Waingmaw","Maina KBC (Bawng Ring)",null,null,0,32,17,32,17,17,17,17,{"$f":"IF(NFI_Expiration=1,IF($A175<VLOOKUP(H$5,NFI,5,0),1,0)*Table_NFI[[#This Row],[Hygiene Kit]],0)","v":0},{"$f":"IF(NFI_Expiration=1,IF($A175<VLOOKUP(I$5,NFI,5,0),1,0)*Table_NFI[[#This Row],[NFI Core Kit]],0)","v":0},{"$f":"IF(NFI_Expiration=1,IF($A175<VLOOKUP(J$5,NFI,5,0),1,0)*Table_NFI[[#This Row],[Sanitary Kit]],0)","v":0},{"$f":"IF(NFI_Expiration=1,IF($A175<VLOOKUP(K$5,NFI,5,0),1,0)*Table_NFI[[#This Row],[Mosquito net]],0)","v":0},{"$f":"IF(NFI_Expiration=1,IF($A175<VLOOKUP(L$5,NFI,5,0),1,0)*Table_NFI[[#This Row],[Tarpaulin]],0)","v":0},{"$f":"IF(NFI_Expiration=1,IF($A175<VLOOKUP(M$5,NFI,5,0),1,0)*Table_NFI[[#This Row],[Blanket]],0)","v":0},{"$f":"IF(NFI_Expiration=1,IF($A175<VLOOKUP(N$5,NFI,5,0),1,0)*Table_NFI[[#This Row],[Kitchen Set]],0)","v":0},{"$f":"IF(NFI_Expiration=1,IF($A175<VLOOKUP(O$5,NFI,5,0),1,0)*Table_NFI[[#This Row],[Complementary Kit]],0)","v":0},{"$f":"IF(NFI_Expiration=1,IF($A175<VLOOKUP(P$5,NFI,5,0),1,0)*Table_NFI[[#This Row],[Plastic Bucket]],0)","v":0},{"$f":"IF(NFI_Expiration=1,IF($A175<VLOOKUP(Q$5,NFI,5,0),1,0)*Table_NFI[[#This Row],[Plastic Mat]],0)","v":0},{"$f":"VLOOKUP(Table_NFI[[#This Row],[Camp Name]],'Camp List'!N$5:Z$347,2,0)","v":"MMR001CMP040"},{"$f":"VLOOKUP(Table_NFI[[#This Row],[Camp Name]],'Camp List'!N$5:Z$347,13,0)","v":"Open"}]
[13.033333333333333,"2012-07-06","UNHCR","UNHCR","Kachin","Waingmaw","Waingmaw AG Church",null,null,0,17,17,17,17,17,17,17,{"$f":"IF(NFI_Expiration=1,IF($A176<VLOOKUP(H$5,NFI,5,0),1,0)*Table_NFI[[#This Row],[Hygiene Kit]],0)","v":0},{"$f":"IF(NFI_Expiration=1,IF($A176<VLOOKUP(I$5,NFI,5,0),1,0)*Table_NFI[[#This Row],[NFI Core Kit]],0)","v":0},{"$f":"IF(NFI_Expiration=1,IF($A176<VLOOKUP(J$5,NFI,5,0),1,0)*Table_NFI[[#This Row],[Sanitary Kit]],0)","v":0},{"$f":"IF(NFI_Expiration=1,IF($A176<VLOOKUP(K$5,NFI,5,0),1,0)*Table_NFI[[#This Row],[Mosquito net]],0)","v":0},{"$f":"IF(NFI_Expiration=1,IF($A176<VLOOKUP(L$5,NFI,5,0),1,0)*Table_NFI[[#This Row],[Tarpaulin]],0)","v":0},{"$f":"IF(NFI_Expiration=1,IF($A176<VLOOKUP(M$5,NFI,5,0),1,0)*Table_NFI[[#This Row],[Blanket]],0)","v":0},{"$f":"IF(NFI_Expiration=1,IF($A176<VLOOKUP(N$5,NFI,5,0),1,0)*Table_NFI[[#This Row],[Kitchen Set]],0)","v":0},{"$f":"IF(NFI_Expiration=1,IF($A176<VLOOKUP(O$5,NFI,5,0),1,0)*Table_NFI[[#This Row],[Complementary Kit]],0)","v":0},{"$f":"IF(NFI_Expiration=1,IF($A176<VLOOKUP(P$5,NFI,5,0),1,0)*Table_NFI[[#This Row],[Plastic Bucket]],0)","v":0},{"$f":"IF(NFI_Expiration=1,IF($A176<VLOOKUP(Q$5,NFI,5,0),1,0)*Table_NFI[[#This Row],[Plastic Mat]],0)","v":0},{"$f":"VLOOKUP(Table_NFI[[#This Row],[Camp Name]],'Camp List'!N$5:Z$347,2,0)","v":"MMR001CMP038"},{"$f":"VLOOKUP(Table_NFI[[#This Row],[Camp Name]],'Camp List'!N$5:Z$347,13,0)","v":"Open"}]
[-0.2,"2013-08-07","UNHCR","UNHCR","Kachin","Waingmaw","Maina AG Church",null,null,20,40,17,40,17,17,17,17,{"$f":"IF(NFI_Expiration=1,IF($A177<VLOOKUP(H$5,NFI,5,0),1,0)*Table_NFI[[#This Row],[Hygiene Kit]],0)","v":0},{"$f":"IF(NFI_Expiration=1,IF($A177<VLOOKUP(I$5,NFI,5,0),1,0)*Table_NFI[[#This Row],[NFI Core Kit]],0)","v":0},{"$f":"IF(NFI_Expiration=1,IF($A177<VLOOKUP(J$5,NFI,5,0),1,0)*Table_NFI[[#This Row],[Sanitary Kit]],0)","v":20},{"$f":"IF(NFI_Expiration=1,IF($A177<VLOOKUP(K$5,NFI,5,0),1,0)*Table_NFI[[#This Row],[Mosquito net]],0)","v":40},{"$f":"IF(NFI_Expiration=1,IF($A177<VLOOKUP(L$5,NFI,5,0),1,0)*Table_NFI[[#This Row],[Tarpaulin]],0)","v":17},{"$f":"IF(NFI_Expiration=1,IF($A177<VLOOKUP(M$5,NFI,5,0),1,0)*Table_NFI[[#This Row],[Blanket]],0)","v":40},{"$f":"IF(NFI_Expiration=1,IF($A177<VLOOKUP(N$5,NFI,5,0),1,0)*Table_NFI[[#This Row],[Kitchen Set]],0)","v":17},{"$f":"IF(NFI_Expiration=1,IF($A177<VLOOKUP(O$5,NFI,5,0),1,0)*Table_NFI[[#This Row],[Complementary Kit]],0)","v":17},{"$f":"IF(NFI_Expiration=1,IF($A177<VLOOKUP(P$5,NFI,5,0),1,0)*Table_NFI[[#This Row],[Plastic Bucket]],0)","v":17},{"$f":"IF(NFI_Expiration=1,IF($A177<VLOOKUP(Q$5,NFI,5,0),1,0)*Table_NFI[[#This Row],[Plastic Mat]],0)","v":17},{"$f":"VLOOKUP(Table_NFI[[#This Row],[Camp Name]],'Camp List'!N$5:Z$347,2,0)","v":"MMR001CMP031"},{"$f":"VLOOKUP(Table_NFI[[#This Row],[Camp Name]],'Camp List'!N$5:Z$347,13,0)","v":"Open"}]
[5.4333333333333336,"2013-02-19","UNHCR","UNHCR","Kachin","Hpakant","Association of Christ, Nam Ma Phyit",null,null,19,30,18,68,18,18,18,18,{"$f":"IF(NFI_Expiration=1,IF($A178<VLOOKUP(H$5,NFI,5,0),1,0)*Table_NFI[[#This Row],[Hygiene Kit]],0)","v":0},{"$f":"IF(NFI_Expiration=1,IF($A178<VLOOKUP(I$5,NFI,5,0),1,0)*Table_NFI[[#This Row],[NFI Core Kit]],0)","v":0},{"$f":"IF(NFI_Expiration=1,IF($A178<VLOOKUP(J$5,NFI,5,0),1,0)*Table_NFI[[#This Row],[Sanitary Kit]],0)","v":19},{"$f":"IF(NFI_Expiration=1,IF($A178<VLOOKUP(K$5,NFI,5,0),1,0)*Table_NFI[[#This Row],[Mosquito net]],0)","v":30},{"$f":"IF(NFI_Expiration=1,IF($A178<VLOOKUP(L$5,NFI,5,0),1,0)*Table_NFI[[#This Row],[Tarpaulin]],0)","v":18},{"$f":"IF(NFI_Expiration=1,IF($A178<VLOOKUP(M$5,NFI,5,0),1,0)*Table_NFI[[#This Row],[Blanket]],0)","v":68},{"$f":"IF(NFI_Expiration=1,IF($A178<VLOOKUP(N$5,NFI,5,0),1,0)*Table_NFI[[#This Row],[Kitchen Set]],0)","v":18},{"$f":"IF(NFI_Expiration=1,IF($A178<VLOOKUP(O$5,NFI,5,0),1,0)*Table_NFI[[#This Row],[Complementary Kit]],0)","v":18},{"$f":"IF(NFI_Expiration=1,IF($A178<VLOOKUP(P$5,NFI,5,0),1,0)*Table_NFI[[#This Row],[Plastic Bucket]],0)","v":18},{"$f":"IF(NFI_Expiration=1,IF($A178<VLOOKUP(Q$5,NFI,5,0),1,0)*Table_NFI[[#This Row],[Plastic Mat]],0)","v":18},{"$f":"VLOOKUP(Table_NFI[[#This Row],[Camp Name]],'Camp List'!N$5:Z$347,2,0)","v":{"$error":"#N/A"}},{"$f":"VLOOKUP(Table_NFI[[#This Row],[Camp Name]],'Camp List'!N$5:Z$347,13,0)","v":{"$error":"#N/A"}}]
[17.399999999999999,"2012-02-26","UNHCR","UNHCR","Kachin","Myitkyina","Pamati Kayan",null,null,0,25,18,25,18,18,18,18,{"$f":"IF(NFI_Expiration=1,IF($A179<VLOOKUP(H$5,NFI,5,0),1,0)*Table_NFI[[#This Row],[Hygiene Kit]],0)","v":0},{"$f":"IF(NFI_Expiration=1,IF($A179<VLOOKUP(I$5,NFI,5,0),1,0)*Table_NFI[[#This Row],[NFI Core Kit]],0)","v":0},{"$f":"IF(NFI_Expiration=1,IF($A179<VLOOKUP(J$5,NFI,5,0),1,0)*Table_NFI[[#This Row],[Sanitary Kit]],0)","v":0},{"$f":"IF(NFI_Expiration=1,IF($A179<VLOOKUP(K$5,NFI,5,0),1,0)*Table_NFI[[#This Row],[Mosquito net]],0)","v":0},{"$f":"IF(NFI_Expiration=1,IF($A179<VLOOKUP(L$5,NFI,5,0),1,0)*Table_NFI[[#This Row],[Tarpaulin]],0)","v":0},{"$f":"IF(NFI_Expiration=1,IF($A179<VLOOKUP(M$5,NFI,5,0),1,0)*Table_NFI[[#This Row],[Blanket]],0)","v":0},{"$f":"IF(NFI_Expiration=1,IF($A179<VLOOKUP(N$5,NFI,5,0),1,0)*Table_NFI[[#This Row],[Kitchen Set]],0)","v":0},{"$f":"IF(NFI_Expiration=1,IF($A179<VLOOKUP(O$5,NFI,5,0),1,0)*Table_NFI[[#This Row],[Complementary Kit]],0)","v":0},{"$f":"IF(NFI_Expiration=1,IF($A179<VLOOKUP(P$5,NFI,5,0),1,0)*Table_NFI[[#This Row],[Plastic Bucket]],0)","v":0},{"$f":"IF(NFI_Expiration=1,IF($A179<VLOOKUP(Q$5,NFI,5,0),1,0)*Table_NFI[[#This Row],[Plastic Mat]],0)","v":0},{"$f":"VLOOKUP(Table_NFI[[#This Row],[Camp Name]],'Camp List'!N$5:Z$347,2,0)","v":{"$error":"#N/A"}},{"$f":"VLOOKUP(Table_NFI[[#This Row],[Camp Name]],'Camp List'!N$5:Z$347,13,0)","v":{"$error":"#N/A"}}]
[18.033333333333335,"2012-02-07","UNHCR","SC&L Group","Kachin","Myitkyina","Maw Hpawng Hka Nan Baptist Church",null,null,0,38,18,38,18,18,18,18,{"$f":"IF(NFI_Expiration=1,IF($A180<VLOOKUP(H$5,NFI,5,0),1,0)*Table_NFI[[#This Row],[Hygiene Kit]],0)","v":0},{"$f":"IF(NFI_Expiration=1,IF($A180<VLOOKUP(I$5,NFI,5,0),1,0)*Table_NFI[[#This Row],[NFI Core Kit]],0)","v":0},{"$f":"IF(NFI_Expiration=1,IF($A180<VLOOKUP(J$5,NFI,5,0),1,0)*Table_NFI[[#This Row],[Sanitary Kit]],0)","v":0},{"$f":"IF(NFI_Expiration=1,IF($A180<VLOOKUP(K$5,NFI,5,0),1,0)*Table_NFI[[#This Row],[Mosquito net]],0)","v":0},{"$f":"IF(NFI_Expiration=1,IF($A180<VLOOKUP(L$5,NFI,5,0),1,0)*Table_NFI[[#This Row],[Tarpaulin]],0)","v":0},{"$f":"IF(NFI_Expiration=1,IF($A180<VLOOKUP(M$5,NFI,5,0),1,0)*Table_NFI[[#This Row],[Blanket]],0)","v":0},{"$f":"IF(NFI_Expiration=1,IF($A180<VLOOKUP(N$5,NFI,5,0),1,0)*Table_NFI[[#This Row],[Kitchen Set]],0)","v":0},{"$f":"IF(NFI_Expiration=1,IF($A180<VLOOKUP(O$5,NFI,5,0),1,0)*Table_NFI[[#This Row],[Complementary Kit]],0)","v":0},{"$f":"IF(NFI_Expiration=1,IF($A180<VLOOKUP(P$5,NFI,5,0),1,0)*Table_NFI[[#This Row],[Plastic Bucket]],0)","v":0},{"$f":"IF(NFI_Expiration=1,IF($A180<VLOOKUP(Q$5,NFI,5,0),1,0)*Table_NFI[[#This Row],[Plastic Mat]],0)","v":0},{"$f":"VLOOKUP(Table_NFI[[#This Row],[Camp Name]],'Camp List'!N$5:Z$347,2,0)","v":"MMR001CMP020"},{"$f":"VLOOKUP(Table_NFI[[#This Row],[Camp Name]],'Camp List'!N$5:Z$347,13,0)","v":"Open"}]
[0.26666666666666666,"2013-07-24","UNHCR","KBC","Kachin","Myitkyina","Qtr. 2 Myoma Baptist Church",null,null,31,44,18,44,18,18,18,18,{"$f":"IF(NFI_Expiration=1,IF($A181<VLOOKUP(H$5,NFI,5,0),1,0)*Table_NFI[[#This Row],[Hygiene Kit]],0)","v":0},{"$f":"IF(NFI_Expiration=1,IF($A181<VLOOKUP(I$5,NFI,5,0),1,0)*Table_NFI[[#This Row],[NFI Core Kit]],0)","v":0},{"$f":"IF(NFI_Expiration=1,IF($A181<VLOOKUP(J$5,NFI,5,0),1,0)*Table_NFI[[#This Row],[Sanitary Kit]],0)","v":31},{"$f":"IF(NFI_Expiration=1,IF($A181<VLOOKUP(K$5,NFI,5,0),1,0)*Table_NFI[[#This Row],[Mosquito net]],0)","v":44},{"$f":"IF(NFI_Expiration=1,IF($A181<VLOOKUP(L$5,NFI,5,0),1,0)*Table_NFI[[#This Row],[Tarpaulin]],0)","v":18},{"$f":"IF(NFI_Expiration=1,IF($A181<VLOOKUP(M$5,NFI,5,0),1,0)*Table_NFI[[#This Row],[Blanket]],0)","v":44},{"$f":"IF(NFI_Expiration=1,IF($A181<VLOOKUP(N$5,NFI,5,0),1,0)*Table_NFI[[#This Row],[Kitchen Set]],0)","v":18},{"$f":"IF(NFI_Expiration=1,IF($A181<VLOOKUP(O$5,NFI,5,0),1,0)*Table_NFI[[#This Row],[Complementary Kit]],0)","v":18},{"$f":"IF(NFI_Expiration=1,IF($A181<VLOOKUP(P$5,NFI,5,0),1,0)*Table_NFI[[#This Row],[Plastic Bucket]],0)","v":18},{"$f":"IF(NFI_Expiration=1,IF($A181<VLOOKUP(Q$5,NFI,5,0),1,0)*Table_NFI[[#This Row],[Plastic Mat]],0)","v":18},{"$f":"VLOOKUP(Table_NFI[[#This Row],[Camp Name]],'Camp List'!N$5:Z$347,2,0)","v":"MMR001CMP025"},{"$f":"VLOOKUP(Table_NFI[[#This Row],[Camp Name]],'Camp List'!N$5:Z$347,13,0)","v":"Open"}]
[17.066666666666666,"2012-03-07","UNHCR","UNHCR","Kachin","Waingmaw","Thargaya Lisu Baptist Church",null,null,0,38,18,38,17,18,18,{"$f":"O182","v":18},{"$f":"IF(NFI_Expiration=1,IF($A182<VLOOKUP(H$5,NFI,5,0),1,0)*Table_NFI[[#This Row],[Hygiene Kit]],0)","v":0},{"$f":"IF(NFI_Expiration=1,IF($A182<VLOOKUP(I$5,NFI,5,0),1,0)*Table_NFI[[#This Row],[NFI Core Kit]],0)","v":0},{"$f":"IF(NFI_Expiration=1,IF($A182<VLOOKUP(J$5,NFI,5,0),1,0)*Table_NFI[[#This Row],[Sanitary Kit]],0)","v":0},{"$f":"IF(NFI_Expiration=1,IF($A182<VLOOKUP(K$5,NFI,5,0),1,0)*Table_NFI[[#This Row],[Mosquito net]],0)","v":0},{"$f":"IF(NFI_Expiration=1,IF($A182<VLOOKUP(L$5,NFI,5,0),1,0)*Table_NFI[[#This Row],[Tarpaulin]],0)","v":0},{"$f":"IF(NFI_Expiration=1,IF($A182<VLOOKUP(M$5,NFI,5,0),1,0)*Table_NFI[[#This Row],[Blanket]],0)","v":0},{"$f":"IF(NFI_Expiration=1,IF($A182<VLOOKUP(N$5,NFI,5,0),1,0)*Table_NFI[[#This Row],[Kitchen Set]],0)","v":0},{"$f":"IF(NFI_Expiration=1,IF($A182<VLOOKUP(O$5,NFI,5,0),1,0)*Table_NFI[[#This Row],[Complementary Kit]],0)","v":0},{"$f":"IF(NFI_Expiration=1,IF($A182<VLOOKUP(P$5,NFI,5,0),1,0)*Table_NFI[[#This Row],[Plastic Bucket]],0)","v":0},{"$f":"IF(NFI_Expiration=1,IF($A182<VLOOKUP(Q$5,NFI,5,0),1,0)*Table_NFI[[#This Row],[Plastic Mat]],0)","v":0},{"$f":"VLOOKUP(Table_NFI[[#This Row],[Camp Name]],'Camp List'!N$5:Z$347,2,0)","v":"MMR001CMP037"},{"$f":"VLOOKUP(Table_NFI[[#This Row],[Camp Name]],'Camp List'!N$5:Z$347,13,0)","v":"Open"}]
[15.166666666666666,"2012-05-03","UNHCR","UNHCR","Kachin","Waingmaw","Qtr. 4 Monestry (Thargaya Thayett Taw)",null,null,0,34,0,34,0,18,18,18,{"$f":"IF(NFI_Expiration=1,IF($A183<VLOOKUP(H$5,NFI,5,0),1,0)*Table_NFI[[#This Row],[Hygiene Kit]],0)","v":0},{"$f":"IF(NFI_Expiration=1,IF($A183<VLOOKUP(I$5,NFI,5,0),1,0)*Table_NFI[[#This Row],[NFI Core Kit]],0)","v":0},{"$f":"IF(NFI_Expiration=1,IF($A183<VLOOKUP(J$5,NFI,5,0),1,0)*Table_NFI[[#This Row],[Sanitary Kit]],0)","v":0},{"$f":"IF(NFI_Expiration=1,IF($A183<VLOOKUP(K$5,NFI,5,0),1,0)*Table_NFI[[#This Row],[Mosquito net]],0)","v":0},{"$f":"IF(NFI_Expiration=1,IF($A183<VLOOKUP(L$5,NFI,5,0),1,0)*Table_NFI[[#This Row],[Tarpaulin]],0)","v":0},{"$f":"IF(NFI_Expiration=1,IF($A183<VLOOKUP(M$5,NFI,5,0),1,0)*Table_NFI[[#This Row],[Blanket]],0)","v":0},{"$f":"IF(NFI_Expiration=1,IF($A183<VLOOKUP(N$5,NFI,5,0),1,0)*Table_NFI[[#This Row],[Kitchen Set]],0)","v":0},{"$f":"IF(NFI_Expiration=1,IF($A183<VLOOKUP(O$5,NFI,5,0),1,0)*Table_NFI[[#This Row],[Complementary Kit]],0)","v":0},{"$f":"IF(NFI_Expiration=1,IF($A183<VLOOKUP(P$5,NFI,5,0),1,0)*Table_NFI[[#This Row],[Plastic Bucket]],0)","v":0},{"$f":"IF(NFI_Expiration=1,IF($A183<VLOOKUP(Q$5,NFI,5,0),1,0)*Table_NFI[[#This Row],[Plastic Mat]],0)","v":0},{"$f":"VLOOKUP(Table_NFI[[#This Row],[Camp Name]],'Camp List'!N$5:Z$347,2,0)","v":"MMR001CMP026"},{"$f":"VLOOKUP(Table_NFI[[#This Row],[Camp Name]],'Camp List'!N$5:Z$347,13,0)","v":"Open"}]
[5.166666666666667,"2013-02-27","UNHCR","UNHCR","Kachin","Waingmaw","Maina AG Church",null,null,23,40,18,40,18,18,18,18,{"$f":"IF(NFI_Expiration=1,IF($A184<VLOOKUP(H$5,NFI,5,0),1,0)*Table_NFI[[#This Row],[Hygiene Kit]],0)","v":0},{"$f":"IF(NFI_Expiration=1,IF($A184<VLOOKUP(I$5,NFI,5,0),1,0)*Table_NFI[[#This Row],[NFI Core Kit]],0)","v":0},{"$f":"IF(NFI_Expiration=1,IF($A184<VLOOKUP(J$5,NFI,5,0),1,0)*Table_NFI[[#This Row],[Sanitary Kit]],0)","v":23},{"$f":"IF(NFI_Expiration=1,IF($A184<VLOOKUP(K$5,NFI,5,0),1,0)*Table_NFI[[#This Row],[Mosquito net]],0)","v":40},{"$f":"IF(NFI_Expiration=1,IF($A184<VLOOKUP(L$5,NFI,5,0),1,0)*Table_NFI[[#This Row],[Tarpaulin]],0)","v":18},{"$f":"IF(NFI_Expiration=1,IF($A184<VLOOKUP(M$5,NFI,5,0),1,0)*Table_NFI[[#This Row],[Blanket]],0)","v":40},{"$f":"IF(NFI_Expiration=1,IF($A184<VLOOKUP(N$5,NFI,5,0),1,0)*Table_NFI[[#This Row],[Kitchen Set]],0)","v":18},{"$f":"IF(NFI_Expiration=1,IF($A184<VLOOKUP(O$5,NFI,5,0),1,0)*Table_NFI[[#This Row],[Complementary Kit]],0)","v":18},{"$f":"IF(NFI_Expiration=1,IF($A184<VLOOKUP(P$5,NFI,5,0),1,0)*Table_NFI[[#This Row],[Plastic Bucket]],0)","v":18},{"$f":"IF(NFI_Expiration=1,IF($A184<VLOOKUP(Q$5,NFI,5,0),1,0)*Table_NFI[[#This Row],[Plastic Mat]],0)","v":18},{"$f":"VLOOKUP(Table_NFI[[#This Row],[Camp Name]],'Camp List'!N$5:Z$347,2,0)","v":"MMR001CMP031"},{"$f":"VLOOKUP(Table_NFI[[#This Row],[Camp Name]],'Camp List'!N$5:Z$347,13,0)","v":"Open"}]
[12.666666666666666,"2012-07-17","UNHCR","UNHCR","Kachin","Myitkyina","Maw Hpawng Hka Nan Baptist Church",null,null,0,19,19,19,19,19,19,19,{"$f":"IF(NFI_Expiration=1,IF($A185<VLOOKUP(H$5,NFI,5,0),1,0)*Table_NFI[[#This Row],[Hygiene Kit]],0)","v":0},{"$f":"IF(NFI_Expiration=1,IF($A185<VLOOKUP(I$5,NFI,5,0),1,0)*Table_NFI[[#This Row],[NFI Core Kit]],0)","v":0},{"$f":"IF(NFI_Expiration=1,IF($A185<VLOOKUP(J$5,NFI,5,0),1,0)*Table_NFI[[#This Row],[Sanitary Kit]],0)","v":0},{"$f":"IF(NFI_Expiration=1,IF($A185<VLOOKUP(K$5,NFI,5,0),1,0)*Table_NFI[[#This Row],[Mosquito net]],0)","v":0},{"$f":"IF(NFI_Expiration=1,IF($A185<VLOOKUP(L$5,NFI,5,0),1,0)*Table_NFI[[#This Row],[Tarpaulin]],0)","v":0},{"$f":"IF(NFI_Expiration=1,IF($A185<VLOOKUP(M$5,NFI,5,0),1,0)*Table_NFI[[#This Row],[Blanket]],0)","v":0},{"$f":"IF(NFI_Expiration=1,IF($A185<VLOOKUP(N$5,NFI,5,0),1,0)*Table_NFI[[#This Row],[Kitchen Set]],0)","v":0},{"$f":"IF(NFI_Expiration=1,IF($A185<VLOOKUP(O$5,NFI,5,0),1,0)*Table_NFI[[#This Row],[Complementary Kit]],0)","v":0},{"$f":"IF(NFI_Expiration=1,IF($A185<VLOOKUP(P$5,NFI,5,0),1,0)*Table_NFI[[#This Row],[Plastic Bucket]],0)","v":0},{"$f":"IF(NFI_Expiration=1,IF($A185<VLOOKUP(Q$5,NFI,5,0),1,0)*Table_NFI[[#This Row],[Plastic Mat]],0)","v":0},{"$f":"VLOOKUP(Table_NFI[[#This Row],[Camp Name]],'Camp List'!N$5:Z$347,2,0)","v":"MMR001CMP020"},{"$f":"VLOOKUP(Table_NFI[[#This Row],[Camp Name]],'Camp List'!N$5:Z$347,13,0)","v":"Open"}]
[19.399999999999999,"2011-12-28","UNHCR","Shan Community","Kachin","Waingmaw","Hkat Cho ",null,null,0,31,19,31,19,19,19,19,{"$f":"IF(NFI_Expiration=1,IF($A186<VLOOKUP(H$5,NFI,5,0),1,0)*Table_NFI[[#This Row],[Hygiene Kit]],0)","v":0},{"$f":"IF(NFI_Expiration=1,IF($A186<VLOOKUP(I$5,NFI,5,0),1,0)*Table_NFI[[#This Row],[NFI Core Kit]],0)","v":0},{"$f":"IF(NFI_Expiration=1,IF($A186<VLOOKUP(J$5,NFI,5,0),1,0)*Table_NFI[[#This Row],[Sanitary Kit]],0)","v":0},{"$f":"IF(NFI_Expiration=1,IF($A186<VLOOKUP(K$5,NFI,5,0),1,0)*Table_NFI[[#This Row],[Mosquito net]],0)","v":0},{"$f":"IF(NFI_Expiration=1,IF($A186<VLOOKUP(L$5,NFI,5,0),1,0)*Table_NFI[[#This Row],[Tarpaulin]],0)","v":0},{"$f":"IF(NFI_Expiration=1,IF($A186<VLOOKUP(M$5,NFI,5,0),1,0)*Table_NFI[[#This Row],[Blanket]],0)","v":0},{"$f":"IF(NFI_Expiration=1,IF($A186<VLOOKUP(N$5,NFI,5,0),1,0)*Table_NFI[[#This Row],[Kitchen Set]],0)","v":0},{"$f":"IF(NFI_Expiration=1,IF($A186<VLOOKUP(O$5,NFI,5,0),1,0)*Table_NFI[[#This Row],[Complementary Kit]],0)","v":0},{"$f":"IF(NFI_Expiration=1,IF($A186<VLOOKUP(P$5,NFI,5,0),1,0)*Table_NFI[[#This Row],[Plastic Bucket]],0)","v":0},{"$f":"IF(NFI_Expiration=1,IF($A186<VLOOKUP(Q$5,NFI,5,0),1,0)*Table_NFI[[#This Row],[Plastic Mat]],0)","v":0},{"$f":"VLOOKUP(Table_NFI[[#This Row],[Camp Name]],'Camp List'!N$5:Z$347,2,0)","v":"MMR001CMP028"},{"$f":"VLOOKUP(Table_NFI[[#This Row],[Camp Name]],'Camp List'!N$5:Z$347,13,0)","v":"Open"}]
[12.666666666666666,"2012-07-17","UNHCR","UNHCR","Kachin","Waingmaw","Border Post 8",null,null,0,19,19,19,19,19,19,19,{"$f":"IF(NFI_Expiration=1,IF($A187<VLOOKUP(H$5,NFI,5,0),1,0)*Table_NFI[[#This Row],[Hygiene Kit]],0)","v":0},{"$f":"IF(NFI_Expiration=1,IF($A187<VLOOKUP(I$5,NFI,5,0),1,0)*Table_NFI[[#This Row],[NFI Core Kit]],0)","v":0},{"$f":"IF(NFI_Expiration=1,IF($A187<VLOOKUP(J$5,NFI,5,0),1,0)*Table_NFI[[#This Row],[Sanitary Kit]],0)","v":0},{"$f":"IF(NFI_Expiration=1,IF($A187<VLOOKUP(K$5,NFI,5,0),1,0)*Table_NFI[[#This Row],[Mosquito net]],0)","v":0},{"$f":"IF(NFI_Expiration=1,IF($A187<VLOOKUP(L$5,NFI,5,0),1,0)*Table_NFI[[#This Row],[Tarpaulin]],0)","v":0},{"$f":"IF(NFI_Expiration=1,IF($A187<VLOOKUP(M$5,NFI,5,0),1,0)*Table_NFI[[#This Row],[Blanket]],0)","v":0},{"$f":"IF(NFI_Expiration=1,IF($A187<VLOOKUP(N$5,NFI,5,0),1,0)*Table_NFI[[#This Row],[Kitchen Set]],0)","v":0},{"$f":"IF(NFI_Expiration=1,IF($A187<VLOOKUP(O$5,NFI,5,0),1,0)*Table_NFI[[#This Row],[Complementary Kit]],0)","v":0},{"$f":"IF(NFI_Expiration=1,IF($A187<VLOOKUP(P$5,NFI,5,0),1,0)*Table_NFI[[#This Row],[Plastic Bucket]],0)","v":0},{"$f":"IF(NFI_Expiration=1,IF($A187<VLOOKUP(Q$5,NFI,5,0),1,0)*Table_NFI[[#This Row],[Plastic Mat]],0)","v":0},{"$f":"VLOOKUP(Table_NFI[[#This Row],[Camp Name]],'Camp List'!N$5:Z$347,2,0)","v":"MMR001CMP113"},{"$f":"VLOOKUP(Table_NFI[[#This Row],[Camp Name]],'Camp List'!N$5:Z$347,13,0)","v":"Open"}]
[11.9,"2012-08-09","UNHCR","UNHCR","Kachin","Myitkyina","Nan Kway St. John Catholic Church",null,null,0,42,20,42,20,20,20,20,{"$f":"IF(NFI_Expiration=1,IF($A188<VLOOKUP(H$5,NFI,5,0),1,0)*Table_NFI[[#This Row],[Hygiene Kit]],0)","v":0},{"$f":"IF(NFI_Expiration=1,IF($A188<VLOOKUP(I$5,NFI,5,0),1,0)*Table_NFI[[#This Row],[NFI Core Kit]],0)","v":0},{"$f":"IF(NFI_Expiration=1,IF($A188<VLOOKUP(J$5,NFI,5,0),1,0)*Table_NFI[[#This Row],[Sanitary Kit]],0)","v":0},{"$f":"IF(NFI_Expiration=1,IF($A188<VLOOKUP(K$5,NFI,5,0),1,0)*Table_NFI[[#This Row],[Mosquito net]],0)","v":42},{"$f":"IF(NFI_Expiration=1,IF($A188<VLOOKUP(L$5,NFI,5,0),1,0)*Table_NFI[[#This Row],[Tarpaulin]],0)","v":20},{"$f":"IF(NFI_Expiration=1,IF($A188<VLOOKUP(M$5,NFI,5,0),1,0)*Table_NFI[[#This Row],[Blanket]],0)","v":42},{"$f":"IF(NFI_Expiration=1,IF($A188<VLOOKUP(N$5,NFI,5,0),1,0)*Table_NFI[[#This Row],[Kitchen Set]],0)","v":20},{"$f":"IF(NFI_Expiration=1,IF($A188<VLOOKUP(O$5,NFI,5,0),1,0)*Table_NFI[[#This Row],[Complementary Kit]],0)","v":20},{"$f":"IF(NFI_Expiration=1,IF($A188<VLOOKUP(P$5,NFI,5,0),1,0)*Table_NFI[[#This Row],[Plastic Bucket]],0)","v":20},{"$f":"IF(NFI_Expiration=1,IF($A188<VLOOKUP(Q$5,NFI,5,0),1,0)*Table_NFI[[#This Row],[Plastic Mat]],0)","v":20},{"$f":"VLOOKUP(Table_NFI[[#This Row],[Camp Name]],'Camp List'!N$5:Z$347,2,0)","v":"MMR001CMP024"},{"$f":"VLOOKUP(Table_NFI[[#This Row],[Camp Name]],'Camp List'!N$5:Z$347,13,0)","v":"Open"}]
[7.5333333333333332,"2012-12-18","UNHCR","UNHCR","Kachin","Myitkyina","Shwe Zet Baptist Church",null,null,0,30,20,30,20,20,20,20,{"$f":"IF(NFI_Expiration=1,IF($A189<VLOOKUP(H$5,NFI,5,0),1,0)*Table_NFI[[#This Row],[Hygiene Kit]],0)","v":0},{"$f":"IF(NFI_Expiration=1,IF($A189<VLOOKUP(I$5,NFI,5,0),1,0)*Table_NFI[[#This Row],[NFI Core Kit]],0)","v":0},{"$f":"IF(NFI_Expiration=1,IF($A189<VLOOKUP(J$5,NFI,5,0),1,0)*Table_NFI[[#This Row],[Sanitary Kit]],0)","v":0},{"$f":"IF(NFI_Expiration=1,IF($A189<VLOOKUP(K$5,NFI,5,0),1,0)*Table_NFI[[#This Row],[Mosquito net]],0)","v":30},{"$f":"IF(NFI_Expiration=1,IF($A189<VLOOKUP(L$5,NFI,5,0),1,0)*Table_NFI[[#This Row],[Tarpaulin]],0)","v":20},{"$f":"IF(NFI_Expiration=1,IF($A189<VLOOKUP(M$5,NFI,5,0),1,0)*Table_NFI[[#This Row],[Blanket]],0)","v":30},{"$f":"IF(NFI_Expiration=1,IF($A189<VLOOKUP(N$5,NFI,5,0),1,0)*Table_NFI[[#This Row],[Kitchen Set]],0)","v":20},{"$f":"IF(NFI_Expiration=1,IF($A189<VLOOKUP(O$5,NFI,5,0),1,0)*Table_NFI[[#This Row],[Complementary Kit]],0)","v":20},{"$f":"IF(NFI_Expiration=1,IF($A189<VLOOKUP(P$5,NFI,5,0),1,0)*Table_NFI[[#This Row],[Plastic Bucket]],0)","v":20},{"$f":"IF(NFI_Expiration=1,IF($A189<VLOOKUP(Q$5,NFI,5,0),1,0)*Table_NFI[[#This Row],[Plastic Mat]],0)","v":20},{"$f":"VLOOKUP(Table_NFI[[#This Row],[Camp Name]],'Camp List'!N$5:Z$347,2,0)","v":"MMR001CMP009"},{"$f":"VLOOKUP(Table_NFI[[#This Row],[Camp Name]],'Camp List'!N$5:Z$347,13,0)","v":"Open"}]
[15.166666666666666,"2012-05-03","UNHCR","UNHCR","Kachin","Waingmaw","Maina AG Church",null,null,0,42,0,42,0,20,20,20,{"$f":"IF(NFI_Expiration=1,IF($A190<VLOOKUP(H$5,NFI,5,0),1,0)*Table_NFI[[#This Row],[Hygiene Kit]],0)","v":0},{"$f":"IF(NFI_Expiration=1,IF($A190<VLOOKUP(I$5,NFI,5,0),1,0)*Table_NFI[[#This Row],[NFI Core Kit]],0)","v":0},{"$f":"IF(NFI_Expiration=1,IF($A190<VLOOKUP(J$5,NFI,5,0),1,0)*Table_NFI[[#This Row],[Sanitary Kit]],0)","v":0},{"$f":"IF(NFI_Expiration=1,IF($A190<VLOOKUP(K$5,NFI,5,0),1,0)*Table_NFI[[#This Row],[Mosquito net]],0)","v":0},{"$f":"IF(NFI_Expiration=1,IF($A190<VLOOKUP(L$5,NFI,5,0),1,0)*Table_NFI[[#This Row],[Tarpaulin]],0)","v":0},{"$f":"IF(NFI_Expiration=1,IF($A190<VLOOKUP(M$5,NFI,5,0),1,0)*Table_NFI[[#This Row],[Blanket]],0)","v":0},{"$f":"IF(NFI_Expiration=1,IF($A190<VLOOKUP(N$5,NFI,5,0),1,0)*Table_NFI[[#This Row],[Kitchen Set]],0)","v":0},{"$f":"IF(NFI_Expiration=1,IF($A190<VLOOKUP(O$5,NFI,5,0),1,0)*Table_NFI[[#This Row],[Complementary Kit]],0)","v":0},{"$f":"IF(NFI_Expiration=1,IF($A190<VLOOKUP(P$5,NFI,5,0),1,0)*Table_NFI[[#This Row],[Plastic Bucket]],0)","v":0},{"$f":"IF(NFI_Expiration=1,IF($A190<VLOOKUP(Q$5,NFI,5,0),1,0)*Table_NFI[[#This Row],[Plastic Mat]],0)","v":0},{"$f":"VLOOKUP(Table_NFI[[#This Row],[Camp Name]],'Camp List'!N$5:Z$347,2,0)","v":"MMR001CMP031"},{"$f":"VLOOKUP(Table_NFI[[#This Row],[Camp Name]],'Camp List'!N$5:Z$347,13,0)","v":"Open"}]
[1.6,"2013-06-14","UNHCR","UNHCR","Kachin","Momauk","Pa Kahtawng ",null,null,42,42,21,42,21,21,21,21,{"$f":"IF(NFI_Expiration=1,IF($A191<VLOOKUP(H$5,NFI,5,0),1,0)*Table_NFI[[#This Row],[Hygiene Kit]],0)","v":0},{"$f":"IF(NFI_Expiration=1,IF($A191<VLOOKUP(I$5,NFI,5,0),1,0)*Table_NFI[[#This Row],[NFI Core Kit]],0)","v":0},{"$f":"IF(NFI_Expiration=1,IF($A191<VLOOKUP(J$5,NFI,5,0),1,0)*Table_NFI[[#This Row],[Sanitary Kit]],0)","v":42},{"$f":"IF(NFI_Expiration=1,IF($A191<VLOOKUP(K$5,NFI,5,0),1,0)*Table_NFI[[#This Row],[Mosquito net]],0)","v":42},{"$f":"IF(NFI_Expiration=1,IF($A191<VLOOKUP(L$5,NFI,5,0),1,0)*Table_NFI[[#This Row],[Tarpaulin]],0)","v":21},{"$f":"IF(NFI_Expiration=1,IF($A191<VLOOKUP(M$5,NFI,5,0),1,0)*Table_NFI[[#This Row],[Blanket]],0)","v":42},{"$f":"IF(NFI_Expiration=1,IF($A191<VLOOKUP(N$5,NFI,5,0),1,0)*Table_NFI[[#This Row],[Kitchen Set]],0)","v":21},{"$f":"IF(NFI_Expiration=1,IF($A191<VLOOKUP(O$5,NFI,5,0),1,0)*Table_NFI[[#This Row],[Complementary Kit]],0)","v":21},{"$f":"IF(NFI_Expiration=1,IF($A191<VLOOKUP(P$5,NFI,5,0),1,0)*Table_NFI[[#This Row],[Plastic Bucket]],0)","v":21},{"$f":"IF(NFI_Expiration=1,IF($A191<VLOOKUP(Q$5,NFI,5,0),1,0)*Table_NFI[[#This Row],[Plastic Mat]],0)","v":21},{"$f":"VLOOKUP(Table_NFI[[#This Row],[Camp Name]],'Camp List'!N$5:Z$347,2,0)","v":"MMR001CMP126"},{"$f":"VLOOKUP(Table_NFI[[#This Row],[Camp Name]],'Camp List'!N$5:Z$347,13,0)","v":"Open"}]
[12.666666666666666,"2012-07-17","UNHCR","UNHCR","Kachin","Myitkyina","Jan Mai Kawng Baptist Church",null,null,0,21,21,21,21,21,21,21,{"$f":"IF(NFI_Expiration=1,IF($A192<VLOOKUP(H$5,NFI,5,0),1,0)*Table_NFI[[#This Row],[Hygiene Kit]],0)","v":0},{"$f":"IF(NFI_Expiration=1,IF($A192<VLOOKUP(I$5,NFI,5,0),1,0)*Table_NFI[[#This Row],[NFI Core Kit]],0)","v":0},{"$f":"IF(NFI_Expiration=1,IF($A192<VLOOKUP(J$5,NFI,5,0),1,0)*Table_NFI[[#This Row],[Sanitary Kit]],0)","v":0},{"$f":"IF(NFI_Expiration=1,IF($A192<VLOOKUP(K$5,NFI,5,0),1,0)*Table_NFI[[#This Row],[Mosquito net]],0)","v":0},{"$f":"IF(NFI_Expiration=1,IF($A192<VLOOKUP(L$5,NFI,5,0),1,0)*Table_NFI[[#This Row],[Tarpaulin]],0)","v":0},{"$f":"IF(NFI_Expiration=1,IF($A192<VLOOKUP(M$5,NFI,5,0),1,0)*Table_NFI[[#This Row],[Blanket]],0)","v":0},{"$f":"IF(NFI_Expiration=1,IF($A192<VLOOKUP(N$5,NFI,5,0),1,0)*Table_NFI[[#This Row],[Kitchen Set]],0)","v":0},{"$f":"IF(NFI_Expiration=1,IF($A192<VLOOKUP(O$5,NFI,5,0),1,0)*Table_NFI[[#This Row],[Complementary Kit]],0)","v":0},{"$f":"IF(NFI_Expiration=1,IF($A192<VLOOKUP(P$5,NFI,5,0),1,0)*Table_NFI[[#This Row],[Plastic Bucket]],0)","v":0},{"$f":"IF(NFI_Expiration=1,IF($A192<VLOOKUP(Q$5,NFI,5,0),1,0)*Table_NFI[[#This Row],[Plastic Mat]],0)","v":0},{"$f":"VLOOKUP(Table_NFI[[#This Row],[Camp Name]],'Camp List'!N$5:Z$347,2,0)","v":"MMR001CMP018"},{"$f":"VLOOKUP(Table_NFI[[#This Row],[Camp Name]],'Camp List'!N$5:Z$347,13,0)","v":"Open"}]
[0.26666666666666666,"2013-07-24","UNHCR","KBC","Kachin","Myitkyina","Tat Kone COC Baptist / Tat Kone Htoi San",null,null,34,46,22,46,22,22,22,22,{"$f":"IF(NFI_Expiration=1,IF($A193<VLOOKUP(H$5,NFI,5,0),1,0)*Table_NFI[[#This Row],[Hygiene Kit]],0)","v":0},{"$f":"IF(NFI_Expiration=1,IF($A193<VLOOKUP(I$5,NFI,5,0),1,0)*Table_NFI[[#This Row],[NFI Core Kit]],0)","v":0},{"$f":"IF(NFI_Expiration=1,IF($A193<VLOOKUP(J$5,NFI,5,0),1,0)*Table_NFI[[#This Row],[Sanitary Kit]],0)","v":34},{"$f":"IF(NFI_Expiration=1,IF($A193<VLOOKUP(K$5,NFI,5,0),1,0)*Table_NFI[[#This Row],[Mosquito net]],0)","v":46},{"$f":"IF(NFI_Expiration=1,IF($A193<VLOOKUP(L$5,NFI,5,0),1,0)*Table_NFI[[#This Row],[Tarpaulin]],0)","v":22},{"$f":"IF(NFI_Expiration=1,IF($A193<VLOOKUP(M$5,NFI,5,0),1,0)*Table_NFI[[#This Row],[Blanket]],0)","v":46},{"$f":"IF(NFI_Expiration=1,IF($A193<VLOOKUP(N$5,NFI,5,0),1,0)*Table_NFI[[#This Row],[Kitchen Set]],0)","v":22},{"$f":"IF(NFI_Expiration=1,IF($A193<VLOOKUP(O$5,NFI,5,0),1,0)*Table_NFI[[#This Row],[Complementary Kit]],0)","v":22},{"$f":"IF(NFI_Expiration=1,IF($A193<VLOOKUP(P$5,NFI,5,0),1,0)*Table_NFI[[#This Row],[Plastic Bucket]],0)","v":22},{"$f":"IF(NFI_Expiration=1,IF($A193<VLOOKUP(Q$5,NFI,5,0),1,0)*Table_NFI[[#This Row],[Plastic Mat]],0)","v":22},{"$f":"VLOOKUP(Table_NFI[[#This Row],[Camp Name]],'Camp List'!N$5:Z$347,2,0)","v":"MMR001CMP023"},{"$f":"VLOOKUP(Table_NFI[[#This Row],[Camp Name]],'Camp List'!N$5:Z$347,13,0)","v":"Open"}]
[14.9,"2012-05-11","UNHCR","KBSS","Kachin","Shwegu","Shwe Gu Catholic Church",null,null,0,37,22,37,22,22,22,22,{"$f":"IF(NFI_Expiration=1,IF($A194<VLOOKUP(H$5,NFI,5,0),1,0)*Table_NFI[[#This Row],[Hygiene Kit]],0)","v":0},{"$f":"IF(NFI_Expiration=1,IF($A194<VLOOKUP(I$5,NFI,5,0),1,0)*Table_NFI[[#This Row],[NFI Core Kit]],0)","v":0},{"$f":"IF(NFI_Expiration=1,IF($A194<VLOOKUP(J$5,NFI,5,0),1,0)*Table_NFI[[#This Row],[Sanitary Kit]],0)","v":0},{"$f":"IF(NFI_Expiration=1,IF($A194<VLOOKUP(K$5,NFI,5,0),1,0)*Table_NFI[[#This Row],[Mosquito net]],0)","v":0},{"$f":"IF(NFI_Expiration=1,IF($A194<VLOOKUP(L$5,NFI,5,0),1,0)*Table_NFI[[#This Row],[Tarpaulin]],0)","v":0},{"$f":"IF(NFI_Expiration=1,IF($A194<VLOOKUP(M$5,NFI,5,0),1,0)*Table_NFI[[#This Row],[Blanket]],0)","v":0},{"$f":"IF(NFI_Expiration=1,IF($A194<VLOOKUP(N$5,NFI,5,0),1,0)*Table_NFI[[#This Row],[Kitchen Set]],0)","v":0},{"$f":"IF(NFI_Expiration=1,IF($A194<VLOOKUP(O$5,NFI,5,0),1,0)*Table_NFI[[#This Row],[Complementary Kit]],0)","v":0},{"$f":"IF(NFI_Expiration=1,IF($A194<VLOOKUP(P$5,NFI,5,0),1,0)*Table_NFI[[#This Row],[Plastic Bucket]],0)","v":0},{"$f":"IF(NFI_Expiration=1,IF($A194<VLOOKUP(Q$5,NFI,5,0),1,0)*Table_NFI[[#This Row],[Plastic Mat]],0)","v":0},{"$f":"VLOOKUP(Table_NFI[[#This Row],[Camp Name]],'Camp List'!N$5:Z$347,2,0)","v":"MMR001CMP068"},{"$f":"VLOOKUP(Table_NFI[[#This Row],[Camp Name]],'Camp List'!N$5:Z$347,13,0)","v":"Open"}]
[-0.4,"2013-08-13","UNHCR","KMSS","Kachin","Kutkai","Mungji Pa Dabang (Baptist Church)         ",null,null,30,56,23,56,23,23,23,23,{"$f":"IF(NFI_Expiration=1,IF($A195<VLOOKUP(H$5,NFI,5,0),1,0)*Table_NFI[[#This Row],[Hygiene Kit]],0)","v":0},{"$f":"IF(NFI_Expiration=1,IF($A195<VLOOKUP(I$5,NFI,5,0),1,0)*Table_NFI[[#This Row],[NFI Core Kit]],0)","v":0},{"$f":"IF(NFI_Expiration=1,IF($A195<VLOOKUP(J$5,NFI,5,0),1,0)*Table_NFI[[#This Row],[Sanitary Kit]],0)","v":30},{"$f":"IF(NFI_Expiration=1,IF($A195<VLOOKUP(K$5,NFI,5,0),1,0)*Table_NFI[[#This Row],[Mosquito net]],0)","v":56},{"$f":"IF(NFI_Expiration=1,IF($A195<VLOOKUP(L$5,NFI,5,0),1,0)*Table_NFI[[#This Row],[Tarpaulin]],0)","v":23},{"$f":"IF(NFI_Expiration=1,IF($A195<VLOOKUP(M$5,NFI,5,0),1,0)*Table_NFI[[#This Row],[Blanket]],0)","v":56},{"$f":"IF(NFI_Expiration=1,IF($A195<VLOOKUP(N$5,NFI,5,0),1,0)*Table_NFI[[#This Row],[Kitchen Set]],0)","v":23},{"$f":"IF(NFI_Expiration=1,IF($A195<VLOOKUP(O$5,NFI,5,0),1,0)*Table_NFI[[#This Row],[Complementary Kit]],0)","v":23},{"$f":"IF(NFI_Expiration=1,IF($A195<VLOOKUP(P$5,NFI,5,0),1,0)*Table_NFI[[#This Row],[Plastic Bucket]],0)","v":23},{"$f":"IF(NFI_Expiration=1,IF($A195<VLOOKUP(Q$5,NFI,5,0),1,0)*Table_NFI[[#This Row],[Plastic Mat]],0)","v":23},{"$f":"VLOOKUP(Table_NFI[[#This Row],[Camp Name]],'Camp List'!N$5:Z$347,2,0)","v":"MMR015CMP006"},{"$f":"VLOOKUP(Table_NFI[[#This Row],[Camp Name]],'Camp List'!N$5:Z$347,13,0)","v":"Open"}]
[{"$f":"IF(ISBLANK(B196),\"\",(Report_Date-B196)/30)","v":14.9},"2012-05-11","UNHCR","KBSS","Kachin","Shwegu","Shwe Gu Baptist Church",null,null,0,38,23,38,23,23,23,23,{"$f":"IF(NFI_Expiration=1,IF($A196<VLOOKUP(H$5,NFI,5,0),1,0)*Table_NFI[[#This Row],[Hygiene Kit]],0)","v":0},{"$f":"IF(NFI_Expiration=1,IF($A196<VLOOKUP(I$5,NFI,5,0),1,0)*Table_NFI[[#This Row],[NFI Core Kit]],0)","v":0},{"$f":"IF(NFI_Expiration=1,IF($A196<VLOOKUP(J$5,NFI,5,0),1,0)*Table_NFI[[#This Row],[Sanitary Kit]],0)","v":0},{"$f":"IF(NFI_Expiration=1,IF($A196<VLOOKUP(K$5,NFI,5,0),1,0)*Table_NFI[[#This Row],[Mosquito net]],0)","v":0},{"$f":"IF(NFI_Expiration=1,IF($A196<VLOOKUP(L$5,NFI,5,0),1,0)*Table_NFI[[#This Row],[Tarpaulin]],0)","v":0},{"$f":"IF(NFI_Expiration=1,IF($A196<VLOOKUP(M$5,NFI,5,0),1,0)*Table_NFI[[#This Row],[Blanket]],0)","v":0},{"$f":"IF(NFI_Expiration=1,IF($A196<VLOOKUP(N$5,NFI,5,0),1,0)*Table_NFI[[#This Row],[Kitchen Set]],0)","v":0},{"$f":"IF(NFI_Expiration=1,IF($A196<VLOOKUP(O$5,NFI,5,0),1,0)*Table_NFI[[#This Row],[Complementary Kit]],0)","v":0},{"$f":"IF(NFI_Expiration=1,IF($A196<VLOOKUP(P$5,NFI,5,0),1,0)*Table_NFI[[#This Row],[Plastic Bucket]],0)","v":0},{"$f":"IF(NFI_Expiration=1,IF($A196<VLOOKUP(Q$5,NFI,5,0),1,0)*Table_NFI[[#This Row],[Plastic Mat]],0)","v":0},{"$f":"VLOOKUP(Table_NFI[[#This Row],[Camp Name]],'Camp List'!N$5:Z$347,2,0)","v":"MMR001CMP067"},{"$f":"VLOOKUP(Table_NFI[[#This Row],[Camp Name]],'Camp List'!N$5:Z$347,13,0)","v":"Open"}]
[0.26666666666666666,"2013-07-24","UNHCR","KMSS","Kachin","Waingmaw","Maina Catholic Church (St. Joseph)",null,null,40,49,23,49,23,23,23,23,{"$f":"IF(NFI_Expiration=1,IF($A197<VLOOKUP(H$5,NFI,5,0),1,0)*Table_NFI[[#This Row],[Hygiene Kit]],0)","v":0},{"$f":"IF(NFI_Expiration=1,IF($A197<VLOOKUP(I$5,NFI,5,0),1,0)*Table_NFI[[#This Row],[NFI Core Kit]],0)","v":0},{"$f":"IF(NFI_Expiration=1,IF($A197<VLOOKUP(J$5,NFI,5,0),1,0)*Table_NFI[[#This Row],[Sanitary Kit]],0)","v":40},{"$f":"IF(NFI_Expiration=1,IF($A197<VLOOKUP(K$5,NFI,5,0),1,0)*Table_NFI[[#This Row],[Mosquito net]],0)","v":49},{"$f":"IF(NFI_Expiration=1,IF($A197<VLOOKUP(L$5,NFI,5,0),1,0)*Table_NFI[[#This Row],[Tarpaulin]],0)","v":23},{"$f":"IF(NFI_Expiration=1,IF($A197<VLOOKUP(M$5,NFI,5,0),1,0)*Table_NFI[[#This Row],[Blanket]],0)","v":49},{"$f":"IF(NFI_Expiration=1,IF($A197<VLOOKUP(N$5,NFI,5,0),1,0)*Table_NFI[[#This Row],[Kitchen Set]],0)","v":23},{"$f":"IF(NFI_Expiration=1,IF($A197<VLOOKUP(O$5,NFI,5,0),1,0)*Table_NFI[[#This Row],[Complementary Kit]],0)","v":23},{"$f":"IF(NFI_Expiration=1,IF($A197<VLOOKUP(P$5,NFI,5,0),1,0)*Table_NFI[[#This Row],[Plastic Bucket]],0)","v":23},{"$f":"IF(NFI_Expiration=1,IF($A197<VLOOKUP(Q$5,NFI,5,0),1,0)*Table_NFI[[#This Row],[Plastic Mat]],0)","v":23},{"$f":"VLOOKUP(Table_NFI[[#This Row],[Camp Name]],'Camp List'!N$5:Z$347,2,0)","v":"MMR001CMP029"},{"$f":"VLOOKUP(Table_NFI[[#This Row],[Camp Name]],'Camp List'!N$5:Z$347,13,0)","v":"Open"}]
[1.6333333333333333,"2013-06-13","UNHCR","UNHCR","Kachin","Momauk","Loi Je Lisu Camp",null,null,941,67,24,67,24,24,24,24,{"$f":"IF(NFI_Expiration=1,IF($A198<VLOOKUP(H$5,NFI,5,0),1,0)*Table_NFI[[#This Row],[Hygiene Kit]],0)","v":0},{"$f":"IF(NFI_Expiration=1,IF($A198<VLOOKUP(I$5,NFI,5,0),1,0)*Table_NFI[[#This Row],[NFI Core Kit]],0)","v":0},{"$f":"IF(NFI_Expiration=1,IF($A198<VLOOKUP(J$5,NFI,5,0),1,0)*Table_NFI[[#This Row],[Sanitary Kit]],0)","v":941},{"$f":"IF(NFI_Expiration=1,IF($A198<VLOOKUP(K$5,NFI,5,0),1,0)*Table_NFI[[#This Row],[Mosquito net]],0)","v":67},{"$f":"IF(NFI_Expiration=1,IF($A198<VLOOKUP(L$5,NFI,5,0),1,0)*Table_NFI[[#This Row],[Tarpaulin]],0)","v":24},{"$f":"IF(NFI_Expiration=1,IF($A198<VLOOKUP(M$5,NFI,5,0),1,0)*Table_NFI[[#This Row],[Blanket]],0)","v":67},{"$f":"IF(NFI_Expiration=1,IF($A198<VLOOKUP(N$5,NFI,5,0),1,0)*Table_NFI[[#This Row],[Kitchen Set]],0)","v":24},{"$f":"IF(NFI_Expiration=1,IF($A198<VLOOKUP(O$5,NFI,5,0),1,0)*Table_NFI[[#This Row],[Complementary Kit]],0)","v":24},{"$f":"IF(NFI_Expiration=1,IF($A198<VLOOKUP(P$5,NFI,5,0),1,0)*Table_NFI[[#This Row],[Plastic Bucket]],0)","v":24},{"$f":"IF(NFI_Expiration=1,IF($A198<VLOOKUP(Q$5,NFI,5,0),1,0)*Table_NFI[[#This Row],[Plastic Mat]],0)","v":24},{"$f":"VLOOKUP(Table_NFI[[#This Row],[Camp Name]],'Camp List'!N$5:Z$347,2,0)","v":"MMR001CMP070"},{"$f":"VLOOKUP(Table_NFI[[#This Row],[Camp Name]],'Camp List'!N$5:Z$347,13,0)","v":"Open"}]
[-0.2,"2013-08-07","UNHCR","UNHCR","Kachin","Myitkyina","Mading Baptist Church",null,null,15,57,24,57,24,24,24,24,{"$f":"IF(NFI_Expiration=1,IF($A199<VLOOKUP(H$5,NFI,5,0),1,0)*Table_NFI[[#This Row],[Hygiene Kit]],0)","v":0},{"$f":"IF(NFI_Expiration=1,IF($A199<VLOOKUP(I$5,NFI,5,0),1,0)*Table_NFI[[#This Row],[NFI Core Kit]],0)","v":0},{"$f":"IF(NFI_Expiration=1,IF($A199<VLOOKUP(J$5,NFI,5,0),1,0)*Table_NFI[[#This Row],[Sanitary Kit]],0)","v":15},{"$f":"IF(NFI_Expiration=1,IF($A199<VLOOKUP(K$5,NFI,5,0),1,0)*Table_NFI[[#This Row],[Mosquito net]],0)","v":57},{"$f":"IF(NFI_Expiration=1,IF($A199<VLOOKUP(L$5,NFI,5,0),1,0)*Table_NFI[[#This Row],[Tarpaulin]],0)","v":24},{"$f":"IF(NFI_Expiration=1,IF($A199<VLOOKUP(M$5,NFI,5,0),1,0)*Table_NFI[[#This Row],[Blanket]],0)","v":57},{"$f":"IF(NFI_Expiration=1,IF($A199<VLOOKUP(N$5,NFI,5,0),1,0)*Table_NFI[[#This Row],[Kitchen Set]],0)","v":24},{"$f":"IF(NFI_Expiration=1,IF($A199<VLOOKUP(O$5,NFI,5,0),1,0)*Table_NFI[[#This Row],[Complementary Kit]],0)","v":24},{"$f":"IF(NFI_Expiration=1,IF($A199<VLOOKUP(P$5,NFI,5,0),1,0)*Table_NFI[[#This Row],[Plastic Bucket]],0)","v":24},{"$f":"IF(NFI_Expiration=1,IF($A199<VLOOKUP(Q$5,NFI,5,0),1,0)*Table_NFI[[#This Row],[Plastic Mat]],0)","v":24},{"$f":"VLOOKUP(Table_NFI[[#This Row],[Camp Name]],'Camp List'!N$5:Z$347,2,0)","v":"MMR001CMP027"},{"$f":"VLOOKUP(Table_NFI[[#This Row],[Camp Name]],'Camp List'!N$5:Z$347,13,0)","v":"Open"}]
[15.233333333333333,"2012-05-01","UNHCR","UNHCR","Kachin","Waingmaw","Qtr. 4 Monestry (Thargaya Thayett Taw)",null,null,0,52,0,52,0,24,24,24,{"$f":"IF(NFI_Expiration=1,IF($A200<VLOOKUP(H$5,NFI,5,0),1,0)*Table_NFI[[#This Row],[Hygiene Kit]],0)","v":0},{"$f":"IF(NFI_Expiration=1,IF($A200<VLOOKUP(I$5,NFI,5,0),1,0)*Table_NFI[[#This Row],[NFI Core Kit]],0)","v":0},{"$f":"IF(NFI_Expiration=1,IF($A200<VLOOKUP(J$5,NFI,5,0),1,0)*Table_NFI[[#This Row],[Sanitary Kit]],0)","v":0},{"$f":"IF(NFI_Expiration=1,IF($A200<VLOOKUP(K$5,NFI,5,0),1,0)*Table_NFI[[#This Row],[Mosquito net]],0)","v":0},{"$f":"IF(NFI_Expiration=1,IF($A200<VLOOKUP(L$5,NFI,5,0),1,0)*Table_NFI[[#This Row],[Tarpaulin]],0)","v":0},{"$f":"IF(NFI_Expiration=1,IF($A200<VLOOKUP(M$5,NFI,5,0),1,0)*Table_NFI[[#This Row],[Blanket]],0)","v":0},{"$f":"IF(NFI_Expiration=1,IF($A200<VLOOKUP(N$5,NFI,5,0),1,0)*Table_NFI[[#This Row],[Kitchen Set]],0)","v":0},{"$f":"IF(NFI_Expiration=1,IF($A200<VLOOKUP(O$5,NFI,5,0),1,0)*Table_NFI[[#This Row],[Complementary Kit]],0)","v":0},{"$f":"IF(NFI_Expiration=1,IF($A200<VLOOKUP(P$5,NFI,5,0),1,0)*Table_NFI[[#This Row],[Plastic Bucket]],0)","v":0},{"$f":"IF(NFI_Expiration=1,IF($A200<VLOOKUP(Q$5,NFI,5,0),1,0)*Table_NFI[[#This Row],[Plastic Mat]],0)","v":0},{"$f":"VLOOKUP(Table_NFI[[#This Row],[Camp Name]],'Camp List'!N$5:Z$347,2,0)","v":"MMR001CMP026"},{"$f":"VLOOKUP(Table_NFI[[#This Row],[Camp Name]],'Camp List'!N$5:Z$347,13,0)","v":"Open"}]
[20.866666666666667,"2011-11-14","UNHCR","KBC","Kachin","Myitkyina","Le Kone Bethlehem Church",null,null,0,52,25,52,25,25,25,25,{"$f":"IF(NFI_Expiration=1,IF($A201<VLOOKUP(H$5,NFI,5,0),1,0)*Table_NFI[[#This Row],[Hygiene Kit]],0)","v":0},{"$f":"IF(NFI_Expiration=1,IF($A201<VLOOKUP(I$5,NFI,5,0),1,0)*Table_NFI[[#This Row],[NFI Core Kit]],0)","v":0},{"$f":"IF(NFI_Expiration=1,IF($A201<VLOOKUP(J$5,NFI,5,0),1,0)*Table_NFI[[#This Row],[Sanitary Kit]],0)","v":0},{"$f":"IF(NFI_Expiration=1,IF($A201<VLOOKUP(K$5,NFI,5,0),1,0)*Table_NFI[[#This Row],[Mosquito net]],0)","v":0},{"$f":"IF(NFI_Expiration=1,IF($A201<VLOOKUP(L$5,NFI,5,0),1,0)*Table_NFI[[#This Row],[Tarpaulin]],0)","v":0},{"$f":"IF(NFI_Expiration=1,IF($A201<VLOOKUP(M$5,NFI,5,0),1,0)*Table_NFI[[#This Row],[Blanket]],0)","v":0},{"$f":"IF(NFI_Expiration=1,IF($A201<VLOOKUP(N$5,NFI,5,0),1,0)*Table_NFI[[#This Row],[Kitchen Set]],0)","v":0},{"$f":"IF(NFI_Expiration=1,IF($A201<VLOOKUP(O$5,NFI,5,0),1,0)*Table_NFI[[#This Row],[Complementary Kit]],0)","v":0},{"$f":"IF(NFI_Expiration=1,IF($A201<VLOOKUP(P$5,NFI,5,0),1,0)*Table_NFI[[#This Row],[Plastic Bucket]],0)","v":0},{"$f":"IF(NFI_Expiration=1,IF($A201<VLOOKUP(Q$5,NFI,5,0),1,0)*Table_NFI[[#This Row],[Plastic Mat]],0)","v":0},{"$f":"VLOOKUP(Table_NFI[[#This Row],[Camp Name]],'Camp List'!N$5:Z$347,2,0)","v":"MMR001CMP015"},{"$f":"VLOOKUP(Table_NFI[[#This Row],[Camp Name]],'Camp List'!N$5:Z$347,13,0)","v":"Open"}]
[12.7,"2012-07-16","UNHCR","UNHCR","Kachin","Myitkyina","Njang Dung Baptist Church ",null,null,0,25,25,25,25,25,25,25,{"$f":"IF(NFI_Expiration=1,IF($A202<VLOOKUP(H$5,NFI,5,0),1,0)*Table_NFI[[#This Row],[Hygiene Kit]],0)","v":0},{"$f":"IF(NFI_Expiration=1,IF($A202<VLOOKUP(I$5,NFI,5,0),1,0)*Table_NFI[[#This Row],[NFI Core Kit]],0)","v":0},{"$f":"IF(NFI_Expiration=1,IF($A202<VLOOKUP(J$5,NFI,5,0),1,0)*Table_NFI[[#This Row],[Sanitary Kit]],0)","v":0},{"$f":"IF(NFI_Expiration=1,IF($A202<VLOOKUP(K$5,NFI,5,0),1,0)*Table_NFI[[#This Row],[Mosquito net]],0)","v":0},{"$f":"IF(NFI_Expiration=1,IF($A202<VLOOKUP(L$5,NFI,5,0),1,0)*Table_NFI[[#This Row],[Tarpaulin]],0)","v":0},{"$f":"IF(NFI_Expiration=1,IF($A202<VLOOKUP(M$5,NFI,5,0),1,0)*Table_NFI[[#This Row],[Blanket]],0)","v":0},{"$f":"IF(NFI_Expiration=1,IF($A202<VLOOKUP(N$5,NFI,5,0),1,0)*Table_NFI[[#This Row],[Kitchen Set]],0)","v":0},{"$f":"IF(NFI_Expiration=1,IF($A202<VLOOKUP(O$5,NFI,5,0),1,0)*Table_NFI[[#This Row],[Complementary Kit]],0)","v":0},{"$f":"IF(NFI_Expiration=1,IF($A202<VLOOKUP(P$5,NFI,5,0),1,0)*Table_NFI[[#This Row],[Plastic Bucket]],0)","v":0},{"$f":"IF(NFI_Expiration=1,IF($A202<VLOOKUP(Q$5,NFI,5,0),1,0)*Table_NFI[[#This Row],[Plastic Mat]],0)","v":0},{"$f":"VLOOKUP(Table_NFI[[#This Row],[Camp Name]],'Camp List'!N$5:Z$347,2,0)","v":"MMR001CMP002"},{"$f":"VLOOKUP(Table_NFI[[#This Row],[Camp Name]],'Camp List'!N$5:Z$347,13,0)","v":"Open"}]
[15.933333333333334,"2012-04-10","UNHCR","KBSS","Kachin","Shwegu","Shwe Gu Catholic Church",null,null,0,43,25,43,25,25,25,25,{"$f":"IF(NFI_Expiration=1,IF($A203<VLOOKUP(H$5,NFI,5,0),1,0)*Table_NFI[[#This Row],[Hygiene Kit]],0)","v":0},{"$f":"IF(NFI_Expiration=1,IF($A203<VLOOKUP(I$5,NFI,5,0),1,0)*Table_NFI[[#This Row],[NFI Core Kit]],0)","v":0},{"$f":"IF(NFI_Expiration=1,IF($A203<VLOOKUP(J$5,NFI,5,0),1,0)*Table_NFI[[#This Row],[Sanitary Kit]],0)","v":0},{"$f":"IF(NFI_Expiration=1,IF($A203<VLOOKUP(K$5,NFI,5,0),1,0)*Table_NFI[[#This Row],[Mosquito net]],0)","v":0},{"$f":"IF(NFI_Expiration=1,IF($A203<VLOOKUP(L$5,NFI,5,0),1,0)*Table_NFI[[#This Row],[Tarpaulin]],0)","v":0},{"$f":"IF(NFI_Expiration=1,IF($A203<VLOOKUP(M$5,NFI,5,0),1,0)*Table_NFI[[#This Row],[Blanket]],0)","v":0},{"$f":"IF(NFI_Expiration=1,IF($A203<VLOOKUP(N$5,NFI,5,0),1,0)*Table_NFI[[#This Row],[Kitchen Set]],0)","v":0},{"$f":"IF(NFI_Expiration=1,IF($A203<VLOOKUP(O$5,NFI,5,0),1,0)*Table_NFI[[#This Row],[Complementary Kit]],0)","v":0},{"$f":"IF(NFI_Expiration=1,IF($A203<VLOOKUP(P$5,NFI,5,0),1,0)*Table_NFI[[#This Row],[Plastic Bucket]],0)","v":0},{"$f":"IF(NFI_Expiration=1,IF($A203<VLOOKUP(Q$5,NFI,5,0),1,0)*Table_NFI[[#This Row],[Plastic Mat]],0)","v":0},{"$f":"VLOOKUP(Table_NFI[[#This Row],[Camp Name]],'Camp List'!N$5:Z$347,2,0)","v":"MMR001CMP068"},{"$f":"VLOOKUP(Table_NFI[[#This Row],[Camp Name]],'Camp List'!N$5:Z$347,13,0)","v":"Open"}]
[18.866666666666667,"2012-01-13","UNHCR","KBC","Kachin","Hpakant","5 Ward Baptist Church(lon Khin)",null,null,0,52,26,36,0,26,26,26,{"$f":"IF(NFI_Expiration=1,IF($A204<VLOOKUP(H$5,NFI,5,0),1,0)*Table_NFI[[#This Row],[Hygiene Kit]],0)","v":0},{"$f":"IF(NFI_Expiration=1,IF($A204<VLOOKUP(I$5,NFI,5,0),1,0)*Table_NFI[[#This Row],[NFI Core Kit]],0)","v":0},{"$f":"IF(NFI_Expiration=1,IF($A204<VLOOKUP(J$5,NFI,5,0),1,0)*Table_NFI[[#This Row],[Sanitary Kit]],0)","v":0},{"$f":"IF(NFI_Expiration=1,IF($A204<VLOOKUP(K$5,NFI,5,0),1,0)*Table_NFI[[#This Row],[Mosquito net]],0)","v":0},{"$f":"IF(NFI_Expiration=1,IF($A204<VLOOKUP(L$5,NFI,5,0),1,0)*Table_NFI[[#This Row],[Tarpaulin]],0)","v":0},{"$f":"IF(NFI_Expiration=1,IF($A204<VLOOKUP(M$5,NFI,5,0),1,0)*Table_NFI[[#This Row],[Blanket]],0)","v":0},{"$f":"IF(NFI_Expiration=1,IF($A204<VLOOKUP(N$5,NFI,5,0),1,0)*Table_NFI[[#This Row],[Kitchen Set]],0)","v":0},{"$f":"IF(NFI_Expiration=1,IF($A204<VLOOKUP(O$5,NFI,5,0),1,0)*Table_NFI[[#This Row],[Complementary Kit]],0)","v":0},{"$f":"IF(NFI_Expiration=1,IF($A204<VLOOKUP(P$5,NFI,5,0),1,0)*Table_NFI[[#This Row],[Plastic Bucket]],0)","v":0},{"$f":"IF(NFI_Expiration=1,IF($A204<VLOOKUP(Q$5,NFI,5,0),1,0)*Table_NFI[[#This Row],[Plastic Mat]],0)","v":0},{"$f":"VLOOKUP(Table_NFI[[#This Row],[Camp Name]],'Camp List'!N$5:Z$347,2,0)","v":"MMR001CMP179"},{"$f":"VLOOKUP(Table_NFI[[#This Row],[Camp Name]],'Camp List'!N$5:Z$347,13,0)","v":"Open"}]
[4.4666666666666668,"2013-03-20","UNHCR","UNHCR","Kachin","Hpakant","Anglican Church, Hmaw Si Sar",null,null,38,11,11,87,11,26,26,26,{"$f":"IF(NFI_Expiration=1,IF($A205<VLOOKUP(H$5,NFI,5,0),1,0)*Table_NFI[[#This Row],[Hygiene Kit]],0)","v":0},{"$f":"IF(NFI_Expiration=1,IF($A205<VLOOKUP(I$5,NFI,5,0),1,0)*Table_NFI[[#This Row],[NFI Core Kit]],0)","v":0},{"$f":"IF(NFI_Expiration=1,IF($A205<VLOOKUP(J$5,NFI,5,0),1,0)*Table_NFI[[#This Row],[Sanitary Kit]],0)","v":38},{"$f":"IF(NFI_Expiration=1,IF($A205<VLOOKUP(K$5,NFI,5,0),1,0)*Table_NFI[[#This Row],[Mosquito net]],0)","v":11},{"$f":"IF(NFI_Expiration=1,IF($A205<VLOOKUP(L$5,NFI,5,0),1,0)*Table_NFI[[#This Row],[Tarpaulin]],0)","v":11},{"$f":"IF(NFI_Expiration=1,IF($A205<VLOOKUP(M$5,NFI,5,0),1,0)*Table_NFI[[#This Row],[Blanket]],0)","v":87},{"$f":"IF(NFI_Expiration=1,IF($A205<VLOOKUP(N$5,NFI,5,0),1,0)*Table_NFI[[#This Row],[Kitchen Set]],0)","v":11},{"$f":"IF(NFI_Expiration=1,IF($A205<VLOOKUP(O$5,NFI,5,0),1,0)*Table_NFI[[#This Row],[Complementary Kit]],0)","v":26},{"$f":"IF(NFI_Expiration=1,IF($A205<VLOOKUP(P$5,NFI,5,0),1,0)*Table_NFI[[#This Row],[Plastic Bucket]],0)","v":26},{"$f":"IF(NFI_Expiration=1,IF($A205<VLOOKUP(Q$5,NFI,5,0),1,0)*Table_NFI[[#This Row],[Plastic Mat]],0)","v":26},{"$f":"VLOOKUP(Table_NFI[[#This Row],[Camp Name]],'Camp List'!N$5:Z$347,2,0)","v":"MMR001CMP173"},{"$f":"VLOOKUP(Table_NFI[[#This Row],[Camp Name]],'Camp List'!N$5:Z$347,13,0)","v":"Close"}]
[20.2,"2011-12-04","UNHCR","KBC","Kachin","Myitkyina","Shwe Zet Baptist Church",null,null,0,52,27,52,27,27,27,{"$f":"O206","v":27},{"$f":"IF(NFI_Expiration=1,IF($A206<VLOOKUP(H$5,NFI,5,0),1,0)*Table_NFI[[#This Row],[Hygiene Kit]],0)","v":0},{"$f":"IF(NFI_Expiration=1,IF($A206<VLOOKUP(I$5,NFI,5,0),1,0)*Table_NFI[[#This Row],[NFI Core Kit]],0)","v":0},{"$f":"IF(NFI_Expiration=1,IF($A206<VLOOKUP(J$5,NFI,5,0),1,0)*Table_NFI[[#This Row],[Sanitary Kit]],0)","v":0},{"$f":"IF(NFI_Expiration=1,IF($A206<VLOOKUP(K$5,NFI,5,0),1,0)*Table_NFI[[#This Row],[Mosquito net]],0)","v":0},{"$f":"IF(NFI_Expiration=1,IF($A206<VLOOKUP(L$5,NFI,5,0),1,0)*Table_NFI[[#This Row],[Tarpaulin]],0)","v":0},{"$f":"IF(NFI_Expiration=1,IF($A206<VLOOKUP(M$5,NFI,5,0),1,0)*Table_NFI[[#This Row],[Blanket]],0)","v":0},{"$f":"IF(NFI_Expiration=1,IF($A206<VLOOKUP(N$5,NFI,5,0),1,0)*Table_NFI[[#This Row],[Kitchen Set]],0)","v":0},{"$f":"IF(NFI_Expiration=1,IF($A206<VLOOKUP(O$5,NFI,5,0),1,0)*Table_NFI[[#This Row],[Complementary Kit]],0)","v":0},{"$f":"IF(NFI_Expiration=1,IF($A206<VLOOKUP(P$5,NFI,5,0),1,0)*Table_NFI[[#This Row],[Plastic Bucket]],0)","v":0},{"$f":"IF(NFI_Expiration=1,IF($A206<VLOOKUP(Q$5,NFI,5,0),1,0)*Table_NFI[[#This Row],[Plastic Mat]],0)","v":0},{"$f":"VLOOKUP(Table_NFI[[#This Row],[Camp Name]],'Camp List'!N$5:Z$347,2,0)","v":"MMR001CMP009"},{"$f":"VLOOKUP(Table_NFI[[#This Row],[Camp Name]],'Camp List'!N$5:Z$347,13,0)","v":"Open"}]
[15.933333333333334,"2012-04-10","UNHCR","KBSS","Kachin","Shwegu","Shwe Gu Baptist Church",null,null,0,46,27,46,27,27,27,27,{"$f":"IF(NFI_Expiration=1,IF($A207<VLOOKUP(H$5,NFI,5,0),1,0)*Table_NFI[[#This Row],[Hygiene Kit]],0)","v":0},{"$f":"IF(NFI_Expiration=1,IF($A207<VLOOKUP(I$5,NFI,5,0),1,0)*Table_NFI[[#This Row],[NFI Core Kit]],0)","v":0},{"$f":"IF(NFI_Expiration=1,IF($A207<VLOOKUP(J$5,NFI,5,0),1,0)*Table_NFI[[#This Row],[Sanitary Kit]],0)","v":0},{"$f":"IF(NFI_Expiration=1,IF($A207<VLOOKUP(K$5,NFI,5,0),1,0)*Table_NFI[[#This Row],[Mosquito net]],0)","v":0},{"$f":"IF(NFI_Expiration=1,IF($A207<VLOOKUP(L$5,NFI,5,0),1,0)*Table_NFI[[#This Row],[Tarpaulin]],0)","v":0},{"$f":"IF(NFI_Expiration=1,IF($A207<VLOOKUP(M$5,NFI,5,0),1,0)*Table_NFI[[#This Row],[Blanket]],0)","v":0},{"$f":"IF(NFI_Expiration=1,IF($A207<VLOOKUP(N$5,NFI,5,0),1,0)*Table_NFI[[#This Row],[Kitchen Set]],0)","v":0},{"$f":"IF(NFI_Expiration=1,IF($A207<VLOOKUP(O$5,NFI,5,0),1,0)*Table_NFI[[#This Row],[Complementary Kit]],0)","v":0},{"$f":"IF(NFI_Expiration=1,IF($A207<VLOOKUP(P$5,NFI,5,0),1,0)*Table_NFI[[#This Row],[Plastic Bucket]],0)","v":0},{"$f":"IF(NFI_Expiration=1,IF($A207<VLOOKUP(Q$5,NFI,5,0),1,0)*Table_NFI[[#This Row],[Plastic Mat]],0)","v":0},{"$f":"VLOOKUP(Table_NFI[[#This Row],[Camp Name]],'Camp List'!N$5:Z$347,2,0)","v":"MMR001CMP067"},{"$f":"VLOOKUP(Table_NFI[[#This Row],[Camp Name]],'Camp List'!N$5:Z$347,13,0)","v":"Open"}]
[19.3,"2011-12-31","UNHCR","KMSS","Kachin","Waingmaw","Maina Catholic Church (St. Joseph)",null,null,0,46,27,47,27,27,27,27,{"$f":"IF(NFI_Expiration=1,IF($A208<VLOOKUP(H$5,NFI,5,0),1,0)*Table_NFI[[#This Row],[Hygiene Kit]],0)","v":0},{"$f":"IF(NFI_Expiration=1,IF($A208<VLOOKUP(I$5,NFI,5,0),1,0)*Table_NFI[[#This Row],[NFI Core Kit]],0)","v":0},{"$f":"IF(NFI_Expiration=1,IF($A208<VLOOKUP(J$5,NFI,5,0),1,0)*Table_NFI[[#This Row],[Sanitary Kit]],0)","v":0},{"$f":"IF(NFI_Expiration=1,IF($A208<VLOOKUP(K$5,NFI,5,0),1,0)*Table_NFI[[#This Row],[Mosquito net]],0)","v":0},{"$f":"IF(NFI_Expiration=1,IF($A208<VLOOKUP(L$5,NFI,5,0),1,0)*Table_NFI[[#This Row],[Tarpaulin]],0)","v":0},{"$f":"IF(NFI_Expiration=1,IF($A208<VLOOKUP(M$5,NFI,5,0),1,0)*Table_NFI[[#This Row],[Blanket]],0)","v":0},{"$f":"IF(NFI_Expiration=1,IF($A208<VLOOKUP(N$5,NFI,5,0),1,0)*Table_NFI[[#This Row],[Kitchen Set]],0)","v":0},{"$f":"IF(NFI_Expiration=1,IF($A208<VLOOKUP(O$5,NFI,5,0),1,0)*Table_NFI[[#This Row],[Complementary Kit]],0)","v":0},{"$f":"IF(NFI_Expiration=1,IF($A208<VLOOKUP(P$5,NFI,5,0),1,0)*Table_NFI[[#This Row],[Plastic Bucket]],0)","v":0},{"$f":"IF(NFI_Expiration=1,IF($A208<VLOOKUP(Q$5,NFI,5,0),1,0)*Table_NFI[[#This Row],[Plastic Mat]],0)","v":0},{"$f":"VLOOKUP(Table_NFI[[#This Row],[Camp Name]],'Camp List'!N$5:Z$347,2,0)","v":"MMR001CMP029"},{"$f":"VLOOKUP(Table_NFI[[#This Row],[Camp Name]],'Camp List'!N$5:Z$347,13,0)","v":"Open"}]
[19.066666666666666,"2012-01-07","UNHCR","KMSS","Kachin","Waingmaw","Maina Catholic Church (St. Joseph)",null,null,0,50,25,50,25,27,27,27,{"$f":"IF(NFI_Expiration=1,IF($A209<VLOOKUP(H$5,NFI,5,0),1,0)*Table_NFI[[#This Row],[Hygiene Kit]],0)","v":0},{"$f":"IF(NFI_Expiration=1,IF($A209<VLOOKUP(I$5,NFI,5,0),1,0)*Table_NFI[[#This Row],[NFI Core Kit]],0)","v":0},{"$f":"IF(NFI_Expiration=1,IF($A209<VLOOKUP(J$5,NFI,5,0),1,0)*Table_NFI[[#This Row],[Sanitary Kit]],0)","v":0},{"$f":"IF(NFI_Expiration=1,IF($A209<VLOOKUP(K$5,NFI,5,0),1,0)*Table_NFI[[#This Row],[Mosquito net]],0)","v":0},{"$f":"IF(NFI_Expiration=1,IF($A209<VLOOKUP(L$5,NFI,5,0),1,0)*Table_NFI[[#This Row],[Tarpaulin]],0)","v":0},{"$f":"IF(NFI_Expiration=1,IF($A209<VLOOKUP(M$5,NFI,5,0),1,0)*Table_NFI[[#This Row],[Blanket]],0)","v":0},{"$f":"IF(NFI_Expiration=1,IF($A209<VLOOKUP(N$5,NFI,5,0),1,0)*Table_NFI[[#This Row],[Kitchen Set]],0)","v":0},{"$f":"IF(NFI_Expiration=1,IF($A209<VLOOKUP(O$5,NFI,5,0),1,0)*Table_NFI[[#This Row],[Complementary Kit]],0)","v":0},{"$f":"IF(NFI_Expiration=1,IF($A209<VLOOKUP(P$5,NFI,5,0),1,0)*Table_NFI[[#This Row],[Plastic Bucket]],0)","v":0},{"$f":"IF(NFI_Expiration=1,IF($A209<VLOOKUP(Q$5,NFI,5,0),1,0)*Table_NFI[[#This Row],[Plastic Mat]],0)","v":0},{"$f":"VLOOKUP(Table_NFI[[#This Row],[Camp Name]],'Camp List'!N$5:Z$347,2,0)","v":"MMR001CMP029"},{"$f":"VLOOKUP(Table_NFI[[#This Row],[Camp Name]],'Camp List'!N$5:Z$347,13,0)","v":"Open"}]
[5.4,"2013-02-20","UNHCR","UNHCR","Kachin","Hpakant","AG Church, Maw Wan",null,null,0,59,28,0,28,28,28,28,{"$f":"IF(NFI_Expiration=1,IF($A210<VLOOKUP(H$5,NFI,5,0),1,0)*Table_NFI[[#This Row],[Hygiene Kit]],0)","v":0},{"$f":"IF(NFI_Expiration=1,IF($A210<VLOOKUP(I$5,NFI,5,0),1,0)*Table_NFI[[#This Row],[NFI Core Kit]],0)","v":0},{"$f":"IF(NFI_Expiration=1,IF($A210<VLOOKUP(J$5,NFI,5,0),1,0)*Table_NFI[[#This Row],[Sanitary Kit]],0)","v":0},{"$f":"IF(NFI_Expiration=1,IF($A210<VLOOKUP(K$5,NFI,5,0),1,0)*Table_NFI[[#This Row],[Mosquito net]],0)","v":59},{"$f":"IF(NFI_Expiration=1,IF($A210<VLOOKUP(L$5,NFI,5,0),1,0)*Table_NFI[[#This Row],[Tarpaulin]],0)","v":28},{"$f":"IF(NFI_Expiration=1,IF($A210<VLOOKUP(M$5,NFI,5,0),1,0)*Table_NFI[[#This Row],[Blanket]],0)","v":0},{"$f":"IF(NFI_Expiration=1,IF($A210<VLOOKUP(N$5,NFI,5,0),1,0)*Table_NFI[[#This Row],[Kitchen Set]],0)","v":28},{"$f":"IF(NFI_Expiration=1,IF($A210<VLOOKUP(O$5,NFI,5,0),1,0)*Table_NFI[[#This Row],[Complementary Kit]],0)","v":28},{"$f":"IF(NFI_Expiration=1,IF($A210<VLOOKUP(P$5,NFI,5,0),1,0)*Table_NFI[[#This Row],[Plastic Bucket]],0)","v":28},{"$f":"IF(NFI_Expiration=1,IF($A210<VLOOKUP(Q$5,NFI,5,0),1,0)*Table_NFI[[#This Row],[Plastic Mat]],0)","v":28},{"$f":"VLOOKUP(Table_NFI[[#This Row],[Camp Name]],'Camp List'!N$5:Z$347,2,0)","v":"MMR001CMP190"},{"$f":"VLOOKUP(Table_NFI[[#This Row],[Camp Name]],'Camp List'!N$5:Z$347,13,0)","v":"Open"}]
[2.3666666666666667,"2013-05-22","UNHCR","UNHCR","Kachin","Hpakant","Yumar Baptist Church",null,null,42,66,28,66,28,28,28,28,{"$f":"IF(NFI_Expiration=1,IF($A211<VLOOKUP(H$5,NFI,5,0),1,0)*Table_NFI[[#This Row],[Hygiene Kit]],0)","v":0},{"$f":"IF(NFI_Expiration=1,IF($A211<VLOOKUP(I$5,NFI,5,0),1,0)*Table_NFI[[#This Row],[NFI Core Kit]],0)","v":0},{"$f":"IF(NFI_Expiration=1,IF($A211<VLOOKUP(J$5,NFI,5,0),1,0)*Table_NFI[[#This Row],[Sanitary Kit]],0)","v":42},{"$f":"IF(NFI_Expiration=1,IF($A211<VLOOKUP(K$5,NFI,5,0),1,0)*Table_NFI[[#This Row],[Mosquito net]],0)","v":66},{"$f":"IF(NFI_Expiration=1,IF($A211<VLOOKUP(L$5,NFI,5,0),1,0)*Table_NFI[[#This Row],[Tarpaulin]],0)","v":28},{"$f":"IF(NFI_Expiration=1,IF($A211<VLOOKUP(M$5,NFI,5,0),1,0)*Table_NFI[[#This Row],[Blanket]],0)","v":66},{"$f":"IF(NFI_Expiration=1,IF($A211<VLOOKUP(N$5,NFI,5,0),1,0)*Table_NFI[[#This Row],[Kitchen Set]],0)","v":28},{"$f":"IF(NFI_Expiration=1,IF($A211<VLOOKUP(O$5,NFI,5,0),1,0)*Table_NFI[[#This Row],[Complementary Kit]],0)","v":28},{"$f":"IF(NFI_Expiration=1,IF($A211<VLOOKUP(P$5,NFI,5,0),1,0)*Table_NFI[[#This Row],[Plastic Bucket]],0)","v":28},{"$f":"IF(NFI_Expiration=1,IF($A211<VLOOKUP(Q$5,NFI,5,0),1,0)*Table_NFI[[#This Row],[Plastic Mat]],0)","v":28},{"$f":"VLOOKUP(Table_NFI[[#This Row],[Camp Name]],'Camp List'!N$5:Z$347,2,0)","v":"MMR001CMP105"},{"$f":"VLOOKUP(Table_NFI[[#This Row],[Camp Name]],'Camp List'!N$5:Z$347,13,0)","v":"Open"}]
[20.866666666666667,"2011-11-14","UNHCR","KBC","Kachin","Myitkyina","Kyun Pin Thar Baptist Church",null,null,0,47,28,47,28,28,28,28,{"$f":"IF(NFI_Expiration=1,IF($A212<VLOOKUP(H$5,NFI,5,0),1,0)*Table_NFI[[#This Row],[Hygiene Kit]],0)","v":0},{"$f":"IF(NFI_Expiration=1,IF($A212<VLOOKUP(I$5,NFI,5,0),1,0)*Table_NFI[[#This Row],[NFI Core Kit]],0)","v":0},{"$f":"IF(NFI_Expiration=1,IF($A212<VLOOKUP(J$5,NFI,5,0),1,0)*Table_NFI[[#This Row],[Sanitary Kit]],0)","v":0},{"$f":"IF(NFI_Expiration=1,IF($A212<VLOOKUP(K$5,NFI,5,0),1,0)*Table_NFI[[#This Row],[Mosquito net]],0)","v":0},{"$f":"IF(NFI_Expiration=1,IF($A212<VLOOKUP(L$5,NFI,5,0),1,0)*Table_NFI[[#This Row],[Tarpaulin]],0)","v":0},{"$f":"IF(NFI_Expiration=1,IF($A212<VLOOKUP(M$5,NFI,5,0),1,0)*Table_NFI[[#This Row],[Blanket]],0)","v":0},{"$f":"IF(NFI_Expiration=1,IF($A212<VLOOKUP(N$5,NFI,5,0),1,0)*Table_NFI[[#This Row],[Kitchen Set]],0)","v":0},{"$f":"IF(NFI_Expiration=1,IF($A212<VLOOKUP(O$5,NFI,5,0),1,0)*Table_NFI[[#This Row],[Complementary Kit]],0)","v":0},{"$f":"IF(NFI_Expiration=1,IF($A212<VLOOKUP(P$5,NFI,5,0),1,0)*Table_NFI[[#This Row],[Plastic Bucket]],0)","v":0},{"$f":"IF(NFI_Expiration=1,IF($A212<VLOOKUP(Q$5,NFI,5,0),1,0)*Table_NFI[[#This Row],[Plastic Mat]],0)","v":0},{"$f":"VLOOKUP(Table_NFI[[#This Row],[Camp Name]],'Camp List'!N$5:Z$347,2,0)","v":"MMR001CMP013"},{"$f":"VLOOKUP(Table_NFI[[#This Row],[Camp Name]],'Camp List'!N$5:Z$347,13,0)","v":"Open"}]
[5.4666666666666668,"2013-02-18","UNHCR","KBC","Shan_North","Manton","Mandung - Jinghpaw",null,null,57,57,29,57,29,29,29,29,{"$f":"IF(NFI_Expiration=1,IF($A213<VLOOKUP(H$5,NFI,5,0),1,0)*Table_NFI[[#This Row],[Hygiene Kit]],0)","v":0},{"$f":"IF(NFI_Expiration=1,IF($A213<VLOOKUP(I$5,NFI,5,0),1,0)*Table_NFI[[#This Row],[NFI Core Kit]],0)","v":0},{"$f":"IF(NFI_Expiration=1,IF($A213<VLOOKUP(J$5,NFI,5,0),1,0)*Table_NFI[[#This Row],[Sanitary Kit]],0)","v":57},{"$f":"IF(NFI_Expiration=1,IF($A213<VLOOKUP(K$5,NFI,5,0),1,0)*Table_NFI[[#This Row],[Mosquito net]],0)","v":57},{"$f":"IF(NFI_Expiration=1,IF($A213<VLOOKUP(L$5,NFI,5,0),1,0)*Table_NFI[[#This Row],[Tarpaulin]],0)","v":29},{"$f":"IF(NFI_Expiration=1,IF($A213<VLOOKUP(M$5,NFI,5,0),1,0)*Table_NFI[[#This Row],[Blanket]],0)","v":57},{"$f":"IF(NFI_Expiration=1,IF($A213<VLOOKUP(N$5,NFI,5,0),1,0)*Table_NFI[[#This Row],[Kitchen Set]],0)","v":29},{"$f":"IF(NFI_Expiration=1,IF($A213<VLOOKUP(O$5,NFI,5,0),1,0)*Table_NFI[[#This Row],[Complementary Kit]],0)","v":29},{"$f":"IF(NFI_Expiration=1,IF($A213<VLOOKUP(P$5,NFI,5,0),1,0)*Table_NFI[[#This Row],[Plastic Bucket]],0)","v":29},{"$f":"IF(NFI_Expiration=1,IF($A213<VLOOKUP(Q$5,NFI,5,0),1,0)*Table_NFI[[#This Row],[Plastic Mat]],0)","v":29},{"$f":"VLOOKUP(Table_NFI[[#This Row],[Camp Name]],'Camp List'!N$5:Z$347,2,0)","v":"MMR015CMP009"},{"$f":"VLOOKUP(Table_NFI[[#This Row],[Camp Name]],'Camp List'!N$5:Z$347,13,0)","v":"Open"}]
[19.333333333333332,"2011-12-30","UNHCR","KBC","Kachin","Myitkyina","Jan Mai Kawng Baptist Church",null,null,0,56,29,56,29,29,29,29,{"$f":"IF(NFI_Expiration=1,IF($A214<VLOOKUP(H$5,NFI,5,0),1,0)*Table_NFI[[#This Row],[Hygiene Kit]],0)","v":0},{"$f":"IF(NFI_Expiration=1,IF($A214<VLOOKUP(I$5,NFI,5,0),1,0)*Table_NFI[[#This Row],[NFI Core Kit]],0)","v":0},{"$f":"IF(NFI_Expiration=1,IF($A214<VLOOKUP(J$5,NFI,5,0),1,0)*Table_NFI[[#This Row],[Sanitary Kit]],0)","v":0},{"$f":"IF(NFI_Expiration=1,IF($A214<VLOOKUP(K$5,NFI,5,0),1,0)*Table_NFI[[#This Row],[Mosquito net]],0)","v":0},{"$f":"IF(NFI_Expiration=1,IF($A214<VLOOKUP(L$5,NFI,5,0),1,0)*Table_NFI[[#This Row],[Tarpaulin]],0)","v":0},{"$f":"IF(NFI_Expiration=1,IF($A214<VLOOKUP(M$5,NFI,5,0),1,0)*Table_NFI[[#This Row],[Blanket]],0)","v":0},{"$f":"IF(NFI_Expiration=1,IF($A214<VLOOKUP(N$5,NFI,5,0),1,0)*Table_NFI[[#This Row],[Kitchen Set]],0)","v":0},{"$f":"IF(NFI_Expiration=1,IF($A214<VLOOKUP(O$5,NFI,5,0),1,0)*Table_NFI[[#This Row],[Complementary Kit]],0)","v":0},{"$f":"IF(NFI_Expiration=1,IF($A214<VLOOKUP(P$5,NFI,5,0),1,0)*Table_NFI[[#This Row],[Plastic Bucket]],0)","v":0},{"$f":"IF(NFI_Expiration=1,IF($A214<VLOOKUP(Q$5,NFI,5,0),1,0)*Table_NFI[[#This Row],[Plastic Mat]],0)","v":0},{"$f":"VLOOKUP(Table_NFI[[#This Row],[Camp Name]],'Camp List'!N$5:Z$347,2,0)","v":"MMR001CMP018"},{"$f":"VLOOKUP(Table_NFI[[#This Row],[Camp Name]],'Camp List'!N$5:Z$347,13,0)","v":"Open"}]
[14.5,"2012-05-23","UNHCR","UNHCR","Kachin","Myitkyina","Tat Kone Baptist Church",null,null,0,54,29,54,29,29,29,29,{"$f":"IF(NFI_Expiration=1,IF($A215<VLOOKUP(H$5,NFI,5,0),1,0)*Table_NFI[[#This Row],[Hygiene Kit]],0)","v":0},{"$f":"IF(NFI_Expiration=1,IF($A215<VLOOKUP(I$5,NFI,5,0),1,0)*Table_NFI[[#This Row],[NFI Core Kit]],0)","v":0},{"$f":"IF(NFI_Expiration=1,IF($A215<VLOOKUP(J$5,NFI,5,0),1,0)*Table_NFI[[#This Row],[Sanitary Kit]],0)","v":0},{"$f":"IF(NFI_Expiration=1,IF($A215<VLOOKUP(K$5,NFI,5,0),1,0)*Table_NFI[[#This Row],[Mosquito net]],0)","v":0},{"$f":"IF(NFI_Expiration=1,IF($A215<VLOOKUP(L$5,NFI,5,0),1,0)*Table_NFI[[#This Row],[Tarpaulin]],0)","v":0},{"$f":"IF(NFI_Expiration=1,IF($A215<VLOOKUP(M$5,NFI,5,0),1,0)*Table_NFI[[#This Row],[Blanket]],0)","v":0},{"$f":"IF(NFI_Expiration=1,IF($A215<VLOOKUP(N$5,NFI,5,0),1,0)*Table_NFI[[#This Row],[Kitchen Set]],0)","v":0},{"$f":"IF(NFI_Expiration=1,IF($A215<VLOOKUP(O$5,NFI,5,0),1,0)*Table_NFI[[#This Row],[Complementary Kit]],0)","v":0},{"$f":"IF(NFI_Expiration=1,IF($A215<VLOOKUP(P$5,NFI,5,0),1,0)*Table_NFI[[#This Row],[Plastic Bucket]],0)","v":0},{"$f":"IF(NFI_Expiration=1,IF($A215<VLOOKUP(Q$5,NFI,5,0),1,0)*Table_NFI[[#This Row],[Plastic Mat]],0)","v":0},{"$f":"VLOOKUP(Table_NFI[[#This Row],[Camp Name]],'Camp List'!N$5:Z$347,2,0)","v":"MMR001CMP001"},{"$f":"VLOOKUP(Table_NFI[[#This Row],[Camp Name]],'Camp List'!N$5:Z$347,13,0)","v":"Open"}]
[14.5,"2012-05-23","UNHCR","UNHCR","Kachin","Myitkyina","Nan Kway St. John Catholic Church",null,null,0,58,29,58,29,29,29,29,{"$f":"IF(NFI_Expiration=1,IF($A216<VLOOKUP(H$5,NFI,5,0),1,0)*Table_NFI[[#This Row],[Hygiene Kit]],0)","v":0},{"$f":"IF(NFI_Expiration=1,IF($A216<VLOOKUP(I$5,NFI,5,0),1,0)*Table_NFI[[#This Row],[NFI Core Kit]],0)","v":0},{"$f":"IF(NFI_Expiration=1,IF($A216<VLOOKUP(J$5,NFI,5,0),1,0)*Table_NFI[[#This Row],[Sanitary Kit]],0)","v":0},{"$f":"IF(NFI_Expiration=1,IF($A216<VLOOKUP(K$5,NFI,5,0),1,0)*Table_NFI[[#This Row],[Mosquito net]],0)","v":0},{"$f":"IF(NFI_Expiration=1,IF($A216<VLOOKUP(L$5,NFI,5,0),1,0)*Table_NFI[[#This Row],[Tarpaulin]],0)","v":0},{"$f":"IF(NFI_Expiration=1,IF($A216<VLOOKUP(M$5,NFI,5,0),1,0)*Table_NFI[[#This Row],[Blanket]],0)","v":0},{"$f":"IF(NFI_Expiration=1,IF($A216<VLOOKUP(N$5,NFI,5,0),1,0)*Table_NFI[[#This Row],[Kitchen Set]],0)","v":0},{"$f":"IF(NFI_Expiration=1,IF($A216<VLOOKUP(O$5,NFI,5,0),1,0)*Table_NFI[[#This Row],[Complementary Kit]],0)","v":0},{"$f":"IF(NFI_Expiration=1,IF($A216<VLOOKUP(P$5,NFI,5,0),1,0)*Table_NFI[[#This Row],[Plastic Bucket]],0)","v":0},{"$f":"IF(NFI_Expiration=1,IF($A216<VLOOKUP(Q$5,NFI,5,0),1,0)*Table_NFI[[#This Row],[Plastic Mat]],0)","v":0},{"$f":"VLOOKUP(Table_NFI[[#This Row],[Camp Name]],'Camp List'!N$5:Z$347,2,0)","v":"MMR001CMP024"},{"$f":"VLOOKUP(Table_NFI[[#This Row],[Camp Name]],'Camp List'!N$5:Z$347,13,0)","v":"Open"}]
[19.133333333333333,"2012-01-05","UNHCR","KBC","Kachin","Waingmaw","Maina Lawang Baptist Church",null,null,0,52,29,52,29,29,29,29,{"$f":"IF(NFI_Expiration=1,IF($A217<VLOOKUP(H$5,NFI,5,0),1,0)*Table_NFI[[#This Row],[Hygiene Kit]],0)","v":0},{"$f":"IF(NFI_Expiration=1,IF($A217<VLOOKUP(I$5,NFI,5,0),1,0)*Table_NFI[[#This Row],[NFI Core Kit]],0)","v":0},{"$f":"IF(NFI_Expiration=1,IF($A217<VLOOKUP(J$5,NFI,5,0),1,0)*Table_NFI[[#This Row],[Sanitary Kit]],0)","v":0},{"$f":"IF(NFI_Expiration=1,IF($A217<VLOOKUP(K$5,NFI,5,0),1,0)*Table_NFI[[#This Row],[Mosquito net]],0)","v":0},{"$f":"IF(NFI_Expiration=1,IF($A217<VLOOKUP(L$5,NFI,5,0),1,0)*Table_NFI[[#This Row],[Tarpaulin]],0)","v":0},{"$f":"IF(NFI_Expiration=1,IF($A217<VLOOKUP(M$5,NFI,5,0),1,0)*Table_NFI[[#This Row],[Blanket]],0)","v":0},{"$f":"IF(NFI_Expiration=1,IF($A217<VLOOKUP(N$5,NFI,5,0),1,0)*Table_NFI[[#This Row],[Kitchen Set]],0)","v":0},{"$f":"IF(NFI_Expiration=1,IF($A217<VLOOKUP(O$5,NFI,5,0),1,0)*Table_NFI[[#This Row],[Complementary Kit]],0)","v":0},{"$f":"IF(NFI_Expiration=1,IF($A217<VLOOKUP(P$5,NFI,5,0),1,0)*Table_NFI[[#This Row],[Plastic Bucket]],0)","v":0},{"$f":"IF(NFI_Expiration=1,IF($A217<VLOOKUP(Q$5,NFI,5,0),1,0)*Table_NFI[[#This Row],[Plastic Mat]],0)","v":0},{"$f":"VLOOKUP(Table_NFI[[#This Row],[Camp Name]],'Camp List'!N$5:Z$347,2,0)","v":"MMR001CMP039"},{"$f":"VLOOKUP(Table_NFI[[#This Row],[Camp Name]],'Camp List'!N$5:Z$347,13,0)","v":"Open"}]
[14.9,"2012-05-11","UNHCR","UNHCR","Kachin","Waingmaw","Maina Catholic Church (St. Joseph)",null,null,0,57,29,57,29,29,29,29,{"$f":"IF(NFI_Expiration=1,IF($A218<VLOOKUP(H$5,NFI,5,0),1,0)*Table_NFI[[#This Row],[Hygiene Kit]],0)","v":0},{"$f":"IF(NFI_Expiration=1,IF($A218<VLOOKUP(I$5,NFI,5,0),1,0)*Table_NFI[[#This Row],[NFI Core Kit]],0)","v":0},{"$f":"IF(NFI_Expiration=1,IF($A218<VLOOKUP(J$5,NFI,5,0),1,0)*Table_NFI[[#This Row],[Sanitary Kit]],0)","v":0},{"$f":"IF(NFI_Expiration=1,IF($A218<VLOOKUP(K$5,NFI,5,0),1,0)*Table_NFI[[#This Row],[Mosquito net]],0)","v":0},{"$f":"IF(NFI_Expiration=1,IF($A218<VLOOKUP(L$5,NFI,5,0),1,0)*Table_NFI[[#This Row],[Tarpaulin]],0)","v":0},{"$f":"IF(NFI_Expiration=1,IF($A218<VLOOKUP(M$5,NFI,5,0),1,0)*Table_NFI[[#This Row],[Blanket]],0)","v":0},{"$f":"IF(NFI_Expiration=1,IF($A218<VLOOKUP(N$5,NFI,5,0),1,0)*Table_NFI[[#This Row],[Kitchen Set]],0)","v":0},{"$f":"IF(NFI_Expiration=1,IF($A218<VLOOKUP(O$5,NFI,5,0),1,0)*Table_NFI[[#This Row],[Complementary Kit]],0)","v":0},{"$f":"IF(NFI_Expiration=1,IF($A218<VLOOKUP(P$5,NFI,5,0),1,0)*Table_NFI[[#This Row],[Plastic Bucket]],0)","v":0},{"$f":"IF(NFI_Expiration=1,IF($A218<VLOOKUP(Q$5,NFI,5,0),1,0)*Table_NFI[[#This Row],[Plastic Mat]],0)","v":0},{"$f":"VLOOKUP(Table_NFI[[#This Row],[Camp Name]],'Camp List'!N$5:Z$347,2,0)","v":"MMR001CMP029"},{"$f":"VLOOKUP(Table_NFI[[#This Row],[Camp Name]],'Camp List'!N$5:Z$347,13,0)","v":"Open"}]
[2.3666666666666667,"2013-05-22","UNHCR","UNHCR","Kachin","Hpakant","Association of Christ, Nam Ma Phyit",null,null,34,61,30,61,30,30,30,30,{"$f":"IF(NFI_Expiration=1,IF($A219<VLOOKUP(H$5,NFI,5,0),1,0)*Table_NFI[[#This Row],[Hygiene Kit]],0)","v":0},{"$f":"IF(NFI_Expiration=1,IF($A219<VLOOKUP(I$5,NFI,5,0),1,0)*Table_NFI[[#This Row],[NFI Core Kit]],0)","v":0},{"$f":"IF(NFI_Expiration=1,IF($A219<VLOOKUP(J$5,NFI,5,0),1,0)*Table_NFI[[#This Row],[Sanitary Kit]],0)","v":34},{"$f":"IF(NFI_Expiration=1,IF($A219<VLOOKUP(K$5,NFI,5,0),1,0)*Table_NFI[[#This Row],[Mosquito net]],0)","v":61},{"$f":"IF(NFI_Expiration=1,IF($A219<VLOOKUP(L$5,NFI,5,0),1,0)*Table_NFI[[#This Row],[Tarpaulin]],0)","v":30},{"$f":"IF(NFI_Expiration=1,IF($A219<VLOOKUP(M$5,NFI,5,0),1,0)*Table_NFI[[#This Row],[Blanket]],0)","v":61},{"$f":"IF(NFI_Expiration=1,IF($A219<VLOOKUP(N$5,NFI,5,0),1,0)*Table_NFI[[#This Row],[Kitchen Set]],0)","v":30},{"$f":"IF(NFI_Expiration=1,IF($A219<VLOOKUP(O$5,NFI,5,0),1,0)*Table_NFI[[#This Row],[Complementary Kit]],0)","v":30},{"$f":"IF(NFI_Expiration=1,IF($A219<VLOOKUP(P$5,NFI,5,0),1,0)*Table_NFI[[#This Row],[Plastic Bucket]],0)","v":30},{"$f":"IF(NFI_Expiration=1,IF($A219<VLOOKUP(Q$5,NFI,5,0),1,0)*Table_NFI[[#This Row],[Plastic Mat]],0)","v":30},{"$f":"VLOOKUP(Table_NFI[[#This Row],[Camp Name]],'Camp List'!N$5:Z$347,2,0)","v":{"$error":"#N/A"}},{"$f":"VLOOKUP(Table_NFI[[#This Row],[Camp Name]],'Camp List'!N$5:Z$347,13,0)","v":{"$error":"#N/A"}}]
[-0.4,"2013-08-13","UNHCR","KBC","Kachin","Hseni","Na Ti (Koe Kant Traditional school)",null,null,67,90,30,90,30,30,30,30,{"$f":"IF(NFI_Expiration=1,IF($A220<VLOOKUP(H$5,NFI,5,0),1,0)*Table_NFI[[#This Row],[Hygiene Kit]],0)","v":0},{"$f":"IF(NFI_Expiration=1,IF($A220<VLOOKUP(I$5,NFI,5,0),1,0)*Table_NFI[[#This Row],[NFI Core Kit]],0)","v":0},{"$f":"IF(NFI_Expiration=1,IF($A220<VLOOKUP(J$5,NFI,5,0),1,0)*Table_NFI[[#This Row],[Sanitary Kit]],0)","v":67},{"$f":"IF(NFI_Expiration=1,IF($A220<VLOOKUP(K$5,NFI,5,0),1,0)*Table_NFI[[#This Row],[Mosquito net]],0)","v":90},{"$f":"IF(NFI_Expiration=1,IF($A220<VLOOKUP(L$5,NFI,5,0),1,0)*Table_NFI[[#This Row],[Tarpaulin]],0)","v":30},{"$f":"IF(NFI_Expiration=1,IF($A220<VLOOKUP(M$5,NFI,5,0),1,0)*Table_NFI[[#This Row],[Blanket]],0)","v":90},{"$f":"IF(NFI_Expiration=1,IF($A220<VLOOKUP(N$5,NFI,5,0),1,0)*Table_NFI[[#This Row],[Kitchen Set]],0)","v":30},{"$f":"IF(NFI_Expiration=1,IF($A220<VLOOKUP(O$5,NFI,5,0),1,0)*Table_NFI[[#This Row],[Complementary Kit]],0)","v":30},{"$f":"IF(NFI_Expiration=1,IF($A220<VLOOKUP(P$5,NFI,5,0),1,0)*Table_NFI[[#This Row],[Plastic Bucket]],0)","v":30},{"$f":"IF(NFI_Expiration=1,IF($A220<VLOOKUP(Q$5,NFI,5,0),1,0)*Table_NFI[[#This Row],[Plastic Mat]],0)","v":30},{"$f":"VLOOKUP(Table_NFI[[#This Row],[Camp Name]],'Camp List'!N$5:Z$347,2,0)","v":{"$error":"#N/A"}},{"$f":"VLOOKUP(Table_NFI[[#This Row],[Camp Name]],'Camp List'!N$5:Z$347,13,0)","v":{"$error":"#N/A"}}]
[-0.4,"2013-08-13","UNHCR","KMSS","Kachin","Manton","Host Families",null,null,49,90,30,90,30,30,30,30,{"$f":"IF(NFI_Expiration=1,IF($A221<VLOOKUP(H$5,NFI,5,0),1,0)*Table_NFI[[#This Row],[Hygiene Kit]],0)","v":0},{"$f":"IF(NFI_Expiration=1,IF($A221<VLOOKUP(I$5,NFI,5,0),1,0)*Table_NFI[[#This Row],[NFI Core Kit]],0)","v":0},{"$f":"IF(NFI_Expiration=1,IF($A221<VLOOKUP(J$5,NFI,5,0),1,0)*Table_NFI[[#This Row],[Sanitary Kit]],0)","v":49},{"$f":"IF(NFI_Expiration=1,IF($A221<VLOOKUP(K$5,NFI,5,0),1,0)*Table_NFI[[#This Row],[Mosquito net]],0)","v":90},{"$f":"IF(NFI_Expiration=1,IF($A221<VLOOKUP(L$5,NFI,5,0),1,0)*Table_NFI[[#This Row],[Tarpaulin]],0)","v":30},{"$f":"IF(NFI_Expiration=1,IF($A221<VLOOKUP(M$5,NFI,5,0),1,0)*Table_NFI[[#This Row],[Blanket]],0)","v":90},{"$f":"IF(NFI_Expiration=1,IF($A221<VLOOKUP(N$5,NFI,5,0),1,0)*Table_NFI[[#This Row],[Kitchen Set]],0)","v":30},{"$f":"IF(NFI_Expiration=1,IF($A221<VLOOKUP(O$5,NFI,5,0),1,0)*Table_NFI[[#This Row],[Complementary Kit]],0)","v":30},{"$f":"IF(NFI_Expiration=1,IF($A221<VLOOKUP(P$5,NFI,5,0),1,0)*Table_NFI[[#This Row],[Plastic Bucket]],0)","v":30},{"$f":"IF(NFI_Expiration=1,IF($A221<VLOOKUP(Q$5,NFI,5,0),1,0)*Table_NFI[[#This Row],[Plastic Mat]],0)","v":30},{"$f":"VLOOKUP(Table_NFI[[#This Row],[Camp Name]],'Camp List'!N$5:Z$347,2,0)","v":"MMR001CMP163"},{"$f":"VLOOKUP(Table_NFI[[#This Row],[Camp Name]],'Camp List'!N$5:Z$347,13,0)","v":"Open"}]
[5.4666666666666668,"2013-02-18","UNHCR","KBC","Shan_North","Muse","Munekoe Pa (Giwang) - Hka San (Mung  Go  Pa ) ",null,null,60,60,30,60,30,30,30,30,{"$f":"IF(NFI_Expiration=1,IF($A222<VLOOKUP(H$5,NFI,5,0),1,0)*Table_NFI[[#This Row],[Hygiene Kit]],0)","v":0},{"$f":"IF(NFI_Expiration=1,IF($A222<VLOOKUP(I$5,NFI,5,0),1,0)*Table_NFI[[#This Row],[NFI Core Kit]],0)","v":0},{"$f":"IF(NFI_Expiration=1,IF($A222<VLOOKUP(J$5,NFI,5,0),1,0)*Table_NFI[[#This Row],[Sanitary Kit]],0)","v":60},{"$f":"IF(NFI_Expiration=1,IF($A222<VLOOKUP(K$5,NFI,5,0),1,0)*Table_NFI[[#This Row],[Mosquito net]],0)","v":60},{"$f":"IF(NFI_Expiration=1,IF($A222<VLOOKUP(L$5,NFI,5,0),1,0)*Table_NFI[[#This Row],[Tarpaulin]],0)","v":30},{"$f":"IF(NFI_Expiration=1,IF($A222<VLOOKUP(M$5,NFI,5,0),1,0)*Table_NFI[[#This Row],[Blanket]],0)","v":60},{"$f":"IF(NFI_Expiration=1,IF($A222<VLOOKUP(N$5,NFI,5,0),1,0)*Table_NFI[[#This Row],[Kitchen Set]],0)","v":30},{"$f":"IF(NFI_Expiration=1,IF($A222<VLOOKUP(O$5,NFI,5,0),1,0)*Table_NFI[[#This Row],[Complementary Kit]],0)","v":30},{"$f":"IF(NFI_Expiration=1,IF($A222<VLOOKUP(P$5,NFI,5,0),1,0)*Table_NFI[[#This Row],[Plastic Bucket]],0)","v":30},{"$f":"IF(NFI_Expiration=1,IF($A222<VLOOKUP(Q$5,NFI,5,0),1,0)*Table_NFI[[#This Row],[Plastic Mat]],0)","v":30},{"$f":"VLOOKUP(Table_NFI[[#This Row],[Camp Name]],'Camp List'!N$5:Z$347,2,0)","v":"MMR015CMP012"},{"$f":"VLOOKUP(Table_NFI[[#This Row],[Camp Name]],'Camp List'!N$5:Z$347,13,0)","v":"Open"}]
[20.866666666666667,"2011-11-14","UNHCR","KBC","Kachin","Myitkyina","Maliyang Baptist Church",null,null,0,57,30,57,30,30,30,30,{"$f":"IF(NFI_Expiration=1,IF($A223<VLOOKUP(H$5,NFI,5,0),1,0)*Table_NFI[[#This Row],[Hygiene Kit]],0)","v":0},{"$f":"IF(NFI_Expiration=1,IF($A223<VLOOKUP(I$5,NFI,5,0),1,0)*Table_NFI[[#This Row],[NFI Core Kit]],0)","v":0},{"$f":"IF(NFI_Expiration=1,IF($A223<VLOOKUP(J$5,NFI,5,0),1,0)*Table_NFI[[#This Row],[Sanitary Kit]],0)","v":0},{"$f":"IF(NFI_Expiration=1,IF($A223<VLOOKUP(K$5,NFI,5,0),1,0)*Table_NFI[[#This Row],[Mosquito net]],0)","v":0},{"$f":"IF(NFI_Expiration=1,IF($A223<VLOOKUP(L$5,NFI,5,0),1,0)*Table_NFI[[#This Row],[Tarpaulin]],0)","v":0},{"$f":"IF(NFI_Expiration=1,IF($A223<VLOOKUP(M$5,NFI,5,0),1,0)*Table_NFI[[#This Row],[Blanket]],0)","v":0},{"$f":"IF(NFI_Expiration=1,IF($A223<VLOOKUP(N$5,NFI,5,0),1,0)*Table_NFI[[#This Row],[Kitchen Set]],0)","v":0},{"$f":"IF(NFI_Expiration=1,IF($A223<VLOOKUP(O$5,NFI,5,0),1,0)*Table_NFI[[#This Row],[Complementary Kit]],0)","v":0},{"$f":"IF(NFI_Expiration=1,IF($A223<VLOOKUP(P$5,NFI,5,0),1,0)*Table_NFI[[#This Row],[Plastic Bucket]],0)","v":0},{"$f":"IF(NFI_Expiration=1,IF($A223<VLOOKUP(Q$5,NFI,5,0),1,0)*Table_NFI[[#This Row],[Plastic Mat]],0)","v":0},{"$f":"VLOOKUP(Table_NFI[[#This Row],[Camp Name]],'Camp List'!N$5:Z$347,2,0)","v":"MMR001CMP016"},{"$f":"VLOOKUP(Table_NFI[[#This Row],[Camp Name]],'Camp List'!N$5:Z$347,13,0)","v":"Open"}]
[20.8,"2011-11-16","UNHCR","KBC","Kachin","Myitkyina","Shwe Zet Baptist Church",null,null,0,63,30,63,30,30,30,30,{"$f":"IF(NFI_Expiration=1,IF($A224<VLOOKUP(H$5,NFI,5,0),1,0)*Table_NFI[[#This Row],[Hygiene Kit]],0)","v":0},{"$f":"IF(NFI_Expiration=1,IF($A224<VLOOKUP(I$5,NFI,5,0),1,0)*Table_NFI[[#This Row],[NFI Core Kit]],0)","v":0},{"$f":"IF(NFI_Expiration=1,IF($A224<VLOOKUP(J$5,NFI,5,0),1,0)*Table_NFI[[#This Row],[Sanitary Kit]],0)","v":0},{"$f":"IF(NFI_Expiration=1,IF($A224<VLOOKUP(K$5,NFI,5,0),1,0)*Table_NFI[[#This Row],[Mosquito net]],0)","v":0},{"$f":"IF(NFI_Expiration=1,IF($A224<VLOOKUP(L$5,NFI,5,0),1,0)*Table_NFI[[#This Row],[Tarpaulin]],0)","v":0},{"$f":"IF(NFI_Expiration=1,IF($A224<VLOOKUP(M$5,NFI,5,0),1,0)*Table_NFI[[#This Row],[Blanket]],0)","v":0},{"$f":"IF(NFI_Expiration=1,IF($A224<VLOOKUP(N$5,NFI,5,0),1,0)*Table_NFI[[#This Row],[Kitchen Set]],0)","v":0},{"$f":"IF(NFI_Expiration=1,IF($A224<VLOOKUP(O$5,NFI,5,0),1,0)*Table_NFI[[#This Row],[Complementary Kit]],0)","v":0},{"$f":"IF(NFI_Expiration=1,IF($A224<VLOOKUP(P$5,NFI,5,0),1,0)*Table_NFI[[#This Row],[Plastic Bucket]],0)","v":0},{"$f":"IF(NFI_Expiration=1,IF($A224<VLOOKUP(Q$5,NFI,5,0),1,0)*Table_NFI[[#This Row],[Plastic Mat]],0)","v":0},{"$f":"VLOOKUP(Table_NFI[[#This Row],[Camp Name]],'Camp List'!N$5:Z$347,2,0)","v":"MMR001CMP009"},{"$f":"VLOOKUP(Table_NFI[[#This Row],[Camp Name]],'Camp List'!N$5:Z$347,13,0)","v":"Open"}]
[19.100000000000001,"2012-01-06","UNHCR","UNHCR","Kachin","Waingmaw","Thargaya Lisu Baptist Church",null,null,0,59,30,59,30,30,30,30,{"$f":"IF(NFI_Expiration=1,IF($A225<VLOOKUP(H$5,NFI,5,0),1,0)*Table_NFI[[#This Row],[Hygiene Kit]],0)","v":0},{"$f":"IF(NFI_Expiration=1,IF($A225<VLOOKUP(I$5,NFI,5,0),1,0)*Table_NFI[[#This Row],[NFI Core Kit]],0)","v":0},{"$f":"IF(NFI_Expiration=1,IF($A225<VLOOKUP(J$5,NFI,5,0),1,0)*Table_NFI[[#This Row],[Sanitary Kit]],0)","v":0},{"$f":"IF(NFI_Expiration=1,IF($A225<VLOOKUP(K$5,NFI,5,0),1,0)*Table_NFI[[#This Row],[Mosquito net]],0)","v":0},{"$f":"IF(NFI_Expiration=1,IF($A225<VLOOKUP(L$5,NFI,5,0),1,0)*Table_NFI[[#This Row],[Tarpaulin]],0)","v":0},{"$f":"IF(NFI_Expiration=1,IF($A225<VLOOKUP(M$5,NFI,5,0),1,0)*Table_NFI[[#This Row],[Blanket]],0)","v":0},{"$f":"IF(NFI_Expiration=1,IF($A225<VLOOKUP(N$5,NFI,5,0),1,0)*Table_NFI[[#This Row],[Kitchen Set]],0)","v":0},{"$f":"IF(NFI_Expiration=1,IF($A225<VLOOKUP(O$5,NFI,5,0),1,0)*Table_NFI[[#This Row],[Complementary Kit]],0)","v":0},{"$f":"IF(NFI_Expiration=1,IF($A225<VLOOKUP(P$5,NFI,5,0),1,0)*Table_NFI[[#This Row],[Plastic Bucket]],0)","v":0},{"$f":"IF(NFI_Expiration=1,IF($A225<VLOOKUP(Q$5,NFI,5,0),1,0)*Table_NFI[[#This Row],[Plastic Mat]],0)","v":0},{"$f":"VLOOKUP(Table_NFI[[#This Row],[Camp Name]],'Camp List'!N$5:Z$347,2,0)","v":"MMR001CMP037"},{"$f":"VLOOKUP(Table_NFI[[#This Row],[Camp Name]],'Camp List'!N$5:Z$347,13,0)","v":"Open"}]
[2.3666666666666667,"2013-05-22","UNHCR","UNHCR","Kachin","Hpakant","Mashi Kahtawng Baptist  Church",null,null,48,74,31,74,31,31,31,31,{"$f":"IF(NFI_Expiration=1,IF($A226<VLOOKUP(H$5,NFI,5,0),1,0)*Table_NFI[[#This Row],[Hygiene Kit]],0)","v":0},{"$f":"IF(NFI_Expiration=1,IF($A226<VLOOKUP(I$5,NFI,5,0),1,0)*Table_NFI[[#This Row],[NFI Core Kit]],0)","v":0},{"$f":"IF(NFI_Expiration=1,IF($A226<VLOOKUP(J$5,NFI,5,0),1,0)*Table_NFI[[#This Row],[Sanitary Kit]],0)","v":48},{"$f":"IF(NFI_Expiration=1,IF($A226<VLOOKUP(K$5,NFI,5,0),1,0)*Table_NFI[[#This Row],[Mosquito net]],0)","v":74},{"$f":"IF(NFI_Expiration=1,IF($A226<VLOOKUP(L$5,NFI,5,0),1,0)*Table_NFI[[#This Row],[Tarpaulin]],0)","v":31},{"$f":"IF(NFI_Expiration=1,IF($A226<VLOOKUP(M$5,NFI,5,0),1,0)*Table_NFI[[#This Row],[Blanket]],0)","v":74},{"$f":"IF(NFI_Expiration=1,IF($A226<VLOOKUP(N$5,NFI,5,0),1,0)*Table_NFI[[#This Row],[Kitchen Set]],0)","v":31},{"$f":"IF(NFI_Expiration=1,IF($A226<VLOOKUP(O$5,NFI,5,0),1,0)*Table_NFI[[#This Row],[Complementary Kit]],0)","v":31},{"$f":"IF(NFI_Expiration=1,IF($A226<VLOOKUP(P$5,NFI,5,0),1,0)*Table_NFI[[#This Row],[Plastic Bucket]],0)","v":31},{"$f":"IF(NFI_Expiration=1,IF($A226<VLOOKUP(Q$5,NFI,5,0),1,0)*Table_NFI[[#This Row],[Plastic Mat]],0)","v":31},{"$f":"VLOOKUP(Table_NFI[[#This Row],[Camp Name]],'Camp List'!N$5:Z$347,2,0)","v":"MMR001CMP094"},{"$f":"VLOOKUP(Table_NFI[[#This Row],[Camp Name]],'Camp List'!N$5:Z$347,13,0)","v":"Close"}]
[20.8,"2011-11-16","UNHCR","KBC","Kachin","Myitkyina","Tat Kone Galile Baptist Church",null,null,0,53,31,53,31,31,31,31,{"$f":"IF(NFI_Expiration=1,IF($A227<VLOOKUP(H$5,NFI,5,0),1,0)*Table_NFI[[#This Row],[Hygiene Kit]],0)","v":0},{"$f":"IF(NFI_Expiration=1,IF($A227<VLOOKUP(I$5,NFI,5,0),1,0)*Table_NFI[[#This Row],[NFI Core Kit]],0)","v":0},{"$f":"IF(NFI_Expiration=1,IF($A227<VLOOKUP(J$5,NFI,5,0),1,0)*Table_NFI[[#This Row],[Sanitary Kit]],0)","v":0},{"$f":"IF(NFI_Expiration=1,IF($A227<VLOOKUP(K$5,NFI,5,0),1,0)*Table_NFI[[#This Row],[Mosquito net]],0)","v":0},{"$f":"IF(NFI_Expiration=1,IF($A227<VLOOKUP(L$5,NFI,5,0),1,0)*Table_NFI[[#This Row],[Tarpaulin]],0)","v":0},{"$f":"IF(NFI_Expiration=1,IF($A227<VLOOKUP(M$5,NFI,5,0),1,0)*Table_NFI[[#This Row],[Blanket]],0)","v":0},{"$f":"IF(NFI_Expiration=1,IF($A227<VLOOKUP(N$5,NFI,5,0),1,0)*Table_NFI[[#This Row],[Kitchen Set]],0)","v":0},{"$f":"IF(NFI_Expiration=1,IF($A227<VLOOKUP(O$5,NFI,5,0),1,0)*Table_NFI[[#This Row],[Complementary Kit]],0)","v":0},{"$f":"IF(NFI_Expiration=1,IF($A227<VLOOKUP(P$5,NFI,5,0),1,0)*Table_NFI[[#This Row],[Plastic Bucket]],0)","v":0},{"$f":"IF(NFI_Expiration=1,IF($A227<VLOOKUP(Q$5,NFI,5,0),1,0)*Table_NFI[[#This Row],[Plastic Mat]],0)","v":0},{"$f":"VLOOKUP(Table_NFI[[#This Row],[Camp Name]],'Camp List'!N$5:Z$347,2,0)","v":"MMR001CMP003"},{"$f":"VLOOKUP(Table_NFI[[#This Row],[Camp Name]],'Camp List'!N$5:Z$347,13,0)","v":"Open"}]
[0.53333333333333333,"2013-07-16","UNHCR","Shalom","Kachin","Myitkyina","Tat Kone COC Baptist / Tat Kone Htoi San",null,null,55,74,31,74,31,31,31,31,{"$f":"IF(NFI_Expiration=1,IF($A228<VLOOKUP(H$5,NFI,5,0),1,0)*Table_NFI[[#This Row],[Hygiene Kit]],0)","v":0},{"$f":"IF(NFI_Expiration=1,IF($A228<VLOOKUP(I$5,NFI,5,0),1,0)*Table_NFI[[#This Row],[NFI Core Kit]],0)","v":0},{"$f":"IF(NFI_Expiration=1,IF($A228<VLOOKUP(J$5,NFI,5,0),1,0)*Table_NFI[[#This Row],[Sanitary Kit]],0)","v":55},{"$f":"IF(NFI_Expiration=1,IF($A228<VLOOKUP(K$5,NFI,5,0),1,0)*Table_NFI[[#This Row],[Mosquito net]],0)","v":74},{"$f":"IF(NFI_Expiration=1,IF($A228<VLOOKUP(L$5,NFI,5,0),1,0)*Table_NFI[[#This Row],[Tarpaulin]],0)","v":31},{"$f":"IF(NFI_Expiration=1,IF($A228<VLOOKUP(M$5,NFI,5,0),1,0)*Table_NFI[[#This Row],[Blanket]],0)","v":74},{"$f":"IF(NFI_Expiration=1,IF($A228<VLOOKUP(N$5,NFI,5,0),1,0)*Table_NFI[[#This Row],[Kitchen Set]],0)","v":31},{"$f":"IF(NFI_Expiration=1,IF($A228<VLOOKUP(O$5,NFI,5,0),1,0)*Table_NFI[[#This Row],[Complementary Kit]],0)","v":31},{"$f":"IF(NFI_Expiration=1,IF($A228<VLOOKUP(P$5,NFI,5,0),1,0)*Table_NFI[[#This Row],[Plastic Bucket]],0)","v":31},{"$f":"IF(NFI_Expiration=1,IF($A228<VLOOKUP(Q$5,NFI,5,0),1,0)*Table_NFI[[#This Row],[Plastic Mat]],0)","v":31},{"$f":"VLOOKUP(Table_NFI[[#This Row],[Camp Name]],'Camp List'!N$5:Z$347,2,0)","v":"MMR001CMP023"},{"$f":"VLOOKUP(Table_NFI[[#This Row],[Camp Name]],'Camp List'!N$5:Z$347,13,0)","v":"Open"}]
[0.26666666666666666,"2013-07-24","UNHCR","Shalom","Kachin","Waingmaw","Qtr. 4 Monestry (Thargaya Thayett Taw)",null,null,41,73,31,73,31,31,31,31,{"$f":"IF(NFI_Expiration=1,IF($A229<VLOOKUP(H$5,NFI,5,0),1,0)*Table_NFI[[#This Row],[Hygiene Kit]],0)","v":0},{"$f":"IF(NFI_Expiration=1,IF($A229<VLOOKUP(I$5,NFI,5,0),1,0)*Table_NFI[[#This Row],[NFI Core Kit]],0)","v":0},{"$f":"IF(NFI_Expiration=1,IF($A229<VLOOKUP(J$5,NFI,5,0),1,0)*Table_NFI[[#This Row],[Sanitary Kit]],0)","v":41},{"$f":"IF(NFI_Expiration=1,IF($A229<VLOOKUP(K$5,NFI,5,0),1,0)*Table_NFI[[#This Row],[Mosquito net]],0)","v":73},{"$f":"IF(NFI_Expiration=1,IF($A229<VLOOKUP(L$5,NFI,5,0),1,0)*Table_NFI[[#This Row],[Tarpaulin]],0)","v":31},{"$f":"IF(NFI_Expiration=1,IF($A229<VLOOKUP(M$5,NFI,5,0),1,0)*Table_NFI[[#This Row],[Blanket]],0)","v":73},{"$f":"IF(NFI_Expiration=1,IF($A229<VLOOKUP(N$5,NFI,5,0),1,0)*Table_NFI[[#This Row],[Kitchen Set]],0)","v":31},{"$f":"IF(NFI_Expiration=1,IF($A229<VLOOKUP(O$5,NFI,5,0),1,0)*Table_NFI[[#This Row],[Complementary Kit]],0)","v":31},{"$f":"IF(NFI_Expiration=1,IF($A229<VLOOKUP(P$5,NFI,5,0),1,0)*Table_NFI[[#This Row],[Plastic Bucket]],0)","v":31},{"$f":"IF(NFI_Expiration=1,IF($A229<VLOOKUP(Q$5,NFI,5,0),1,0)*Table_NFI[[#This Row],[Plastic Mat]],0)","v":31},{"$f":"VLOOKUP(Table_NFI[[#This Row],[Camp Name]],'Camp List'!N$5:Z$347,2,0)","v":"MMR001CMP026"},{"$f":"VLOOKUP(Table_NFI[[#This Row],[Camp Name]],'Camp List'!N$5:Z$347,13,0)","v":"Open"}]
[-0.4,"2013-08-13","UNHCR","KBC","Kachin","Kutkai","Mine Yu Lay village",null,null,113,160,32,160,32,32,32,32,{"$f":"IF(NFI_Expiration=1,IF($A230<VLOOKUP(H$5,NFI,5,0),1,0)*Table_NFI[[#This Row],[Hygiene Kit]],0)","v":0},{"$f":"IF(NFI_Expiration=1,IF($A230<VLOOKUP(I$5,NFI,5,0),1,0)*Table_NFI[[#This Row],[NFI Core Kit]],0)","v":0},{"$f":"IF(NFI_Expiration=1,IF($A230<VLOOKUP(J$5,NFI,5,0),1,0)*Table_NFI[[#This Row],[Sanitary Kit]],0)","v":113},{"$f":"IF(NFI_Expiration=1,IF($A230<VLOOKUP(K$5,NFI,5,0),1,0)*Table_NFI[[#This Row],[Mosquito net]],0)","v":160},{"$f":"IF(NFI_Expiration=1,IF($A230<VLOOKUP(L$5,NFI,5,0),1,0)*Table_NFI[[#This Row],[Tarpaulin]],0)","v":32},{"$f":"IF(NFI_Expiration=1,IF($A230<VLOOKUP(M$5,NFI,5,0),1,0)*Table_NFI[[#This Row],[Blanket]],0)","v":160},{"$f":"IF(NFI_Expiration=1,IF($A230<VLOOKUP(N$5,NFI,5,0),1,0)*Table_NFI[[#This Row],[Kitchen Set]],0)","v":32},{"$f":"IF(NFI_Expiration=1,IF($A230<VLOOKUP(O$5,NFI,5,0),1,0)*Table_NFI[[#This Row],[Complementary Kit]],0)","v":32},{"$f":"IF(NFI_Expiration=1,IF($A230<VLOOKUP(P$5,NFI,5,0),1,0)*Table_NFI[[#This Row],[Plastic Bucket]],0)","v":32},{"$f":"IF(NFI_Expiration=1,IF($A230<VLOOKUP(Q$5,NFI,5,0),1,0)*Table_NFI[[#This Row],[Plastic Mat]],0)","v":32},{"$f":"VLOOKUP(Table_NFI[[#This Row],[Camp Name]],'Camp List'!N$5:Z$347,2,0)","v":"MMR015CMP018"},{"$f":"VLOOKUP(Table_NFI[[#This Row],[Camp Name]],'Camp List'!N$5:Z$347,13,0)","v":"Open"}]
[5.4,"2013-02-20","UNHCR","UNHCR","Kachin","Hpakant","Nant Ma Hpit Catholic Church",null,null,32,64,33,64,33,33,33,33,{"$f":"IF(NFI_Expiration=1,IF($A231<VLOOKUP(H$5,NFI,5,0),1,0)*Table_NFI[[#This Row],[Hygiene Kit]],0)","v":0},{"$f":"IF(NFI_Expiration=1,IF($A231<VLOOKUP(I$5,NFI,5,0),1,0)*Table_NFI[[#This Row],[NFI Core Kit]],0)","v":0},{"$f":"IF(NFI_Expiration=1,IF($A231<VLOOKUP(J$5,NFI,5,0),1,0)*Table_NFI[[#This Row],[Sanitary Kit]],0)","v":32},{"$f":"IF(NFI_Expiration=1,IF($A231<VLOOKUP(K$5,NFI,5,0),1,0)*Table_NFI[[#This Row],[Mosquito net]],0)","v":64},{"$f":"IF(NFI_Expiration=1,IF($A231<VLOOKUP(L$5,NFI,5,0),1,0)*Table_NFI[[#This Row],[Tarpaulin]],0)","v":33},{"$f":"IF(NFI_Expiration=1,IF($A231<VLOOKUP(M$5,NFI,5,0),1,0)*Table_NFI[[#This Row],[Blanket]],0)","v":64},{"$f":"IF(NFI_Expiration=1,IF($A231<VLOOKUP(N$5,NFI,5,0),1,0)*Table_NFI[[#This Row],[Kitchen Set]],0)","v":33},{"$f":"IF(NFI_Expiration=1,IF($A231<VLOOKUP(O$5,NFI,5,0),1,0)*Table_NFI[[#This Row],[Complementary Kit]],0)","v":33},{"$f":"IF(NFI_Expiration=1,IF($A231<VLOOKUP(P$5,NFI,5,0),1,0)*Table_NFI[[#This Row],[Plastic Bucket]],0)","v":33},{"$f":"IF(NFI_Expiration=1,IF($A231<VLOOKUP(Q$5,NFI,5,0),1,0)*Table_NFI[[#This Row],[Plastic Mat]],0)","v":33},{"$f":"VLOOKUP(Table_NFI[[#This Row],[Camp Name]],'Camp List'!N$5:Z$347,2,0)","v":"MMR001CMP103"},{"$f":"VLOOKUP(Table_NFI[[#This Row],[Camp Name]],'Camp List'!N$5:Z$347,13,0)","v":"Open"}]
[12.7,"2012-07-16","UNHCR","UNHCR","Kachin","Myitkyina","Kyun Pin Thar Baptist Church",null,null,0,33,33,33,33,33,33,33,{"$f":"IF(NFI_Expiration=1,IF($A232<VLOOKUP(H$5,NFI,5,0),1,0)*Table_NFI[[#This Row],[Hygiene Kit]],0)","v":0},{"$f":"IF(NFI_Expiration=1,IF($A232<VLOOKUP(I$5,NFI,5,0),1,0)*Table_NFI[[#This Row],[NFI Core Kit]],0)","v":0},{"$f":"IF(NFI_Expiration=1,IF($A232<VLOOKUP(J$5,NFI,5,0),1,0)*Table_NFI[[#This Row],[Sanitary Kit]],0)","v":0},{"$f":"IF(NFI_Expiration=1,IF($A232<VLOOKUP(K$5,NFI,5,0),1,0)*Table_NFI[[#This Row],[Mosquito net]],0)","v":0},{"$f":"IF(NFI_Expiration=1,IF($A232<VLOOKUP(L$5,NFI,5,0),1,0)*Table_NFI[[#This Row],[Tarpaulin]],0)","v":0},{"$f":"IF(NFI_Expiration=1,IF($A232<VLOOKUP(M$5,NFI,5,0),1,0)*Table_NFI[[#This Row],[Blanket]],0)","v":0},{"$f":"IF(NFI_Expiration=1,IF($A232<VLOOKUP(N$5,NFI,5,0),1,0)*Table_NFI[[#This Row],[Kitchen Set]],0)","v":0},{"$f":"IF(NFI_Expiration=1,IF($A232<VLOOKUP(O$5,NFI,5,0),1,0)*Table_NFI[[#This Row],[Complementary Kit]],0)","v":0},{"$f":"IF(NFI_Expiration=1,IF($A232<VLOOKUP(P$5,NFI,5,0),1,0)*Table_NFI[[#This Row],[Plastic Bucket]],0)","v":0},{"$f":"IF(NFI_Expiration=1,IF($A232<VLOOKUP(Q$5,NFI,5,0),1,0)*Table_NFI[[#This Row],[Plastic Mat]],0)","v":0},{"$f":"VLOOKUP(Table_NFI[[#This Row],[Camp Name]],'Camp List'!N$5:Z$347,2,0)","v":"MMR001CMP013"},{"$f":"VLOOKUP(Table_NFI[[#This Row],[Camp Name]],'Camp List'!N$5:Z$347,13,0)","v":"Open"}]
[-0.4,"2013-08-13","UNHCR","KMSS","Kachin","Namhkan","Nam Hkam Catholic Church ( St. Thomas I)",null,null,36,72,33,72,33,33,33,33,{"$f":"IF(NFI_Expiration=1,IF($A233<VLOOKUP(H$5,NFI,5,0),1,0)*Table_NFI[[#This Row],[Hygiene Kit]],0)","v":0},{"$f":"IF(NFI_Expiration=1,IF($A233<VLOOKUP(I$5,NFI,5,0),1,0)*Table_NFI[[#This Row],[NFI Core Kit]],0)","v":0},{"$f":"IF(NFI_Expiration=1,IF($A233<VLOOKUP(J$5,NFI,5,0),1,0)*Table_NFI[[#This Row],[Sanitary Kit]],0)","v":36},{"$f":"IF(NFI_Expiration=1,IF($A233<VLOOKUP(K$5,NFI,5,0),1,0)*Table_NFI[[#This Row],[Mosquito net]],0)","v":72},{"$f":"IF(NFI_Expiration=1,IF($A233<VLOOKUP(L$5,NFI,5,0),1,0)*Table_NFI[[#This Row],[Tarpaulin]],0)","v":33},{"$f":"IF(NFI_Expiration=1,IF($A233<VLOOKUP(M$5,NFI,5,0),1,0)*Table_NFI[[#This Row],[Blanket]],0)","v":72},{"$f":"IF(NFI_Expiration=1,IF($A233<VLOOKUP(N$5,NFI,5,0),1,0)*Table_NFI[[#This Row],[Kitchen Set]],0)","v":33},{"$f":"IF(NFI_Expiration=1,IF($A233<VLOOKUP(O$5,NFI,5,0),1,0)*Table_NFI[[#This Row],[Complementary Kit]],0)","v":33},{"$f":"IF(NFI_Expiration=1,IF($A233<VLOOKUP(P$5,NFI,5,0),1,0)*Table_NFI[[#This Row],[Plastic Bucket]],0)","v":33},{"$f":"IF(NFI_Expiration=1,IF($A233<VLOOKUP(Q$5,NFI,5,0),1,0)*Table_NFI[[#This Row],[Plastic Mat]],0)","v":33},{"$f":"VLOOKUP(Table_NFI[[#This Row],[Camp Name]],'Camp List'!N$5:Z$347,2,0)","v":"MMR015CMP003"},{"$f":"VLOOKUP(Table_NFI[[#This Row],[Camp Name]],'Camp List'!N$5:Z$347,13,0)","v":"Open"}]
[-0.4,"2013-08-13","UNHCR","KMSS","Kachin","Namhkan","Nam Hkam Catholic Church ( St. Thomas 2)",null,null,40,83,33,83,33,33,33,33,{"$f":"IF(NFI_Expiration=1,IF($A234<VLOOKUP(H$5,NFI,5,0),1,0)*Table_NFI[[#This Row],[Hygiene Kit]],0)","v":0},{"$f":"IF(NFI_Expiration=1,IF($A234<VLOOKUP(I$5,NFI,5,0),1,0)*Table_NFI[[#This Row],[NFI Core Kit]],0)","v":0},{"$f":"IF(NFI_Expiration=1,IF($A234<VLOOKUP(J$5,NFI,5,0),1,0)*Table_NFI[[#This Row],[Sanitary Kit]],0)","v":40},{"$f":"IF(NFI_Expiration=1,IF($A234<VLOOKUP(K$5,NFI,5,0),1,0)*Table_NFI[[#This Row],[Mosquito net]],0)","v":83},{"$f":"IF(NFI_Expiration=1,IF($A234<VLOOKUP(L$5,NFI,5,0),1,0)*Table_NFI[[#This Row],[Tarpaulin]],0)","v":33},{"$f":"IF(NFI_Expiration=1,IF($A234<VLOOKUP(M$5,NFI,5,0),1,0)*Table_NFI[[#This Row],[Blanket]],0)","v":83},{"$f":"IF(NFI_Expiration=1,IF($A234<VLOOKUP(N$5,NFI,5,0),1,0)*Table_NFI[[#This Row],[Kitchen Set]],0)","v":33},{"$f":"IF(NFI_Expiration=1,IF($A234<VLOOKUP(O$5,NFI,5,0),1,0)*Table_NFI[[#This Row],[Complementary Kit]],0)","v":33},{"$f":"IF(NFI_Expiration=1,IF($A234<VLOOKUP(P$5,NFI,5,0),1,0)*Table_NFI[[#This Row],[Plastic Bucket]],0)","v":33},{"$f":"IF(NFI_Expiration=1,IF($A234<VLOOKUP(Q$5,NFI,5,0),1,0)*Table_NFI[[#This Row],[Plastic Mat]],0)","v":33},{"$f":"VLOOKUP(Table_NFI[[#This Row],[Camp Name]],'Camp List'!N$5:Z$347,2,0)","v":{"$error":"#N/A"}},{"$f":"VLOOKUP(Table_NFI[[#This Row],[Camp Name]],'Camp List'!N$5:Z$347,13,0)","v":{"$error":"#N/A"}}]
[19.466666666666665,"2011-12-26","UNHCR","KBC","Kachin","Waingmaw","Qtr. 2 Myoma Baptist Church",null,null,0,54,33,54,33,33,33,33,{"$f":"IF(NFI_Expiration=1,IF($A235<VLOOKUP(H$5,NFI,5,0),1,0)*Table_NFI[[#This Row],[Hygiene Kit]],0)","v":0},{"$f":"IF(NFI_Expiration=1,IF($A235<VLOOKUP(I$5,NFI,5,0),1,0)*Table_NFI[[#This Row],[NFI Core Kit]],0)","v":0},{"$f":"IF(NFI_Expiration=1,IF($A235<VLOOKUP(J$5,NFI,5,0),1,0)*Table_NFI[[#This Row],[Sanitary Kit]],0)","v":0},{"$f":"IF(NFI_Expiration=1,IF($A235<VLOOKUP(K$5,NFI,5,0),1,0)*Table_NFI[[#This Row],[Mosquito net]],0)","v":0},{"$f":"IF(NFI_Expiration=1,IF($A235<VLOOKUP(L$5,NFI,5,0),1,0)*Table_NFI[[#This Row],[Tarpaulin]],0)","v":0},{"$f":"IF(NFI_Expiration=1,IF($A235<VLOOKUP(M$5,NFI,5,0),1,0)*Table_NFI[[#This Row],[Blanket]],0)","v":0},{"$f":"IF(NFI_Expiration=1,IF($A235<VLOOKUP(N$5,NFI,5,0),1,0)*Table_NFI[[#This Row],[Kitchen Set]],0)","v":0},{"$f":"IF(NFI_Expiration=1,IF($A235<VLOOKUP(O$5,NFI,5,0),1,0)*Table_NFI[[#This Row],[Complementary Kit]],0)","v":0},{"$f":"IF(NFI_Expiration=1,IF($A235<VLOOKUP(P$5,NFI,5,0),1,0)*Table_NFI[[#This Row],[Plastic Bucket]],0)","v":0},{"$f":"IF(NFI_Expiration=1,IF($A235<VLOOKUP(Q$5,NFI,5,0),1,0)*Table_NFI[[#This Row],[Plastic Mat]],0)","v":0},{"$f":"VLOOKUP(Table_NFI[[#This Row],[Camp Name]],'Camp List'!N$5:Z$347,2,0)","v":"MMR001CMP025"},{"$f":"VLOOKUP(Table_NFI[[#This Row],[Camp Name]],'Camp List'!N$5:Z$347,13,0)","v":"Open"}]
[4.9333333333333336,"2013-03-06","UNHCR","UNHCR","Kachin","Waingmaw","Maina KBC (Bawng Ring)",null,null,34,73,38,73,38,33,33,33,{"$f":"IF(NFI_Expiration=1,IF($A236<VLOOKUP(H$5,NFI,5,0),1,0)*Table_NFI[[#This Row],[Hygiene Kit]],0)","v":0},{"$f":"IF(NFI_Expiration=1,IF($A236<VLOOKUP(I$5,NFI,5,0),1,0)*Table_NFI[[#This Row],[NFI Core Kit]],0)","v":0},{"$f":"IF(NFI_Expiration=1,IF($A236<VLOOKUP(J$5,NFI,5,0),1,0)*Table_NFI[[#This Row],[Sanitary Kit]],0)","v":34},{"$f":"IF(NFI_Expiration=1,IF($A236<VLOOKUP(K$5,NFI,5,0),1,0)*Table_NFI[[#This Row],[Mosquito net]],0)","v":73},{"$f":"IF(NFI_Expiration=1,IF($A236<VLOOKUP(L$5,NFI,5,0),1,0)*Table_NFI[[#This Row],[Tarpaulin]],0)","v":38},{"$f":"IF(NFI_Expiration=1,IF($A236<VLOOKUP(M$5,NFI,5,0),1,0)*Table_NFI[[#This Row],[Blanket]],0)","v":73},{"$f":"IF(NFI_Expiration=1,IF($A236<VLOOKUP(N$5,NFI,5,0),1,0)*Table_NFI[[#This Row],[Kitchen Set]],0)","v":38},{"$f":"IF(NFI_Expiration=1,IF($A236<VLOOKUP(O$5,NFI,5,0),1,0)*Table_NFI[[#This Row],[Complementary Kit]],0)","v":33},{"$f":"IF(NFI_Expiration=1,IF($A236<VLOOKUP(P$5,NFI,5,0),1,0)*Table_NFI[[#This Row],[Plastic Bucket]],0)","v":33},{"$f":"IF(NFI_Expiration=1,IF($A236<VLOOKUP(Q$5,NFI,5,0),1,0)*Table_NFI[[#This Row],[Plastic Mat]],0)","v":33},{"$f":"VLOOKUP(Table_NFI[[#This Row],[Camp Name]],'Camp List'!N$5:Z$347,2,0)","v":"MMR001CMP040"},{"$f":"VLOOKUP(Table_NFI[[#This Row],[Camp Name]],'Camp List'!N$5:Z$347,13,0)","v":"Open"}]
[21.233333333333334,"2011-11-03","UNHCR","KBC","Kachin","Myitkyina","Tat Kone Baptist Church",null,null,0,73,34,73,34,34,34,34,{"$f":"IF(NFI_Expiration=1,IF($A237<VLOOKUP(H$5,NFI,5,0),1,0)*Table_NFI[[#This Row],[Hygiene Kit]],0)","v":0},{"$f":"IF(NFI_Expiration=1,IF($A237<VLOOKUP(I$5,NFI,5,0),1,0)*Table_NFI[[#This Row],[NFI Core Kit]],0)","v":0},{"$f":"IF(NFI_Expiration=1,IF($A237<VLOOKUP(J$5,NFI,5,0),1,0)*Table_NFI[[#This Row],[Sanitary Kit]],0)","v":0},{"$f":"IF(NFI_Expiration=1,IF($A237<VLOOKUP(K$5,NFI,5,0),1,0)*Table_NFI[[#This Row],[Mosquito net]],0)","v":0},{"$f":"IF(NFI_Expiration=1,IF($A237<VLOOKUP(L$5,NFI,5,0),1,0)*Table_NFI[[#This Row],[Tarpaulin]],0)","v":0},{"$f":"IF(NFI_Expiration=1,IF($A237<VLOOKUP(M$5,NFI,5,0),1,0)*Table_NFI[[#This Row],[Blanket]],0)","v":0},{"$f":"IF(NFI_Expiration=1,IF($A237<VLOOKUP(N$5,NFI,5,0),1,0)*Table_NFI[[#This Row],[Kitchen Set]],0)","v":0},{"$f":"IF(NFI_Expiration=1,IF($A237<VLOOKUP(O$5,NFI,5,0),1,0)*Table_NFI[[#This Row],[Complementary Kit]],0)","v":0},{"$f":"IF(NFI_Expiration=1,IF($A237<VLOOKUP(P$5,NFI,5,0),1,0)*Table_NFI[[#This Row],[Plastic Bucket]],0)","v":0},{"$f":"IF(NFI_Expiration=1,IF($A237<VLOOKUP(Q$5,NFI,5,0),1,0)*Table_NFI[[#This Row],[Plastic Mat]],0)","v":0},{"$f":"VLOOKUP(Table_NFI[[#This Row],[Camp Name]],'Camp List'!N$5:Z$347,2,0)","v":"MMR001CMP001"},{"$f":"VLOOKUP(Table_NFI[[#This Row],[Camp Name]],'Camp List'!N$5:Z$347,13,0)","v":"Open"}]
[17.366666666666667,"2012-02-27","UNHCR","SC&L Group","Kachin","Myitkyina","Wun Tho Buddhist Monastery",null,null,0,34,0,34,0,34,34,34,{"$f":"IF(NFI_Expiration=1,IF($A238<VLOOKUP(H$5,NFI,5,0),1,0)*Table_NFI[[#This Row],[Hygiene Kit]],0)","v":0},{"$f":"IF(NFI_Expiration=1,IF($A238<VLOOKUP(I$5,NFI,5,0),1,0)*Table_NFI[[#This Row],[NFI Core Kit]],0)","v":0},{"$f":"IF(NFI_Expiration=1,IF($A238<VLOOKUP(J$5,NFI,5,0),1,0)*Table_NFI[[#This Row],[Sanitary Kit]],0)","v":0},{"$f":"IF(NFI_Expiration=1,IF($A238<VLOOKUP(K$5,NFI,5,0),1,0)*Table_NFI[[#This Row],[Mosquito net]],0)","v":0},{"$f":"IF(NFI_Expiration=1,IF($A238<VLOOKUP(L$5,NFI,5,0),1,0)*Table_NFI[[#This Row],[Tarpaulin]],0)","v":0},{"$f":"IF(NFI_Expiration=1,IF($A238<VLOOKUP(M$5,NFI,5,0),1,0)*Table_NFI[[#This Row],[Blanket]],0)","v":0},{"$f":"IF(NFI_Expiration=1,IF($A238<VLOOKUP(N$5,NFI,5,0),1,0)*Table_NFI[[#This Row],[Kitchen Set]],0)","v":0},{"$f":"IF(NFI_Expiration=1,IF($A238<VLOOKUP(O$5,NFI,5,0),1,0)*Table_NFI[[#This Row],[Complementary Kit]],0)","v":0},{"$f":"IF(NFI_Expiration=1,IF($A238<VLOOKUP(P$5,NFI,5,0),1,0)*Table_NFI[[#This Row],[Plastic Bucket]],0)","v":0},{"$f":"IF(NFI_Expiration=1,IF($A238<VLOOKUP(Q$5,NFI,5,0),1,0)*Table_NFI[[#This Row],[Plastic Mat]],0)","v":0},{"$f":"VLOOKUP(Table_NFI[[#This Row],[Camp Name]],'Camp List'!N$5:Z$347,2,0)","v":"MMR001CMP022"},{"$f":"VLOOKUP(Table_NFI[[#This Row],[Camp Name]],'Camp List'!N$5:Z$347,13,0)","v":"Open"}]
[5.9,"2013-02-05","UNHCR","UNHCR","Kachin","Waingmaw","Maina AG Church",null,null,37,70,34,70,34,34,34,34,{"$f":"IF(NFI_Expiration=1,IF($A239<VLOOKUP(H$5,NFI,5,0),1,0)*Table_NFI[[#This Row],[Hygiene Kit]],0)","v":0},{"$f":"IF(NFI_Expiration=1,IF($A239<VLOOKUP(I$5,NFI,5,0),1,0)*Table_NFI[[#This Row],[NFI Core Kit]],0)","v":0},{"$f":"IF(NFI_Expiration=1,IF($A239<VLOOKUP(J$5,NFI,5,0),1,0)*Table_NFI[[#This Row],[Sanitary Kit]],0)","v":37},{"$f":"IF(NFI_Expiration=1,IF($A239<VLOOKUP(K$5,NFI,5,0),1,0)*Table_NFI[[#This Row],[Mosquito net]],0)","v":70},{"$f":"IF(NFI_Expiration=1,IF($A239<VLOOKUP(L$5,NFI,5,0),1,0)*Table_NFI[[#This Row],[Tarpaulin]],0)","v":34},{"$f":"IF(NFI_Expiration=1,IF($A239<VLOOKUP(M$5,NFI,5,0),1,0)*Table_NFI[[#This Row],[Blanket]],0)","v":70},{"$f":"IF(NFI_Expiration=1,IF($A239<VLOOKUP(N$5,NFI,5,0),1,0)*Table_NFI[[#This Row],[Kitchen Set]],0)","v":34},{"$f":"IF(NFI_Expiration=1,IF($A239<VLOOKUP(O$5,NFI,5,0),1,0)*Table_NFI[[#This Row],[Complementary Kit]],0)","v":34},{"$f":"IF(NFI_Expiration=1,IF($A239<VLOOKUP(P$5,NFI,5,0),1,0)*Table_NFI[[#This Row],[Plastic Bucket]],0)","v":34},{"$f":"IF(NFI_Expiration=1,IF($A239<VLOOKUP(Q$5,NFI,5,0),1,0)*Table_NFI[[#This Row],[Plastic Mat]],0)","v":34},{"$f":"VLOOKUP(Table_NFI[[#This Row],[Camp Name]],'Camp List'!N$5:Z$347,2,0)","v":"MMR001CMP031"},{"$f":"VLOOKUP(Table_NFI[[#This Row],[Camp Name]],'Camp List'!N$5:Z$347,13,0)","v":"Open"}]
[18.866666666666667,"2012-01-13","UNHCR","KBC","Kachin","Hpakant","Baptist Church, Hmaw Si Sar(Lon Khin)",null,null,0,70,35,35,0,35,35,35,{"$f":"IF(NFI_Expiration=1,IF($A240<VLOOKUP(H$5,NFI,5,0),1,0)*Table_NFI[[#This Row],[Hygiene Kit]],0)","v":0},{"$f":"IF(NFI_Expiration=1,IF($A240<VLOOKUP(I$5,NFI,5,0),1,0)*Table_NFI[[#This Row],[NFI Core Kit]],0)","v":0},{"$f":"IF(NFI_Expiration=1,IF($A240<VLOOKUP(J$5,NFI,5,0),1,0)*Table_NFI[[#This Row],[Sanitary Kit]],0)","v":0},{"$f":"IF(NFI_Expiration=1,IF($A240<VLOOKUP(K$5,NFI,5,0),1,0)*Table_NFI[[#This Row],[Mosquito net]],0)","v":0},{"$f":"IF(NFI_Expiration=1,IF($A240<VLOOKUP(L$5,NFI,5,0),1,0)*Table_NFI[[#This Row],[Tarpaulin]],0)","v":0},{"$f":"IF(NFI_Expiration=1,IF($A240<VLOOKUP(M$5,NFI,5,0),1,0)*Table_NFI[[#This Row],[Blanket]],0)","v":0},{"$f":"IF(NFI_Expiration=1,IF($A240<VLOOKUP(N$5,NFI,5,0),1,0)*Table_NFI[[#This Row],[Kitchen Set]],0)","v":0},{"$f":"IF(NFI_Expiration=1,IF($A240<VLOOKUP(O$5,NFI,5,0),1,0)*Table_NFI[[#This Row],[Complementary Kit]],0)","v":0},{"$f":"IF(NFI_Expiration=1,IF($A240<VLOOKUP(P$5,NFI,5,0),1,0)*Table_NFI[[#This Row],[Plastic Bucket]],0)","v":0},{"$f":"IF(NFI_Expiration=1,IF($A240<VLOOKUP(Q$5,NFI,5,0),1,0)*Table_NFI[[#This Row],[Plastic Mat]],0)","v":0},{"$f":"VLOOKUP(Table_NFI[[#This Row],[Camp Name]],'Camp List'!N$5:Z$347,2,0)","v":"MMR001CMP169"},{"$f":"VLOOKUP(Table_NFI[[#This Row],[Camp Name]],'Camp List'!N$5:Z$347,13,0)","v":"Open"}]
[18.866666666666667,"2012-01-13","UNHCR","KBC","Kachin",null,"Kat Hmaw Zut Baptist Church",null,null,0,76,38,38,0,38,38,38,{"$f":"IF(NFI_Expiration=1,IF($A241<VLOOKUP(H$5,NFI,5,0),1,0)*Table_NFI[[#This Row],[Hygiene Kit]],0)","v":0},{"$f":"IF(NFI_Expiration=1,IF($A241<VLOOKUP(I$5,NFI,5,0),1,0)*Table_NFI[[#This Row],[NFI Core Kit]],0)","v":0},{"$f":"IF(NFI_Expiration=1,IF($A241<VLOOKUP(J$5,NFI,5,0),1,0)*Table_NFI[[#This Row],[Sanitary Kit]],0)","v":0},{"$f":"IF(NFI_Expiration=1,IF($A241<VLOOKUP(K$5,NFI,5,0),1,0)*Table_NFI[[#This Row],[Mosquito net]],0)","v":0},{"$f":"IF(NFI_Expiration=1,IF($A241<VLOOKUP(L$5,NFI,5,0),1,0)*Table_NFI[[#This Row],[Tarpaulin]],0)","v":0},{"$f":"IF(NFI_Expiration=1,IF($A241<VLOOKUP(M$5,NFI,5,0),1,0)*Table_NFI[[#This Row],[Blanket]],0)","v":0},{"$f":"IF(NFI_Expiration=1,IF($A241<VLOOKUP(N$5,NFI,5,0),1,0)*Table_NFI[[#This Row],[Kitchen Set]],0)","v":0},{"$f":"IF(NFI_Expiration=1,IF($A241<VLOOKUP(O$5,NFI,5,0),1,0)*Table_NFI[[#This Row],[Complementary Kit]],0)","v":0},{"$f":"IF(NFI_Expiration=1,IF($A241<VLOOKUP(P$5,NFI,5,0),1,0)*Table_NFI[[#This Row],[Plastic Bucket]],0)","v":0},{"$f":"IF(NFI_Expiration=1,IF($A241<VLOOKUP(Q$5,NFI,5,0),1,0)*Table_NFI[[#This Row],[Plastic Mat]],0)","v":0},{"$f":"VLOOKUP(Table_NFI[[#This Row],[Camp Name]],'Camp List'!N$5:Z$347,2,0)","v":{"$error":"#N/A"}},{"$f":"VLOOKUP(Table_NFI[[#This Row],[Camp Name]],'Camp List'!N$5:Z$347,13,0)","v":{"$error":"#N/A"}}]
[12.466666666666667,"2012-07-23","UNHCR","UNHCR","Kachin","Myitkyina","Maliyang Baptist Church",null,null,0,72,39,72,39,39,39,39,{"$f":"IF(NFI_Expiration=1,IF($A242<VLOOKUP(H$5,NFI,5,0),1,0)*Table_NFI[[#This Row],[Hygiene Kit]],0)","v":0},{"$f":"IF(NFI_Expiration=1,IF($A242<VLOOKUP(I$5,NFI,5,0),1,0)*Table_NFI[[#This Row],[NFI Core Kit]],0)","v":0},{"$f":"IF(NFI_Expiration=1,IF($A242<VLOOKUP(J$5,NFI,5,0),1,0)*Table_NFI[[#This Row],[Sanitary Kit]],0)","v":0},{"$f":"IF(NFI_Expiration=1,IF($A242<VLOOKUP(K$5,NFI,5,0),1,0)*Table_NFI[[#This Row],[Mosquito net]],0)","v":0},{"$f":"IF(NFI_Expiration=1,IF($A242<VLOOKUP(L$5,NFI,5,0),1,0)*Table_NFI[[#This Row],[Tarpaulin]],0)","v":0},{"$f":"IF(NFI_Expiration=1,IF($A242<VLOOKUP(M$5,NFI,5,0),1,0)*Table_NFI[[#This Row],[Blanket]],0)","v":0},{"$f":"IF(NFI_Expiration=1,IF($A242<VLOOKUP(N$5,NFI,5,0),1,0)*Table_NFI[[#This Row],[Kitchen Set]],0)","v":0},{"$f":"IF(NFI_Expiration=1,IF($A242<VLOOKUP(O$5,NFI,5,0),1,0)*Table_NFI[[#This Row],[Complementary Kit]],0)","v":0},{"$f":"IF(NFI_Expiration=1,IF($A242<VLOOKUP(P$5,NFI,5,0),1,0)*Table_NFI[[#This Row],[Plastic Bucket]],0)","v":0},{"$f":"IF(NFI_Expiration=1,IF($A242<VLOOKUP(Q$5,NFI,5,0),1,0)*Table_NFI[[#This Row],[Plastic Mat]],0)","v":0},{"$f":"VLOOKUP(Table_NFI[[#This Row],[Camp Name]],'Camp List'!N$5:Z$347,2,0)","v":"MMR001CMP016"},{"$f":"VLOOKUP(Table_NFI[[#This Row],[Camp Name]],'Camp List'!N$5:Z$347,13,0)","v":"Open"}]
[8.9666666666666668,"2012-11-05","UNHCR","UNHCR","Kachin","Hpakant","Hlaing Naung Baptist",null,null,0,70,40,70,40,40,40,40,{"$f":"IF(NFI_Expiration=1,IF($A243<VLOOKUP(H$5,NFI,5,0),1,0)*Table_NFI[[#This Row],[Hygiene Kit]],0)","v":0},{"$f":"IF(NFI_Expiration=1,IF($A243<VLOOKUP(I$5,NFI,5,0),1,0)*Table_NFI[[#This Row],[NFI Core Kit]],0)","v":0},{"$f":"IF(NFI_Expiration=1,IF($A243<VLOOKUP(J$5,NFI,5,0),1,0)*Table_NFI[[#This Row],[Sanitary Kit]],0)","v":0},{"$f":"IF(NFI_Expiration=1,IF($A243<VLOOKUP(K$5,NFI,5,0),1,0)*Table_NFI[[#This Row],[Mosquito net]],0)","v":70},{"$f":"IF(NFI_Expiration=1,IF($A243<VLOOKUP(L$5,NFI,5,0),1,0)*Table_NFI[[#This Row],[Tarpaulin]],0)","v":40},{"$f":"IF(NFI_Expiration=1,IF($A243<VLOOKUP(M$5,NFI,5,0),1,0)*Table_NFI[[#This Row],[Blanket]],0)","v":70},{"$f":"IF(NFI_Expiration=1,IF($A243<VLOOKUP(N$5,NFI,5,0),1,0)*Table_NFI[[#This Row],[Kitchen Set]],0)","v":40},{"$f":"IF(NFI_Expiration=1,IF($A243<VLOOKUP(O$5,NFI,5,0),1,0)*Table_NFI[[#This Row],[Complementary Kit]],0)","v":40},{"$f":"IF(NFI_Expiration=1,IF($A243<VLOOKUP(P$5,NFI,5,0),1,0)*Table_NFI[[#This Row],[Plastic Bucket]],0)","v":40},{"$f":"IF(NFI_Expiration=1,IF($A243<VLOOKUP(Q$5,NFI,5,0),1,0)*Table_NFI[[#This Row],[Plastic Mat]],0)","v":40},{"$f":"VLOOKUP(Table_NFI[[#This Row],[Camp Name]],'Camp List'!N$5:Z$347,2,0)","v":"MMR001CMP148"},{"$f":"VLOOKUP(Table_NFI[[#This Row],[Camp Name]],'Camp List'!N$5:Z$347,13,0)","v":"Open"}]
[2.3666666666666667,"2013-05-22","UNHCR","UNHCR","Kachin","Chipwi","Chipwi KBC camp",null,null,80,84,41,84,41,41,41,41,{"$f":"IF(NFI_Expiration=1,IF($A244<VLOOKUP(H$5,NFI,5,0),1,0)*Table_NFI[[#This Row],[Hygiene Kit]],0)","v":0},{"$f":"IF(NFI_Expiration=1,IF($A244<VLOOKUP(I$5,NFI,5,0),1,0)*Table_NFI[[#This Row],[NFI Core Kit]],0)","v":0},{"$f":"IF(NFI_Expiration=1,IF($A244<VLOOKUP(J$5,NFI,5,0),1,0)*Table_NFI[[#This Row],[Sanitary Kit]],0)","v":80},{"$f":"IF(NFI_Expiration=1,IF($A244<VLOOKUP(K$5,NFI,5,0),1,0)*Table_NFI[[#This Row],[Mosquito net]],0)","v":84},{"$f":"IF(NFI_Expiration=1,IF($A244<VLOOKUP(L$5,NFI,5,0),1,0)*Table_NFI[[#This Row],[Tarpaulin]],0)","v":41},{"$f":"IF(NFI_Expiration=1,IF($A244<VLOOKUP(M$5,NFI,5,0),1,0)*Table_NFI[[#This Row],[Blanket]],0)","v":84},{"$f":"IF(NFI_Expiration=1,IF($A244<VLOOKUP(N$5,NFI,5,0),1,0)*Table_NFI[[#This Row],[Kitchen Set]],0)","v":41},{"$f":"IF(NFI_Expiration=1,IF($A244<VLOOKUP(O$5,NFI,5,0),1,0)*Table_NFI[[#This Row],[Complementary Kit]],0)","v":41},{"$f":"IF(NFI_Expiration=1,IF($A244<VLOOKUP(P$5,NFI,5,0),1,0)*Table_NFI[[#This Row],[Plastic Bucket]],0)","v":41},{"$f":"IF(NFI_Expiration=1,IF($A244<VLOOKUP(Q$5,NFI,5,0),1,0)*Table_NFI[[#This Row],[Plastic Mat]],0)","v":41},{"$f":"VLOOKUP(Table_NFI[[#This Row],[Camp Name]],'Camp List'!N$5:Z$347,2,0)","v":"MMR001CMP042"},{"$f":"VLOOKUP(Table_NFI[[#This Row],[Camp Name]],'Camp List'!N$5:Z$347,13,0)","v":"Open"}]
[4.4666666666666668,"2013-03-20","UNHCR","UNHCR","Kachin","Hpakant","Maw Wan, Mu-yin Baptist Church",null,null,17,17,17,41,17,41,41,41,{"$f":"IF(NFI_Expiration=1,IF($A245<VLOOKUP(H$5,NFI,5,0),1,0)*Table_NFI[[#This Row],[Hygiene Kit]],0)","v":0},{"$f":"IF(NFI_Expiration=1,IF($A245<VLOOKUP(I$5,NFI,5,0),1,0)*Table_NFI[[#This Row],[NFI Core Kit]],0)","v":0},{"$f":"IF(NFI_Expiration=1,IF($A245<VLOOKUP(J$5,NFI,5,0),1,0)*Table_NFI[[#This Row],[Sanitary Kit]],0)","v":17},{"$f":"IF(NFI_Expiration=1,IF($A245<VLOOKUP(K$5,NFI,5,0),1,0)*Table_NFI[[#This Row],[Mosquito net]],0)","v":17},{"$f":"IF(NFI_Expiration=1,IF($A245<VLOOKUP(L$5,NFI,5,0),1,0)*Table_NFI[[#This Row],[Tarpaulin]],0)","v":17},{"$f":"IF(NFI_Expiration=1,IF($A245<VLOOKUP(M$5,NFI,5,0),1,0)*Table_NFI[[#This Row],[Blanket]],0)","v":41},{"$f":"IF(NFI_Expiration=1,IF($A245<VLOOKUP(N$5,NFI,5,0),1,0)*Table_NFI[[#This Row],[Kitchen Set]],0)","v":17},{"$f":"IF(NFI_Expiration=1,IF($A245<VLOOKUP(O$5,NFI,5,0),1,0)*Table_NFI[[#This Row],[Complementary Kit]],0)","v":41},{"$f":"IF(NFI_Expiration=1,IF($A245<VLOOKUP(P$5,NFI,5,0),1,0)*Table_NFI[[#This Row],[Plastic Bucket]],0)","v":41},{"$f":"IF(NFI_Expiration=1,IF($A245<VLOOKUP(Q$5,NFI,5,0),1,0)*Table_NFI[[#This Row],[Plastic Mat]],0)","v":41},{"$f":"VLOOKUP(Table_NFI[[#This Row],[Camp Name]],'Camp List'!N$5:Z$347,2,0)","v":"MMR001CMP091"},{"$f":"VLOOKUP(Table_NFI[[#This Row],[Camp Name]],'Camp List'!N$5:Z$347,13,0)","v":"Open"}]
[4.4666666666666668,"2013-03-20","UNHCR","UNHCR","Kachin","Hpakant","AG Church, Maw Wan",null,null,24,17,17,41,17,41,41,41,{"$f":"IF(NFI_Expiration=1,IF($A246<VLOOKUP(H$5,NFI,5,0),1,0)*Table_NFI[[#This Row],[Hygiene Kit]],0)","v":0},{"$f":"IF(NFI_Expiration=1,IF($A246<VLOOKUP(I$5,NFI,5,0),1,0)*Table_NFI[[#This Row],[NFI Core Kit]],0)","v":0},{"$f":"IF(NFI_Expiration=1,IF($A246<VLOOKUP(J$5,NFI,5,0),1,0)*Table_NFI[[#This Row],[Sanitary Kit]],0)","v":24},{"$f":"IF(NFI_Expiration=1,IF($A246<VLOOKUP(K$5,NFI,5,0),1,0)*Table_NFI[[#This Row],[Mosquito net]],0)","v":17},{"$f":"IF(NFI_Expiration=1,IF($A246<VLOOKUP(L$5,NFI,5,0),1,0)*Table_NFI[[#This Row],[Tarpaulin]],0)","v":17},{"$f":"IF(NFI_Expiration=1,IF($A246<VLOOKUP(M$5,NFI,5,0),1,0)*Table_NFI[[#This Row],[Blanket]],0)","v":41},{"$f":"IF(NFI_Expiration=1,IF($A246<VLOOKUP(N$5,NFI,5,0),1,0)*Table_NFI[[#This Row],[Kitchen Set]],0)","v":17},{"$f":"IF(NFI_Expiration=1,IF($A246<VLOOKUP(O$5,NFI,5,0),1,0)*Table_NFI[[#This Row],[Complementary Kit]],0)","v":41},{"$f":"IF(NFI_Expiration=1,IF($A246<VLOOKUP(P$5,NFI,5,0),1,0)*Table_NFI[[#This Row],[Plastic Bucket]],0)","v":41},{"$f":"IF(NFI_Expiration=1,IF($A246<VLOOKUP(Q$5,NFI,5,0),1,0)*Table_NFI[[#This Row],[Plastic Mat]],0)","v":41},{"$f":"VLOOKUP(Table_NFI[[#This Row],[Camp Name]],'Camp List'!N$5:Z$347,2,0)","v":"MMR001CMP190"},{"$f":"VLOOKUP(Table_NFI[[#This Row],[Camp Name]],'Camp List'!N$5:Z$347,13,0)","v":"Open"}]
[-0.4,"2013-08-13","UNHCR","KMSS","Kachin","Kutkai","Kutkai downtown (RC Church)",null,null,47,103,41,103,41,41,41,41,{"$f":"IF(NFI_Expiration=1,IF($A247<VLOOKUP(H$5,NFI,5,0),1,0)*Table_NFI[[#This Row],[Hygiene Kit]],0)","v":0},{"$f":"IF(NFI_Expiration=1,IF($A247<VLOOKUP(I$5,NFI,5,0),1,0)*Table_NFI[[#This Row],[NFI Core Kit]],0)","v":0},{"$f":"IF(NFI_Expiration=1,IF($A247<VLOOKUP(J$5,NFI,5,0),1,0)*Table_NFI[[#This Row],[Sanitary Kit]],0)","v":47},{"$f":"IF(NFI_Expiration=1,IF($A247<VLOOKUP(K$5,NFI,5,0),1,0)*Table_NFI[[#This Row],[Mosquito net]],0)","v":103},{"$f":"IF(NFI_Expiration=1,IF($A247<VLOOKUP(L$5,NFI,5,0),1,0)*Table_NFI[[#This Row],[Tarpaulin]],0)","v":41},{"$f":"IF(NFI_Expiration=1,IF($A247<VLOOKUP(M$5,NFI,5,0),1,0)*Table_NFI[[#This Row],[Blanket]],0)","v":103},{"$f":"IF(NFI_Expiration=1,IF($A247<VLOOKUP(N$5,NFI,5,0),1,0)*Table_NFI[[#This Row],[Kitchen Set]],0)","v":41},{"$f":"IF(NFI_Expiration=1,IF($A247<VLOOKUP(O$5,NFI,5,0),1,0)*Table_NFI[[#This Row],[Complementary Kit]],0)","v":41},{"$f":"IF(NFI_Expiration=1,IF($A247<VLOOKUP(P$5,NFI,5,0),1,0)*Table_NFI[[#This Row],[Plastic Bucket]],0)","v":41},{"$f":"IF(NFI_Expiration=1,IF($A247<VLOOKUP(Q$5,NFI,5,0),1,0)*Table_NFI[[#This Row],[Plastic Mat]],0)","v":41},{"$f":"VLOOKUP(Table_NFI[[#This Row],[Camp Name]],'Camp List'!N$5:Z$347,2,0)","v":"MMR015CMP017"},{"$f":"VLOOKUP(Table_NFI[[#This Row],[Camp Name]],'Camp List'!N$5:Z$347,13,0)","v":"Open"}]
[11.233333333333333,"2012-08-29","UNHCR","UNHCR","Kachin","Momauk","Nyaung Na Pin ",null,null,0,112,41,112,41,41,41,41,{"$f":"IF(NFI_Expiration=1,IF($A248<VLOOKUP(H$5,NFI,5,0),1,0)*Table_NFI[[#This Row],[Hygiene Kit]],0)","v":0},{"$f":"IF(NFI_Expiration=1,IF($A248<VLOOKUP(I$5,NFI,5,0),1,0)*Table_NFI[[#This Row],[NFI Core Kit]],0)","v":0},{"$f":"IF(NFI_Expiration=1,IF($A248<VLOOKUP(J$5,NFI,5,0),1,0)*Table_NFI[[#This Row],[Sanitary Kit]],0)","v":0},{"$f":"IF(NFI_Expiration=1,IF($A248<VLOOKUP(K$5,NFI,5,0),1,0)*Table_NFI[[#This Row],[Mosquito net]],0)","v":112},{"$f":"IF(NFI_Expiration=1,IF($A248<VLOOKUP(L$5,NFI,5,0),1,0)*Table_NFI[[#This Row],[Tarpaulin]],0)","v":41},{"$f":"IF(NFI_Expiration=1,IF($A248<VLOOKUP(M$5,NFI,5,0),1,0)*Table_NFI[[#This Row],[Blanket]],0)","v":112},{"$f":"IF(NFI_Expiration=1,IF($A248<VLOOKUP(N$5,NFI,5,0),1,0)*Table_NFI[[#This Row],[Kitchen Set]],0)","v":41},{"$f":"IF(NFI_Expiration=1,IF($A248<VLOOKUP(O$5,NFI,5,0),1,0)*Table_NFI[[#This Row],[Complementary Kit]],0)","v":41},{"$f":"IF(NFI_Expiration=1,IF($A248<VLOOKUP(P$5,NFI,5,0),1,0)*Table_NFI[[#This Row],[Plastic Bucket]],0)","v":41},{"$f":"IF(NFI_Expiration=1,IF($A248<VLOOKUP(Q$5,NFI,5,0),1,0)*Table_NFI[[#This Row],[Plastic Mat]],0)","v":41},{"$f":"VLOOKUP(Table_NFI[[#This Row],[Camp Name]],'Camp List'!N$5:Z$347,2,0)","v":"MMR001CMP072"},{"$f":"VLOOKUP(Table_NFI[[#This Row],[Camp Name]],'Camp List'!N$5:Z$347,13,0)","v":"Open"}]
[4.4666666666666668,"2013-03-20","UNHCR","UNHCR","Kachin","Hpakant","Maw Wan, Kachin Baptist Church",null,null,18,17,17,42,17,42,42,42,{"$f":"IF(NFI_Expiration=1,IF($A249<VLOOKUP(H$5,NFI,5,0),1,0)*Table_NFI[[#This Row],[Hygiene Kit]],0)","v":0},{"$f":"IF(NFI_Expiration=1,IF($A249<VLOOKUP(I$5,NFI,5,0),1,0)*Table_NFI[[#This Row],[NFI Core Kit]],0)","v":0},{"$f":"IF(NFI_Expiration=1,IF($A249<VLOOKUP(J$5,NFI,5,0),1,0)*Table_NFI[[#This Row],[Sanitary Kit]],0)","v":18},{"$f":"IF(NFI_Expiration=1,IF($A249<VLOOKUP(K$5,NFI,5,0),1,0)*Table_NFI[[#This Row],[Mosquito net]],0)","v":17},{"$f":"IF(NFI_Expiration=1,IF($A249<VLOOKUP(L$5,NFI,5,0),1,0)*Table_NFI[[#This Row],[Tarpaulin]],0)","v":17},{"$f":"IF(NFI_Expiration=1,IF($A249<VLOOKUP(M$5,NFI,5,0),1,0)*Table_NFI[[#This Row],[Blanket]],0)","v":42},{"$f":"IF(NFI_Expiration=1,IF($A249<VLOOKUP(N$5,NFI,5,0),1,0)*Table_NFI[[#This Row],[Kitchen Set]],0)","v":17},{"$f":"IF(NFI_Expiration=1,IF($A249<VLOOKUP(O$5,NFI,5,0),1,0)*Table_NFI[[#This Row],[Complementary Kit]],0)","v":42},{"$f":"IF(NFI_Expiration=1,IF($A249<VLOOKUP(P$5,NFI,5,0),1,0)*Table_NFI[[#This Row],[Plastic Bucket]],0)","v":42},{"$f":"IF(NFI_Expiration=1,IF($A249<VLOOKUP(Q$5,NFI,5,0),1,0)*Table_NFI[[#This Row],[Plastic Mat]],0)","v":42},{"$f":"VLOOKUP(Table_NFI[[#This Row],[Camp Name]],'Camp List'!N$5:Z$347,2,0)","v":"MMR001CMP085"},{"$f":"VLOOKUP(Table_NFI[[#This Row],[Camp Name]],'Camp List'!N$5:Z$347,13,0)","v":"Close"}]
[-0.4,"2013-08-13","UNHCR","KBC","Kachin","Manton","Mandung - Jinghpaw",null,null,36,84,42,84,42,42,42,42,{"$f":"IF(NFI_Expiration=1,IF($A250<VLOOKUP(H$5,NFI,5,0),1,0)*Table_NFI[[#This Row],[Hygiene Kit]],0)","v":0},{"$f":"IF(NFI_Expiration=1,IF($A250<VLOOKUP(I$5,NFI,5,0),1,0)*Table_NFI[[#This Row],[NFI Core Kit]],0)","v":0},{"$f":"IF(NFI_Expiration=1,IF($A250<VLOOKUP(J$5,NFI,5,0),1,0)*Table_NFI[[#This Row],[Sanitary Kit]],0)","v":36},{"$f":"IF(NFI_Expiration=1,IF($A250<VLOOKUP(K$5,NFI,5,0),1,0)*Table_NFI[[#This Row],[Mosquito net]],0)","v":84},{"$f":"IF(NFI_Expiration=1,IF($A250<VLOOKUP(L$5,NFI,5,0),1,0)*Table_NFI[[#This Row],[Tarpaulin]],0)","v":42},{"$f":"IF(NFI_Expiration=1,IF($A250<VLOOKUP(M$5,NFI,5,0),1,0)*Table_NFI[[#This Row],[Blanket]],0)","v":84},{"$f":"IF(NFI_Expiration=1,IF($A250<VLOOKUP(N$5,NFI,5,0),1,0)*Table_NFI[[#This Row],[Kitchen Set]],0)","v":42},{"$f":"IF(NFI_Expiration=1,IF($A250<VLOOKUP(O$5,NFI,5,0),1,0)*Table_NFI[[#This Row],[Complementary Kit]],0)","v":42},{"$f":"IF(NFI_Expiration=1,IF($A250<VLOOKUP(P$5,NFI,5,0),1,0)*Table_NFI[[#This Row],[Plastic Bucket]],0)","v":42},{"$f":"IF(NFI_Expiration=1,IF($A250<VLOOKUP(Q$5,NFI,5,0),1,0)*Table_NFI[[#This Row],[Plastic Mat]],0)","v":42},{"$f":"VLOOKUP(Table_NFI[[#This Row],[Camp Name]],'Camp List'!N$5:Z$347,2,0)","v":"MMR015CMP009"},{"$f":"VLOOKUP(Table_NFI[[#This Row],[Camp Name]],'Camp List'!N$5:Z$347,13,0)","v":"Open"}]
[5.4666666666666668,"2013-02-18","UNHCR","KBC","Shan_North","Kutkai","Nam Hpak Ka Mare ",null,null,86,86,43,86,43,43,43,43,{"$f":"IF(NFI_Expiration=1,IF($A251<VLOOKUP(H$5,NFI,5,0),1,0)*Table_NFI[[#This Row],[Hygiene Kit]],0)","v":0},{"$f":"IF(NFI_Expiration=1,IF($A251<VLOOKUP(I$5,NFI,5,0),1,0)*Table_NFI[[#This Row],[NFI Core Kit]],0)","v":0},{"$f":"IF(NFI_Expiration=1,IF($A251<VLOOKUP(J$5,NFI,5,0),1,0)*Table_NFI[[#This Row],[Sanitary Kit]],0)","v":86},{"$f":"IF(NFI_Expiration=1,IF($A251<VLOOKUP(K$5,NFI,5,0),1,0)*Table_NFI[[#This Row],[Mosquito net]],0)","v":86},{"$f":"IF(NFI_Expiration=1,IF($A251<VLOOKUP(L$5,NFI,5,0),1,0)*Table_NFI[[#This Row],[Tarpaulin]],0)","v":43},{"$f":"IF(NFI_Expiration=1,IF($A251<VLOOKUP(M$5,NFI,5,0),1,0)*Table_NFI[[#This Row],[Blanket]],0)","v":86},{"$f":"IF(NFI_Expiration=1,IF($A251<VLOOKUP(N$5,NFI,5,0),1,0)*Table_NFI[[#This Row],[Kitchen Set]],0)","v":43},{"$f":"IF(NFI_Expiration=1,IF($A251<VLOOKUP(O$5,NFI,5,0),1,0)*Table_NFI[[#This Row],[Complementary Kit]],0)","v":43},{"$f":"IF(NFI_Expiration=1,IF($A251<VLOOKUP(P$5,NFI,5,0),1,0)*Table_NFI[[#This Row],[Plastic Bucket]],0)","v":43},{"$f":"IF(NFI_Expiration=1,IF($A251<VLOOKUP(Q$5,NFI,5,0),1,0)*Table_NFI[[#This Row],[Plastic Mat]],0)","v":43},{"$f":"VLOOKUP(Table_NFI[[#This Row],[Camp Name]],'Camp List'!N$5:Z$347,2,0)","v":"MMR015CMP007"},{"$f":"VLOOKUP(Table_NFI[[#This Row],[Camp Name]],'Camp List'!N$5:Z$347,13,0)","v":"Open"}]
[10.6,"2012-09-17","UNHCR","UNHCR","Kachin","Momauk","Momauk Catholic Church (St. Patrick)",null,null,0,86,43,86,43,43,43,43,{"$f":"IF(NFI_Expiration=1,IF($A252<VLOOKUP(H$5,NFI,5,0),1,0)*Table_NFI[[#This Row],[Hygiene Kit]],0)","v":0},{"$f":"IF(NFI_Expiration=1,IF($A252<VLOOKUP(I$5,NFI,5,0),1,0)*Table_NFI[[#This Row],[NFI Core Kit]],0)","v":0},{"$f":"IF(NFI_Expiration=1,IF($A252<VLOOKUP(J$5,NFI,5,0),1,0)*Table_NFI[[#This Row],[Sanitary Kit]],0)","v":0},{"$f":"IF(NFI_Expiration=1,IF($A252<VLOOKUP(K$5,NFI,5,0),1,0)*Table_NFI[[#This Row],[Mosquito net]],0)","v":86},{"$f":"IF(NFI_Expiration=1,IF($A252<VLOOKUP(L$5,NFI,5,0),1,0)*Table_NFI[[#This Row],[Tarpaulin]],0)","v":43},{"$f":"IF(NFI_Expiration=1,IF($A252<VLOOKUP(M$5,NFI,5,0),1,0)*Table_NFI[[#This Row],[Blanket]],0)","v":86},{"$f":"IF(NFI_Expiration=1,IF($A252<VLOOKUP(N$5,NFI,5,0),1,0)*Table_NFI[[#This Row],[Kitchen Set]],0)","v":43},{"$f":"IF(NFI_Expiration=1,IF($A252<VLOOKUP(O$5,NFI,5,0),1,0)*Table_NFI[[#This Row],[Complementary Kit]],0)","v":43},{"$f":"IF(NFI_Expiration=1,IF($A252<VLOOKUP(P$5,NFI,5,0),1,0)*Table_NFI[[#This Row],[Plastic Bucket]],0)","v":43},{"$f":"IF(NFI_Expiration=1,IF($A252<VLOOKUP(Q$5,NFI,5,0),1,0)*Table_NFI[[#This Row],[Plastic Mat]],0)","v":43},{"$f":"VLOOKUP(Table_NFI[[#This Row],[Camp Name]],'Camp List'!N$5:Z$347,2,0)","v":"MMR001CMP057"},{"$f":"VLOOKUP(Table_NFI[[#This Row],[Camp Name]],'Camp List'!N$5:Z$347,13,0)","v":"Open"}]
[10.6,"2012-09-17","UNHCR","UNHCR","Kachin","Momauk","Man Bung Catholic compound",null,null,0,86,43,86,43,43,43,43,{"$f":"IF(NFI_Expiration=1,IF($A253<VLOOKUP(H$5,NFI,5,0),1,0)*Table_NFI[[#This Row],[Hygiene Kit]],0)","v":0},{"$f":"IF(NFI_Expiration=1,IF($A253<VLOOKUP(I$5,NFI,5,0),1,0)*Table_NFI[[#This Row],[NFI Core Kit]],0)","v":0},{"$f":"IF(NFI_Expiration=1,IF($A253<VLOOKUP(J$5,NFI,5,0),1,0)*Table_NFI[[#This Row],[Sanitary Kit]],0)","v":0},{"$f":"IF(NFI_Expiration=1,IF($A253<VLOOKUP(K$5,NFI,5,0),1,0)*Table_NFI[[#This Row],[Mosquito net]],0)","v":86},{"$f":"IF(NFI_Expiration=1,IF($A253<VLOOKUP(L$5,NFI,5,0),1,0)*Table_NFI[[#This Row],[Tarpaulin]],0)","v":43},{"$f":"IF(NFI_Expiration=1,IF($A253<VLOOKUP(M$5,NFI,5,0),1,0)*Table_NFI[[#This Row],[Blanket]],0)","v":86},{"$f":"IF(NFI_Expiration=1,IF($A253<VLOOKUP(N$5,NFI,5,0),1,0)*Table_NFI[[#This Row],[Kitchen Set]],0)","v":43},{"$f":"IF(NFI_Expiration=1,IF($A253<VLOOKUP(O$5,NFI,5,0),1,0)*Table_NFI[[#This Row],[Complementary Kit]],0)","v":43},{"$f":"IF(NFI_Expiration=1,IF($A253<VLOOKUP(P$5,NFI,5,0),1,0)*Table_NFI[[#This Row],[Plastic Bucket]],0)","v":43},{"$f":"IF(NFI_Expiration=1,IF($A253<VLOOKUP(Q$5,NFI,5,0),1,0)*Table_NFI[[#This Row],[Plastic Mat]],0)","v":43},{"$f":"VLOOKUP(Table_NFI[[#This Row],[Camp Name]],'Camp List'!N$5:Z$347,2,0)","v":"MMR001CMP062"},{"$f":"VLOOKUP(Table_NFI[[#This Row],[Camp Name]],'Camp List'!N$5:Z$347,13,0)","v":"Open"}]
[5.4,"2013-02-20","UNHCR","UNHCR","Kachin","Hpakant","Nga Pyaw Taw Roman Catholic Church",null,null,38,89,44,89,44,44,44,44,{"$f":"IF(NFI_Expiration=1,IF($A254<VLOOKUP(H$5,NFI,5,0),1,0)*Table_NFI[[#This Row],[Hygiene Kit]],0)","v":0},{"$f":"IF(NFI_Expiration=1,IF($A254<VLOOKUP(I$5,NFI,5,0),1,0)*Table_NFI[[#This Row],[NFI Core Kit]],0)","v":0},{"$f":"IF(NFI_Expiration=1,IF($A254<VLOOKUP(J$5,NFI,5,0),1,0)*Table_NFI[[#This Row],[Sanitary Kit]],0)","v":38},{"$f":"IF(NFI_Expiration=1,IF($A254<VLOOKUP(K$5,NFI,5,0),1,0)*Table_NFI[[#This Row],[Mosquito net]],0)","v":89},{"$f":"IF(NFI_Expiration=1,IF($A254<VLOOKUP(L$5,NFI,5,0),1,0)*Table_NFI[[#This Row],[Tarpaulin]],0)","v":44},{"$f":"IF(NFI_Expiration=1,IF($A254<VLOOKUP(M$5,NFI,5,0),1,0)*Table_NFI[[#This Row],[Blanket]],0)","v":89},{"$f":"IF(NFI_Expiration=1,IF($A254<VLOOKUP(N$5,NFI,5,0),1,0)*Table_NFI[[#This Row],[Kitchen Set]],0)","v":44},{"$f":"IF(NFI_Expiration=1,IF($A254<VLOOKUP(O$5,NFI,5,0),1,0)*Table_NFI[[#This Row],[Complementary Kit]],0)","v":44},{"$f":"IF(NFI_Expiration=1,IF($A254<VLOOKUP(P$5,NFI,5,0),1,0)*Table_NFI[[#This Row],[Plastic Bucket]],0)","v":44},{"$f":"IF(NFI_Expiration=1,IF($A254<VLOOKUP(Q$5,NFI,5,0),1,0)*Table_NFI[[#This Row],[Plastic Mat]],0)","v":44},{"$f":"VLOOKUP(Table_NFI[[#This Row],[Camp Name]],'Camp List'!N$5:Z$347,2,0)","v":"MMR001CMP083"},{"$f":"VLOOKUP(Table_NFI[[#This Row],[Camp Name]],'Camp List'!N$5:Z$347,13,0)","v":"Close"}]
[20.166666666666668,"2011-12-05","UNHCR","KMSS","Kachin","Myitkyina","Jan Mai Kawng Baptist Church",null,null,0,80,45,80,45,45,45,45,{"$f":"IF(NFI_Expiration=1,IF($A255<VLOOKUP(H$5,NFI,5,0),1,0)*Table_NFI[[#This Row],[Hygiene Kit]],0)","v":0},{"$f":"IF(NFI_Expiration=1,IF($A255<VLOOKUP(I$5,NFI,5,0),1,0)*Table_NFI[[#This Row],[NFI Core Kit]],0)","v":0},{"$f":"IF(NFI_Expiration=1,IF($A255<VLOOKUP(J$5,NFI,5,0),1,0)*Table_NFI[[#This Row],[Sanitary Kit]],0)","v":0},{"$f":"IF(NFI_Expiration=1,IF($A255<VLOOKUP(K$5,NFI,5,0),1,0)*Table_NFI[[#This Row],[Mosquito net]],0)","v":0},{"$f":"IF(NFI_Expiration=1,IF($A255<VLOOKUP(L$5,NFI,5,0),1,0)*Table_NFI[[#This Row],[Tarpaulin]],0)","v":0},{"$f":"IF(NFI_Expiration=1,IF($A255<VLOOKUP(M$5,NFI,5,0),1,0)*Table_NFI[[#This Row],[Blanket]],0)","v":0},{"$f":"IF(NFI_Expiration=1,IF($A255<VLOOKUP(N$5,NFI,5,0),1,0)*Table_NFI[[#This Row],[Kitchen Set]],0)","v":0},{"$f":"IF(NFI_Expiration=1,IF($A255<VLOOKUP(O$5,NFI,5,0),1,0)*Table_NFI[[#This Row],[Complementary Kit]],0)","v":0},{"$f":"IF(NFI_Expiration=1,IF($A255<VLOOKUP(P$5,NFI,5,0),1,0)*Table_NFI[[#This Row],[Plastic Bucket]],0)","v":0},{"$f":"IF(NFI_Expiration=1,IF($A255<VLOOKUP(Q$5,NFI,5,0),1,0)*Table_NFI[[#This Row],[Plastic Mat]],0)","v":0},{"$f":"VLOOKUP(Table_NFI[[#This Row],[Camp Name]],'Camp List'!N$5:Z$347,2,0)","v":"MMR001CMP018"},{"$f":"VLOOKUP(Table_NFI[[#This Row],[Camp Name]],'Camp List'!N$5:Z$347,13,0)","v":"Open"}]
[0.26666666666666666,"2013-07-24","UNHCR","KBC","Kachin","Myitkyina","Le Kone Bethlehem Church",null,null,66,98,45,98,45,45,45,45,{"$f":"IF(NFI_Expiration=1,IF($A256<VLOOKUP(H$5,NFI,5,0),1,0)*Table_NFI[[#This Row],[Hygiene Kit]],0)","v":0},{"$f":"IF(NFI_Expiration=1,IF($A256<VLOOKUP(I$5,NFI,5,0),1,0)*Table_NFI[[#This Row],[NFI Core Kit]],0)","v":0},{"$f":"IF(NFI_Expiration=1,IF($A256<VLOOKUP(J$5,NFI,5,0),1,0)*Table_NFI[[#This Row],[Sanitary Kit]],0)","v":66},{"$f":"IF(NFI_Expiration=1,IF($A256<VLOOKUP(K$5,NFI,5,0),1,0)*Table_NFI[[#This Row],[Mosquito net]],0)","v":98},{"$f":"IF(NFI_Expiration=1,IF($A256<VLOOKUP(L$5,NFI,5,0),1,0)*Table_NFI[[#This Row],[Tarpaulin]],0)","v":45},{"$f":"IF(NFI_Expiration=1,IF($A256<VLOOKUP(M$5,NFI,5,0),1,0)*Table_NFI[[#This Row],[Blanket]],0)","v":98},{"$f":"IF(NFI_Expiration=1,IF($A256<VLOOKUP(N$5,NFI,5,0),1,0)*Table_NFI[[#This Row],[Kitchen Set]],0)","v":45},{"$f":"IF(NFI_Expiration=1,IF($A256<VLOOKUP(O$5,NFI,5,0),1,0)*Table_NFI[[#This Row],[Complementary Kit]],0)","v":45},{"$f":"IF(NFI_Expiration=1,IF($A256<VLOOKUP(P$5,NFI,5,0),1,0)*Table_NFI[[#This Row],[Plastic Bucket]],0)","v":45},{"$f":"IF(NFI_Expiration=1,IF($A256<VLOOKUP(Q$5,NFI,5,0),1,0)*Table_NFI[[#This Row],[Plastic Mat]],0)","v":45},{"$f":"VLOOKUP(Table_NFI[[#This Row],[Camp Name]],'Camp List'!N$5:Z$347,2,0)","v":"MMR001CMP015"},{"$f":"VLOOKUP(Table_NFI[[#This Row],[Camp Name]],'Camp List'!N$5:Z$347,13,0)","v":"Open"}]
[5.4666666666666668,"2013-02-18","UNHCR","KBC","Shan_North","Namtu","Nam Tu",null,null,90,90,45,90,45,45,45,45,{"$f":"IF(NFI_Expiration=1,IF($A257<VLOOKUP(H$5,NFI,5,0),1,0)*Table_NFI[[#This Row],[Hygiene Kit]],0)","v":0},{"$f":"IF(NFI_Expiration=1,IF($A257<VLOOKUP(I$5,NFI,5,0),1,0)*Table_NFI[[#This Row],[NFI Core Kit]],0)","v":0},{"$f":"IF(NFI_Expiration=1,IF($A257<VLOOKUP(J$5,NFI,5,0),1,0)*Table_NFI[[#This Row],[Sanitary Kit]],0)","v":90},{"$f":"IF(NFI_Expiration=1,IF($A257<VLOOKUP(K$5,NFI,5,0),1,0)*Table_NFI[[#This Row],[Mosquito net]],0)","v":90},{"$f":"IF(NFI_Expiration=1,IF($A257<VLOOKUP(L$5,NFI,5,0),1,0)*Table_NFI[[#This Row],[Tarpaulin]],0)","v":45},{"$f":"IF(NFI_Expiration=1,IF($A257<VLOOKUP(M$5,NFI,5,0),1,0)*Table_NFI[[#This Row],[Blanket]],0)","v":90},{"$f":"IF(NFI_Expiration=1,IF($A257<VLOOKUP(N$5,NFI,5,0),1,0)*Table_NFI[[#This Row],[Kitchen Set]],0)","v":45},{"$f":"IF(NFI_Expiration=1,IF($A257<VLOOKUP(O$5,NFI,5,0),1,0)*Table_NFI[[#This Row],[Complementary Kit]],0)","v":45},{"$f":"IF(NFI_Expiration=1,IF($A257<VLOOKUP(P$5,NFI,5,0),1,0)*Table_NFI[[#This Row],[Plastic Bucket]],0)","v":45},{"$f":"IF(NFI_Expiration=1,IF($A257<VLOOKUP(Q$5,NFI,5,0),1,0)*Table_NFI[[#This Row],[Plastic Mat]],0)","v":45},{"$f":"VLOOKUP(Table_NFI[[#This Row],[Camp Name]],'Camp List'!N$5:Z$347,2,0)","v":{"$error":"#N/A"}},{"$f":"VLOOKUP(Table_NFI[[#This Row],[Camp Name]],'Camp List'!N$5:Z$347,13,0)","v":{"$error":"#N/A"}}]
[5.4666666666666668,"2013-02-18","UNHCR","KBC","Shan_North","Kutkai","Mungji Pa Dabang (Baptist Church)         ",null,null,93,93,46,93,46,46,46,46,{"$f":"IF(NFI_Expiration=1,IF($A258<VLOOKUP(H$5,NFI,5,0),1,0)*Table_NFI[[#This Row],[Hygiene Kit]],0)","v":0},{"$f":"IF(NFI_Expiration=1,IF($A258<VLOOKUP(I$5,NFI,5,0),1,0)*Table_NFI[[#This Row],[NFI Core Kit]],0)","v":0},{"$f":"IF(NFI_Expiration=1,IF($A258<VLOOKUP(J$5,NFI,5,0),1,0)*Table_NFI[[#This Row],[Sanitary Kit]],0)","v":93},{"$f":"IF(NFI_Expiration=1,IF($A258<VLOOKUP(K$5,NFI,5,0),1,0)*Table_NFI[[#This Row],[Mosquito net]],0)","v":93},{"$f":"IF(NFI_Expiration=1,IF($A258<VLOOKUP(L$5,NFI,5,0),1,0)*Table_NFI[[#This Row],[Tarpaulin]],0)","v":46},{"$f":"IF(NFI_Expiration=1,IF($A258<VLOOKUP(M$5,NFI,5,0),1,0)*Table_NFI[[#This Row],[Blanket]],0)","v":93},{"$f":"IF(NFI_Expiration=1,IF($A258<VLOOKUP(N$5,NFI,5,0),1,0)*Table_NFI[[#This Row],[Kitchen Set]],0)","v":46},{"$f":"IF(NFI_Expiration=1,IF($A258<VLOOKUP(O$5,NFI,5,0),1,0)*Table_NFI[[#This Row],[Complementary Kit]],0)","v":46},{"$f":"IF(NFI_Expiration=1,IF($A258<VLOOKUP(P$5,NFI,5,0),1,0)*Table_NFI[[#This Row],[Plastic Bucket]],0)","v":46},{"$f":"IF(NFI_Expiration=1,IF($A258<VLOOKUP(Q$5,NFI,5,0),1,0)*Table_NFI[[#This Row],[Plastic Mat]],0)","v":46},{"$f":"VLOOKUP(Table_NFI[[#This Row],[Camp Name]],'Camp List'!N$5:Z$347,2,0)","v":"MMR015CMP006"},{"$f":"VLOOKUP(Table_NFI[[#This Row],[Camp Name]],'Camp List'!N$5:Z$347,13,0)","v":"Open"}]
[{"$f":"IF(ISBLANK(B259),\"\",(Report_Date-B259)/30)","v":-0.4},"2013-08-13","UNHCR","KBC","Kachin","Kutkai","Kone Khem Camp",null,null,70,120,48,120,48,48,48,48,{"$f":"IF(NFI_Expiration=1,IF($A259<VLOOKUP(H$5,NFI,5,0),1,0)*Table_NFI[[#This Row],[Hygiene Kit]],0)","v":0},{"$f":"IF(NFI_Expiration=1,IF($A259<VLOOKUP(I$5,NFI,5,0),1,0)*Table_NFI[[#This Row],[NFI Core Kit]],0)","v":0},{"$f":"IF(NFI_Expiration=1,IF($A259<VLOOKUP(J$5,NFI,5,0),1,0)*Table_NFI[[#This Row],[Sanitary Kit]],0)","v":70},{"$f":"IF(NFI_Expiration=1,IF($A259<VLOOKUP(K$5,NFI,5,0),1,0)*Table_NFI[[#This Row],[Mosquito net]],0)","v":120},{"$f":"IF(NFI_Expiration=1,IF($A259<VLOOKUP(L$5,NFI,5,0),1,0)*Table_NFI[[#This Row],[Tarpaulin]],0)","v":48},{"$f":"IF(NFI_Expiration=1,IF($A259<VLOOKUP(M$5,NFI,5,0),1,0)*Table_NFI[[#This Row],[Blanket]],0)","v":120},{"$f":"IF(NFI_Expiration=1,IF($A259<VLOOKUP(N$5,NFI,5,0),1,0)*Table_NFI[[#This Row],[Kitchen Set]],0)","v":48},{"$f":"IF(NFI_Expiration=1,IF($A259<VLOOKUP(O$5,NFI,5,0),1,0)*Table_NFI[[#This Row],[Complementary Kit]],0)","v":48},{"$f":"IF(NFI_Expiration=1,IF($A259<VLOOKUP(P$5,NFI,5,0),1,0)*Table_NFI[[#This Row],[Plastic Bucket]],0)","v":48},{"$f":"IF(NFI_Expiration=1,IF($A259<VLOOKUP(Q$5,NFI,5,0),1,0)*Table_NFI[[#This Row],[Plastic Mat]],0)","v":48},{"$f":"VLOOKUP(Table_NFI[[#This Row],[Camp Name]],'Camp List'!N$5:Z$347,2,0)","v":"MMR015CMP015"},{"$f":"VLOOKUP(Table_NFI[[#This Row],[Camp Name]],'Camp List'!N$5:Z$347,13,0)","v":"Open"}]
[10.7,"2012-09-14","UNHCR","UNHCR","Kachin","Waingmaw","Maina Catholic Church (St. Joseph)",null,null,0,94,48,94,48,48,48,48,{"$f":"IF(NFI_Expiration=1,IF($A260<VLOOKUP(H$5,NFI,5,0),1,0)*Table_NFI[[#This Row],[Hygiene Kit]],0)","v":0},{"$f":"IF(NFI_Expiration=1,IF($A260<VLOOKUP(I$5,NFI,5,0),1,0)*Table_NFI[[#This Row],[NFI Core Kit]],0)","v":0},{"$f":"IF(NFI_Expiration=1,IF($A260<VLOOKUP(J$5,NFI,5,0),1,0)*Table_NFI[[#This Row],[Sanitary Kit]],0)","v":0},{"$f":"IF(NFI_Expiration=1,IF($A260<VLOOKUP(K$5,NFI,5,0),1,0)*Table_NFI[[#This Row],[Mosquito net]],0)","v":94},{"$f":"IF(NFI_Expiration=1,IF($A260<VLOOKUP(L$5,NFI,5,0),1,0)*Table_NFI[[#This Row],[Tarpaulin]],0)","v":48},{"$f":"IF(NFI_Expiration=1,IF($A260<VLOOKUP(M$5,NFI,5,0),1,0)*Table_NFI[[#This Row],[Blanket]],0)","v":94},{"$f":"IF(NFI_Expiration=1,IF($A260<VLOOKUP(N$5,NFI,5,0),1,0)*Table_NFI[[#This Row],[Kitchen Set]],0)","v":48},{"$f":"IF(NFI_Expiration=1,IF($A260<VLOOKUP(O$5,NFI,5,0),1,0)*Table_NFI[[#This Row],[Complementary Kit]],0)","v":48},{"$f":"IF(NFI_Expiration=1,IF($A260<VLOOKUP(P$5,NFI,5,0),1,0)*Table_NFI[[#This Row],[Plastic Bucket]],0)","v":48},{"$f":"IF(NFI_Expiration=1,IF($A260<VLOOKUP(Q$5,NFI,5,0),1,0)*Table_NFI[[#This Row],[Plastic Mat]],0)","v":48},{"$f":"VLOOKUP(Table_NFI[[#This Row],[Camp Name]],'Camp List'!N$5:Z$347,2,0)","v":"MMR001CMP029"},{"$f":"VLOOKUP(Table_NFI[[#This Row],[Camp Name]],'Camp List'!N$5:Z$347,13,0)","v":"Open"}]
[16.433333333333334,"2012-03-26","UNHCR","UNHCR","Kachin","Momauk","Momauk Catholic Church (St. Patrick)",null,null,0,49,49,0,0,49,49,49,{"$f":"IF(NFI_Expiration=1,IF($A261<VLOOKUP(H$5,NFI,5,0),1,0)*Table_NFI[[#This Row],[Hygiene Kit]],0)","v":0},{"$f":"IF(NFI_Expiration=1,IF($A261<VLOOKUP(I$5,NFI,5,0),1,0)*Table_NFI[[#This Row],[NFI Core Kit]],0)","v":0},{"$f":"IF(NFI_Expiration=1,IF($A261<VLOOKUP(J$5,NFI,5,0),1,0)*Table_NFI[[#This Row],[Sanitary Kit]],0)","v":0},{"$f":"IF(NFI_Expiration=1,IF($A261<VLOOKUP(K$5,NFI,5,0),1,0)*Table_NFI[[#This Row],[Mosquito net]],0)","v":0},{"$f":"IF(NFI_Expiration=1,IF($A261<VLOOKUP(L$5,NFI,5,0),1,0)*Table_NFI[[#This Row],[Tarpaulin]],0)","v":0},{"$f":"IF(NFI_Expiration=1,IF($A261<VLOOKUP(M$5,NFI,5,0),1,0)*Table_NFI[[#This Row],[Blanket]],0)","v":0},{"$f":"IF(NFI_Expiration=1,IF($A261<VLOOKUP(N$5,NFI,5,0),1,0)*Table_NFI[[#This Row],[Kitchen Set]],0)","v":0},{"$f":"IF(NFI_Expiration=1,IF($A261<VLOOKUP(O$5,NFI,5,0),1,0)*Table_NFI[[#This Row],[Complementary Kit]],0)","v":0},{"$f":"IF(NFI_Expiration=1,IF($A261<VLOOKUP(P$5,NFI,5,0),1,0)*Table_NFI[[#This Row],[Plastic Bucket]],0)","v":0},{"$f":"IF(NFI_Expiration=1,IF($A261<VLOOKUP(Q$5,NFI,5,0),1,0)*Table_NFI[[#This Row],[Plastic Mat]],0)","v":0},{"$f":"VLOOKUP(Table_NFI[[#This Row],[Camp Name]],'Camp List'!N$5:Z$347,2,0)","v":"MMR001CMP057"},{"$f":"VLOOKUP(Table_NFI[[#This Row],[Camp Name]],'Camp List'!N$5:Z$347,13,0)","v":"Open"}]
[21.233333333333334,"2011-11-03","UNHCR","KBC","Kachin","Myitkyina","Le Kone Ziun Baptist Church ",null,null,0,116,49,116,49,49,49,49,{"$f":"IF(NFI_Expiration=1,IF($A262<VLOOKUP(H$5,NFI,5,0),1,0)*Table_NFI[[#This Row],[Hygiene Kit]],0)","v":0},{"$f":"IF(NFI_Expiration=1,IF($A262<VLOOKUP(I$5,NFI,5,0),1,0)*Table_NFI[[#This Row],[NFI Core Kit]],0)","v":0},{"$f":"IF(NFI_Expiration=1,IF($A262<VLOOKUP(J$5,NFI,5,0),1,0)*Table_NFI[[#This Row],[Sanitary Kit]],0)","v":0},{"$f":"IF(NFI_Expiration=1,IF($A262<VLOOKUP(K$5,NFI,5,0),1,0)*Table_NFI[[#This Row],[Mosquito net]],0)","v":0},{"$f":"IF(NFI_Expiration=1,IF($A262<VLOOKUP(L$5,NFI,5,0),1,0)*Table_NFI[[#This Row],[Tarpaulin]],0)","v":0},{"$f":"IF(NFI_Expiration=1,IF($A262<VLOOKUP(M$5,NFI,5,0),1,0)*Table_NFI[[#This Row],[Blanket]],0)","v":0},{"$f":"IF(NFI_Expiration=1,IF($A262<VLOOKUP(N$5,NFI,5,0),1,0)*Table_NFI[[#This Row],[Kitchen Set]],0)","v":0},{"$f":"IF(NFI_Expiration=1,IF($A262<VLOOKUP(O$5,NFI,5,0),1,0)*Table_NFI[[#This Row],[Complementary Kit]],0)","v":0},{"$f":"IF(NFI_Expiration=1,IF($A262<VLOOKUP(P$5,NFI,5,0),1,0)*Table_NFI[[#This Row],[Plastic Bucket]],0)","v":0},{"$f":"IF(NFI_Expiration=1,IF($A262<VLOOKUP(Q$5,NFI,5,0),1,0)*Table_NFI[[#This Row],[Plastic Mat]],0)","v":0},{"$f":"VLOOKUP(Table_NFI[[#This Row],[Camp Name]],'Camp List'!N$5:Z$347,2,0)","v":"MMR001CMP014"},{"$f":"VLOOKUP(Table_NFI[[#This Row],[Camp Name]],'Camp List'!N$5:Z$347,13,0)","v":"Open"}]
[19.966666666666665,"2011-12-11","UNHCR","Shan Community","Kachin","Myitkyina","Shan Ywar Monestary Camp",null,null,0,88,49,88,49,49,49,49,{"$f":"IF(NFI_Expiration=1,IF($A263<VLOOKUP(H$5,NFI,5,0),1,0)*Table_NFI[[#This Row],[Hygiene Kit]],0)","v":0},{"$f":"IF(NFI_Expiration=1,IF($A263<VLOOKUP(I$5,NFI,5,0),1,0)*Table_NFI[[#This Row],[NFI Core Kit]],0)","v":0},{"$f":"IF(NFI_Expiration=1,IF($A263<VLOOKUP(J$5,NFI,5,0),1,0)*Table_NFI[[#This Row],[Sanitary Kit]],0)","v":0},{"$f":"IF(NFI_Expiration=1,IF($A263<VLOOKUP(K$5,NFI,5,0),1,0)*Table_NFI[[#This Row],[Mosquito net]],0)","v":0},{"$f":"IF(NFI_Expiration=1,IF($A263<VLOOKUP(L$5,NFI,5,0),1,0)*Table_NFI[[#This Row],[Tarpaulin]],0)","v":0},{"$f":"IF(NFI_Expiration=1,IF($A263<VLOOKUP(M$5,NFI,5,0),1,0)*Table_NFI[[#This Row],[Blanket]],0)","v":0},{"$f":"IF(NFI_Expiration=1,IF($A263<VLOOKUP(N$5,NFI,5,0),1,0)*Table_NFI[[#This Row],[Kitchen Set]],0)","v":0},{"$f":"IF(NFI_Expiration=1,IF($A263<VLOOKUP(O$5,NFI,5,0),1,0)*Table_NFI[[#This Row],[Complementary Kit]],0)","v":0},{"$f":"IF(NFI_Expiration=1,IF($A263<VLOOKUP(P$5,NFI,5,0),1,0)*Table_NFI[[#This Row],[Plastic Bucket]],0)","v":0},{"$f":"IF(NFI_Expiration=1,IF($A263<VLOOKUP(Q$5,NFI,5,0),1,0)*Table_NFI[[#This Row],[Plastic Mat]],0)","v":0},{"$f":"VLOOKUP(Table_NFI[[#This Row],[Camp Name]],'Camp List'!N$5:Z$347,2,0)","v":{"$error":"#N/A"}},{"$f":"VLOOKUP(Table_NFI[[#This Row],[Camp Name]],'Camp List'!N$5:Z$347,13,0)","v":{"$error":"#N/A"}}]
[12.7,"2012-07-16","UNHCR","UNHCR","Kachin","Myitkyina","Le Kone Ziun Baptist Church ",null,null,0,50,50,50,50,50,50,50,{"$f":"IF(NFI_Expiration=1,IF($A264<VLOOKUP(H$5,NFI,5,0),1,0)*Table_NFI[[#This Row],[Hygiene Kit]],0)","v":0},{"$f":"IF(NFI_Expiration=1,IF($A264<VLOOKUP(I$5,NFI,5,0),1,0)*Table_NFI[[#This Row],[NFI Core Kit]],0)","v":0},{"$f":"IF(NFI_Expiration=1,IF($A264<VLOOKUP(J$5,NFI,5,0),1,0)*Table_NFI[[#This Row],[Sanitary Kit]],0)","v":0},{"$f":"IF(NFI_Expiration=1,IF($A264<VLOOKUP(K$5,NFI,5,0),1,0)*Table_NFI[[#This Row],[Mosquito net]],0)","v":0},{"$f":"IF(NFI_Expiration=1,IF($A264<VLOOKUP(L$5,NFI,5,0),1,0)*Table_NFI[[#This Row],[Tarpaulin]],0)","v":0},{"$f":"IF(NFI_Expiration=1,IF($A264<VLOOKUP(M$5,NFI,5,0),1,0)*Table_NFI[[#This Row],[Blanket]],0)","v":0},{"$f":"IF(NFI_Expiration=1,IF($A264<VLOOKUP(N$5,NFI,5,0),1,0)*Table_NFI[[#This Row],[Kitchen Set]],0)","v":0},{"$f":"IF(NFI_Expiration=1,IF($A264<VLOOKUP(O$5,NFI,5,0),1,0)*Table_NFI[[#This Row],[Complementary Kit]],0)","v":0},{"$f":"IF(NFI_Expiration=1,IF($A264<VLOOKUP(P$5,NFI,5,0),1,0)*Table_NFI[[#This Row],[Plastic Bucket]],0)","v":0},{"$f":"IF(NFI_Expiration=1,IF($A264<VLOOKUP(Q$5,NFI,5,0),1,0)*Table_NFI[[#This Row],[Plastic Mat]],0)","v":0},{"$f":"VLOOKUP(Table_NFI[[#This Row],[Camp Name]],'Camp List'!N$5:Z$347,2,0)","v":"MMR001CMP014"},{"$f":"VLOOKUP(Table_NFI[[#This Row],[Camp Name]],'Camp List'!N$5:Z$347,13,0)","v":"Open"}]
[-0.4,"2013-08-13","UNHCR","KMSS","Kachin","Kutkai","Mungji Pa Dabang (RC Church)         ",null,null,70,130,52,130,52,52,52,52,{"$f":"IF(NFI_Expiration=1,IF($A265<VLOOKUP(H$5,NFI,5,0),1,0)*Table_NFI[[#This Row],[Hygiene Kit]],0)","v":0},{"$f":"IF(NFI_Expiration=1,IF($A265<VLOOKUP(I$5,NFI,5,0),1,0)*Table_NFI[[#This Row],[NFI Core Kit]],0)","v":0},{"$f":"IF(NFI_Expiration=1,IF($A265<VLOOKUP(J$5,NFI,5,0),1,0)*Table_NFI[[#This Row],[Sanitary Kit]],0)","v":70},{"$f":"IF(NFI_Expiration=1,IF($A265<VLOOKUP(K$5,NFI,5,0),1,0)*Table_NFI[[#This Row],[Mosquito net]],0)","v":130},{"$f":"IF(NFI_Expiration=1,IF($A265<VLOOKUP(L$5,NFI,5,0),1,0)*Table_NFI[[#This Row],[Tarpaulin]],0)","v":52},{"$f":"IF(NFI_Expiration=1,IF($A265<VLOOKUP(M$5,NFI,5,0),1,0)*Table_NFI[[#This Row],[Blanket]],0)","v":130},{"$f":"IF(NFI_Expiration=1,IF($A265<VLOOKUP(N$5,NFI,5,0),1,0)*Table_NFI[[#This Row],[Kitchen Set]],0)","v":52},{"$f":"IF(NFI_Expiration=1,IF($A265<VLOOKUP(O$5,NFI,5,0),1,0)*Table_NFI[[#This Row],[Complementary Kit]],0)","v":52},{"$f":"IF(NFI_Expiration=1,IF($A265<VLOOKUP(P$5,NFI,5,0),1,0)*Table_NFI[[#This Row],[Plastic Bucket]],0)","v":52},{"$f":"IF(NFI_Expiration=1,IF($A265<VLOOKUP(Q$5,NFI,5,0),1,0)*Table_NFI[[#This Row],[Plastic Mat]],0)","v":52},{"$f":"VLOOKUP(Table_NFI[[#This Row],[Camp Name]],'Camp List'!N$5:Z$347,2,0)","v":"MMR015CMP019"},{"$f":"VLOOKUP(Table_NFI[[#This Row],[Camp Name]],'Camp List'!N$5:Z$347,13,0)","v":"Open"}]
[21.233333333333334,"2011-11-03","UNHCR","KMSS","Kachin","Myitkyina","Jan Mai Kawng Baptist Church",null,null,0,106,52,106,52,52,52,52,{"$f":"IF(NFI_Expiration=1,IF($A266<VLOOKUP(H$5,NFI,5,0),1,0)*Table_NFI[[#This Row],[Hygiene Kit]],0)","v":0},{"$f":"IF(NFI_Expiration=1,IF($A266<VLOOKUP(I$5,NFI,5,0),1,0)*Table_NFI[[#This Row],[NFI Core Kit]],0)","v":0},{"$f":"IF(NFI_Expiration=1,IF($A266<VLOOKUP(J$5,NFI,5,0),1,0)*Table_NFI[[#This Row],[Sanitary Kit]],0)","v":0},{"$f":"IF(NFI_Expiration=1,IF($A266<VLOOKUP(K$5,NFI,5,0),1,0)*Table_NFI[[#This Row],[Mosquito net]],0)","v":0},{"$f":"IF(NFI_Expiration=1,IF($A266<VLOOKUP(L$5,NFI,5,0),1,0)*Table_NFI[[#This Row],[Tarpaulin]],0)","v":0},{"$f":"IF(NFI_Expiration=1,IF($A266<VLOOKUP(M$5,NFI,5,0),1,0)*Table_NFI[[#This Row],[Blanket]],0)","v":0},{"$f":"IF(NFI_Expiration=1,IF($A266<VLOOKUP(N$5,NFI,5,0),1,0)*Table_NFI[[#This Row],[Kitchen Set]],0)","v":0},{"$f":"IF(NFI_Expiration=1,IF($A266<VLOOKUP(O$5,NFI,5,0),1,0)*Table_NFI[[#This Row],[Complementary Kit]],0)","v":0},{"$f":"IF(NFI_Expiration=1,IF($A266<VLOOKUP(P$5,NFI,5,0),1,0)*Table_NFI[[#This Row],[Plastic Bucket]],0)","v":0},{"$f":"IF(NFI_Expiration=1,IF($A266<VLOOKUP(Q$5,NFI,5,0),1,0)*Table_NFI[[#This Row],[Plastic Mat]],0)","v":0},{"$f":"VLOOKUP(Table_NFI[[#This Row],[Camp Name]],'Camp List'!N$5:Z$347,2,0)","v":"MMR001CMP018"},{"$f":"VLOOKUP(Table_NFI[[#This Row],[Camp Name]],'Camp List'!N$5:Z$347,13,0)","v":"Open"}]
[12.933333333333334,"2012-07-09","UNHCR","UNHCR","Kachin","Waingmaw","Qtr. 2 Lhaovo Baptist Church",null,null,0,77,34,77,35,52,52,52,{"$f":"IF(NFI_Expiration=1,IF($A267<VLOOKUP(H$5,NFI,5,0),1,0)*Table_NFI[[#This Row],[Hygiene Kit]],0)","v":0},{"$f":"IF(NFI_Expiration=1,IF($A267<VLOOKUP(I$5,NFI,5,0),1,0)*Table_NFI[[#This Row],[NFI Core Kit]],0)","v":0},{"$f":"IF(NFI_Expiration=1,IF($A267<VLOOKUP(J$5,NFI,5,0),1,0)*Table_NFI[[#This Row],[Sanitary Kit]],0)","v":0},{"$f":"IF(NFI_Expiration=1,IF($A267<VLOOKUP(K$5,NFI,5,0),1,0)*Table_NFI[[#This Row],[Mosquito net]],0)","v":0},{"$f":"IF(NFI_Expiration=1,IF($A267<VLOOKUP(L$5,NFI,5,0),1,0)*Table_NFI[[#This Row],[Tarpaulin]],0)","v":0},{"$f":"IF(NFI_Expiration=1,IF($A267<VLOOKUP(M$5,NFI,5,0),1,0)*Table_NFI[[#This Row],[Blanket]],0)","v":0},{"$f":"IF(NFI_Expiration=1,IF($A267<VLOOKUP(N$5,NFI,5,0),1,0)*Table_NFI[[#This Row],[Kitchen Set]],0)","v":0},{"$f":"IF(NFI_Expiration=1,IF($A267<VLOOKUP(O$5,NFI,5,0),1,0)*Table_NFI[[#This Row],[Complementary Kit]],0)","v":0},{"$f":"IF(NFI_Expiration=1,IF($A267<VLOOKUP(P$5,NFI,5,0),1,0)*Table_NFI[[#This Row],[Plastic Bucket]],0)","v":0},{"$f":"IF(NFI_Expiration=1,IF($A267<VLOOKUP(Q$5,NFI,5,0),1,0)*Table_NFI[[#This Row],[Plastic Mat]],0)","v":0},{"$f":"VLOOKUP(Table_NFI[[#This Row],[Camp Name]],'Camp List'!N$5:Z$347,2,0)","v":"MMR001CMP032"},{"$f":"VLOOKUP(Table_NFI[[#This Row],[Camp Name]],'Camp List'!N$5:Z$347,13,0)","v":"Open"}]
[20.8,"2011-11-16","UNHCR","KBC","Kachin","Myitkyina","Njang Dung Baptist Church ",null,null,0,92,53,92,53,53,53,53,{"$f":"IF(NFI_Expiration=1,IF($A268<VLOOKUP(H$5,NFI,5,0),1,0)*Table_NFI[[#This Row],[Hygiene Kit]],0)","v":0},{"$f":"IF(NFI_Expiration=1,IF($A268<VLOOKUP(I$5,NFI,5,0),1,0)*Table_NFI[[#This Row],[NFI Core Kit]],0)","v":0},{"$f":"IF(NFI_Expiration=1,IF($A268<VLOOKUP(J$5,NFI,5,0),1,0)*Table_NFI[[#This Row],[Sanitary Kit]],0)","v":0},{"$f":"IF(NFI_Expiration=1,IF($A268<VLOOKUP(K$5,NFI,5,0),1,0)*Table_NFI[[#This Row],[Mosquito net]],0)","v":0},{"$f":"IF(NFI_Expiration=1,IF($A268<VLOOKUP(L$5,NFI,5,0),1,0)*Table_NFI[[#This Row],[Tarpaulin]],0)","v":0},{"$f":"IF(NFI_Expiration=1,IF($A268<VLOOKUP(M$5,NFI,5,0),1,0)*Table_NFI[[#This Row],[Blanket]],0)","v":0},{"$f":"IF(NFI_Expiration=1,IF($A268<VLOOKUP(N$5,NFI,5,0),1,0)*Table_NFI[[#This Row],[Kitchen Set]],0)","v":0},{"$f":"IF(NFI_Expiration=1,IF($A268<VLOOKUP(O$5,NFI,5,0),1,0)*Table_NFI[[#This Row],[Complementary Kit]],0)","v":0},{"$f":"IF(NFI_Expiration=1,IF($A268<VLOOKUP(P$5,NFI,5,0),1,0)*Table_NFI[[#This Row],[Plastic Bucket]],0)","v":0},{"$f":"IF(NFI_Expiration=1,IF($A268<VLOOKUP(Q$5,NFI,5,0),1,0)*Table_NFI[[#This Row],[Plastic Mat]],0)","v":0},{"$f":"VLOOKUP(Table_NFI[[#This Row],[Camp Name]],'Camp List'!N$5:Z$347,2,0)","v":"MMR001CMP002"},{"$f":"VLOOKUP(Table_NFI[[#This Row],[Camp Name]],'Camp List'!N$5:Z$347,13,0)","v":"Open"}]
[18.866666666666667,"2012-01-13","UNHCR","KBC","Kachin","Hpakant","Nga Pyaw Taw Baptist Nursery School ",null,null,0,112,56,56,0,56,56,56,{"$f":"IF(NFI_Expiration=1,IF($A269<VLOOKUP(H$5,NFI,5,0),1,0)*Table_NFI[[#This Row],[Hygiene Kit]],0)","v":0},{"$f":"IF(NFI_Expiration=1,IF($A269<VLOOKUP(I$5,NFI,5,0),1,0)*Table_NFI[[#This Row],[NFI Core Kit]],0)","v":0},{"$f":"IF(NFI_Expiration=1,IF($A269<VLOOKUP(J$5,NFI,5,0),1,0)*Table_NFI[[#This Row],[Sanitary Kit]],0)","v":0},{"$f":"IF(NFI_Expiration=1,IF($A269<VLOOKUP(K$5,NFI,5,0),1,0)*Table_NFI[[#This Row],[Mosquito net]],0)","v":0},{"$f":"IF(NFI_Expiration=1,IF($A269<VLOOKUP(L$5,NFI,5,0),1,0)*Table_NFI[[#This Row],[Tarpaulin]],0)","v":0},{"$f":"IF(NFI_Expiration=1,IF($A269<VLOOKUP(M$5,NFI,5,0),1,0)*Table_NFI[[#This Row],[Blanket]],0)","v":0},{"$f":"IF(NFI_Expiration=1,IF($A269<VLOOKUP(N$5,NFI,5,0),1,0)*Table_NFI[[#This Row],[Kitchen Set]],0)","v":0},{"$f":"IF(NFI_Expiration=1,IF($A269<VLOOKUP(O$5,NFI,5,0),1,0)*Table_NFI[[#This Row],[Complementary Kit]],0)","v":0},{"$f":"IF(NFI_Expiration=1,IF($A269<VLOOKUP(P$5,NFI,5,0),1,0)*Table_NFI[[#This Row],[Plastic Bucket]],0)","v":0},{"$f":"IF(NFI_Expiration=1,IF($A269<VLOOKUP(Q$5,NFI,5,0),1,0)*Table_NFI[[#This Row],[Plastic Mat]],0)","v":0},{"$f":"VLOOKUP(Table_NFI[[#This Row],[Camp Name]],'Camp List'!N$5:Z$347,2,0)","v":"MMR001CMP082"},{"$f":"VLOOKUP(Table_NFI[[#This Row],[Camp Name]],'Camp List'!N$5:Z$347,13,0)","v":"Open"}]
[5.4333333333333336,"2013-02-19","UNHCR","UNHCR","Kachin","Hpakant","Dhama Rakhita, Nyein Chan Tar Yar Ward(Lon Khin)",null,null,74,105,59,105,59,59,59,{"$f":"O270","v":59},{"$f":"IF(NFI_Expiration=1,IF($A270<VLOOKUP(H$5,NFI,5,0),1,0)*Table_NFI[[#This Row],[Hygiene Kit]],0)","v":0},{"$f":"IF(NFI_Expiration=1,IF($A270<VLOOKUP(I$5,NFI,5,0),1,0)*Table_NFI[[#This Row],[NFI Core Kit]],0)","v":0},{"$f":"IF(NFI_Expiration=1,IF($A270<VLOOKUP(J$5,NFI,5,0),1,0)*Table_NFI[[#This Row],[Sanitary Kit]],0)","v":74},{"$f":"IF(NFI_Expiration=1,IF($A270<VLOOKUP(K$5,NFI,5,0),1,0)*Table_NFI[[#This Row],[Mosquito net]],0)","v":105},{"$f":"IF(NFI_Expiration=1,IF($A270<VLOOKUP(L$5,NFI,5,0),1,0)*Table_NFI[[#This Row],[Tarpaulin]],0)","v":59},{"$f":"IF(NFI_Expiration=1,IF($A270<VLOOKUP(M$5,NFI,5,0),1,0)*Table_NFI[[#This Row],[Blanket]],0)","v":105},{"$f":"IF(NFI_Expiration=1,IF($A270<VLOOKUP(N$5,NFI,5,0),1,0)*Table_NFI[[#This Row],[Kitchen Set]],0)","v":59},{"$f":"IF(NFI_Expiration=1,IF($A270<VLOOKUP(O$5,NFI,5,0),1,0)*Table_NFI[[#This Row],[Complementary Kit]],0)","v":59},{"$f":"IF(NFI_Expiration=1,IF($A270<VLOOKUP(P$5,NFI,5,0),1,0)*Table_NFI[[#This Row],[Plastic Bucket]],0)","v":59},{"$f":"IF(NFI_Expiration=1,IF($A270<VLOOKUP(Q$5,NFI,5,0),1,0)*Table_NFI[[#This Row],[Plastic Mat]],0)","v":59},{"$f":"VLOOKUP(Table_NFI[[#This Row],[Camp Name]],'Camp List'!N$5:Z$347,2,0)","v":"MMR001CMP174"},{"$f":"VLOOKUP(Table_NFI[[#This Row],[Camp Name]],'Camp List'!N$5:Z$347,13,0)","v":"Open"}]
[10.199999999999999,"2012-09-29","UNHCR","UNHCR","Kachin","Momauk","Loi Je Lisu Camp",null,null,0,151,59,151,59,59,59,59,{"$f":"IF(NFI_Expiration=1,IF($A271<VLOOKUP(H$5,NFI,5,0),1,0)*Table_NFI[[#This Row],[Hygiene Kit]],0)","v":0},{"$f":"IF(NFI_Expiration=1,IF($A271<VLOOKUP(I$5,NFI,5,0),1,0)*Table_NFI[[#This Row],[NFI Core Kit]],0)","v":0},{"$f":"IF(NFI_Expiration=1,IF($A271<VLOOKUP(J$5,NFI,5,0),1,0)*Table_NFI[[#This Row],[Sanitary Kit]],0)","v":0},{"$f":"IF(NFI_Expiration=1,IF($A271<VLOOKUP(K$5,NFI,5,0),1,0)*Table_NFI[[#This Row],[Mosquito net]],0)","v":151},{"$f":"IF(NFI_Expiration=1,IF($A271<VLOOKUP(L$5,NFI,5,0),1,0)*Table_NFI[[#This Row],[Tarpaulin]],0)","v":59},{"$f":"IF(NFI_Expiration=1,IF($A271<VLOOKUP(M$5,NFI,5,0),1,0)*Table_NFI[[#This Row],[Blanket]],0)","v":151},{"$f":"IF(NFI_Expiration=1,IF($A271<VLOOKUP(N$5,NFI,5,0),1,0)*Table_NFI[[#This Row],[Kitchen Set]],0)","v":59},{"$f":"IF(NFI_Expiration=1,IF($A271<VLOOKUP(O$5,NFI,5,0),1,0)*Table_NFI[[#This Row],[Complementary Kit]],0)","v":59},{"$f":"IF(NFI_Expiration=1,IF($A271<VLOOKUP(P$5,NFI,5,0),1,0)*Table_NFI[[#This Row],[Plastic Bucket]],0)","v":59},{"$f":"IF(NFI_Expiration=1,IF($A271<VLOOKUP(Q$5,NFI,5,0),1,0)*Table_NFI[[#This Row],[Plastic Mat]],0)","v":59},{"$f":"VLOOKUP(Table_NFI[[#This Row],[Camp Name]],'Camp List'!N$5:Z$347,2,0)","v":"MMR001CMP070"},{"$f":"VLOOKUP(Table_NFI[[#This Row],[Camp Name]],'Camp List'!N$5:Z$347,13,0)","v":"Open"}]
[5.4666666666666668,"2013-02-18","UNHCR","KBC","Shan_North","Namhkan","Nam Hkam - Nay Win Ni (Palawng)",null,null,118,118,59,118,59,59,59,59,{"$f":"IF(NFI_Expiration=1,IF($A272<VLOOKUP(H$5,NFI,5,0),1,0)*Table_NFI[[#This Row],[Hygiene Kit]],0)","v":0},{"$f":"IF(NFI_Expiration=1,IF($A272<VLOOKUP(I$5,NFI,5,0),1,0)*Table_NFI[[#This Row],[NFI Core Kit]],0)","v":0},{"$f":"IF(NFI_Expiration=1,IF($A272<VLOOKUP(J$5,NFI,5,0),1,0)*Table_NFI[[#This Row],[Sanitary Kit]],0)","v":118},{"$f":"IF(NFI_Expiration=1,IF($A272<VLOOKUP(K$5,NFI,5,0),1,0)*Table_NFI[[#This Row],[Mosquito net]],0)","v":118},{"$f":"IF(NFI_Expiration=1,IF($A272<VLOOKUP(L$5,NFI,5,0),1,0)*Table_NFI[[#This Row],[Tarpaulin]],0)","v":59},{"$f":"IF(NFI_Expiration=1,IF($A272<VLOOKUP(M$5,NFI,5,0),1,0)*Table_NFI[[#This Row],[Blanket]],0)","v":118},{"$f":"IF(NFI_Expiration=1,IF($A272<VLOOKUP(N$5,NFI,5,0),1,0)*Table_NFI[[#This Row],[Kitchen Set]],0)","v":59},{"$f":"IF(NFI_Expiration=1,IF($A272<VLOOKUP(O$5,NFI,5,0),1,0)*Table_NFI[[#This Row],[Complementary Kit]],0)","v":59},{"$f":"IF(NFI_Expiration=1,IF($A272<VLOOKUP(P$5,NFI,5,0),1,0)*Table_NFI[[#This Row],[Plastic Bucket]],0)","v":59},{"$f":"IF(NFI_Expiration=1,IF($A272<VLOOKUP(Q$5,NFI,5,0),1,0)*Table_NFI[[#This Row],[Plastic Mat]],0)","v":59},{"$f":"VLOOKUP(Table_NFI[[#This Row],[Camp Name]],'Camp List'!N$5:Z$347,2,0)","v":"MMR015CMP004"},{"$f":"VLOOKUP(Table_NFI[[#This Row],[Camp Name]],'Camp List'!N$5:Z$347,13,0)","v":"Open"}]
[18.866666666666667,"2012-01-13","UNHCR","KBC","Kachin","Hpakant","5 Ward Baptist Church(lon Khin)",null,null,0,120,60,60,0,60,60,60,{"$f":"IF(NFI_Expiration=1,IF($A273<VLOOKUP(H$5,NFI,5,0),1,0)*Table_NFI[[#This Row],[Hygiene Kit]],0)","v":0},{"$f":"IF(NFI_Expiration=1,IF($A273<VLOOKUP(I$5,NFI,5,0),1,0)*Table_NFI[[#This Row],[NFI Core Kit]],0)","v":0},{"$f":"IF(NFI_Expiration=1,IF($A273<VLOOKUP(J$5,NFI,5,0),1,0)*Table_NFI[[#This Row],[Sanitary Kit]],0)","v":0},{"$f":"IF(NFI_Expiration=1,IF($A273<VLOOKUP(K$5,NFI,5,0),1,0)*Table_NFI[[#This Row],[Mosquito net]],0)","v":0},{"$f":"IF(NFI_Expiration=1,IF($A273<VLOOKUP(L$5,NFI,5,0),1,0)*Table_NFI[[#This Row],[Tarpaulin]],0)","v":0},{"$f":"IF(NFI_Expiration=1,IF($A273<VLOOKUP(M$5,NFI,5,0),1,0)*Table_NFI[[#This Row],[Blanket]],0)","v":0},{"$f":"IF(NFI_Expiration=1,IF($A273<VLOOKUP(N$5,NFI,5,0),1,0)*Table_NFI[[#This Row],[Kitchen Set]],0)","v":0},{"$f":"IF(NFI_Expiration=1,IF($A273<VLOOKUP(O$5,NFI,5,0),1,0)*Table_NFI[[#This Row],[Complementary Kit]],0)","v":0},{"$f":"IF(NFI_Expiration=1,IF($A273<VLOOKUP(P$5,NFI,5,0),1,0)*Table_NFI[[#This Row],[Plastic Bucket]],0)","v":0},{"$f":"IF(NFI_Expiration=1,IF($A273<VLOOKUP(Q$5,NFI,5,0),1,0)*Table_NFI[[#This Row],[Plastic Mat]],0)","v":0},{"$f":"VLOOKUP(Table_NFI[[#This Row],[Camp Name]],'Camp List'!N$5:Z$347,2,0)","v":"MMR001CMP179"},{"$f":"VLOOKUP(Table_NFI[[#This Row],[Camp Name]],'Camp List'!N$5:Z$347,13,0)","v":"Open"}]
[4.4666666666666668,"2013-03-20","UNHCR","UNHCR","Kachin","Hpakant","Wrad(5) Christian Association",null,null,34,26,26,60,26,60,60,60,{"$f":"IF(NFI_Expiration=1,IF($A274<VLOOKUP(H$5,NFI,5,0),1,0)*Table_NFI[[#This Row],[Hygiene Kit]],0)","v":0},{"$f":"IF(NFI_Expiration=1,IF($A274<VLOOKUP(I$5,NFI,5,0),1,0)*Table_NFI[[#This Row],[NFI Core Kit]],0)","v":0},{"$f":"IF(NFI_Expiration=1,IF($A274<VLOOKUP(J$5,NFI,5,0),1,0)*Table_NFI[[#This Row],[Sanitary Kit]],0)","v":34},{"$f":"IF(NFI_Expiration=1,IF($A274<VLOOKUP(K$5,NFI,5,0),1,0)*Table_NFI[[#This Row],[Mosquito net]],0)","v":26},{"$f":"IF(NFI_Expiration=1,IF($A274<VLOOKUP(L$5,NFI,5,0),1,0)*Table_NFI[[#This Row],[Tarpaulin]],0)","v":26},{"$f":"IF(NFI_Expiration=1,IF($A274<VLOOKUP(M$5,NFI,5,0),1,0)*Table_NFI[[#This Row],[Blanket]],0)","v":60},{"$f":"IF(NFI_Expiration=1,IF($A274<VLOOKUP(N$5,NFI,5,0),1,0)*Table_NFI[[#This Row],[Kitchen Set]],0)","v":26},{"$f":"IF(NFI_Expiration=1,IF($A274<VLOOKUP(O$5,NFI,5,0),1,0)*Table_NFI[[#This Row],[Complementary Kit]],0)","v":60},{"$f":"IF(NFI_Expiration=1,IF($A274<VLOOKUP(P$5,NFI,5,0),1,0)*Table_NFI[[#This Row],[Plastic Bucket]],0)","v":60},{"$f":"IF(NFI_Expiration=1,IF($A274<VLOOKUP(Q$5,NFI,5,0),1,0)*Table_NFI[[#This Row],[Plastic Mat]],0)","v":60},{"$f":"VLOOKUP(Table_NFI[[#This Row],[Camp Name]],'Camp List'!N$5:Z$347,2,0)","v":"MMR001CMP175"},{"$f":"VLOOKUP(Table_NFI[[#This Row],[Camp Name]],'Camp List'!N$5:Z$347,13,0)","v":"Close"}]
[5.4666666666666668,"2013-02-18","UNHCR","KBC","Shan_North","Kutkai","Kutkai downtown (KBC Church)",null,null,120,120,60,120,60,60,60,60,{"$f":"IF(NFI_Expiration=1,IF($A275<VLOOKUP(H$5,NFI,5,0),1,0)*Table_NFI[[#This Row],[Hygiene Kit]],0)","v":0},{"$f":"IF(NFI_Expiration=1,IF($A275<VLOOKUP(I$5,NFI,5,0),1,0)*Table_NFI[[#This Row],[NFI Core Kit]],0)","v":0},{"$f":"IF(NFI_Expiration=1,IF($A275<VLOOKUP(J$5,NFI,5,0),1,0)*Table_NFI[[#This Row],[Sanitary Kit]],0)","v":120},{"$f":"IF(NFI_Expiration=1,IF($A275<VLOOKUP(K$5,NFI,5,0),1,0)*Table_NFI[[#This Row],[Mosquito net]],0)","v":120},{"$f":"IF(NFI_Expiration=1,IF($A275<VLOOKUP(L$5,NFI,5,0),1,0)*Table_NFI[[#This Row],[Tarpaulin]],0)","v":60},{"$f":"IF(NFI_Expiration=1,IF($A275<VLOOKUP(M$5,NFI,5,0),1,0)*Table_NFI[[#This Row],[Blanket]],0)","v":120},{"$f":"IF(NFI_Expiration=1,IF($A275<VLOOKUP(N$5,NFI,5,0),1,0)*Table_NFI[[#This Row],[Kitchen Set]],0)","v":60},{"$f":"IF(NFI_Expiration=1,IF($A275<VLOOKUP(O$5,NFI,5,0),1,0)*Table_NFI[[#This Row],[Complementary Kit]],0)","v":60},{"$f":"IF(NFI_Expiration=1,IF($A275<VLOOKUP(P$5,NFI,5,0),1,0)*Table_NFI[[#This Row],[Plastic Bucket]],0)","v":60},{"$f":"IF(NFI_Expiration=1,IF($A275<VLOOKUP(Q$5,NFI,5,0),1,0)*Table_NFI[[#This Row],[Plastic Mat]],0)","v":60},{"$f":"VLOOKUP(Table_NFI[[#This Row],[Camp Name]],'Camp List'!N$5:Z$347,2,0)","v":"MMR015CMP016"},{"$f":"VLOOKUP(Table_NFI[[#This Row],[Camp Name]],'Camp List'!N$5:Z$347,13,0)","v":"Open"}]
[18.266666666666666,"2012-01-31","UNHCR","UNHCR","Kachin","Waingmaw","Qtr. 4 Monestry (Thargaya Thayett Taw)",null,null,0,0,0,0,0,61,61,61,{"$f":"IF(NFI_Expiration=1,IF($A276<VLOOKUP(H$5,NFI,5,0),1,0)*Table_NFI[[#This Row],[Hygiene Kit]],0)","v":0},{"$f":"IF(NFI_Expiration=1,IF($A276<VLOOKUP(I$5,NFI,5,0),1,0)*Table_NFI[[#This Row],[NFI Core Kit]],0)","v":0},{"$f":"IF(NFI_Expiration=1,IF($A276<VLOOKUP(J$5,NFI,5,0),1,0)*Table_NFI[[#This Row],[Sanitary Kit]],0)","v":0},{"$f":"IF(NFI_Expiration=1,IF($A276<VLOOKUP(K$5,NFI,5,0),1,0)*Table_NFI[[#This Row],[Mosquito net]],0)","v":0},{"$f":"IF(NFI_Expiration=1,IF($A276<VLOOKUP(L$5,NFI,5,0),1,0)*Table_NFI[[#This Row],[Tarpaulin]],0)","v":0},{"$f":"IF(NFI_Expiration=1,IF($A276<VLOOKUP(M$5,NFI,5,0),1,0)*Table_NFI[[#This Row],[Blanket]],0)","v":0},{"$f":"IF(NFI_Expiration=1,IF($A276<VLOOKUP(N$5,NFI,5,0),1,0)*Table_NFI[[#This Row],[Kitchen Set]],0)","v":0},{"$f":"IF(NFI_Expiration=1,IF($A276<VLOOKUP(O$5,NFI,5,0),1,0)*Table_NFI[[#This Row],[Complementary Kit]],0)","v":0},{"$f":"IF(NFI_Expiration=1,IF($A276<VLOOKUP(P$5,NFI,5,0),1,0)*Table_NFI[[#This Row],[Plastic Bucket]],0)","v":0},{"$f":"IF(NFI_Expiration=1,IF($A276<VLOOKUP(Q$5,NFI,5,0),1,0)*Table_NFI[[#This Row],[Plastic Mat]],0)","v":0},{"$f":"VLOOKUP(Table_NFI[[#This Row],[Camp Name]],'Camp List'!N$5:Z$347,2,0)","v":"MMR001CMP026"},{"$f":"VLOOKUP(Table_NFI[[#This Row],[Camp Name]],'Camp List'!N$5:Z$347,13,0)","v":"Open"}]
[11,"2012-09-05","UNHCR","UNHCR","Kachin","Momauk","Loi Je Lisu Camp",null,null,0,133,62,133,62,62,62,62,{"$f":"IF(NFI_Expiration=1,IF($A277<VLOOKUP(H$5,NFI,5,0),1,0)*Table_NFI[[#This Row],[Hygiene Kit]],0)","v":0},{"$f":"IF(NFI_Expiration=1,IF($A277<VLOOKUP(I$5,NFI,5,0),1,0)*Table_NFI[[#This Row],[NFI Core Kit]],0)","v":0},{"$f":"IF(NFI_Expiration=1,IF($A277<VLOOKUP(J$5,NFI,5,0),1,0)*Table_NFI[[#This Row],[Sanitary Kit]],0)","v":0},{"$f":"IF(NFI_Expiration=1,IF($A277<VLOOKUP(K$5,NFI,5,0),1,0)*Table_NFI[[#This Row],[Mosquito net]],0)","v":133},{"$f":"IF(NFI_Expiration=1,IF($A277<VLOOKUP(L$5,NFI,5,0),1,0)*Table_NFI[[#This Row],[Tarpaulin]],0)","v":62},{"$f":"IF(NFI_Expiration=1,IF($A277<VLOOKUP(M$5,NFI,5,0),1,0)*Table_NFI[[#This Row],[Blanket]],0)","v":133},{"$f":"IF(NFI_Expiration=1,IF($A277<VLOOKUP(N$5,NFI,5,0),1,0)*Table_NFI[[#This Row],[Kitchen Set]],0)","v":62},{"$f":"IF(NFI_Expiration=1,IF($A277<VLOOKUP(O$5,NFI,5,0),1,0)*Table_NFI[[#This Row],[Complementary Kit]],0)","v":62},{"$f":"IF(NFI_Expiration=1,IF($A277<VLOOKUP(P$5,NFI,5,0),1,0)*Table_NFI[[#This Row],[Plastic Bucket]],0)","v":62},{"$f":"IF(NFI_Expiration=1,IF($A277<VLOOKUP(Q$5,NFI,5,0),1,0)*Table_NFI[[#This Row],[Plastic Mat]],0)","v":62},{"$f":"VLOOKUP(Table_NFI[[#This Row],[Camp Name]],'Camp List'!N$5:Z$347,2,0)","v":"MMR001CMP070"},{"$f":"VLOOKUP(Table_NFI[[#This Row],[Camp Name]],'Camp List'!N$5:Z$347,13,0)","v":"Open"}]
[18.866666666666667,"2012-01-13","UNHCR","KBC","Kachin",null,"Nant Yar Baptist Church",null,null,0,126,63,63,0,63,63,63,{"$f":"IF(NFI_Expiration=1,IF($A278<VLOOKUP(H$5,NFI,5,0),1,0)*Table_NFI[[#This Row],[Hygiene Kit]],0)","v":0},{"$f":"IF(NFI_Expiration=1,IF($A278<VLOOKUP(I$5,NFI,5,0),1,0)*Table_NFI[[#This Row],[NFI Core Kit]],0)","v":0},{"$f":"IF(NFI_Expiration=1,IF($A278<VLOOKUP(J$5,NFI,5,0),1,0)*Table_NFI[[#This Row],[Sanitary Kit]],0)","v":0},{"$f":"IF(NFI_Expiration=1,IF($A278<VLOOKUP(K$5,NFI,5,0),1,0)*Table_NFI[[#This Row],[Mosquito net]],0)","v":0},{"$f":"IF(NFI_Expiration=1,IF($A278<VLOOKUP(L$5,NFI,5,0),1,0)*Table_NFI[[#This Row],[Tarpaulin]],0)","v":0},{"$f":"IF(NFI_Expiration=1,IF($A278<VLOOKUP(M$5,NFI,5,0),1,0)*Table_NFI[[#This Row],[Blanket]],0)","v":0},{"$f":"IF(NFI_Expiration=1,IF($A278<VLOOKUP(N$5,NFI,5,0),1,0)*Table_NFI[[#This Row],[Kitchen Set]],0)","v":0},{"$f":"IF(NFI_Expiration=1,IF($A278<VLOOKUP(O$5,NFI,5,0),1,0)*Table_NFI[[#This Row],[Complementary Kit]],0)","v":0},{"$f":"IF(NFI_Expiration=1,IF($A278<VLOOKUP(P$5,NFI,5,0),1,0)*Table_NFI[[#This Row],[Plastic Bucket]],0)","v":0},{"$f":"IF(NFI_Expiration=1,IF($A278<VLOOKUP(Q$5,NFI,5,0),1,0)*Table_NFI[[#This Row],[Plastic Mat]],0)","v":0},{"$f":"VLOOKUP(Table_NFI[[#This Row],[Camp Name]],'Camp List'!N$5:Z$347,2,0)","v":{"$error":"#N/A"}},{"$f":"VLOOKUP(Table_NFI[[#This Row],[Camp Name]],'Camp List'!N$5:Z$347,13,0)","v":{"$error":"#N/A"}}]
[5.4,"2013-02-20","UNHCR","UNHCR","Kachin","Hpakant","Maw Wan, Kachin Baptist Church",null,null,85,138,65,138,65,65,65,{"$f":"O279","v":65},{"$f":"IF(NFI_Expiration=1,IF($A279<VLOOKUP(H$5,NFI,5,0),1,0)*Table_NFI[[#This Row],[Hygiene Kit]],0)","v":0},{"$f":"IF(NFI_Expiration=1,IF($A279<VLOOKUP(I$5,NFI,5,0),1,0)*Table_NFI[[#This Row],[NFI Core Kit]],0)","v":0},{"$f":"IF(NFI_Expiration=1,IF($A279<VLOOKUP(J$5,NFI,5,0),1,0)*Table_NFI[[#This Row],[Sanitary Kit]],0)","v":85},{"$f":"IF(NFI_Expiration=1,IF($A279<VLOOKUP(K$5,NFI,5,0),1,0)*Table_NFI[[#This Row],[Mosquito net]],0)","v":138},{"$f":"IF(NFI_Expiration=1,IF($A279<VLOOKUP(L$5,NFI,5,0),1,0)*Table_NFI[[#This Row],[Tarpaulin]],0)","v":65},{"$f":"IF(NFI_Expiration=1,IF($A279<VLOOKUP(M$5,NFI,5,0),1,0)*Table_NFI[[#This Row],[Blanket]],0)","v":138},{"$f":"IF(NFI_Expiration=1,IF($A279<VLOOKUP(N$5,NFI,5,0),1,0)*Table_NFI[[#This Row],[Kitchen Set]],0)","v":65},{"$f":"IF(NFI_Expiration=1,IF($A279<VLOOKUP(O$5,NFI,5,0),1,0)*Table_NFI[[#This Row],[Complementary Kit]],0)","v":65},{"$f":"IF(NFI_Expiration=1,IF($A279<VLOOKUP(P$5,NFI,5,0),1,0)*Table_NFI[[#This Row],[Plastic Bucket]],0)","v":65},{"$f":"IF(NFI_Expiration=1,IF($A279<VLOOKUP(Q$5,NFI,5,0),1,0)*Table_NFI[[#This Row],[Plastic Mat]],0)","v":65},{"$f":"VLOOKUP(Table_NFI[[#This Row],[Camp Name]],'Camp List'!N$5:Z$347,2,0)","v":"MMR001CMP085"},{"$f":"VLOOKUP(Table_NFI[[#This Row],[Camp Name]],'Camp List'!N$5:Z$347,13,0)","v":"Close"}]
[0.26666666666666666,"2013-07-24","UNHCR","KBC","Kachin","Myitkyina","Le Kone Ziun Baptist Church ",null,null,100,158,65,158,65,65,65,65,{"$f":"IF(NFI_Expiration=1,IF($A280<VLOOKUP(H$5,NFI,5,0),1,0)*Table_NFI[[#This Row],[Hygiene Kit]],0)","v":0},{"$f":"IF(NFI_Expiration=1,IF($A280<VLOOKUP(I$5,NFI,5,0),1,0)*Table_NFI[[#This Row],[NFI Core Kit]],0)","v":0},{"$f":"IF(NFI_Expiration=1,IF($A280<VLOOKUP(J$5,NFI,5,0),1,0)*Table_NFI[[#This Row],[Sanitary Kit]],0)","v":100},{"$f":"IF(NFI_Expiration=1,IF($A280<VLOOKUP(K$5,NFI,5,0),1,0)*Table_NFI[[#This Row],[Mosquito net]],0)","v":158},{"$f":"IF(NFI_Expiration=1,IF($A280<VLOOKUP(L$5,NFI,5,0),1,0)*Table_NFI[[#This Row],[Tarpaulin]],0)","v":65},{"$f":"IF(NFI_Expiration=1,IF($A280<VLOOKUP(M$5,NFI,5,0),1,0)*Table_NFI[[#This Row],[Blanket]],0)","v":158},{"$f":"IF(NFI_Expiration=1,IF($A280<VLOOKUP(N$5,NFI,5,0),1,0)*Table_NFI[[#This Row],[Kitchen Set]],0)","v":65},{"$f":"IF(NFI_Expiration=1,IF($A280<VLOOKUP(O$5,NFI,5,0),1,0)*Table_NFI[[#This Row],[Complementary Kit]],0)","v":65},{"$f":"IF(NFI_Expiration=1,IF($A280<VLOOKUP(P$5,NFI,5,0),1,0)*Table_NFI[[#This Row],[Plastic Bucket]],0)","v":65},{"$f":"IF(NFI_Expiration=1,IF($A280<VLOOKUP(Q$5,NFI,5,0),1,0)*Table_NFI[[#This Row],[Plastic Mat]],0)","v":65},{"$f":"VLOOKUP(Table_NFI[[#This Row],[Camp Name]],'Camp List'!N$5:Z$347,2,0)","v":"MMR001CMP014"},{"$f":"VLOOKUP(Table_NFI[[#This Row],[Camp Name]],'Camp List'!N$5:Z$347,13,0)","v":"Open"}]
[4.4666666666666668,"2013-03-20","UNHCR","UNHCR","Kachin","Hpakant","Lisu Baptist Church, Maw Wan Ward",null,null,32,27,27,66,27,66,66,66,{"$f":"IF(NFI_Expiration=1,IF($A281<VLOOKUP(H$5,NFI,5,0),1,0)*Table_NFI[[#This Row],[Hygiene Kit]],0)","v":0},{"$f":"IF(NFI_Expiration=1,IF($A281<VLOOKUP(I$5,NFI,5,0),1,0)*Table_NFI[[#This Row],[NFI Core Kit]],0)","v":0},{"$f":"IF(NFI_Expiration=1,IF($A281<VLOOKUP(J$5,NFI,5,0),1,0)*Table_NFI[[#This Row],[Sanitary Kit]],0)","v":32},{"$f":"IF(NFI_Expiration=1,IF($A281<VLOOKUP(K$5,NFI,5,0),1,0)*Table_NFI[[#This Row],[Mosquito net]],0)","v":27},{"$f":"IF(NFI_Expiration=1,IF($A281<VLOOKUP(L$5,NFI,5,0),1,0)*Table_NFI[[#This Row],[Tarpaulin]],0)","v":27},{"$f":"IF(NFI_Expiration=1,IF($A281<VLOOKUP(M$5,NFI,5,0),1,0)*Table_NFI[[#This Row],[Blanket]],0)","v":66},{"$f":"IF(NFI_Expiration=1,IF($A281<VLOOKUP(N$5,NFI,5,0),1,0)*Table_NFI[[#This Row],[Kitchen Set]],0)","v":27},{"$f":"IF(NFI_Expiration=1,IF($A281<VLOOKUP(O$5,NFI,5,0),1,0)*Table_NFI[[#This Row],[Complementary Kit]],0)","v":66},{"$f":"IF(NFI_Expiration=1,IF($A281<VLOOKUP(P$5,NFI,5,0),1,0)*Table_NFI[[#This Row],[Plastic Bucket]],0)","v":66},{"$f":"IF(NFI_Expiration=1,IF($A281<VLOOKUP(Q$5,NFI,5,0),1,0)*Table_NFI[[#This Row],[Plastic Mat]],0)","v":66},{"$f":"VLOOKUP(Table_NFI[[#This Row],[Camp Name]],'Camp List'!N$5:Z$347,2,0)","v":"MMR001CMP167"},{"$f":"VLOOKUP(Table_NFI[[#This Row],[Camp Name]],'Camp List'!N$5:Z$347,13,0)","v":"Open"}]
[5.4333333333333336,"2013-02-19","UNHCR","UNHCR","Kachin","Hpakant","Anglican Church, Hmaw Si Sar",null,null,92,130,67,130,67,67,67,67,{"$f":"IF(NFI_Expiration=1,IF($A282<VLOOKUP(H$5,NFI,5,0),1,0)*Table_NFI[[#This Row],[Hygiene Kit]],0)","v":0},{"$f":"IF(NFI_Expiration=1,IF($A282<VLOOKUP(I$5,NFI,5,0),1,0)*Table_NFI[[#This Row],[NFI Core Kit]],0)","v":0},{"$f":"IF(NFI_Expiration=1,IF($A282<VLOOKUP(J$5,NFI,5,0),1,0)*Table_NFI[[#This Row],[Sanitary Kit]],0)","v":92},{"$f":"IF(NFI_Expiration=1,IF($A282<VLOOKUP(K$5,NFI,5,0),1,0)*Table_NFI[[#This Row],[Mosquito net]],0)","v":130},{"$f":"IF(NFI_Expiration=1,IF($A282<VLOOKUP(L$5,NFI,5,0),1,0)*Table_NFI[[#This Row],[Tarpaulin]],0)","v":67},{"$f":"IF(NFI_Expiration=1,IF($A282<VLOOKUP(M$5,NFI,5,0),1,0)*Table_NFI[[#This Row],[Blanket]],0)","v":130},{"$f":"IF(NFI_Expiration=1,IF($A282<VLOOKUP(N$5,NFI,5,0),1,0)*Table_NFI[[#This Row],[Kitchen Set]],0)","v":67},{"$f":"IF(NFI_Expiration=1,IF($A282<VLOOKUP(O$5,NFI,5,0),1,0)*Table_NFI[[#This Row],[Complementary Kit]],0)","v":67},{"$f":"IF(NFI_Expiration=1,IF($A282<VLOOKUP(P$5,NFI,5,0),1,0)*Table_NFI[[#This Row],[Plastic Bucket]],0)","v":67},{"$f":"IF(NFI_Expiration=1,IF($A282<VLOOKUP(Q$5,NFI,5,0),1,0)*Table_NFI[[#This Row],[Plastic Mat]],0)","v":67},{"$f":"VLOOKUP(Table_NFI[[#This Row],[Camp Name]],'Camp List'!N$5:Z$347,2,0)","v":"MMR001CMP173"},{"$f":"VLOOKUP(Table_NFI[[#This Row],[Camp Name]],'Camp List'!N$5:Z$347,13,0)","v":"Close"}]
[21.266666666666666,"2011-11-02","UNHCR","KBC","Kachin","Myitkyina","Man Hkring Baptist Church",null,null,0,112,68,112,68,68,68,68,{"$f":"IF(NFI_Expiration=1,IF($A283<VLOOKUP(H$5,NFI,5,0),1,0)*Table_NFI[[#This Row],[Hygiene Kit]],0)","v":0},{"$f":"IF(NFI_Expiration=1,IF($A283<VLOOKUP(I$5,NFI,5,0),1,0)*Table_NFI[[#This Row],[NFI Core Kit]],0)","v":0},{"$f":"IF(NFI_Expiration=1,IF($A283<VLOOKUP(J$5,NFI,5,0),1,0)*Table_NFI[[#This Row],[Sanitary Kit]],0)","v":0},{"$f":"IF(NFI_Expiration=1,IF($A283<VLOOKUP(K$5,NFI,5,0),1,0)*Table_NFI[[#This Row],[Mosquito net]],0)","v":0},{"$f":"IF(NFI_Expiration=1,IF($A283<VLOOKUP(L$5,NFI,5,0),1,0)*Table_NFI[[#This Row],[Tarpaulin]],0)","v":0},{"$f":"IF(NFI_Expiration=1,IF($A283<VLOOKUP(M$5,NFI,5,0),1,0)*Table_NFI[[#This Row],[Blanket]],0)","v":0},{"$f":"IF(NFI_Expiration=1,IF($A283<VLOOKUP(N$5,NFI,5,0),1,0)*Table_NFI[[#This Row],[Kitchen Set]],0)","v":0},{"$f":"IF(NFI_Expiration=1,IF($A283<VLOOKUP(O$5,NFI,5,0),1,0)*Table_NFI[[#This Row],[Complementary Kit]],0)","v":0},{"$f":"IF(NFI_Expiration=1,IF($A283<VLOOKUP(P$5,NFI,5,0),1,0)*Table_NFI[[#This Row],[Plastic Bucket]],0)","v":0},{"$f":"IF(NFI_Expiration=1,IF($A283<VLOOKUP(Q$5,NFI,5,0),1,0)*Table_NFI[[#This Row],[Plastic Mat]],0)","v":0},{"$f":"VLOOKUP(Table_NFI[[#This Row],[Camp Name]],'Camp List'!N$5:Z$347,2,0)","v":"MMR001CMP008"},{"$f":"VLOOKUP(Table_NFI[[#This Row],[Camp Name]],'Camp List'!N$5:Z$347,13,0)","v":"Open"}]
[13.5,"2012-06-22","UNHCR","UNHCR","Kachin","Momauk","Nhkawng Pa ",null,null,0,140,70,140,70,70,70,70,{"$f":"IF(NFI_Expiration=1,IF($A284<VLOOKUP(H$5,NFI,5,0),1,0)*Table_NFI[[#This Row],[Hygiene Kit]],0)","v":0},{"$f":"IF(NFI_Expiration=1,IF($A284<VLOOKUP(I$5,NFI,5,0),1,0)*Table_NFI[[#This Row],[NFI Core Kit]],0)","v":0},{"$f":"IF(NFI_Expiration=1,IF($A284<VLOOKUP(J$5,NFI,5,0),1,0)*Table_NFI[[#This Row],[Sanitary Kit]],0)","v":0},{"$f":"IF(NFI_Expiration=1,IF($A284<VLOOKUP(K$5,NFI,5,0),1,0)*Table_NFI[[#This Row],[Mosquito net]],0)","v":0},{"$f":"IF(NFI_Expiration=1,IF($A284<VLOOKUP(L$5,NFI,5,0),1,0)*Table_NFI[[#This Row],[Tarpaulin]],0)","v":0},{"$f":"IF(NFI_Expiration=1,IF($A284<VLOOKUP(M$5,NFI,5,0),1,0)*Table_NFI[[#This Row],[Blanket]],0)","v":0},{"$f":"IF(NFI_Expiration=1,IF($A284<VLOOKUP(N$5,NFI,5,0),1,0)*Table_NFI[[#This Row],[Kitchen Set]],0)","v":0},{"$f":"IF(NFI_Expiration=1,IF($A284<VLOOKUP(O$5,NFI,5,0),1,0)*Table_NFI[[#This Row],[Complementary Kit]],0)","v":0},{"$f":"IF(NFI_Expiration=1,IF($A284<VLOOKUP(P$5,NFI,5,0),1,0)*Table_NFI[[#This Row],[Plastic Bucket]],0)","v":0},{"$f":"IF(NFI_Expiration=1,IF($A284<VLOOKUP(Q$5,NFI,5,0),1,0)*Table_NFI[[#This Row],[Plastic Mat]],0)","v":0},{"$f":"VLOOKUP(Table_NFI[[#This Row],[Camp Name]],'Camp List'!N$5:Z$347,2,0)","v":"MMR001CMP131"},{"$f":"VLOOKUP(Table_NFI[[#This Row],[Camp Name]],'Camp List'!N$5:Z$347,13,0)","v":"Open"}]
[5.4666666666666668,"2013-02-18","UNHCR","KBC","Shan_North","Namhkan","Nam Hkam (KBC Jaw Wang)",null,null,139,139,70,139,70,70,70,70,{"$f":"IF(NFI_Expiration=1,IF($A285<VLOOKUP(H$5,NFI,5,0),1,0)*Table_NFI[[#This Row],[Hygiene Kit]],0)","v":0},{"$f":"IF(NFI_Expiration=1,IF($A285<VLOOKUP(I$5,NFI,5,0),1,0)*Table_NFI[[#This Row],[NFI Core Kit]],0)","v":0},{"$f":"IF(NFI_Expiration=1,IF($A285<VLOOKUP(J$5,NFI,5,0),1,0)*Table_NFI[[#This Row],[Sanitary Kit]],0)","v":139},{"$f":"IF(NFI_Expiration=1,IF($A285<VLOOKUP(K$5,NFI,5,0),1,0)*Table_NFI[[#This Row],[Mosquito net]],0)","v":139},{"$f":"IF(NFI_Expiration=1,IF($A285<VLOOKUP(L$5,NFI,5,0),1,0)*Table_NFI[[#This Row],[Tarpaulin]],0)","v":70},{"$f":"IF(NFI_Expiration=1,IF($A285<VLOOKUP(M$5,NFI,5,0),1,0)*Table_NFI[[#This Row],[Blanket]],0)","v":139},{"$f":"IF(NFI_Expiration=1,IF($A285<VLOOKUP(N$5,NFI,5,0),1,0)*Table_NFI[[#This Row],[Kitchen Set]],0)","v":70},{"$f":"IF(NFI_Expiration=1,IF($A285<VLOOKUP(O$5,NFI,5,0),1,0)*Table_NFI[[#This Row],[Complementary Kit]],0)","v":70},{"$f":"IF(NFI_Expiration=1,IF($A285<VLOOKUP(P$5,NFI,5,0),1,0)*Table_NFI[[#This Row],[Plastic Bucket]],0)","v":70},{"$f":"IF(NFI_Expiration=1,IF($A285<VLOOKUP(Q$5,NFI,5,0),1,0)*Table_NFI[[#This Row],[Plastic Mat]],0)","v":70},{"$f":"VLOOKUP(Table_NFI[[#This Row],[Camp Name]],'Camp List'!N$5:Z$347,2,0)","v":"MMR015CMP001"},{"$f":"VLOOKUP(Table_NFI[[#This Row],[Camp Name]],'Camp List'!N$5:Z$347,13,0)","v":"Open"}]
[11.966666666666667,"2012-08-07","UNHCR","UNHCR ","Kachin","Mansi","Mansi Baptist Church",null,null,0,0,73,0,73,73,73,73,{"$f":"IF(NFI_Expiration=1,IF($A286<VLOOKUP(H$5,NFI,5,0),1,0)*Table_NFI[[#This Row],[Hygiene Kit]],0)","v":0},{"$f":"IF(NFI_Expiration=1,IF($A286<VLOOKUP(I$5,NFI,5,0),1,0)*Table_NFI[[#This Row],[NFI Core Kit]],0)","v":0},{"$f":"IF(NFI_Expiration=1,IF($A286<VLOOKUP(J$5,NFI,5,0),1,0)*Table_NFI[[#This Row],[Sanitary Kit]],0)","v":0},{"$f":"IF(NFI_Expiration=1,IF($A286<VLOOKUP(K$5,NFI,5,0),1,0)*Table_NFI[[#This Row],[Mosquito net]],0)","v":0},{"$f":"IF(NFI_Expiration=1,IF($A286<VLOOKUP(L$5,NFI,5,0),1,0)*Table_NFI[[#This Row],[Tarpaulin]],0)","v":73},{"$f":"IF(NFI_Expiration=1,IF($A286<VLOOKUP(M$5,NFI,5,0),1,0)*Table_NFI[[#This Row],[Blanket]],0)","v":0},{"$f":"IF(NFI_Expiration=1,IF($A286<VLOOKUP(N$5,NFI,5,0),1,0)*Table_NFI[[#This Row],[Kitchen Set]],0)","v":73},{"$f":"IF(NFI_Expiration=1,IF($A286<VLOOKUP(O$5,NFI,5,0),1,0)*Table_NFI[[#This Row],[Complementary Kit]],0)","v":73},{"$f":"IF(NFI_Expiration=1,IF($A286<VLOOKUP(P$5,NFI,5,0),1,0)*Table_NFI[[#This Row],[Plastic Bucket]],0)","v":73},{"$f":"IF(NFI_Expiration=1,IF($A286<VLOOKUP(Q$5,NFI,5,0),1,0)*Table_NFI[[#This Row],[Plastic Mat]],0)","v":73},{"$f":"VLOOKUP(Table_NFI[[#This Row],[Camp Name]],'Camp List'!N$5:Z$347,2,0)","v":"MMR001CMP066"},{"$f":"VLOOKUP(Table_NFI[[#This Row],[Camp Name]],'Camp List'!N$5:Z$347,13,0)","v":"Open"}]
[18.866666666666667,"2012-01-13","UNHCR","KBC","Kachin","Hpakant","5 Ward Baptist Church(lon Khin)",null,null,0,148,74,74,0,74,74,74,{"$f":"IF(NFI_Expiration=1,IF($A287<VLOOKUP(H$5,NFI,5,0),1,0)*Table_NFI[[#This Row],[Hygiene Kit]],0)","v":0},{"$f":"IF(NFI_Expiration=1,IF($A287<VLOOKUP(I$5,NFI,5,0),1,0)*Table_NFI[[#This Row],[NFI Core Kit]],0)","v":0},{"$f":"IF(NFI_Expiration=1,IF($A287<VLOOKUP(J$5,NFI,5,0),1,0)*Table_NFI[[#This Row],[Sanitary Kit]],0)","v":0},{"$f":"IF(NFI_Expiration=1,IF($A287<VLOOKUP(K$5,NFI,5,0),1,0)*Table_NFI[[#This Row],[Mosquito net]],0)","v":0},{"$f":"IF(NFI_Expiration=1,IF($A287<VLOOKUP(L$5,NFI,5,0),1,0)*Table_NFI[[#This Row],[Tarpaulin]],0)","v":0},{"$f":"IF(NFI_Expiration=1,IF($A287<VLOOKUP(M$5,NFI,5,0),1,0)*Table_NFI[[#This Row],[Blanket]],0)","v":0},{"$f":"IF(NFI_Expiration=1,IF($A287<VLOOKUP(N$5,NFI,5,0),1,0)*Table_NFI[[#This Row],[Kitchen Set]],0)","v":0},{"$f":"IF(NFI_Expiration=1,IF($A287<VLOOKUP(O$5,NFI,5,0),1,0)*Table_NFI[[#This Row],[Complementary Kit]],0)","v":0},{"$f":"IF(NFI_Expiration=1,IF($A287<VLOOKUP(P$5,NFI,5,0),1,0)*Table_NFI[[#This Row],[Plastic Bucket]],0)","v":0},{"$f":"IF(NFI_Expiration=1,IF($A287<VLOOKUP(Q$5,NFI,5,0),1,0)*Table_NFI[[#This Row],[Plastic Mat]],0)","v":0},{"$f":"VLOOKUP(Table_NFI[[#This Row],[Camp Name]],'Camp List'!N$5:Z$347,2,0)","v":"MMR001CMP179"},{"$f":"VLOOKUP(Table_NFI[[#This Row],[Camp Name]],'Camp List'!N$5:Z$347,13,0)","v":"Open"}]
[4.4333333333333336,"2013-03-21","UNHCR","UNHCR","Kachin","Hpakant","Lisu Baptist Church, Maw Shan Vil,. Seik Mu",null,null,34,40,40,75,40,75,75,75,{"$f":"IF(NFI_Expiration=1,IF($A288<VLOOKUP(H$5,NFI,5,0),1,0)*Table_NFI[[#This Row],[Hygiene Kit]],0)","v":0},{"$f":"IF(NFI_Expiration=1,IF($A288<VLOOKUP(I$5,NFI,5,0),1,0)*Table_NFI[[#This Row],[NFI Core Kit]],0)","v":0},{"$f":"IF(NFI_Expiration=1,IF($A288<VLOOKUP(J$5,NFI,5,0),1,0)*Table_NFI[[#This Row],[Sanitary Kit]],0)","v":34},{"$f":"IF(NFI_Expiration=1,IF($A288<VLOOKUP(K$5,NFI,5,0),1,0)*Table_NFI[[#This Row],[Mosquito net]],0)","v":40},{"$f":"IF(NFI_Expiration=1,IF($A288<VLOOKUP(L$5,NFI,5,0),1,0)*Table_NFI[[#This Row],[Tarpaulin]],0)","v":40},{"$f":"IF(NFI_Expiration=1,IF($A288<VLOOKUP(M$5,NFI,5,0),1,0)*Table_NFI[[#This Row],[Blanket]],0)","v":75},{"$f":"IF(NFI_Expiration=1,IF($A288<VLOOKUP(N$5,NFI,5,0),1,0)*Table_NFI[[#This Row],[Kitchen Set]],0)","v":40},{"$f":"IF(NFI_Expiration=1,IF($A288<VLOOKUP(O$5,NFI,5,0),1,0)*Table_NFI[[#This Row],[Complementary Kit]],0)","v":75},{"$f":"IF(NFI_Expiration=1,IF($A288<VLOOKUP(P$5,NFI,5,0),1,0)*Table_NFI[[#This Row],[Plastic Bucket]],0)","v":75},{"$f":"IF(NFI_Expiration=1,IF($A288<VLOOKUP(Q$5,NFI,5,0),1,0)*Table_NFI[[#This Row],[Plastic Mat]],0)","v":75},{"$f":"VLOOKUP(Table_NFI[[#This Row],[Camp Name]],'Camp List'!N$5:Z$347,2,0)","v":"MMR001CMP181"},{"$f":"VLOOKUP(Table_NFI[[#This Row],[Camp Name]],'Camp List'!N$5:Z$347,13,0)","v":"Open"}]
[-0.4,"2013-08-13","UNHCR","KMSS","Kachin","Namhkan","Nam Hkam (KBC Jaw Wang)",null,null,100,188,75,188,75,75,75,75,{"$f":"IF(NFI_Expiration=1,IF($A289<VLOOKUP(H$5,NFI,5,0),1,0)*Table_NFI[[#This Row],[Hygiene Kit]],0)","v":0},{"$f":"IF(NFI_Expiration=1,IF($A289<VLOOKUP(I$5,NFI,5,0),1,0)*Table_NFI[[#This Row],[NFI Core Kit]],0)","v":0},{"$f":"IF(NFI_Expiration=1,IF($A289<VLOOKUP(J$5,NFI,5,0),1,0)*Table_NFI[[#This Row],[Sanitary Kit]],0)","v":100},{"$f":"IF(NFI_Expiration=1,IF($A289<VLOOKUP(K$5,NFI,5,0),1,0)*Table_NFI[[#This Row],[Mosquito net]],0)","v":188},{"$f":"IF(NFI_Expiration=1,IF($A289<VLOOKUP(L$5,NFI,5,0),1,0)*Table_NFI[[#This Row],[Tarpaulin]],0)","v":75},{"$f":"IF(NFI_Expiration=1,IF($A289<VLOOKUP(M$5,NFI,5,0),1,0)*Table_NFI[[#This Row],[Blanket]],0)","v":188},{"$f":"IF(NFI_Expiration=1,IF($A289<VLOOKUP(N$5,NFI,5,0),1,0)*Table_NFI[[#This Row],[Kitchen Set]],0)","v":75},{"$f":"IF(NFI_Expiration=1,IF($A289<VLOOKUP(O$5,NFI,5,0),1,0)*Table_NFI[[#This Row],[Complementary Kit]],0)","v":75},{"$f":"IF(NFI_Expiration=1,IF($A289<VLOOKUP(P$5,NFI,5,0),1,0)*Table_NFI[[#This Row],[Plastic Bucket]],0)","v":75},{"$f":"IF(NFI_Expiration=1,IF($A289<VLOOKUP(Q$5,NFI,5,0),1,0)*Table_NFI[[#This Row],[Plastic Mat]],0)","v":75},{"$f":"VLOOKUP(Table_NFI[[#This Row],[Camp Name]],'Camp List'!N$5:Z$347,2,0)","v":"MMR015CMP001"},{"$f":"VLOOKUP(Table_NFI[[#This Row],[Camp Name]],'Camp List'!N$5:Z$347,13,0)","v":"Open"}]
[14.033333333333333,"2012-06-06","UNHCR","UNHCR","Kachin","Momauk","Pa Kahtawng ",null,null,0,144,76,143,76,78,78,78,{"$f":"IF(NFI_Expiration=1,IF($A290<VLOOKUP(H$5,NFI,5,0),1,0)*Table_NFI[[#This Row],[Hygiene Kit]],0)","v":0},{"$f":"IF(NFI_Expiration=1,IF($A290<VLOOKUP(I$5,NFI,5,0),1,0)*Table_NFI[[#This Row],[NFI Core Kit]],0)","v":0},{"$f":"IF(NFI_Expiration=1,IF($A290<VLOOKUP(J$5,NFI,5,0),1,0)*Table_NFI[[#This Row],[Sanitary Kit]],0)","v":0},{"$f":"IF(NFI_Expiration=1,IF($A290<VLOOKUP(K$5,NFI,5,0),1,0)*Table_NFI[[#This Row],[Mosquito net]],0)","v":0},{"$f":"IF(NFI_Expiration=1,IF($A290<VLOOKUP(L$5,NFI,5,0),1,0)*Table_NFI[[#This Row],[Tarpaulin]],0)","v":0},{"$f":"IF(NFI_Expiration=1,IF($A290<VLOOKUP(M$5,NFI,5,0),1,0)*Table_NFI[[#This Row],[Blanket]],0)","v":0},{"$f":"IF(NFI_Expiration=1,IF($A290<VLOOKUP(N$5,NFI,5,0),1,0)*Table_NFI[[#This Row],[Kitchen Set]],0)","v":0},{"$f":"IF(NFI_Expiration=1,IF($A290<VLOOKUP(O$5,NFI,5,0),1,0)*Table_NFI[[#This Row],[Complementary Kit]],0)","v":0},{"$f":"IF(NFI_Expiration=1,IF($A290<VLOOKUP(P$5,NFI,5,0),1,0)*Table_NFI[[#This Row],[Plastic Bucket]],0)","v":0},{"$f":"IF(NFI_Expiration=1,IF($A290<VLOOKUP(Q$5,NFI,5,0),1,0)*Table_NFI[[#This Row],[Plastic Mat]],0)","v":0},{"$f":"VLOOKUP(Table_NFI[[#This Row],[Camp Name]],'Camp List'!N$5:Z$347,2,0)","v":"MMR001CMP126"},{"$f":"VLOOKUP(Table_NFI[[#This Row],[Camp Name]],'Camp List'!N$5:Z$347,13,0)","v":"Open"}]
[13.566666666666666,"2012-06-20","UNHCR","UNHCR","Kachin","Waingmaw","Waingmaw Baptist Zonal Office",null,null,0,141,81,148,84,78,78,78,{"$f":"IF(NFI_Expiration=1,IF($A291<VLOOKUP(H$5,NFI,5,0),1,0)*Table_NFI[[#This Row],[Hygiene Kit]],0)","v":0},{"$f":"IF(NFI_Expiration=1,IF($A291<VLOOKUP(I$5,NFI,5,0),1,0)*Table_NFI[[#This Row],[NFI Core Kit]],0)","v":0},{"$f":"IF(NFI_Expiration=1,IF($A291<VLOOKUP(J$5,NFI,5,0),1,0)*Table_NFI[[#This Row],[Sanitary Kit]],0)","v":0},{"$f":"IF(NFI_Expiration=1,IF($A291<VLOOKUP(K$5,NFI,5,0),1,0)*Table_NFI[[#This Row],[Mosquito net]],0)","v":0},{"$f":"IF(NFI_Expiration=1,IF($A291<VLOOKUP(L$5,NFI,5,0),1,0)*Table_NFI[[#This Row],[Tarpaulin]],0)","v":0},{"$f":"IF(NFI_Expiration=1,IF($A291<VLOOKUP(M$5,NFI,5,0),1,0)*Table_NFI[[#This Row],[Blanket]],0)","v":0},{"$f":"IF(NFI_Expiration=1,IF($A291<VLOOKUP(N$5,NFI,5,0),1,0)*Table_NFI[[#This Row],[Kitchen Set]],0)","v":0},{"$f":"IF(NFI_Expiration=1,IF($A291<VLOOKUP(O$5,NFI,5,0),1,0)*Table_NFI[[#This Row],[Complementary Kit]],0)","v":0},{"$f":"IF(NFI_Expiration=1,IF($A291<VLOOKUP(P$5,NFI,5,0),1,0)*Table_NFI[[#This Row],[Plastic Bucket]],0)","v":0},{"$f":"IF(NFI_Expiration=1,IF($A291<VLOOKUP(Q$5,NFI,5,0),1,0)*Table_NFI[[#This Row],[Plastic Mat]],0)","v":0},{"$f":"VLOOKUP(Table_NFI[[#This Row],[Camp Name]],'Camp List'!N$5:Z$347,2,0)","v":"MMR001CMP036"},{"$f":"VLOOKUP(Table_NFI[[#This Row],[Camp Name]],'Camp List'!N$5:Z$347,13,0)","v":"Open"}]
[14.966666666666667,"2012-05-09","UNHCR","UNHCR","Kachin","Waingmaw","Waingmaw Baptist Zonal Office",null,null,0,161,83,161,83,83,83,{"$f":"O292","v":83},{"$f":"IF(NFI_Expiration=1,IF($A292<VLOOKUP(H$5,NFI,5,0),1,0)*Table_NFI[[#This Row],[Hygiene Kit]],0)","v":0},{"$f":"IF(NFI_Expiration=1,IF($A292<VLOOKUP(I$5,NFI,5,0),1,0)*Table_NFI[[#This Row],[NFI Core Kit]],0)","v":0},{"$f":"IF(NFI_Expiration=1,IF($A292<VLOOKUP(J$5,NFI,5,0),1,0)*Table_NFI[[#This Row],[Sanitary Kit]],0)","v":0},{"$f":"IF(NFI_Expiration=1,IF($A292<VLOOKUP(K$5,NFI,5,0),1,0)*Table_NFI[[#This Row],[Mosquito net]],0)","v":0},{"$f":"IF(NFI_Expiration=1,IF($A292<VLOOKUP(L$5,NFI,5,0),1,0)*Table_NFI[[#This Row],[Tarpaulin]],0)","v":0},{"$f":"IF(NFI_Expiration=1,IF($A292<VLOOKUP(M$5,NFI,5,0),1,0)*Table_NFI[[#This Row],[Blanket]],0)","v":0},{"$f":"IF(NFI_Expiration=1,IF($A292<VLOOKUP(N$5,NFI,5,0),1,0)*Table_NFI[[#This Row],[Kitchen Set]],0)","v":0},{"$f":"IF(NFI_Expiration=1,IF($A292<VLOOKUP(O$5,NFI,5,0),1,0)*Table_NFI[[#This Row],[Complementary Kit]],0)","v":0},{"$f":"IF(NFI_Expiration=1,IF($A292<VLOOKUP(P$5,NFI,5,0),1,0)*Table_NFI[[#This Row],[Plastic Bucket]],0)","v":0},{"$f":"IF(NFI_Expiration=1,IF($A292<VLOOKUP(Q$5,NFI,5,0),1,0)*Table_NFI[[#This Row],[Plastic Mat]],0)","v":0},{"$f":"VLOOKUP(Table_NFI[[#This Row],[Camp Name]],'Camp List'!N$5:Z$347,2,0)","v":"MMR001CMP036"},{"$f":"VLOOKUP(Table_NFI[[#This Row],[Camp Name]],'Camp List'!N$5:Z$347,13,0)","v":"Open"}]
[12.633333333333333,"2012-07-18","UNHCR","UNHCR","Kachin","Mansi","Mung Ding Pa  (Boarder)",null,null,0,170,16,170,85,85,85,85,{"$f":"IF(NFI_Expiration=1,IF($A293<VLOOKUP(H$5,NFI,5,0),1,0)*Table_NFI[[#This Row],[Hygiene Kit]],0)","v":0},{"$f":"IF(NFI_Expiration=1,IF($A293<VLOOKUP(I$5,NFI,5,0),1,0)*Table_NFI[[#This Row],[NFI Core Kit]],0)","v":0},{"$f":"IF(NFI_Expiration=1,IF($A293<VLOOKUP(J$5,NFI,5,0),1,0)*Table_NFI[[#This Row],[Sanitary Kit]],0)","v":0},{"$f":"IF(NFI_Expiration=1,IF($A293<VLOOKUP(K$5,NFI,5,0),1,0)*Table_NFI[[#This Row],[Mosquito net]],0)","v":0},{"$f":"IF(NFI_Expiration=1,IF($A293<VLOOKUP(L$5,NFI,5,0),1,0)*Table_NFI[[#This Row],[Tarpaulin]],0)","v":0},{"$f":"IF(NFI_Expiration=1,IF($A293<VLOOKUP(M$5,NFI,5,0),1,0)*Table_NFI[[#This Row],[Blanket]],0)","v":0},{"$f":"IF(NFI_Expiration=1,IF($A293<VLOOKUP(N$5,NFI,5,0),1,0)*Table_NFI[[#This Row],[Kitchen Set]],0)","v":0},{"$f":"IF(NFI_Expiration=1,IF($A293<VLOOKUP(O$5,NFI,5,0),1,0)*Table_NFI[[#This Row],[Complementary Kit]],0)","v":0},{"$f":"IF(NFI_Expiration=1,IF($A293<VLOOKUP(P$5,NFI,5,0),1,0)*Table_NFI[[#This Row],[Plastic Bucket]],0)","v":0},{"$f":"IF(NFI_Expiration=1,IF($A293<VLOOKUP(Q$5,NFI,5,0),1,0)*Table_NFI[[#This Row],[Plastic Mat]],0)","v":0},{"$f":"VLOOKUP(Table_NFI[[#This Row],[Camp Name]],'Camp List'!N$5:Z$347,2,0)","v":"MMR001CMP203"},{"$f":"VLOOKUP(Table_NFI[[#This Row],[Camp Name]],'Camp List'!N$5:Z$347,13,0)","v":"Open"}]
[-0.4,"2013-08-13","UNHCR","KBC","Kachin","Namhkan","Nam Hkam - Nay Win Ni (Palawng)",null,null,125,233,93,233,93,93,93,93,{"$f":"IF(NFI_Expiration=1,IF($A294<VLOOKUP(H$5,NFI,5,0),1,0)*Table_NFI[[#This Row],[Hygiene Kit]],0)","v":0},{"$f":"IF(NFI_Expiration=1,IF($A294<VLOOKUP(I$5,NFI,5,0),1,0)*Table_NFI[[#This Row],[NFI Core Kit]],0)","v":0},{"$f":"IF(NFI_Expiration=1,IF($A294<VLOOKUP(J$5,NFI,5,0),1,0)*Table_NFI[[#This Row],[Sanitary Kit]],0)","v":125},{"$f":"IF(NFI_Expiration=1,IF($A294<VLOOKUP(K$5,NFI,5,0),1,0)*Table_NFI[[#This Row],[Mosquito net]],0)","v":233},{"$f":"IF(NFI_Expiration=1,IF($A294<VLOOKUP(L$5,NFI,5,0),1,0)*Table_NFI[[#This Row],[Tarpaulin]],0)","v":93},{"$f":"IF(NFI_Expiration=1,IF($A294<VLOOKUP(M$5,NFI,5,0),1,0)*Table_NFI[[#This Row],[Blanket]],0)","v":233},{"$f":"IF(NFI_Expiration=1,IF($A294<VLOOKUP(N$5,NFI,5,0),1,0)*Table_NFI[[#This Row],[Kitchen Set]],0)","v":93},{"$f":"IF(NFI_Expiration=1,IF($A294<VLOOKUP(O$5,NFI,5,0),1,0)*Table_NFI[[#This Row],[Complementary Kit]],0)","v":93},{"$f":"IF(NFI_Expiration=1,IF($A294<VLOOKUP(P$5,NFI,5,0),1,0)*Table_NFI[[#This Row],[Plastic Bucket]],0)","v":93},{"$f":"IF(NFI_Expiration=1,IF($A294<VLOOKUP(Q$5,NFI,5,0),1,0)*Table_NFI[[#This Row],[Plastic Mat]],0)","v":93},{"$f":"VLOOKUP(Table_NFI[[#This Row],[Camp Name]],'Camp List'!N$5:Z$347,2,0)","v":"MMR015CMP004"},{"$f":"VLOOKUP(Table_NFI[[#This Row],[Camp Name]],'Camp List'!N$5:Z$347,13,0)","v":"Open"}]
[15.866666666666667,"2012-04-12","UNHCR","UNHCR","Kachin","Waingmaw","Post 6 Camp",null,null,0,123,95,123,95,95,95,95,{"$f":"IF(NFI_Expiration=1,IF($A295<VLOOKUP(H$5,NFI,5,0),1,0)*Table_NFI[[#This Row],[Hygiene Kit]],0)","v":0},{"$f":"IF(NFI_Expiration=1,IF($A295<VLOOKUP(I$5,NFI,5,0),1,0)*Table_NFI[[#This Row],[NFI Core Kit]],0)","v":0},{"$f":"IF(NFI_Expiration=1,IF($A295<VLOOKUP(J$5,NFI,5,0),1,0)*Table_NFI[[#This Row],[Sanitary Kit]],0)","v":0},{"$f":"IF(NFI_Expiration=1,IF($A295<VLOOKUP(K$5,NFI,5,0),1,0)*Table_NFI[[#This Row],[Mosquito net]],0)","v":0},{"$f":"IF(NFI_Expiration=1,IF($A295<VLOOKUP(L$5,NFI,5,0),1,0)*Table_NFI[[#This Row],[Tarpaulin]],0)","v":0},{"$f":"IF(NFI_Expiration=1,IF($A295<VLOOKUP(M$5,NFI,5,0),1,0)*Table_NFI[[#This Row],[Blanket]],0)","v":0},{"$f":"IF(NFI_Expiration=1,IF($A295<VLOOKUP(N$5,NFI,5,0),1,0)*Table_NFI[[#This Row],[Kitchen Set]],0)","v":0},{"$f":"IF(NFI_Expiration=1,IF($A295<VLOOKUP(O$5,NFI,5,0),1,0)*Table_NFI[[#This Row],[Complementary Kit]],0)","v":0},{"$f":"IF(NFI_Expiration=1,IF($A295<VLOOKUP(P$5,NFI,5,0),1,0)*Table_NFI[[#This Row],[Plastic Bucket]],0)","v":0},{"$f":"IF(NFI_Expiration=1,IF($A295<VLOOKUP(Q$5,NFI,5,0),1,0)*Table_NFI[[#This Row],[Plastic Mat]],0)","v":0},{"$f":"VLOOKUP(Table_NFI[[#This Row],[Camp Name]],'Camp List'!N$5:Z$347,2,0)","v":"MMR001CMP160"},{"$f":"VLOOKUP(Table_NFI[[#This Row],[Camp Name]],'Camp List'!N$5:Z$347,13,0)","v":"Open"}]
[4.4666666666666668,"2013-03-20","UNHCR","UNHCR","Kachin","Hpakant","Muring Baptist Church, Awng Ra, Wa Ra Zut VT",null,null,48,48,48,98,48,98,98,98,{"$f":"IF(NFI_Expiration=1,IF($A296<VLOOKUP(H$5,NFI,5,0),1,0)*Table_NFI[[#This Row],[Hygiene Kit]],0)","v":0},{"$f":"IF(NFI_Expiration=1,IF($A296<VLOOKUP(I$5,NFI,5,0),1,0)*Table_NFI[[#This Row],[NFI Core Kit]],0)","v":0},{"$f":"IF(NFI_Expiration=1,IF($A296<VLOOKUP(J$5,NFI,5,0),1,0)*Table_NFI[[#This Row],[Sanitary Kit]],0)","v":48},{"$f":"IF(NFI_Expiration=1,IF($A296<VLOOKUP(K$5,NFI,5,0),1,0)*Table_NFI[[#This Row],[Mosquito net]],0)","v":48},{"$f":"IF(NFI_Expiration=1,IF($A296<VLOOKUP(L$5,NFI,5,0),1,0)*Table_NFI[[#This Row],[Tarpaulin]],0)","v":48},{"$f":"IF(NFI_Expiration=1,IF($A296<VLOOKUP(M$5,NFI,5,0),1,0)*Table_NFI[[#This Row],[Blanket]],0)","v":98},{"$f":"IF(NFI_Expiration=1,IF($A296<VLOOKUP(N$5,NFI,5,0),1,0)*Table_NFI[[#This Row],[Kitchen Set]],0)","v":48},{"$f":"IF(NFI_Expiration=1,IF($A296<VLOOKUP(O$5,NFI,5,0),1,0)*Table_NFI[[#This Row],[Complementary Kit]],0)","v":98},{"$f":"IF(NFI_Expiration=1,IF($A296<VLOOKUP(P$5,NFI,5,0),1,0)*Table_NFI[[#This Row],[Plastic Bucket]],0)","v":98},{"$f":"IF(NFI_Expiration=1,IF($A296<VLOOKUP(Q$5,NFI,5,0),1,0)*Table_NFI[[#This Row],[Plastic Mat]],0)","v":98},{"$f":"VLOOKUP(Table_NFI[[#This Row],[Camp Name]],'Camp List'!N$5:Z$347,2,0)","v":"MMR001CMP177"},{"$f":"VLOOKUP(Table_NFI[[#This Row],[Camp Name]],'Camp List'!N$5:Z$347,13,0)","v":"Open"}]
[15.433333333333334,"2012-04-25","UNHCR","UNHCR","Kachin","Momauk","Dum Bung ",null,null,0,198,99,198,99,99,99,{"$f":"O297","v":99},{"$f":"IF(NFI_Expiration=1,IF($A297<VLOOKUP(H$5,NFI,5,0),1,0)*Table_NFI[[#This Row],[Hygiene Kit]],0)","v":0},{"$f":"IF(NFI_Expiration=1,IF($A297<VLOOKUP(I$5,NFI,5,0),1,0)*Table_NFI[[#This Row],[NFI Core Kit]],0)","v":0},{"$f":"IF(NFI_Expiration=1,IF($A297<VLOOKUP(J$5,NFI,5,0),1,0)*Table_NFI[[#This Row],[Sanitary Kit]],0)","v":0},{"$f":"IF(NFI_Expiration=1,IF($A297<VLOOKUP(K$5,NFI,5,0),1,0)*Table_NFI[[#This Row],[Mosquito net]],0)","v":0},{"$f":"IF(NFI_Expiration=1,IF($A297<VLOOKUP(L$5,NFI,5,0),1,0)*Table_NFI[[#This Row],[Tarpaulin]],0)","v":0},{"$f":"IF(NFI_Expiration=1,IF($A297<VLOOKUP(M$5,NFI,5,0),1,0)*Table_NFI[[#This Row],[Blanket]],0)","v":0},{"$f":"IF(NFI_Expiration=1,IF($A297<VLOOKUP(N$5,NFI,5,0),1,0)*Table_NFI[[#This Row],[Kitchen Set]],0)","v":0},{"$f":"IF(NFI_Expiration=1,IF($A297<VLOOKUP(O$5,NFI,5,0),1,0)*Table_NFI[[#This Row],[Complementary Kit]],0)","v":0},{"$f":"IF(NFI_Expiration=1,IF($A297<VLOOKUP(P$5,NFI,5,0),1,0)*Table_NFI[[#This Row],[Plastic Bucket]],0)","v":0},{"$f":"IF(NFI_Expiration=1,IF($A297<VLOOKUP(Q$5,NFI,5,0),1,0)*Table_NFI[[#This Row],[Plastic Mat]],0)","v":0},{"$f":"VLOOKUP(Table_NFI[[#This Row],[Camp Name]],'Camp List'!N$5:Z$347,2,0)","v":"MMR001CMP123"},{"$f":"VLOOKUP(Table_NFI[[#This Row],[Camp Name]],'Camp List'!N$5:Z$347,13,0)","v":"Open"}]
[13.9,"2012-06-10","UNHCR","UNHCR","Kachin","Chipwi","Lhaovao Baptist Church (LBC)",null,null,0,200,100,150,100,100,100,100,{"$f":"IF(NFI_Expiration=1,IF($A298<VLOOKUP(H$5,NFI,5,0),1,0)*Table_NFI[[#This Row],[Hygiene Kit]],0)","v":0},{"$f":"IF(NFI_Expiration=1,IF($A298<VLOOKUP(I$5,NFI,5,0),1,0)*Table_NFI[[#This Row],[NFI Core Kit]],0)","v":0},{"$f":"IF(NFI_Expiration=1,IF($A298<VLOOKUP(J$5,NFI,5,0),1,0)*Table_NFI[[#This Row],[Sanitary Kit]],0)","v":0},{"$f":"IF(NFI_Expiration=1,IF($A298<VLOOKUP(K$5,NFI,5,0),1,0)*Table_NFI[[#This Row],[Mosquito net]],0)","v":0},{"$f":"IF(NFI_Expiration=1,IF($A298<VLOOKUP(L$5,NFI,5,0),1,0)*Table_NFI[[#This Row],[Tarpaulin]],0)","v":0},{"$f":"IF(NFI_Expiration=1,IF($A298<VLOOKUP(M$5,NFI,5,0),1,0)*Table_NFI[[#This Row],[Blanket]],0)","v":0},{"$f":"IF(NFI_Expiration=1,IF($A298<VLOOKUP(N$5,NFI,5,0),1,0)*Table_NFI[[#This Row],[Kitchen Set]],0)","v":0},{"$f":"IF(NFI_Expiration=1,IF($A298<VLOOKUP(O$5,NFI,5,0),1,0)*Table_NFI[[#This Row],[Complementary Kit]],0)","v":0},{"$f":"IF(NFI_Expiration=1,IF($A298<VLOOKUP(P$5,NFI,5,0),1,0)*Table_NFI[[#This Row],[Plastic Bucket]],0)","v":0},{"$f":"IF(NFI_Expiration=1,IF($A298<VLOOKUP(Q$5,NFI,5,0),1,0)*Table_NFI[[#This Row],[Plastic Mat]],0)","v":0},{"$f":"VLOOKUP(Table_NFI[[#This Row],[Camp Name]],'Camp List'!N$5:Z$347,2,0)","v":"MMR001CMP195"},{"$f":"VLOOKUP(Table_NFI[[#This Row],[Camp Name]],'Camp List'!N$5:Z$347,13,0)","v":"Open"}]
[21.2,"2011-11-04","UNHCR","KBC","Kachin","Myitkyina","Jan Mai Kawng Baptist Church",null,null,0,208,102,208,102,102,102,{"$f":"O299","v":102},{"$f":"IF(NFI_Expiration=1,IF($A299<VLOOKUP(H$5,NFI,5,0),1,0)*Table_NFI[[#This Row],[Hygiene Kit]],0)","v":0},{"$f":"IF(NFI_Expiration=1,IF($A299<VLOOKUP(I$5,NFI,5,0),1,0)*Table_NFI[[#This Row],[NFI Core Kit]],0)","v":0},{"$f":"IF(NFI_Expiration=1,IF($A299<VLOOKUP(J$5,NFI,5,0),1,0)*Table_NFI[[#This Row],[Sanitary Kit]],0)","v":0},{"$f":"IF(NFI_Expiration=1,IF($A299<VLOOKUP(K$5,NFI,5,0),1,0)*Table_NFI[[#This Row],[Mosquito net]],0)","v":0},{"$f":"IF(NFI_Expiration=1,IF($A299<VLOOKUP(L$5,NFI,5,0),1,0)*Table_NFI[[#This Row],[Tarpaulin]],0)","v":0},{"$f":"IF(NFI_Expiration=1,IF($A299<VLOOKUP(M$5,NFI,5,0),1,0)*Table_NFI[[#This Row],[Blanket]],0)","v":0},{"$f":"IF(NFI_Expiration=1,IF($A299<VLOOKUP(N$5,NFI,5,0),1,0)*Table_NFI[[#This Row],[Kitchen Set]],0)","v":0},{"$f":"IF(NFI_Expiration=1,IF($A299<VLOOKUP(O$5,NFI,5,0),1,0)*Table_NFI[[#This Row],[Complementary Kit]],0)","v":0},{"$f":"IF(NFI_Expiration=1,IF($A299<VLOOKUP(P$5,NFI,5,0),1,0)*Table_NFI[[#This Row],[Plastic Bucket]],0)","v":0},{"$f":"IF(NFI_Expiration=1,IF($A299<VLOOKUP(Q$5,NFI,5,0),1,0)*Table_NFI[[#This Row],[Plastic Mat]],0)","v":0},{"$f":"VLOOKUP(Table_NFI[[#This Row],[Camp Name]],'Camp List'!N$5:Z$347,2,0)","v":"MMR001CMP018"},{"$f":"VLOOKUP(Table_NFI[[#This Row],[Camp Name]],'Camp List'!N$5:Z$347,13,0)","v":"Open"}]
[12.633333333333333,"2012-07-18","UNHCR","UNHCR","Kachin","Mansi","Nam Lim Pa - Scattered IDPs in forest",null,null,0,206,78,206,103,103,103,103,{"$f":"IF(NFI_Expiration=1,IF($A300<VLOOKUP(H$5,NFI,5,0),1,0)*Table_NFI[[#This Row],[Hygiene Kit]],0)","v":0},{"$f":"IF(NFI_Expiration=1,IF($A300<VLOOKUP(I$5,NFI,5,0),1,0)*Table_NFI[[#This Row],[NFI Core Kit]],0)","v":0},{"$f":"IF(NFI_Expiration=1,IF($A300<VLOOKUP(J$5,NFI,5,0),1,0)*Table_NFI[[#This Row],[Sanitary Kit]],0)","v":0},{"$f":"IF(NFI_Expiration=1,IF($A300<VLOOKUP(K$5,NFI,5,0),1,0)*Table_NFI[[#This Row],[Mosquito net]],0)","v":0},{"$f":"IF(NFI_Expiration=1,IF($A300<VLOOKUP(L$5,NFI,5,0),1,0)*Table_NFI[[#This Row],[Tarpaulin]],0)","v":0},{"$f":"IF(NFI_Expiration=1,IF($A300<VLOOKUP(M$5,NFI,5,0),1,0)*Table_NFI[[#This Row],[Blanket]],0)","v":0},{"$f":"IF(NFI_Expiration=1,IF($A300<VLOOKUP(N$5,NFI,5,0),1,0)*Table_NFI[[#This Row],[Kitchen Set]],0)","v":0},{"$f":"IF(NFI_Expiration=1,IF($A300<VLOOKUP(O$5,NFI,5,0),1,0)*Table_NFI[[#This Row],[Complementary Kit]],0)","v":0},{"$f":"IF(NFI_Expiration=1,IF($A300<VLOOKUP(P$5,NFI,5,0),1,0)*Table_NFI[[#This Row],[Plastic Bucket]],0)","v":0},{"$f":"IF(NFI_Expiration=1,IF($A300<VLOOKUP(Q$5,NFI,5,0),1,0)*Table_NFI[[#This Row],[Plastic Mat]],0)","v":0},{"$f":"VLOOKUP(Table_NFI[[#This Row],[Camp Name]],'Camp List'!N$5:Z$347,2,0)","v":"MMR001CMP137"},{"$f":"VLOOKUP(Table_NFI[[#This Row],[Camp Name]],'Camp List'!N$5:Z$347,13,0)","v":"Open"}]
[16.133333333333333,"2012-04-04","UNHCR","UNHCR","Kachin","Momauk","Bum Tsit Pa ",null,null,0,216,108,216,108,108,108,108,{"$f":"IF(NFI_Expiration=1,IF($A301<VLOOKUP(H$5,NFI,5,0),1,0)*Table_NFI[[#This Row],[Hygiene Kit]],0)","v":0},{"$f":"IF(NFI_Expiration=1,IF($A301<VLOOKUP(I$5,NFI,5,0),1,0)*Table_NFI[[#This Row],[NFI Core Kit]],0)","v":0},{"$f":"IF(NFI_Expiration=1,IF($A301<VLOOKUP(J$5,NFI,5,0),1,0)*Table_NFI[[#This Row],[Sanitary Kit]],0)","v":0},{"$f":"IF(NFI_Expiration=1,IF($A301<VLOOKUP(K$5,NFI,5,0),1,0)*Table_NFI[[#This Row],[Mosquito net]],0)","v":0},{"$f":"IF(NFI_Expiration=1,IF($A301<VLOOKUP(L$5,NFI,5,0),1,0)*Table_NFI[[#This Row],[Tarpaulin]],0)","v":0},{"$f":"IF(NFI_Expiration=1,IF($A301<VLOOKUP(M$5,NFI,5,0),1,0)*Table_NFI[[#This Row],[Blanket]],0)","v":0},{"$f":"IF(NFI_Expiration=1,IF($A301<VLOOKUP(N$5,NFI,5,0),1,0)*Table_NFI[[#This Row],[Kitchen Set]],0)","v":0},{"$f":"IF(NFI_Expiration=1,IF($A301<VLOOKUP(O$5,NFI,5,0),1,0)*Table_NFI[[#This Row],[Complementary Kit]],0)","v":0},{"$f":"IF(NFI_Expiration=1,IF($A301<VLOOKUP(P$5,NFI,5,0),1,0)*Table_NFI[[#This Row],[Plastic Bucket]],0)","v":0},{"$f":"IF(NFI_Expiration=1,IF($A301<VLOOKUP(Q$5,NFI,5,0),1,0)*Table_NFI[[#This Row],[Plastic Mat]],0)","v":0},{"$f":"VLOOKUP(Table_NFI[[#This Row],[Camp Name]],'Camp List'!N$5:Z$347,2,0)","v":"MMR001CMP129"},{"$f":"VLOOKUP(Table_NFI[[#This Row],[Camp Name]],'Camp List'!N$5:Z$347,13,0)","v":"Open"}]
[5.4666666666666668,"2013-02-18","UNHCR","KBC","Kachin","Mansi","Man Wing Baptist Church",null,null,221,221,110,221,110,110,110,110,{"$f":"IF(NFI_Expiration=1,IF($A302<VLOOKUP(H$5,NFI,5,0),1,0)*Table_NFI[[#This Row],[Hygiene Kit]],0)","v":0},{"$f":"IF(NFI_Expiration=1,IF($A302<VLOOKUP(I$5,NFI,5,0),1,0)*Table_NFI[[#This Row],[NFI Core Kit]],0)","v":0},{"$f":"IF(NFI_Expiration=1,IF($A302<VLOOKUP(J$5,NFI,5,0),1,0)*Table_NFI[[#This Row],[Sanitary Kit]],0)","v":221},{"$f":"IF(NFI_Expiration=1,IF($A302<VLOOKUP(K$5,NFI,5,0),1,0)*Table_NFI[[#This Row],[Mosquito net]],0)","v":221},{"$f":"IF(NFI_Expiration=1,IF($A302<VLOOKUP(L$5,NFI,5,0),1,0)*Table_NFI[[#This Row],[Tarpaulin]],0)","v":110},{"$f":"IF(NFI_Expiration=1,IF($A302<VLOOKUP(M$5,NFI,5,0),1,0)*Table_NFI[[#This Row],[Blanket]],0)","v":221},{"$f":"IF(NFI_Expiration=1,IF($A302<VLOOKUP(N$5,NFI,5,0),1,0)*Table_NFI[[#This Row],[Kitchen Set]],0)","v":110},{"$f":"IF(NFI_Expiration=1,IF($A302<VLOOKUP(O$5,NFI,5,0),1,0)*Table_NFI[[#This Row],[Complementary Kit]],0)","v":110},{"$f":"IF(NFI_Expiration=1,IF($A302<VLOOKUP(P$5,NFI,5,0),1,0)*Table_NFI[[#This Row],[Plastic Bucket]],0)","v":110},{"$f":"IF(NFI_Expiration=1,IF($A302<VLOOKUP(Q$5,NFI,5,0),1,0)*Table_NFI[[#This Row],[Plastic Mat]],0)","v":110},{"$f":"VLOOKUP(Table_NFI[[#This Row],[Camp Name]],'Camp List'!N$5:Z$347,2,0)","v":"MMR001CMP133"},{"$f":"VLOOKUP(Table_NFI[[#This Row],[Camp Name]],'Camp List'!N$5:Z$347,13,0)","v":"Open"}]
[18.866666666666667,"2012-01-13","UNHCR","KBC","Kachin","Hpakant","Maw Si Zar, Thiriyardanar Sein, Damma Compound, Lone Khin",null,null,0,224,112,112,0,112,112,112,{"$f":"IF(NFI_Expiration=1,IF($A303<VLOOKUP(H$5,NFI,5,0),1,0)*Table_NFI[[#This Row],[Hygiene Kit]],0)","v":0},{"$f":"IF(NFI_Expiration=1,IF($A303<VLOOKUP(I$5,NFI,5,0),1,0)*Table_NFI[[#This Row],[NFI Core Kit]],0)","v":0},{"$f":"IF(NFI_Expiration=1,IF($A303<VLOOKUP(J$5,NFI,5,0),1,0)*Table_NFI[[#This Row],[Sanitary Kit]],0)","v":0},{"$f":"IF(NFI_Expiration=1,IF($A303<VLOOKUP(K$5,NFI,5,0),1,0)*Table_NFI[[#This Row],[Mosquito net]],0)","v":0},{"$f":"IF(NFI_Expiration=1,IF($A303<VLOOKUP(L$5,NFI,5,0),1,0)*Table_NFI[[#This Row],[Tarpaulin]],0)","v":0},{"$f":"IF(NFI_Expiration=1,IF($A303<VLOOKUP(M$5,NFI,5,0),1,0)*Table_NFI[[#This Row],[Blanket]],0)","v":0},{"$f":"IF(NFI_Expiration=1,IF($A303<VLOOKUP(N$5,NFI,5,0),1,0)*Table_NFI[[#This Row],[Kitchen Set]],0)","v":0},{"$f":"IF(NFI_Expiration=1,IF($A303<VLOOKUP(O$5,NFI,5,0),1,0)*Table_NFI[[#This Row],[Complementary Kit]],0)","v":0},{"$f":"IF(NFI_Expiration=1,IF($A303<VLOOKUP(P$5,NFI,5,0),1,0)*Table_NFI[[#This Row],[Plastic Bucket]],0)","v":0},{"$f":"IF(NFI_Expiration=1,IF($A303<VLOOKUP(Q$5,NFI,5,0),1,0)*Table_NFI[[#This Row],[Plastic Mat]],0)","v":0},{"$f":"VLOOKUP(Table_NFI[[#This Row],[Camp Name]],'Camp List'!N$5:Z$347,2,0)","v":"MMR001CMP106"},{"$f":"VLOOKUP(Table_NFI[[#This Row],[Camp Name]],'Camp List'!N$5:Z$347,13,0)","v":"Close"}]
[-0.4,"2013-08-13","UNHCR","KMSS","Kachin","Namtu","Nam Tu RC",null,null,130,288,115,288,115,115,115,115,{"$f":"IF(NFI_Expiration=1,IF($A304<VLOOKUP(H$5,NFI,5,0),1,0)*Table_NFI[[#This Row],[Hygiene Kit]],0)","v":0},{"$f":"IF(NFI_Expiration=1,IF($A304<VLOOKUP(I$5,NFI,5,0),1,0)*Table_NFI[[#This Row],[NFI Core Kit]],0)","v":0},{"$f":"IF(NFI_Expiration=1,IF($A304<VLOOKUP(J$5,NFI,5,0),1,0)*Table_NFI[[#This Row],[Sanitary Kit]],0)","v":130},{"$f":"IF(NFI_Expiration=1,IF($A304<VLOOKUP(K$5,NFI,5,0),1,0)*Table_NFI[[#This Row],[Mosquito net]],0)","v":288},{"$f":"IF(NFI_Expiration=1,IF($A304<VLOOKUP(L$5,NFI,5,0),1,0)*Table_NFI[[#This Row],[Tarpaulin]],0)","v":115},{"$f":"IF(NFI_Expiration=1,IF($A304<VLOOKUP(M$5,NFI,5,0),1,0)*Table_NFI[[#This Row],[Blanket]],0)","v":288},{"$f":"IF(NFI_Expiration=1,IF($A304<VLOOKUP(N$5,NFI,5,0),1,0)*Table_NFI[[#This Row],[Kitchen Set]],0)","v":115},{"$f":"IF(NFI_Expiration=1,IF($A304<VLOOKUP(O$5,NFI,5,0),1,0)*Table_NFI[[#This Row],[Complementary Kit]],0)","v":115},{"$f":"IF(NFI_Expiration=1,IF($A304<VLOOKUP(P$5,NFI,5,0),1,0)*Table_NFI[[#This Row],[Plastic Bucket]],0)","v":115},{"$f":"IF(NFI_Expiration=1,IF($A304<VLOOKUP(Q$5,NFI,5,0),1,0)*Table_NFI[[#This Row],[Plastic Mat]],0)","v":115},{"$f":"VLOOKUP(Table_NFI[[#This Row],[Camp Name]],'Camp List'!N$5:Z$347,2,0)","v":"MMR015CMP210"},{"$f":"VLOOKUP(Table_NFI[[#This Row],[Camp Name]],'Camp List'!N$5:Z$347,13,0)","v":"Open"}]
[21.266666666666666,"2011-11-02","UNHCR","KBC","Kachin","Myitkyina","Shatapru Sut Ngai Tawng",null,null,0,219,117,219,117,117,117,117,{"$f":"IF(NFI_Expiration=1,IF($A305<VLOOKUP(H$5,NFI,5,0),1,0)*Table_NFI[[#This Row],[Hygiene Kit]],0)","v":0},{"$f":"IF(NFI_Expiration=1,IF($A305<VLOOKUP(I$5,NFI,5,0),1,0)*Table_NFI[[#This Row],[NFI Core Kit]],0)","v":0},{"$f":"IF(NFI_Expiration=1,IF($A305<VLOOKUP(J$5,NFI,5,0),1,0)*Table_NFI[[#This Row],[Sanitary Kit]],0)","v":0},{"$f":"IF(NFI_Expiration=1,IF($A305<VLOOKUP(K$5,NFI,5,0),1,0)*Table_NFI[[#This Row],[Mosquito net]],0)","v":0},{"$f":"IF(NFI_Expiration=1,IF($A305<VLOOKUP(L$5,NFI,5,0),1,0)*Table_NFI[[#This Row],[Tarpaulin]],0)","v":0},{"$f":"IF(NFI_Expiration=1,IF($A305<VLOOKUP(M$5,NFI,5,0),1,0)*Table_NFI[[#This Row],[Blanket]],0)","v":0},{"$f":"IF(NFI_Expiration=1,IF($A305<VLOOKUP(N$5,NFI,5,0),1,0)*Table_NFI[[#This Row],[Kitchen Set]],0)","v":0},{"$f":"IF(NFI_Expiration=1,IF($A305<VLOOKUP(O$5,NFI,5,0),1,0)*Table_NFI[[#This Row],[Complementary Kit]],0)","v":0},{"$f":"IF(NFI_Expiration=1,IF($A305<VLOOKUP(P$5,NFI,5,0),1,0)*Table_NFI[[#This Row],[Plastic Bucket]],0)","v":0},{"$f":"IF(NFI_Expiration=1,IF($A305<VLOOKUP(Q$5,NFI,5,0),1,0)*Table_NFI[[#This Row],[Plastic Mat]],0)","v":0},{"$f":"VLOOKUP(Table_NFI[[#This Row],[Camp Name]],'Camp List'!N$5:Z$347,2,0)","v":"MMR001CMP006"},{"$f":"VLOOKUP(Table_NFI[[#This Row],[Camp Name]],'Camp List'!N$5:Z$347,13,0)","v":"Open"}]
[18.666666666666668,"2012-01-19","UNHCR","KBC","Kachin","Myitkyina","Jan Mai Kawng Baptist Church",null,null,0,0,0,0,0,118,118,118,{"$f":"IF(NFI_Expiration=1,IF($A306<VLOOKUP(H$5,NFI,5,0),1,0)*Table_NFI[[#This Row],[Hygiene Kit]],0)","v":0},{"$f":"IF(NFI_Expiration=1,IF($A306<VLOOKUP(I$5,NFI,5,0),1,0)*Table_NFI[[#This Row],[NFI Core Kit]],0)","v":0},{"$f":"IF(NFI_Expiration=1,IF($A306<VLOOKUP(J$5,NFI,5,0),1,0)*Table_NFI[[#This Row],[Sanitary Kit]],0)","v":0},{"$f":"IF(NFI_Expiration=1,IF($A306<VLOOKUP(K$5,NFI,5,0),1,0)*Table_NFI[[#This Row],[Mosquito net]],0)","v":0},{"$f":"IF(NFI_Expiration=1,IF($A306<VLOOKUP(L$5,NFI,5,0),1,0)*Table_NFI[[#This Row],[Tarpaulin]],0)","v":0},{"$f":"IF(NFI_Expiration=1,IF($A306<VLOOKUP(M$5,NFI,5,0),1,0)*Table_NFI[[#This Row],[Blanket]],0)","v":0},{"$f":"IF(NFI_Expiration=1,IF($A306<VLOOKUP(N$5,NFI,5,0),1,0)*Table_NFI[[#This Row],[Kitchen Set]],0)","v":0},{"$f":"IF(NFI_Expiration=1,IF($A306<VLOOKUP(O$5,NFI,5,0),1,0)*Table_NFI[[#This Row],[Complementary Kit]],0)","v":0},{"$f":"IF(NFI_Expiration=1,IF($A306<VLOOKUP(P$5,NFI,5,0),1,0)*Table_NFI[[#This Row],[Plastic Bucket]],0)","v":0},{"$f":"IF(NFI_Expiration=1,IF($A306<VLOOKUP(Q$5,NFI,5,0),1,0)*Table_NFI[[#This Row],[Plastic Mat]],0)","v":0},{"$f":"VLOOKUP(Table_NFI[[#This Row],[Camp Name]],'Camp List'!N$5:Z$347,2,0)","v":"MMR001CMP018"},{"$f":"VLOOKUP(Table_NFI[[#This Row],[Camp Name]],'Camp List'!N$5:Z$347,13,0)","v":"Open"}]
[19.899999999999999,"2011-12-13","UNHCR","IRRC","Kachin","Momauk","Je Yang Hka ",null,null,0,250,125,250,125,125,125,125,{"$f":"IF(NFI_Expiration=1,IF($A307<VLOOKUP(H$5,NFI,5,0),1,0)*Table_NFI[[#This Row],[Hygiene Kit]],0)","v":0},{"$f":"IF(NFI_Expiration=1,IF($A307<VLOOKUP(I$5,NFI,5,0),1,0)*Table_NFI[[#This Row],[NFI Core Kit]],0)","v":0},{"$f":"IF(NFI_Expiration=1,IF($A307<VLOOKUP(J$5,NFI,5,0),1,0)*Table_NFI[[#This Row],[Sanitary Kit]],0)","v":0},{"$f":"IF(NFI_Expiration=1,IF($A307<VLOOKUP(K$5,NFI,5,0),1,0)*Table_NFI[[#This Row],[Mosquito net]],0)","v":0},{"$f":"IF(NFI_Expiration=1,IF($A307<VLOOKUP(L$5,NFI,5,0),1,0)*Table_NFI[[#This Row],[Tarpaulin]],0)","v":0},{"$f":"IF(NFI_Expiration=1,IF($A307<VLOOKUP(M$5,NFI,5,0),1,0)*Table_NFI[[#This Row],[Blanket]],0)","v":0},{"$f":"IF(NFI_Expiration=1,IF($A307<VLOOKUP(N$5,NFI,5,0),1,0)*Table_NFI[[#This Row],[Kitchen Set]],0)","v":0},{"$f":"IF(NFI_Expiration=1,IF($A307<VLOOKUP(O$5,NFI,5,0),1,0)*Table_NFI[[#This Row],[Complementary Kit]],0)","v":0},{"$f":"IF(NFI_Expiration=1,IF($A307<VLOOKUP(P$5,NFI,5,0),1,0)*Table_NFI[[#This Row],[Plastic Bucket]],0)","v":0},{"$f":"IF(NFI_Expiration=1,IF($A307<VLOOKUP(Q$5,NFI,5,0),1,0)*Table_NFI[[#This Row],[Plastic Mat]],0)","v":0},{"$f":"VLOOKUP(Table_NFI[[#This Row],[Camp Name]],'Camp List'!N$5:Z$347,2,0)","v":"MMR001CMP121"},{"$f":"VLOOKUP(Table_NFI[[#This Row],[Camp Name]],'Camp List'!N$5:Z$347,13,0)","v":"Open"}]
[19.899999999999999,"2011-12-13","UNHCR","IRRC","Kachin","Momauk","Hpun Lum Yang ",null,null,0,250,125,250,125,125,125,125,{"$f":"IF(NFI_Expiration=1,IF($A308<VLOOKUP(H$5,NFI,5,0),1,0)*Table_NFI[[#This Row],[Hygiene Kit]],0)","v":0},{"$f":"IF(NFI_Expiration=1,IF($A308<VLOOKUP(I$5,NFI,5,0),1,0)*Table_NFI[[#This Row],[NFI Core Kit]],0)","v":0},{"$f":"IF(NFI_Expiration=1,IF($A308<VLOOKUP(J$5,NFI,5,0),1,0)*Table_NFI[[#This Row],[Sanitary Kit]],0)","v":0},{"$f":"IF(NFI_Expiration=1,IF($A308<VLOOKUP(K$5,NFI,5,0),1,0)*Table_NFI[[#This Row],[Mosquito net]],0)","v":0},{"$f":"IF(NFI_Expiration=1,IF($A308<VLOOKUP(L$5,NFI,5,0),1,0)*Table_NFI[[#This Row],[Tarpaulin]],0)","v":0},{"$f":"IF(NFI_Expiration=1,IF($A308<VLOOKUP(M$5,NFI,5,0),1,0)*Table_NFI[[#This Row],[Blanket]],0)","v":0},{"$f":"IF(NFI_Expiration=1,IF($A308<VLOOKUP(N$5,NFI,5,0),1,0)*Table_NFI[[#This Row],[Kitchen Set]],0)","v":0},{"$f":"IF(NFI_Expiration=1,IF($A308<VLOOKUP(O$5,NFI,5,0),1,0)*Table_NFI[[#This Row],[Complementary Kit]],0)","v":0},{"$f":"IF(NFI_Expiration=1,IF($A308<VLOOKUP(P$5,NFI,5,0),1,0)*Table_NFI[[#This Row],[Plastic Bucket]],0)","v":0},{"$f":"IF(NFI_Expiration=1,IF($A308<VLOOKUP(Q$5,NFI,5,0),1,0)*Table_NFI[[#This Row],[Plastic Mat]],0)","v":0},{"$f":"VLOOKUP(Table_NFI[[#This Row],[Camp Name]],'Camp List'!N$5:Z$347,2,0)","v":"MMR001CMP122"},{"$f":"VLOOKUP(Table_NFI[[#This Row],[Camp Name]],'Camp List'!N$5:Z$347,13,0)","v":"Open"}]
[19.899999999999999,"2011-12-13","UNHCR","IRRC","Kachin","Waingmaw","Maga Yang ",null,null,0,250,125,250,125,125,125,125,{"$f":"IF(NFI_Expiration=1,IF($A309<VLOOKUP(H$5,NFI,5,0),1,0)*Table_NFI[[#This Row],[Hygiene Kit]],0)","v":0},{"$f":"IF(NFI_Expiration=1,IF($A309<VLOOKUP(I$5,NFI,5,0),1,0)*Table_NFI[[#This Row],[NFI Core Kit]],0)","v":0},{"$f":"IF(NFI_Expiration=1,IF($A309<VLOOKUP(J$5,NFI,5,0),1,0)*Table_NFI[[#This Row],[Sanitary Kit]],0)","v":0},{"$f":"IF(NFI_Expiration=1,IF($A309<VLOOKUP(K$5,NFI,5,0),1,0)*Table_NFI[[#This Row],[Mosquito net]],0)","v":0},{"$f":"IF(NFI_Expiration=1,IF($A309<VLOOKUP(L$5,NFI,5,0),1,0)*Table_NFI[[#This Row],[Tarpaulin]],0)","v":0},{"$f":"IF(NFI_Expiration=1,IF($A309<VLOOKUP(M$5,NFI,5,0),1,0)*Table_NFI[[#This Row],[Blanket]],0)","v":0},{"$f":"IF(NFI_Expiration=1,IF($A309<VLOOKUP(N$5,NFI,5,0),1,0)*Table_NFI[[#This Row],[Kitchen Set]],0)","v":0},{"$f":"IF(NFI_Expiration=1,IF($A309<VLOOKUP(O$5,NFI,5,0),1,0)*Table_NFI[[#This Row],[Complementary Kit]],0)","v":0},{"$f":"IF(NFI_Expiration=1,IF($A309<VLOOKUP(P$5,NFI,5,0),1,0)*Table_NFI[[#This Row],[Plastic Bucket]],0)","v":0},{"$f":"IF(NFI_Expiration=1,IF($A309<VLOOKUP(Q$5,NFI,5,0),1,0)*Table_NFI[[#This Row],[Plastic Mat]],0)","v":0},{"$f":"VLOOKUP(Table_NFI[[#This Row],[Camp Name]],'Camp List'!N$5:Z$347,2,0)","v":"MMR001CMP119"},{"$f":"VLOOKUP(Table_NFI[[#This Row],[Camp Name]],'Camp List'!N$5:Z$347,13,0)","v":"Open"}]
[19.899999999999999,"2011-12-13","UNHCR","IRRC","Kachin","Waingmaw","Zai Awng / Mung Ga Zup",null,null,0,250,125,250,125,125,125,125,{"$f":"IF(NFI_Expiration=1,IF($A310<VLOOKUP(H$5,NFI,5,0),1,0)*Table_NFI[[#This Row],[Hygiene Kit]],0)","v":0},{"$f":"IF(NFI_Expiration=1,IF($A310<VLOOKUP(I$5,NFI,5,0),1,0)*Table_NFI[[#This Row],[NFI Core Kit]],0)","v":0},{"$f":"IF(NFI_Expiration=1,IF($A310<VLOOKUP(J$5,NFI,5,0),1,0)*Table_NFI[[#This Row],[Sanitary Kit]],0)","v":0},{"$f":"IF(NFI_Expiration=1,IF($A310<VLOOKUP(K$5,NFI,5,0),1,0)*Table_NFI[[#This Row],[Mosquito net]],0)","v":0},{"$f":"IF(NFI_Expiration=1,IF($A310<VLOOKUP(L$5,NFI,5,0),1,0)*Table_NFI[[#This Row],[Tarpaulin]],0)","v":0},{"$f":"IF(NFI_Expiration=1,IF($A310<VLOOKUP(M$5,NFI,5,0),1,0)*Table_NFI[[#This Row],[Blanket]],0)","v":0},{"$f":"IF(NFI_Expiration=1,IF($A310<VLOOKUP(N$5,NFI,5,0),1,0)*Table_NFI[[#This Row],[Kitchen Set]],0)","v":0},{"$f":"IF(NFI_Expiration=1,IF($A310<VLOOKUP(O$5,NFI,5,0),1,0)*Table_NFI[[#This Row],[Complementary Kit]],0)","v":0},{"$f":"IF(NFI_Expiration=1,IF($A310<VLOOKUP(P$5,NFI,5,0),1,0)*Table_NFI[[#This Row],[Plastic Bucket]],0)","v":0},{"$f":"IF(NFI_Expiration=1,IF($A310<VLOOKUP(Q$5,NFI,5,0),1,0)*Table_NFI[[#This Row],[Plastic Mat]],0)","v":0},{"$f":"VLOOKUP(Table_NFI[[#This Row],[Camp Name]],'Camp List'!N$5:Z$347,2,0)","v":"MMR001CMP111"},{"$f":"VLOOKUP(Table_NFI[[#This Row],[Camp Name]],'Camp List'!N$5:Z$347,13,0)","v":"Open"}]
[13.4,"2012-06-25","UNHCR","UNHCR","Kachin","Momauk","Momauk Baptist Church",null,null,0,290,145,290,145,145,145,145,{"$f":"IF(NFI_Expiration=1,IF($A311<VLOOKUP(H$5,NFI,5,0),1,0)*Table_NFI[[#This Row],[Hygiene Kit]],0)","v":0},{"$f":"IF(NFI_Expiration=1,IF($A311<VLOOKUP(I$5,NFI,5,0),1,0)*Table_NFI[[#This Row],[NFI Core Kit]],0)","v":0},{"$f":"IF(NFI_Expiration=1,IF($A311<VLOOKUP(J$5,NFI,5,0),1,0)*Table_NFI[[#This Row],[Sanitary Kit]],0)","v":0},{"$f":"IF(NFI_Expiration=1,IF($A311<VLOOKUP(K$5,NFI,5,0),1,0)*Table_NFI[[#This Row],[Mosquito net]],0)","v":0},{"$f":"IF(NFI_Expiration=1,IF($A311<VLOOKUP(L$5,NFI,5,0),1,0)*Table_NFI[[#This Row],[Tarpaulin]],0)","v":0},{"$f":"IF(NFI_Expiration=1,IF($A311<VLOOKUP(M$5,NFI,5,0),1,0)*Table_NFI[[#This Row],[Blanket]],0)","v":0},{"$f":"IF(NFI_Expiration=1,IF($A311<VLOOKUP(N$5,NFI,5,0),1,0)*Table_NFI[[#This Row],[Kitchen Set]],0)","v":0},{"$f":"IF(NFI_Expiration=1,IF($A311<VLOOKUP(O$5,NFI,5,0),1,0)*Table_NFI[[#This Row],[Complementary Kit]],0)","v":0},{"$f":"IF(NFI_Expiration=1,IF($A311<VLOOKUP(P$5,NFI,5,0),1,0)*Table_NFI[[#This Row],[Plastic Bucket]],0)","v":0},{"$f":"IF(NFI_Expiration=1,IF($A311<VLOOKUP(Q$5,NFI,5,0),1,0)*Table_NFI[[#This Row],[Plastic Mat]],0)","v":0},{"$f":"VLOOKUP(Table_NFI[[#This Row],[Camp Name]],'Camp List'!N$5:Z$347,2,0)","v":"MMR001CMP056"},{"$f":"VLOOKUP(Table_NFI[[#This Row],[Camp Name]],'Camp List'!N$5:Z$347,13,0)","v":"Open"}]
[11.766666666666667,"2012-08-13","UNHCR","UNHCR ","Kachin","Bhamo","Robert Church",null,null,0,310,151,310,151,151,151,151,{"$f":"IF(NFI_Expiration=1,IF($A312<VLOOKUP(H$5,NFI,5,0),1,0)*Table_NFI[[#This Row],[Hygiene Kit]],0)","v":0},{"$f":"IF(NFI_Expiration=1,IF($A312<VLOOKUP(I$5,NFI,5,0),1,0)*Table_NFI[[#This Row],[NFI Core Kit]],0)","v":0},{"$f":"IF(NFI_Expiration=1,IF($A312<VLOOKUP(J$5,NFI,5,0),1,0)*Table_NFI[[#This Row],[Sanitary Kit]],0)","v":0},{"$f":"IF(NFI_Expiration=1,IF($A312<VLOOKUP(K$5,NFI,5,0),1,0)*Table_NFI[[#This Row],[Mosquito net]],0)","v":310},{"$f":"IF(NFI_Expiration=1,IF($A312<VLOOKUP(L$5,NFI,5,0),1,0)*Table_NFI[[#This Row],[Tarpaulin]],0)","v":151},{"$f":"IF(NFI_Expiration=1,IF($A312<VLOOKUP(M$5,NFI,5,0),1,0)*Table_NFI[[#This Row],[Blanket]],0)","v":310},{"$f":"IF(NFI_Expiration=1,IF($A312<VLOOKUP(N$5,NFI,5,0),1,0)*Table_NFI[[#This Row],[Kitchen Set]],0)","v":151},{"$f":"IF(NFI_Expiration=1,IF($A312<VLOOKUP(O$5,NFI,5,0),1,0)*Table_NFI[[#This Row],[Complementary Kit]],0)","v":151},{"$f":"IF(NFI_Expiration=1,IF($A312<VLOOKUP(P$5,NFI,5,0),1,0)*Table_NFI[[#This Row],[Plastic Bucket]],0)","v":151},{"$f":"IF(NFI_Expiration=1,IF($A312<VLOOKUP(Q$5,NFI,5,0),1,0)*Table_NFI[[#This Row],[Plastic Mat]],0)","v":151},{"$f":"VLOOKUP(Table_NFI[[#This Row],[Camp Name]],'Camp List'!N$5:Z$347,2,0)","v":"MMR001CMP047"},{"$f":"VLOOKUP(Table_NFI[[#This Row],[Camp Name]],'Camp List'!N$5:Z$347,13,0)","v":"Open"}]
[2.3666666666666667,"2013-05-22","UNHCR","UNHCR","Kachin","Hpakant","Nga Pyaw Taw Baptist Nursery School ",null,null,273,339,151,339,151,151,151,151,{"$f":"IF(NFI_Expiration=1,IF($A313<VLOOKUP(H$5,NFI,5,0),1,0)*Table_NFI[[#This Row],[Hygiene Kit]],0)","v":0},{"$f":"IF(NFI_Expiration=1,IF($A313<VLOOKUP(I$5,NFI,5,0),1,0)*Table_NFI[[#This Row],[NFI Core Kit]],0)","v":0},{"$f":"IF(NFI_Expiration=1,IF($A313<VLOOKUP(J$5,NFI,5,0),1,0)*Table_NFI[[#This Row],[Sanitary Kit]],0)","v":273},{"$f":"IF(NFI_Expiration=1,IF($A313<VLOOKUP(K$5,NFI,5,0),1,0)*Table_NFI[[#This Row],[Mosquito net]],0)","v":339},{"$f":"IF(NFI_Expiration=1,IF($A313<VLOOKUP(L$5,NFI,5,0),1,0)*Table_NFI[[#This Row],[Tarpaulin]],0)","v":151},{"$f":"IF(NFI_Expiration=1,IF($A313<VLOOKUP(M$5,NFI,5,0),1,0)*Table_NFI[[#This Row],[Blanket]],0)","v":339},{"$f":"IF(NFI_Expiration=1,IF($A313<VLOOKUP(N$5,NFI,5,0),1,0)*Table_NFI[[#This Row],[Kitchen Set]],0)","v":151},{"$f":"IF(NFI_Expiration=1,IF($A313<VLOOKUP(O$5,NFI,5,0),1,0)*Table_NFI[[#This Row],[Complementary Kit]],0)","v":151},{"$f":"IF(NFI_Expiration=1,IF($A313<VLOOKUP(P$5,NFI,5,0),1,0)*Table_NFI[[#This Row],[Plastic Bucket]],0)","v":151},{"$f":"IF(NFI_Expiration=1,IF($A313<VLOOKUP(Q$5,NFI,5,0),1,0)*Table_NFI[[#This Row],[Plastic Mat]],0)","v":151},{"$f":"VLOOKUP(Table_NFI[[#This Row],[Camp Name]],'Camp List'!N$5:Z$347,2,0)","v":"MMR001CMP082"},{"$f":"VLOOKUP(Table_NFI[[#This Row],[Camp Name]],'Camp List'!N$5:Z$347,13,0)","v":"Open"}]
[12.666666666666666,"2012-07-17","UNHCR","UNHCR","Kachin","Momauk","Dum Bung ",null,null,0,380,156,380,156,156,156,156,{"$f":"IF(NFI_Expiration=1,IF($A314<VLOOKUP(H$5,NFI,5,0),1,0)*Table_NFI[[#This Row],[Hygiene Kit]],0)","v":0},{"$f":"IF(NFI_Expiration=1,IF($A314<VLOOKUP(I$5,NFI,5,0),1,0)*Table_NFI[[#This Row],[NFI Core Kit]],0)","v":0},{"$f":"IF(NFI_Expiration=1,IF($A314<VLOOKUP(J$5,NFI,5,0),1,0)*Table_NFI[[#This Row],[Sanitary Kit]],0)","v":0},{"$f":"IF(NFI_Expiration=1,IF($A314<VLOOKUP(K$5,NFI,5,0),1,0)*Table_NFI[[#This Row],[Mosquito net]],0)","v":0},{"$f":"IF(NFI_Expiration=1,IF($A314<VLOOKUP(L$5,NFI,5,0),1,0)*Table_NFI[[#This Row],[Tarpaulin]],0)","v":0},{"$f":"IF(NFI_Expiration=1,IF($A314<VLOOKUP(M$5,NFI,5,0),1,0)*Table_NFI[[#This Row],[Blanket]],0)","v":0},{"$f":"IF(NFI_Expiration=1,IF($A314<VLOOKUP(N$5,NFI,5,0),1,0)*Table_NFI[[#This Row],[Kitchen Set]],0)","v":0},{"$f":"IF(NFI_Expiration=1,IF($A314<VLOOKUP(O$5,NFI,5,0),1,0)*Table_NFI[[#This Row],[Complementary Kit]],0)","v":0},{"$f":"IF(NFI_Expiration=1,IF($A314<VLOOKUP(P$5,NFI,5,0),1,0)*Table_NFI[[#This Row],[Plastic Bucket]],0)","v":0},{"$f":"IF(NFI_Expiration=1,IF($A314<VLOOKUP(Q$5,NFI,5,0),1,0)*Table_NFI[[#This Row],[Plastic Mat]],0)","v":0},{"$f":"VLOOKUP(Table_NFI[[#This Row],[Camp Name]],'Camp List'!N$5:Z$347,2,0)","v":"MMR001CMP123"},{"$f":"VLOOKUP(Table_NFI[[#This Row],[Camp Name]],'Camp List'!N$5:Z$347,13,0)","v":"Open"}]
[16.399999999999999,"2012-03-27","UNHCR","UNHCR","Kachin","Waingmaw","Border Post 8",null,null,0,460,228,460,228,228,228,228,{"$f":"IF(NFI_Expiration=1,IF($A315<VLOOKUP(H$5,NFI,5,0),1,0)*Table_NFI[[#This Row],[Hygiene Kit]],0)","v":0},{"$f":"IF(NFI_Expiration=1,IF($A315<VLOOKUP(I$5,NFI,5,0),1,0)*Table_NFI[[#This Row],[NFI Core Kit]],0)","v":0},{"$f":"IF(NFI_Expiration=1,IF($A315<VLOOKUP(J$5,NFI,5,0),1,0)*Table_NFI[[#This Row],[Sanitary Kit]],0)","v":0},{"$f":"IF(NFI_Expiration=1,IF($A315<VLOOKUP(K$5,NFI,5,0),1,0)*Table_NFI[[#This Row],[Mosquito net]],0)","v":0},{"$f":"IF(NFI_Expiration=1,IF($A315<VLOOKUP(L$5,NFI,5,0),1,0)*Table_NFI[[#This Row],[Tarpaulin]],0)","v":0},{"$f":"IF(NFI_Expiration=1,IF($A315<VLOOKUP(M$5,NFI,5,0),1,0)*Table_NFI[[#This Row],[Blanket]],0)","v":0},{"$f":"IF(NFI_Expiration=1,IF($A315<VLOOKUP(N$5,NFI,5,0),1,0)*Table_NFI[[#This Row],[Kitchen Set]],0)","v":0},{"$f":"IF(NFI_Expiration=1,IF($A315<VLOOKUP(O$5,NFI,5,0),1,0)*Table_NFI[[#This Row],[Complementary Kit]],0)","v":0},{"$f":"IF(NFI_Expiration=1,IF($A315<VLOOKUP(P$5,NFI,5,0),1,0)*Table_NFI[[#This Row],[Plastic Bucket]],0)","v":0},{"$f":"IF(NFI_Expiration=1,IF($A315<VLOOKUP(Q$5,NFI,5,0),1,0)*Table_NFI[[#This Row],[Plastic Mat]],0)","v":0},{"$f":"VLOOKUP(Table_NFI[[#This Row],[Camp Name]],'Camp List'!N$5:Z$347,2,0)","v":"MMR001CMP113"},{"$f":"VLOOKUP(Table_NFI[[#This Row],[Camp Name]],'Camp List'!N$5:Z$347,13,0)","v":"Open"}]
[16.166666666666668,"2012-04-03","UNHCR","UNHCR","Kachin","Momauk","Lana Zup Ja ",null,null,0,510,0,510,255,255,255,255,{"$f":"IF(NFI_Expiration=1,IF($A316<VLOOKUP(H$5,NFI,5,0),1,0)*Table_NFI[[#This Row],[Hygiene Kit]],0)","v":0},{"$f":"IF(NFI_Expiration=1,IF($A316<VLOOKUP(I$5,NFI,5,0),1,0)*Table_NFI[[#This Row],[NFI Core Kit]],0)","v":0},{"$f":"IF(NFI_Expiration=1,IF($A316<VLOOKUP(J$5,NFI,5,0),1,0)*Table_NFI[[#This Row],[Sanitary Kit]],0)","v":0},{"$f":"IF(NFI_Expiration=1,IF($A316<VLOOKUP(K$5,NFI,5,0),1,0)*Table_NFI[[#This Row],[Mosquito net]],0)","v":0},{"$f":"IF(NFI_Expiration=1,IF($A316<VLOOKUP(L$5,NFI,5,0),1,0)*Table_NFI[[#This Row],[Tarpaulin]],0)","v":0},{"$f":"IF(NFI_Expiration=1,IF($A316<VLOOKUP(M$5,NFI,5,0),1,0)*Table_NFI[[#This Row],[Blanket]],0)","v":0},{"$f":"IF(NFI_Expiration=1,IF($A316<VLOOKUP(N$5,NFI,5,0),1,0)*Table_NFI[[#This Row],[Kitchen Set]],0)","v":0},{"$f":"IF(NFI_Expiration=1,IF($A316<VLOOKUP(O$5,NFI,5,0),1,0)*Table_NFI[[#This Row],[Complementary Kit]],0)","v":0},{"$f":"IF(NFI_Expiration=1,IF($A316<VLOOKUP(P$5,NFI,5,0),1,0)*Table_NFI[[#This Row],[Plastic Bucket]],0)","v":0},{"$f":"IF(NFI_Expiration=1,IF($A316<VLOOKUP(Q$5,NFI,5,0),1,0)*Table_NFI[[#This Row],[Plastic Mat]],0)","v":0},{"$f":"VLOOKUP(Table_NFI[[#This Row],[Camp Name]],'Camp List'!N$5:Z$347,2,0)","v":"MMR001CMP128"},{"$f":"VLOOKUP(Table_NFI[[#This Row],[Camp Name]],'Camp List'!N$5:Z$347,13,0)","v":"Open"}]
[4.4666666666666668,"2013-03-20","UNHCR","UNHCR","Kachin","Hpakant","Ward 2 Sai Taung Baptist Church, Seik Mu ",null,null,124,117,121,227,122,263,263,263,{"$f":"IF(NFI_Expiration=1,IF($A317<VLOOKUP(H$5,NFI,5,0),1,0)*Table_NFI[[#This Row],[Hygiene Kit]],0)","v":0},{"$f":"IF(NFI_Expiration=1,IF($A317<VLOOKUP(I$5,NFI,5,0),1,0)*Table_NFI[[#This Row],[NFI Core Kit]],0)","v":0},{"$f":"IF(NFI_Expiration=1,IF($A317<VLOOKUP(J$5,NFI,5,0),1,0)*Table_NFI[[#This Row],[Sanitary Kit]],0)","v":124},{"$f":"IF(NFI_Expiration=1,IF($A317<VLOOKUP(K$5,NFI,5,0),1,0)*Table_NFI[[#This Row],[Mosquito net]],0)","v":117},{"$f":"IF(NFI_Expiration=1,IF($A317<VLOOKUP(L$5,NFI,5,0),1,0)*Table_NFI[[#This Row],[Tarpaulin]],0)","v":121},{"$f":"IF(NFI_Expiration=1,IF($A317<VLOOKUP(M$5,NFI,5,0),1,0)*Table_NFI[[#This Row],[Blanket]],0)","v":227},{"$f":"IF(NFI_Expiration=1,IF($A317<VLOOKUP(N$5,NFI,5,0),1,0)*Table_NFI[[#This Row],[Kitchen Set]],0)","v":122},{"$f":"IF(NFI_Expiration=1,IF($A317<VLOOKUP(O$5,NFI,5,0),1,0)*Table_NFI[[#This Row],[Complementary Kit]],0)","v":263},{"$f":"IF(NFI_Expiration=1,IF($A317<VLOOKUP(P$5,NFI,5,0),1,0)*Table_NFI[[#This Row],[Plastic Bucket]],0)","v":263},{"$f":"IF(NFI_Expiration=1,IF($A317<VLOOKUP(Q$5,NFI,5,0),1,0)*Table_NFI[[#This Row],[Plastic Mat]],0)","v":263},{"$f":"VLOOKUP(Table_NFI[[#This Row],[Camp Name]],'Camp List'!N$5:Z$347,2,0)","v":"MMR001CMP184"},{"$f":"VLOOKUP(Table_NFI[[#This Row],[Camp Name]],'Camp List'!N$5:Z$347,13,0)","v":"Open"}]
[{"$f":"IF(ISBLANK(B318),\"\",(Report_Date-B318)/30)","v":18.933333333333334},"2012-01-11","UNHCR","KBC","Kachin","Waingmaw","Shing Jai",null,null,0,536,268,536,268,268,268,268,{"$f":"IF(NFI_Expiration=1,IF($A318<VLOOKUP(H$5,NFI,5,0),1,0)*Table_NFI[[#This Row],[Hygiene Kit]],0)","v":0},{"$f":"IF(NFI_Expiration=1,IF($A318<VLOOKUP(I$5,NFI,5,0),1,0)*Table_NFI[[#This Row],[NFI Core Kit]],0)","v":0},{"$f":"IF(NFI_Expiration=1,IF($A318<VLOOKUP(J$5,NFI,5,0),1,0)*Table_NFI[[#This Row],[Sanitary Kit]],0)","v":0},{"$f":"IF(NFI_Expiration=1,IF($A318<VLOOKUP(K$5,NFI,5,0),1,0)*Table_NFI[[#This Row],[Mosquito net]],0)","v":0},{"$f":"IF(NFI_Expiration=1,IF($A318<VLOOKUP(L$5,NFI,5,0),1,0)*Table_NFI[[#This Row],[Tarpaulin]],0)","v":0},{"$f":"IF(NFI_Expiration=1,IF($A318<VLOOKUP(M$5,NFI,5,0),1,0)*Table_NFI[[#This Row],[Blanket]],0)","v":0},{"$f":"IF(NFI_Expiration=1,IF($A318<VLOOKUP(N$5,NFI,5,0),1,0)*Table_NFI[[#This Row],[Kitchen Set]],0)","v":0},{"$f":"IF(NFI_Expiration=1,IF($A318<VLOOKUP(O$5,NFI,5,0),1,0)*Table_NFI[[#This Row],[Complementary Kit]],0)","v":0},{"$f":"IF(NFI_Expiration=1,IF($A318<VLOOKUP(P$5,NFI,5,0),1,0)*Table_NFI[[#This Row],[Plastic Bucket]],0)","v":0},{"$f":"IF(NFI_Expiration=1,IF($A318<VLOOKUP(Q$5,NFI,5,0),1,0)*Table_NFI[[#This Row],[Plastic Mat]],0)","v":0},{"$f":"VLOOKUP(Table_NFI[[#This Row],[Camp Name]],'Camp List'!N$5:Z$347,2,0)","v":"MMR001CMP041"},{"$f":"VLOOKUP(Table_NFI[[#This Row],[Camp Name]],'Camp List'!N$5:Z$347,13,0)","v":"Open"}]
[16.399999999999999,"2012-03-27","UNHCR","UNHCR","Kachin","Bhamo","AD-2000 Tharthana Compound",null,null,0,560,280,560,280,280,280,280,{"$f":"IF(NFI_Expiration=1,IF($A319<VLOOKUP(H$5,NFI,5,0),1,0)*Table_NFI[[#This Row],[Hygiene Kit]],0)","v":0},{"$f":"IF(NFI_Expiration=1,IF($A319<VLOOKUP(I$5,NFI,5,0),1,0)*Table_NFI[[#This Row],[NFI Core Kit]],0)","v":0},{"$f":"IF(NFI_Expiration=1,IF($A319<VLOOKUP(J$5,NFI,5,0),1,0)*Table_NFI[[#This Row],[Sanitary Kit]],0)","v":0},{"$f":"IF(NFI_Expiration=1,IF($A319<VLOOKUP(K$5,NFI,5,0),1,0)*Table_NFI[[#This Row],[Mosquito net]],0)","v":0},{"$f":"IF(NFI_Expiration=1,IF($A319<VLOOKUP(L$5,NFI,5,0),1,0)*Table_NFI[[#This Row],[Tarpaulin]],0)","v":0},{"$f":"IF(NFI_Expiration=1,IF($A319<VLOOKUP(M$5,NFI,5,0),1,0)*Table_NFI[[#This Row],[Blanket]],0)","v":0},{"$f":"IF(NFI_Expiration=1,IF($A319<VLOOKUP(N$5,NFI,5,0),1,0)*Table_NFI[[#This Row],[Kitchen Set]],0)","v":0},{"$f":"IF(NFI_Expiration=1,IF($A319<VLOOKUP(O$5,NFI,5,0),1,0)*Table_NFI[[#This Row],[Complementary Kit]],0)","v":0},{"$f":"IF(NFI_Expiration=1,IF($A319<VLOOKUP(P$5,NFI,5,0),1,0)*Table_NFI[[#This Row],[Plastic Bucket]],0)","v":0},{"$f":"IF(NFI_Expiration=1,IF($A319<VLOOKUP(Q$5,NFI,5,0),1,0)*Table_NFI[[#This Row],[Plastic Mat]],0)","v":0},{"$f":"VLOOKUP(Table_NFI[[#This Row],[Camp Name]],'Camp List'!N$5:Z$347,2,0)","v":"MMR001CMP050"},{"$f":"VLOOKUP(Table_NFI[[#This Row],[Camp Name]],'Camp List'!N$5:Z$347,13,0)","v":"Open"}]
[15.533333333333333,"2012-04-22","UNHCR","UNHCR","Kachin","Momauk","Je Gau  (+ WaRaPa )",null,null,0,846,423,846,423,423,423,423,{"$f":"IF(NFI_Expiration=1,IF($A320<VLOOKUP(H$5,NFI,5,0),1,0)*Table_NFI[[#This Row],[Hygiene Kit]],0)","v":0},{"$f":"IF(NFI_Expiration=1,IF($A320<VLOOKUP(I$5,NFI,5,0),1,0)*Table_NFI[[#This Row],[NFI Core Kit]],0)","v":0},{"$f":"IF(NFI_Expiration=1,IF($A320<VLOOKUP(J$5,NFI,5,0),1,0)*Table_NFI[[#This Row],[Sanitary Kit]],0)","v":0},{"$f":"IF(NFI_Expiration=1,IF($A320<VLOOKUP(K$5,NFI,5,0),1,0)*Table_NFI[[#This Row],[Mosquito net]],0)","v":0},{"$f":"IF(NFI_Expiration=1,IF($A320<VLOOKUP(L$5,NFI,5,0),1,0)*Table_NFI[[#This Row],[Tarpaulin]],0)","v":0},{"$f":"IF(NFI_Expiration=1,IF($A320<VLOOKUP(M$5,NFI,5,0),1,0)*Table_NFI[[#This Row],[Blanket]],0)","v":0},{"$f":"IF(NFI_Expiration=1,IF($A320<VLOOKUP(N$5,NFI,5,0),1,0)*Table_NFI[[#This Row],[Kitchen Set]],0)","v":0},{"$f":"IF(NFI_Expiration=1,IF($A320<VLOOKUP(O$5,NFI,5,0),1,0)*Table_NFI[[#This Row],[Complementary Kit]],0)","v":0},{"$f":"IF(NFI_Expiration=1,IF($A320<VLOOKUP(P$5,NFI,5,0),1,0)*Table_NFI[[#This Row],[Plastic Bucket]],0)","v":0},{"$f":"IF(NFI_Expiration=1,IF($A320<VLOOKUP(Q$5,NFI,5,0),1,0)*Table_NFI[[#This Row],[Plastic Mat]],0)","v":0},{"$f":"VLOOKUP(Table_NFI[[#This Row],[Camp Name]],'Camp List'!N$5:Z$347,2,0)","v":{"$error":"#N/A"}},{"$f":"VLOOKUP(Table_NFI[[#This Row],[Camp Name]],'Camp List'!N$5:Z$347,13,0)","v":{"$error":"#N/A"}}]
[16.399999999999999,"2012-03-27","UNHCR","UNHCR","Kachin","Bhamo","Robert Church",null,null,0,1000,500,1000,500,500,500,500,{"$f":"IF(NFI_Expiration=1,IF($A321<VLOOKUP(H$5,NFI,5,0),1,0)*Table_NFI[[#This Row],[Hygiene Kit]],0)","v":0},{"$f":"IF(NFI_Expiration=1,IF($A321<VLOOKUP(I$5,NFI,5,0),1,0)*Table_NFI[[#This Row],[NFI Core Kit]],0)","v":0},{"$f":"IF(NFI_Expiration=1,IF($A321<VLOOKUP(J$5,NFI,5,0),1,0)*Table_NFI[[#This Row],[Sanitary Kit]],0)","v":0},{"$f":"IF(NFI_Expiration=1,IF($A321<VLOOKUP(K$5,NFI,5,0),1,0)*Table_NFI[[#This Row],[Mosquito net]],0)","v":0},{"$f":"IF(NFI_Expiration=1,IF($A321<VLOOKUP(L$5,NFI,5,0),1,0)*Table_NFI[[#This Row],[Tarpaulin]],0)","v":0},{"$f":"IF(NFI_Expiration=1,IF($A321<VLOOKUP(M$5,NFI,5,0),1,0)*Table_NFI[[#This Row],[Blanket]],0)","v":0},{"$f":"IF(NFI_Expiration=1,IF($A321<VLOOKUP(N$5,NFI,5,0),1,0)*Table_NFI[[#This Row],[Kitchen Set]],0)","v":0},{"$f":"IF(NFI_Expiration=1,IF($A321<VLOOKUP(O$5,NFI,5,0),1,0)*Table_NFI[[#This Row],[Complementary Kit]],0)","v":0},{"$f":"IF(NFI_Expiration=1,IF($A321<VLOOKUP(P$5,NFI,5,0),1,0)*Table_NFI[[#This Row],[Plastic Bucket]],0)","v":0},{"$f":"IF(NFI_Expiration=1,IF($A321<VLOOKUP(Q$5,NFI,5,0),1,0)*Table_NFI[[#This Row],[Plastic Mat]],0)","v":0},{"$f":"VLOOKUP(Table_NFI[[#This Row],[Camp Name]],'Camp List'!N$5:Z$347,2,0)","v":"MMR001CMP047"},{"$f":"VLOOKUP(Table_NFI[[#This Row],[Camp Name]],'Camp List'!N$5:Z$347,13,0)","v":"Open"}]
[2.3666666666666667,"2013-05-22","DFID","KMSS","Kachin","Chipwi","Chipwi KBC camp",510,null,null,null,null,null,null,null,null,null,{"$f":"IF(NFI_Expiration=1,IF($A322<VLOOKUP(H$5,NFI,5,0),1,0)*Table_NFI[[#This Row],[Hygiene Kit]],0)","v":510},{"$f":"IF(NFI_Expiration=1,IF($A322<VLOOKUP(I$5,NFI,5,0),1,0)*Table_NFI[[#This Row],[NFI Core Kit]],0)","v":0},{"$f":"IF(NFI_Expiration=1,IF($A322<VLOOKUP(J$5,NFI,5,0),1,0)*Table_NFI[[#This Row],[Sanitary Kit]],0)","v":0},{"$f":"IF(NFI_Expiration=1,IF($A322<VLOOKUP(K$5,NFI,5,0),1,0)*Table_NFI[[#This Row],[Mosquito net]],0)","v":0},{"$f":"IF(NFI_Expiration=1,IF($A322<VLOOKUP(L$5,NFI,5,0),1,0)*Table_NFI[[#This Row],[Tarpaulin]],0)","v":0},{"$f":"IF(NFI_Expiration=1,IF($A322<VLOOKUP(M$5,NFI,5,0),1,0)*Table_NFI[[#This Row],[Blanket]],0)","v":0},{"$f":"IF(NFI_Expiration=1,IF($A322<VLOOKUP(N$5,NFI,5,0),1,0)*Table_NFI[[#This Row],[Kitchen Set]],0)","v":0},{"$f":"IF(NFI_Expiration=1,IF($A322<VLOOKUP(O$5,NFI,5,0),1,0)*Table_NFI[[#This Row],[Complementary Kit]],0)","v":0},{"$f":"IF(NFI_Expiration=1,IF($A322<VLOOKUP(P$5,NFI,5,0),1,0)*Table_NFI[[#This Row],[Plastic Bucket]],0)","v":0},{"$f":"IF(NFI_Expiration=1,IF($A322<VLOOKUP(Q$5,NFI,5,0),1,0)*Table_NFI[[#This Row],[Plastic Mat]],0)","v":0},{"$f":"VLOOKUP(Table_NFI[[#This Row],[Camp Name]],'Camp List'!N$5:Z$347,2,0)","v":"MMR001CMP042"},{"$f":"VLOOKUP(Table_NFI[[#This Row],[Camp Name]],'Camp List'!N$5:Z$347,13,0)","v":"Open"}]
[2.3666666666666667,"2013-05-22","DFID","KMSS","Kachin","Chipwi","Lhaovao Baptist Church (LBC)",35,null,null,null,null,null,null,null,null,null,{"$f":"IF(NFI_Expiration=1,IF($A323<VLOOKUP(H$5,NFI,5,0),1,0)*Table_NFI[[#This Row],[Hygiene Kit]],0)","v":35},{"$f":"IF(NFI_Expiration=1,IF($A323<VLOOKUP(I$5,NFI,5,0),1,0)*Table_NFI[[#This Row],[NFI Core Kit]],0)","v":0},{"$f":"IF(NFI_Expiration=1,IF($A323<VLOOKUP(J$5,NFI,5,0),1,0)*Table_NFI[[#This Row],[Sanitary Kit]],0)","v":0},{"$f":"IF(NFI_Expiration=1,IF($A323<VLOOKUP(K$5,NFI,5,0),1,0)*Table_NFI[[#This Row],[Mosquito net]],0)","v":0},{"$f":"IF(NFI_Expiration=1,IF($A323<VLOOKUP(L$5,NFI,5,0),1,0)*Table_NFI[[#This Row],[Tarpaulin]],0)","v":0},{"$f":"IF(NFI_Expiration=1,IF($A323<VLOOKUP(M$5,NFI,5,0),1,0)*Table_NFI[[#This Row],[Blanket]],0)","v":0},{"$f":"IF(NFI_Expiration=1,IF($A323<VLOOKUP(N$5,NFI,5,0),1,0)*Table_NFI[[#This Row],[Kitchen Set]],0)","v":0},{"$f":"IF(NFI_Expiration=1,IF($A323<VLOOKUP(O$5,NFI,5,0),1,0)*Table_NFI[[#This Row],[Complementary Kit]],0)","v":0},{"$f":"IF(NFI_Expiration=1,IF($A323<VLOOKUP(P$5,NFI,5,0),1,0)*Table_NFI[[#This Row],[Plastic Bucket]],0)","v":0},{"$f":"IF(NFI_Expiration=1,IF($A323<VLOOKUP(Q$5,NFI,5,0),1,0)*Table_NFI[[#This Row],[Plastic Mat]],0)","v":0},{"$f":"VLOOKUP(Table_NFI[[#This Row],[Camp Name]],'Camp List'!N$5:Z$347,2,0)","v":"MMR001CMP195"},{"$f":"VLOOKUP(Table_NFI[[#This Row],[Camp Name]],'Camp List'!N$5:Z$347,13,0)","v":"Open"}]
[2.5666666666666669,"2013-05-16","DFID","KMSS","Kachin","Hpakant","Nant Ma Hpit Catholic Church",423,null,null,null,null,null,null,null,null,null,{"$f":"IF(NFI_Expiration=1,IF($A324<VLOOKUP(H$5,NFI,5,0),1,0)*Table_NFI[[#This Row],[Hygiene Kit]],0)","v":423},{"$f":"IF(NFI_Expiration=1,IF($A324<VLOOKUP(I$5,NFI,5,0),1,0)*Table_NFI[[#This Row],[NFI Core Kit]],0)","v":0},{"$f":"IF(NFI_Expiration=1,IF($A324<VLOOKUP(J$5,NFI,5,0),1,0)*Table_NFI[[#This Row],[Sanitary Kit]],0)","v":0},{"$f":"IF(NFI_Expiration=1,IF($A324<VLOOKUP(K$5,NFI,5,0),1,0)*Table_NFI[[#This Row],[Mosquito net]],0)","v":0},{"$f":"IF(NFI_Expiration=1,IF($A324<VLOOKUP(L$5,NFI,5,0),1,0)*Table_NFI[[#This Row],[Tarpaulin]],0)","v":0},{"$f":"IF(NFI_Expiration=1,IF($A324<VLOOKUP(M$5,NFI,5,0),1,0)*Table_NFI[[#This Row],[Blanket]],0)","v":0},{"$f":"IF(NFI_Expiration=1,IF($A324<VLOOKUP(N$5,NFI,5,0),1,0)*Table_NFI[[#This Row],[Kitchen Set]],0)","v":0},{"$f":"IF(NFI_Expiration=1,IF($A324<VLOOKUP(O$5,NFI,5,0),1,0)*Table_NFI[[#This Row],[Complementary Kit]],0)","v":0},{"$f":"IF(NFI_Expiration=1,IF($A324<VLOOKUP(P$5,NFI,5,0),1,0)*Table_NFI[[#This Row],[Plastic Bucket]],0)","v":0},{"$f":"IF(NFI_Expiration=1,IF($A324<VLOOKUP(Q$5,NFI,5,0),1,0)*Table_NFI[[#This Row],[Plastic Mat]],0)","v":0},{"$f":"VLOOKUP(Table_NFI[[#This Row],[Camp Name]],'Camp List'!N$5:Z$347,2,0)","v":"MMR001CMP103"},{"$f":"VLOOKUP(Table_NFI[[#This Row],[Camp Name]],'Camp List'!N$5:Z$347,13,0)","v":"Open"}]
[{"$f":"IF(ISBLANK(B325),\"\",(Report_Date-B325)/30)","v":2.5666666666666669},"2013-05-16","DFID","KMSS","Kachin","Hpakant","Lawng Hkang",394,null,null,null,null,null,null,null,null,null,{"$f":"IF(NFI_Expiration=1,IF($A325<VLOOKUP(H$5,NFI,5,0),1,0)*Table_NFI[[#This Row],[Hygiene Kit]],0)","v":394},{"$f":"IF(NFI_Expiration=1,IF($A325<VLOOKUP(I$5,NFI,5,0),1,0)*Table_NFI[[#This Row],[NFI Core Kit]],0)","v":0},{"$f":"IF(NFI_Expiration=1,IF($A325<VLOOKUP(J$5,NFI,5,0),1,0)*Table_NFI[[#This Row],[Sanitary Kit]],0)","v":0},{"$f":"IF(NFI_Expiration=1,IF($A325<VLOOKUP(K$5,NFI,5,0),1,0)*Table_NFI[[#This Row],[Mosquito net]],0)","v":0},{"$f":"IF(NFI_Expiration=1,IF($A325<VLOOKUP(L$5,NFI,5,0),1,0)*Table_NFI[[#This Row],[Tarpaulin]],0)","v":0},{"$f":"IF(NFI_Expiration=1,IF($A325<VLOOKUP(M$5,NFI,5,0),1,0)*Table_NFI[[#This Row],[Blanket]],0)","v":0},{"$f":"IF(NFI_Expiration=1,IF($A325<VLOOKUP(N$5,NFI,5,0),1,0)*Table_NFI[[#This Row],[Kitchen Set]],0)","v":0},{"$f":"IF(NFI_Expiration=1,IF($A325<VLOOKUP(O$5,NFI,5,0),1,0)*Table_NFI[[#This Row],[Complementary Kit]],0)","v":0},{"$f":"IF(NFI_Expiration=1,IF($A325<VLOOKUP(P$5,NFI,5,0),1,0)*Table_NFI[[#This Row],[Plastic Bucket]],0)","v":0},{"$f":"IF(NFI_Expiration=1,IF($A325<VLOOKUP(Q$5,NFI,5,0),1,0)*Table_NFI[[#This Row],[Plastic Mat]],0)","v":0},{"$f":"VLOOKUP(Table_NFI[[#This Row],[Camp Name]],'Camp List'!N$5:Z$347,2,0)","v":{"$error":"#N/A"}},{"$f":"VLOOKUP(Table_NFI[[#This Row],[Camp Name]],'Camp List'!N$5:Z$347,13,0)","v":{"$error":"#N/A"}}]
[2.5666666666666669,"2013-05-16","DFID","KMSS","Kachin","Hpakant","Ward 2 Cahotlic Church, Seik Mu",103,null,null,null,null,null,null,null,null,null,{"$f":"IF(NFI_Expiration=1,IF($A326<VLOOKUP(H$5,NFI,5,0),1,0)*Table_NFI[[#This Row],[Hygiene Kit]],0)","v":103},{"$f":"IF(NFI_Expiration=1,IF($A326<VLOOKUP(I$5,NFI,5,0),1,0)*Table_NFI[[#This Row],[NFI Core Kit]],0)","v":0},{"$f":"IF(NFI_Expiration=1,IF($A326<VLOOKUP(J$5,NFI,5,0),1,0)*Table_NFI[[#This Row],[Sanitary Kit]],0)","v":0},{"$f":"IF(NFI_Expiration=1,IF($A326<VLOOKUP(K$5,NFI,5,0),1,0)*Table_NFI[[#This Row],[Mosquito net]],0)","v":0},{"$f":"IF(NFI_Expiration=1,IF($A326<VLOOKUP(L$5,NFI,5,0),1,0)*Table_NFI[[#This Row],[Tarpaulin]],0)","v":0},{"$f":"IF(NFI_Expiration=1,IF($A326<VLOOKUP(M$5,NFI,5,0),1,0)*Table_NFI[[#This Row],[Blanket]],0)","v":0},{"$f":"IF(NFI_Expiration=1,IF($A326<VLOOKUP(N$5,NFI,5,0),1,0)*Table_NFI[[#This Row],[Kitchen Set]],0)","v":0},{"$f":"IF(NFI_Expiration=1,IF($A326<VLOOKUP(O$5,NFI,5,0),1,0)*Table_NFI[[#This Row],[Complementary Kit]],0)","v":0},{"$f":"IF(NFI_Expiration=1,IF($A326<VLOOKUP(P$5,NFI,5,0),1,0)*Table_NFI[[#This Row],[Plastic Bucket]],0)","v":0},{"$f":"IF(NFI_Expiration=1,IF($A326<VLOOKUP(Q$5,NFI,5,0),1,0)*Table_NFI[[#This Row],[Plastic Mat]],0)","v":0},{"$f":"VLOOKUP(Table_NFI[[#This Row],[Camp Name]],'Camp List'!N$5:Z$347,2,0)","v":"MMR001CMP185"},{"$f":"VLOOKUP(Table_NFI[[#This Row],[Camp Name]],'Camp List'!N$5:Z$347,13,0)","v":"Open"}]
[2.8666666666666667,"2013-05-07","DFID","KMSS","Kachin","Myitkyina","Pa Dauk Myaing(Pa La Na)",149,null,null,null,null,null,null,null,null,null,{"$f":"IF(NFI_Expiration=1,IF($A327<VLOOKUP(H$5,NFI,5,0),1,0)*Table_NFI[[#This Row],[Hygiene Kit]],0)","v":149},{"$f":"IF(NFI_Expiration=1,IF($A327<VLOOKUP(I$5,NFI,5,0),1,0)*Table_NFI[[#This Row],[NFI Core Kit]],0)","v":0},{"$f":"IF(NFI_Expiration=1,IF($A327<VLOOKUP(J$5,NFI,5,0),1,0)*Table_NFI[[#This Row],[Sanitary Kit]],0)","v":0},{"$f":"IF(NFI_Expiration=1,IF($A327<VLOOKUP(K$5,NFI,5,0),1,0)*Table_NFI[[#This Row],[Mosquito net]],0)","v":0},{"$f":"IF(NFI_Expiration=1,IF($A327<VLOOKUP(L$5,NFI,5,0),1,0)*Table_NFI[[#This Row],[Tarpaulin]],0)","v":0},{"$f":"IF(NFI_Expiration=1,IF($A327<VLOOKUP(M$5,NFI,5,0),1,0)*Table_NFI[[#This Row],[Blanket]],0)","v":0},{"$f":"IF(NFI_Expiration=1,IF($A327<VLOOKUP(N$5,NFI,5,0),1,0)*Table_NFI[[#This Row],[Kitchen Set]],0)","v":0},{"$f":"IF(NFI_Expiration=1,IF($A327<VLOOKUP(O$5,NFI,5,0),1,0)*Table_NFI[[#This Row],[Complementary Kit]],0)","v":0},{"$f":"IF(NFI_Expiration=1,IF($A327<VLOOKUP(P$5,NFI,5,0),1,0)*Table_NFI[[#This Row],[Plastic Bucket]],0)","v":0},{"$f":"IF(NFI_Expiration=1,IF($A327<VLOOKUP(Q$5,NFI,5,0),1,0)*Table_NFI[[#This Row],[Plastic Mat]],0)","v":0},{"$f":"VLOOKUP(Table_NFI[[#This Row],[Camp Name]],'Camp List'!N$5:Z$347,2,0)","v":"MMR001CMP162"},{"$f":"VLOOKUP(Table_NFI[[#This Row],[Camp Name]],'Camp List'!N$5:Z$347,13,0)","v":"Open"}]
[2.8,"2013-05-09","DFID","KMSS","Kachin","Myitkyina","Nan Kway St. John Catholic Church",324,null,null,null,null,null,null,null,null,null,{"$f":"IF(NFI_Expiration=1,IF($A328<VLOOKUP(H$5,NFI,5,0),1,0)*Table_NFI[[#This Row],[Hygiene Kit]],0)","v":324},{"$f":"IF(NFI_Expiration=1,IF($A328<VLOOKUP(I$5,NFI,5,0),1,0)*Table_NFI[[#This Row],[NFI Core Kit]],0)","v":0},{"$f":"IF(NFI_Expiration=1,IF($A328<VLOOKUP(J$5,NFI,5,0),1,0)*Table_NFI[[#This Row],[Sanitary Kit]],0)","v":0},{"$f":"IF(NFI_Expiration=1,IF($A328<VLOOKUP(K$5,NFI,5,0),1,0)*Table_NFI[[#This Row],[Mosquito net]],0)","v":0},{"$f":"IF(NFI_Expiration=1,IF($A328<VLOOKUP(L$5,NFI,5,0),1,0)*Table_NFI[[#This Row],[Tarpaulin]],0)","v":0},{"$f":"IF(NFI_Expiration=1,IF($A328<VLOOKUP(M$5,NFI,5,0),1,0)*Table_NFI[[#This Row],[Blanket]],0)","v":0},{"$f":"IF(NFI_Expiration=1,IF($A328<VLOOKUP(N$5,NFI,5,0),1,0)*Table_NFI[[#This Row],[Kitchen Set]],0)","v":0},{"$f":"IF(NFI_Expiration=1,IF($A328<VLOOKUP(O$5,NFI,5,0),1,0)*Table_NFI[[#This Row],[Complementary Kit]],0)","v":0},{"$f":"IF(NFI_Expiration=1,IF($A328<VLOOKUP(P$5,NFI,5,0),1,0)*Table_NFI[[#This Row],[Plastic Bucket]],0)","v":0},{"$f":"IF(NFI_Expiration=1,IF($A328<VLOOKUP(Q$5,NFI,5,0),1,0)*Table_NFI[[#This Row],[Plastic Mat]],0)","v":0},{"$f":"VLOOKUP(Table_NFI[[#This Row],[Camp Name]],'Camp List'!N$5:Z$347,2,0)","v":"MMR001CMP024"},{"$f":"VLOOKUP(Table_NFI[[#This Row],[Camp Name]],'Camp List'!N$5:Z$347,13,0)","v":"Open"}]
[2.8,"2013-05-09","DFID","KMSS","Kachin","Myitkyina","Jan Mai Kawng Catholic Church",460,null,null,null,null,null,null,null,null,null,{"$f":"IF(NFI_Expiration=1,IF($A329<VLOOKUP(H$5,NFI,5,0),1,0)*Table_NFI[[#This Row],[Hygiene Kit]],0)","v":460},{"$f":"IF(NFI_Expiration=1,IF($A329<VLOOKUP(I$5,NFI,5,0),1,0)*Table_NFI[[#This Row],[NFI Core Kit]],0)","v":0},{"$f":"IF(NFI_Expiration=1,IF($A329<VLOOKUP(J$5,NFI,5,0),1,0)*Table_NFI[[#This Row],[Sanitary Kit]],0)","v":0},{"$f":"IF(NFI_Expiration=1,IF($A329<VLOOKUP(K$5,NFI,5,0),1,0)*Table_NFI[[#This Row],[Mosquito net]],0)","v":0},{"$f":"IF(NFI_Expiration=1,IF($A329<VLOOKUP(L$5,NFI,5,0),1,0)*Table_NFI[[#This Row],[Tarpaulin]],0)","v":0},{"$f":"IF(NFI_Expiration=1,IF($A329<VLOOKUP(M$5,NFI,5,0),1,0)*Table_NFI[[#This Row],[Blanket]],0)","v":0},{"$f":"IF(NFI_Expiration=1,IF($A329<VLOOKUP(N$5,NFI,5,0),1,0)*Table_NFI[[#This Row],[Kitchen Set]],0)","v":0},{"$f":"IF(NFI_Expiration=1,IF($A329<VLOOKUP(O$5,NFI,5,0),1,0)*Table_NFI[[#This Row],[Complementary Kit]],0)","v":0},{"$f":"IF(NFI_Expiration=1,IF($A329<VLOOKUP(P$5,NFI,5,0),1,0)*Table_NFI[[#This Row],[Plastic Bucket]],0)","v":0},{"$f":"IF(NFI_Expiration=1,IF($A329<VLOOKUP(Q$5,NFI,5,0),1,0)*Table_NFI[[#This Row],[Plastic Mat]],0)","v":0},{"$f":"VLOOKUP(Table_NFI[[#This Row],[Camp Name]],'Camp List'!N$5:Z$347,2,0)","v":"MMR001CMP019"},{"$f":"VLOOKUP(Table_NFI[[#This Row],[Camp Name]],'Camp List'!N$5:Z$347,13,0)","v":"Open"}]
[2.8333333333333335,"2013-05-08","DFID","KMSS","Kachin","Waingmaw","Maina Catholic Church (St. Joseph)",1062,null,null,null,null,null,null,null,null,null,{"$f":"IF(NFI_Expiration=1,IF($A330<VLOOKUP(H$5,NFI,5,0),1,0)*Table_NFI[[#This Row],[Hygiene Kit]],0)","v":1062},{"$f":"IF(NFI_Expiration=1,IF($A330<VLOOKUP(I$5,NFI,5,0),1,0)*Table_NFI[[#This Row],[NFI Core Kit]],0)","v":0},{"$f":"IF(NFI_Expiration=1,IF($A330<VLOOKUP(J$5,NFI,5,0),1,0)*Table_NFI[[#This Row],[Sanitary Kit]],0)","v":0},{"$f":"IF(NFI_Expiration=1,IF($A330<VLOOKUP(K$5,NFI,5,0),1,0)*Table_NFI[[#This Row],[Mosquito net]],0)","v":0},{"$f":"IF(NFI_Expiration=1,IF($A330<VLOOKUP(L$5,NFI,5,0),1,0)*Table_NFI[[#This Row],[Tarpaulin]],0)","v":0},{"$f":"IF(NFI_Expiration=1,IF($A330<VLOOKUP(M$5,NFI,5,0),1,0)*Table_NFI[[#This Row],[Blanket]],0)","v":0},{"$f":"IF(NFI_Expiration=1,IF($A330<VLOOKUP(N$5,NFI,5,0),1,0)*Table_NFI[[#This Row],[Kitchen Set]],0)","v":0},{"$f":"IF(NFI_Expiration=1,IF($A330<VLOOKUP(O$5,NFI,5,0),1,0)*Table_NFI[[#This Row],[Complementary Kit]],0)","v":0},{"$f":"IF(NFI_Expiration=1,IF($A330<VLOOKUP(P$5,NFI,5,0),1,0)*Table_NFI[[#This Row],[Plastic Bucket]],0)","v":0},{"$f":"IF(NFI_Expiration=1,IF($A330<VLOOKUP(Q$5,NFI,5,0),1,0)*Table_NFI[[#This Row],[Plastic Mat]],0)","v":0},{"$f":"VLOOKUP(Table_NFI[[#This Row],[Camp Name]],'Camp List'!N$5:Z$347,2,0)","v":"MMR001CMP029"},{"$f":"VLOOKUP(Table_NFI[[#This Row],[Camp Name]],'Camp List'!N$5:Z$347,13,0)","v":"Open"}]
[2.7333333333333334,"2013-05-11","DFID","KMSS","Kachin","Waingmaw","Post 6 Camp",490,null,null,null,null,null,null,null,null,null,{"$f":"IF(NFI_Expiration=1,IF($A331<VLOOKUP(H$5,NFI,5,0),1,0)*Table_NFI[[#This Row],[Hygiene Kit]],0)","v":490},{"$f":"IF(NFI_Expiration=1,IF($A331<VLOOKUP(I$5,NFI,5,0),1,0)*Table_NFI[[#This Row],[NFI Core Kit]],0)","v":0},{"$f":"IF(NFI_Expiration=1,IF($A331<VLOOKUP(J$5,NFI,5,0),1,0)*Table_NFI[[#This Row],[Sanitary Kit]],0)","v":0},{"$f":"IF(NFI_Expiration=1,IF($A331<VLOOKUP(K$5,NFI,5,0),1,0)*Table_NFI[[#This Row],[Mosquito net]],0)","v":0},{"$f":"IF(NFI_Expiration=1,IF($A331<VLOOKUP(L$5,NFI,5,0),1,0)*Table_NFI[[#This Row],[Tarpaulin]],0)","v":0},{"$f":"IF(NFI_Expiration=1,IF($A331<VLOOKUP(M$5,NFI,5,0),1,0)*Table_NFI[[#This Row],[Blanket]],0)","v":0},{"$f":"IF(NFI_Expiration=1,IF($A331<VLOOKUP(N$5,NFI,5,0),1,0)*Table_NFI[[#This Row],[Kitchen Set]],0)","v":0},{"$f":"IF(NFI_Expiration=1,IF($A331<VLOOKUP(O$5,NFI,5,0),1,0)*Table_NFI[[#This Row],[Complementary Kit]],0)","v":0},{"$f":"IF(NFI_Expiration=1,IF($A331<VLOOKUP(P$5,NFI,5,0),1,0)*Table_NFI[[#This Row],[Plastic Bucket]],0)","v":0},{"$f":"IF(NFI_Expiration=1,IF($A331<VLOOKUP(Q$5,NFI,5,0),1,0)*Table_NFI[[#This Row],[Plastic Mat]],0)","v":0},{"$f":"VLOOKUP(Table_NFI[[#This Row],[Camp Name]],'Camp List'!N$5:Z$347,2,0)","v":"MMR001CMP160"},{"$f":"VLOOKUP(Table_NFI[[#This Row],[Camp Name]],'Camp List'!N$5:Z$347,13,0)","v":"Open"}]
[2.6333333333333333,"2013-05-14","DFID","KMSS","Kachin","Waingmaw","Border Post 8",604,null,null,null,null,null,null,null,null,null,{"$f":"IF(NFI_Expiration=1,IF($A332<VLOOKUP(H$5,NFI,5,0),1,0)*Table_NFI[[#This Row],[Hygiene Kit]],0)","v":604},{"$f":"IF(NFI_Expiration=1,IF($A332<VLOOKUP(I$5,NFI,5,0),1,0)*Table_NFI[[#This Row],[NFI Core Kit]],0)","v":0},{"$f":"IF(NFI_Expiration=1,IF($A332<VLOOKUP(J$5,NFI,5,0),1,0)*Table_NFI[[#This Row],[Sanitary Kit]],0)","v":0},{"$f":"IF(NFI_Expiration=1,IF($A332<VLOOKUP(K$5,NFI,5,0),1,0)*Table_NFI[[#This Row],[Mosquito net]],0)","v":0},{"$f":"IF(NFI_Expiration=1,IF($A332<VLOOKUP(L$5,NFI,5,0),1,0)*Table_NFI[[#This Row],[Tarpaulin]],0)","v":0},{"$f":"IF(NFI_Expiration=1,IF($A332<VLOOKUP(M$5,NFI,5,0),1,0)*Table_NFI[[#This Row],[Blanket]],0)","v":0},{"$f":"IF(NFI_Expiration=1,IF($A332<VLOOKUP(N$5,NFI,5,0),1,0)*Table_NFI[[#This Row],[Kitchen Set]],0)","v":0},{"$f":"IF(NFI_Expiration=1,IF($A332<VLOOKUP(O$5,NFI,5,0),1,0)*Table_NFI[[#This Row],[Complementary Kit]],0)","v":0},{"$f":"IF(NFI_Expiration=1,IF($A332<VLOOKUP(P$5,NFI,5,0),1,0)*Table_NFI[[#This Row],[Plastic Bucket]],0)","v":0},{"$f":"IF(NFI_Expiration=1,IF($A332<VLOOKUP(Q$5,NFI,5,0),1,0)*Table_NFI[[#This Row],[Plastic Mat]],0)","v":0},{"$f":"VLOOKUP(Table_NFI[[#This Row],[Camp Name]],'Camp List'!N$5:Z$347,2,0)","v":"MMR001CMP113"},{"$f":"VLOOKUP(Table_NFI[[#This Row],[Camp Name]],'Camp List'!N$5:Z$347,13,0)","v":"Open"}]
[{"$f":"IF(ISBLANK(B350),\"\",(TODAY()-B350)/30)","v":""}]
[""]
[""]
[""]
[""]
[""]
[""]
[""]
[""]
[""]
[""]
[""]
[""]
[""]
[""]
[""]
[""]
[""]
[""]
[""]
[""]
[""]
[""]
[""]
[""]
[""]
[""]
[""]
[""]
[""]
[""]
[""]
[""]
[""]
[""]
[""]
[""]
[""]
[""]
[""]
[""]
[""]
[""]
[""]
[""]
[""]
[""]
[""]
[""]
[""]
[""]
[""]
[""]
[""]
[""]
[""]
[""]
[""]
[""]
[{"$f":"IF(ISBLANK(B409),\"\",(TODAY()-B409)/30)","v":""}]
[""]
[""]
[""]
[""]
[""]
[""]
[""]
[""]
[""]
[""]
[""]
[""]
[""]
[""]
[""]
[""]
[""]
[""]
[""]
[""]
[""]
[""]
[""]
[""]
[""]
[""]
[""]
[""]
[""]
[""]
[""]
[""]
[""]
[""]
[""]
[""]
[""]
[""]
[""]
[""]
[""]
[""]
[""]
[""]
[""]
[""]
[""]
[""]
[""]
[""]
[""]
[""]
[""]
[""]
[""]
[""]
[""]
[""]
[""]
[""]
[""]
[""]
[""]
[{"$f":"IF(ISBLANK(B473),\"\",(TODAY()-B473)/30)","v":""}]
[""]
[""]
[""]
[""]
[""]
[""]
[""]
[""]
[""]
[""]
[""]
[""]
[""]
[""]
[""]
[""]
[""]
[""]
[""]
[""]
[""]
[""]
[""]
[""]
[""]
[""]
[""]
[""]
[""]
[""]
[""]
[""]
[""]
[""]
[""]
[""]
[""]
[""]
[""]
[""]
[""]
[""]
[""]
[""]
[""]
[""]
[""]
[""]
[""]
[""]
[""]
[""]
[""]
[""]
[""]
[""]
[""]
[""]
[""]
[""]
[""]
[""]
[""]
[{"$f":"IF(ISBLANK(B537),\"\",(TODAY()-B537)/30)","v":""}]
[""]
[""]
[""]
[""]
[""]
[""]
[""]
[""]
[""]
[""]
[""]
[""]
[""]
[""]
[""]
[""]
[""]
[""]
[""]
[""]
[""]
[""]
[""]
[""]
[""]
[""]
[""]
[""]
[""]
[""]
[""]
[""]
[""]
[""]
[""]
[""]
[""]
[""]
[""]
[""]
[""]
[""]
[""]
[""]
[""]
[""]
[""]
[""]
[""]
[""]
[""]
[""]
[""]
[""]
[""]
[""]
[""]
[""]
[""]
[""]
[""]
[""]
[""]
[{"$f":"IF(ISBLANK(B601),\"\",(TODAY()-B601)/30)","v":""}]
[""]
[""]
[""]
[""]
[""]
[""]
[""]
[""]
[""]
[""]
[""]
[""]
[""]
[""]
[""]
[""]
[""]
[""]
[""]
[""]
[""]
[""]
[""]
[""]
[""]
[""]
[""]
[""]
[""]
[""]
[""]
[""]
[""]
[""]
[""]
[""]
[""]
[""]
[""]
[""]
[""]
[""]
[""]
[""]
[""]
[""]
[""]
[""]
[""]
[""]
[""]
[""]
[""]
[""]
[""]
[""]
[""]
[""]
[""]
[""]
[""]
[""]
[""]
[{"$f":"IF(ISBLANK(B665),\"\",(TODAY()-B665)/30)","v":""}]
[""]
[""]
[""]
[""]
[""]
[""]
[""]
[""]
[""]
[""]
[""]
[""]
[""]
[""]
[""]
[""]
[""]
[""]
[""]
[""]
[""]
[""]
[""]
[""]
[""]
[""]
[""]
[""]
[""]
[""]
[""]
[""]
[""]
[""]
[""]
[""]
[""]
[""]
[""]
[""]
[""]
[""]
[""]
[""]
[""]
[""]
[""]
[""]
[""]
[""]
[""]
[""]
[""]
[""]
[""]
[""]
[""]
[""]
[""]
[""]
[""]
[""]
[""]
[{"$f":"IF(ISBLANK(B729),\"\",(TODAY()-B729)/30)","v":""}]
[""]
[""]
[""]
[""]
[""]
[""]
[""]
[""]
[""]
[""]
[""]
[""]
[""]
[""]
[""]
[""]
[""]
[""]
[""]
[""]
[""]
[""]
[""]
[""]
[""]
[""]
[""]
[""]
[""]
[""]
[""]
[""]
[""]
[""]
[""]
[""]
[""]
[""]
[""]
[""]
[""]
[""]
[""]
[""]
[""]
[""]
[""]
[""]
[""]
[""]
[""]
[""]
[""]
[""]
[""]
[""]
[""]
[""]
[""]
[""]
[""]
[""]
[""]
[{"$f":"IF(ISBLANK(B793),\"\",(TODAY()-B793)/30)","v":""}]
[""]
[""]
[""]
[""]
[""]
[""]
[""]
[""]
[""]
[""]
[""]
[""]
[""]
[""]
[""]
[""]
[""]
[""]
[""]
[""]
[""]
[""]
[""]
[""]
[""]
[""]
[""]
[""]
[""]
[""]
[""]
[""]
[""]
[""]
[""]
[""]
[""]
[""]
[""]
[""]
[""]
[""]
[""]
[""]
[""]
[""]
[""]
[""]
[""]
[""]
[""]
[""]
[""]
[""]
[""]
[""]
[""]
[""]
[""]
[""]
[""]
[""]
[""]
[{"$f":"IF(ISBLANK(B857),\"\",(TODAY()-B857)/30)","v":""}]
[""]
[""]
[""]
[""]
[""]
[""]
[""]
[""]
[""]
[""]
[""]
[""]
[""]
[""]
[""]
[""]
[""]
[""]
[""]
[""]
[""]
[""]
[""]
[""]
[""]
[""]
[""]
[""]
[""]
[""]
[""]
[""]
[""]
[""]
[""]
[""]
[""]
[""]
[""]
[""]
[""]
[""]
[""]
[""]
[""]
[""]
[""]
[""]
[""]
[""]
[""]
[""]
[""]
[""]
[""]
[""]
[""]
[""]
[""]
[""]
[""]
[""]
[""]
[{"$f":"IF(ISBLANK(B921),\"\",(TODAY()-B921)/30)","v":""}]
[""]
[""]
[""]
[""]
[""]
[""]
[""]
[""]
[""]
[""]
[""]
[""]
[""]
[""]
[""]
[""]
[""]
[""]
[""]
[""]
[""]
[""]
[""]
[""]
[""]
[""]
[""]
[""]
[""]
[""]
[""]
[""]
[""]
[""]
[""]
[""]
[""]
[""]
[""]
[""]
[""]
[""]
[""]
[""]
[""]
[""]
[""]
[""]
[""]
[""]
[""]
[""]
[""]
[""]
[""]
[""]
[""]
[""]
[""]
[""]
[""]
[""]
[""]
[{"$f":"IF(ISBLANK(B985),\"\",(TODAY()-B985)/30)","v":""}]
[""]
[""]
[""]
[""]
[""]
[""]
[""]
[""]
[""]
[""]
[""]
[""]
[""]
[""]
[""]
[""]
[""]
[""]
[""]
[""]
[""]
[""]
[""]
[""]
[""]
[""]
[""]
[""]
[""]
[""]
[""]
[""]
[""]
[""]
[""]
[""]
[""]
[""]
[""]
[""]
[""]
[""]
[""]
[""]
[""]
[""]
[""]
[""]
[""]
[""]
[""]
[""]
[""]
[""]
[""]
[""]
[""]
[""]
[""]
[""]
[""]
[""]
[""]
[{"$f":"IF(ISBLANK(B1049),\"\",(TODAY()-B1049)/30)","v":""}]
[""]
[""]
[""]
[""]
[""]
[""]
[""]
[""]
[""]
[""]
[""]
[""]
[""]
[""]
[""]
[""]
[""]
[""]
[""]
[""]
[""]
[""]
[""]
[""]
[""]
[""]
[""]
[""]
[""]
[""]
[""]
[""]
[""]
[""]
[""]
[""]
[""]

{"sheet":"NFI Pipeline","index":10,"n_rows":8,"n_cols":35,"rows_kept":8,"cut":false,"hidden":false,"merged":[[2,0,2,2],[3,32,3,34],[3,23,3,25],[3,20,3,22],[3,4,4,4],[3,3,4,3],[3,1,4,1],[3,0,4,0],[3,17,3,19],[3,14,3,16],[3,11,3,13],[3,5,3,7],[3,8,3,10],[3,29,3,31],[3,26,3,28]]}
[]
["KACHIN & NORTHERN SHAN NFI PIPELINE"]
[{"$f":"Report_Date","v":"2013-08-01"}]
["Date Updated","Organization",null,"State","Township","Hygiene Family Kit",null,null,"NFI Core Kit",null,null,"Women's Sanitary Kit",null,null,"Mosquito Nets",null,null,"Tarpaulins",null,null,"Blanket",null,null,"Kitchen Set",null,null,"Compalimentary Kits",null,null,"Plastic Bucket",null,null,"Plastic Mat"]
[null,null,"Implementing Partner",null,null,"Stock Balance","Pipeline","ETA","Stock Balance","Pipeline","ETA","Stock Balance","Pipeline","ETA","Stock Balance","Pipeline","ETA","Stock Balance","Pipeline","ETA","Stock Balance","Pipeline","ETA","Stock Balance","Pipeline","ETA","Stock Balance","Pipeline","ETA","Stock Balance","Pipeline","ETA","Stock Balance","Pipeline","ETA"]
[41487,"UNHCR","UNHCR","Kachin","Hpa-an",null,null,null,null,null,null,0,null,null,1180,null,null,1065,null,null,601,null,null,222,null,null,0]
[41487,"UNHCR","UNHCR","Kachin","Myitkyina",null,null,null,null,null,null,6602,null,null,3557,1,null,2228,null,null,3434,313,null,1775,1,null,1705]
[41487,"UNHCR","UNHCR","Kachin","Bhamo",null,null,null,null,null,null,2134,null,null,5111,null,null,2848,null,null,4454,null,null,2214,null,null,2170]

{"sheet":"NFI Distribution (by Tship)","index":11,"n_rows":78,"n_cols":15,"rows_kept":78,"cut":false,"hidden":false,"merged":[[1,0,1,7],[2,0,2,7],[3,0,4,0],[3,1,4,1],[3,2,4,2],[27,11,27,14],[27,0,28,0],[27,1,28,1],[27,2,28,2],[27,3,27,6],[27,7,27,10]]}
[]
["KACHIN & NORTHERN SHAN NFI DISTRIBUTION (BY TOWNSHIP)"]
[{"$f":"Report_Date","v":"2013-08-01"}]
["Township","Total # of HH","Total # of Population","Mosquito Net","Tarpaulin","Blanket","Kitchen Set","Complemantary Kit","Plastic Bucket","Plastic Mat"]
[null,null,null,"Dist.","Dist.","Dist.","Dist.","Dist.","Dist.","Dist."]
["Bhamo",{"$f":"SUMIFS(Camplist_HH,Camplist_Township,'NFI Distribution (by Tship)'!$A6,Camplist_Type_Of_Acc,\"Camp\")","v":1002},{"$f":"SUMIFS(Camplist_Popl,Camplist_Township,'NFI Distribution (by Tship)'!$A6,Camplist_Type_Of_Acc,\"Camp\")","v":4529},{"$f":"SUMIF(NFI_Township,$A6,NFI_Mosquito_Track)","v":334},{"$f":"SUMIF(NFI_Township,$A6,NFI_Tarpaulin_Track)","v":178},{"$f":"SUMIF(NFI_Township,$A6,NFI_Blanket_Track)","v":407},{"$f":"SUMIF(NFI_Township,$A6,NFI_Kitchen_Track)","v":178},{"$f":"SUMIF(NFI_Township,$A6,NFI_Complementary_Track)","v":178},{"$f":"SUMIF(NFI_Township,$A6,NFI_Plastic_Bucket_Track)","v":178},{"$f":"SUMIF(NFI_Township,$A6,NFI_Plastic_Mat_Track)","v":178}]
["Chipwi",{"$f":"SUMIFS(Camplist_HH,Camplist_Township,'NFI Distribution (by Tship)'!$A7,Camplist_Type_Of_Acc,\"Camp\")","v":637},{"$f":"SUMIFS(Camplist_Popl,Camplist_Township,'NFI Distribution (by Tship)'!$A7,Camplist_Type_Of_Acc,\"Camp\")","v":3062},387,152,387,152,152,152,152]
["Hpakant",{"$f":"SUMIFS(Camplist_HH,Camplist_Township,'NFI Distribution (by Tship)'!$A8,Camplist_Type_Of_Acc,\"Camp\")","v":1330},{"$f":"SUMIFS(Camplist_Popl,Camplist_Township,'NFI Distribution (by Tship)'!$A8,Camplist_Type_Of_Acc,\"Camp\")","v":5075},1784,1035,2252,1037,1449,1449,1449]
["Hseni",{"$f":"SUMIFS(Camplist_HH,Camplist_Township,'NFI Distribution (by Tship)'!$A9,Camplist_Type_Of_Acc,\"Camp\")","v":50},{"$f":"SUMIFS(Camplist_Popl,Camplist_Township,'NFI Distribution (by Tship)'!$A9,Camplist_Type_Of_Acc,\"Camp\")","v":258},133,47,133,47,47,47,47]
["Injangyang",{"$f":"SUMIFS(Camplist_HH,Camplist_Township,'NFI Distribution (by Tship)'!$A10,Camplist_Type_Of_Acc,\"Camp\")","v":0},{"$f":"SUMIFS(Camplist_Popl,Camplist_Township,'NFI Distribution (by Tship)'!$A10,Camplist_Type_Of_Acc,\"Camp\")","v":0},0,0,0,0,0,0,0]
["Khaunglanhpu",{"$f":"SUMIFS(Camplist_HH,Camplist_Township,'NFI Distribution (by Tship)'!$A11,Camplist_Type_Of_Acc,\"Camp\")","v":22},{"$f":"SUMIFS(Camplist_Popl,Camplist_Township,'NFI Distribution (by Tship)'!$A11,Camplist_Type_Of_Acc,\"Camp\")","v":107},0,0,0,0,0,0,0]
["Kutkai",{"$f":"SUMIFS(Camplist_HH,Camplist_Township,'NFI Distribution (by Tship)'!$A12,Camplist_Type_Of_Acc,\"Camp\")","v":513},{"$f":"SUMIFS(Camplist_Popl,Camplist_Township,'NFI Distribution (by Tship)'!$A12,Camplist_Type_Of_Acc,\"Camp\")","v":2416},868,345,868,345,345,345,345]
["Mansi",{"$f":"SUMIFS(Camplist_HH,Camplist_Township,'NFI Distribution (by Tship)'!$A13,Camplist_Type_Of_Acc,\"Camp\")","v":1954},{"$f":"SUMIFS(Camplist_Popl,Camplist_Township,'NFI Distribution (by Tship)'!$A13,Camplist_Type_Of_Acc,\"Camp\")","v":10303},221,183,221,183,183,183,183]
["Manton",{"$f":"SUMIFS(Camplist_HH,Camplist_Township,'NFI Distribution (by Tship)'!$A14,Camplist_Type_Of_Acc,\"Camp\")","v":69},{"$f":"SUMIFS(Camplist_Popl,Camplist_Township,'NFI Distribution (by Tship)'!$A14,Camplist_Type_Of_Acc,\"Camp\")","v":330},231,101,231,101,101,101,101]
["Mogaung",{"$f":"SUMIFS(Camplist_HH,Camplist_Township,'NFI Distribution (by Tship)'!$A15,Camplist_Type_Of_Acc,\"Camp\")","v":45},{"$f":"SUMIFS(Camplist_Popl,Camplist_Township,'NFI Distribution (by Tship)'!$A15,Camplist_Type_Of_Acc,\"Camp\")","v":187},0,0,0,0,0,0,0]
["Mohnyin",{"$f":"SUMIFS(Camplist_HH,Camplist_Township,'NFI Distribution (by Tship)'!$A16,Camplist_Type_Of_Acc,\"Camp\")","v":34},{"$f":"SUMIFS(Camplist_Popl,Camplist_Township,'NFI Distribution (by Tship)'!$A16,Camplist_Type_Of_Acc,\"Camp\")","v":144},0,0,0,0,0,0,0]
["Momauk",{"$f":"SUMIFS(Camplist_HH,Camplist_Township,'NFI Distribution (by Tship)'!$A17,Camplist_Type_Of_Acc,\"Camp\")","v":4096},{"$f":"SUMIFS(Camplist_Popl,Camplist_Township,'NFI Distribution (by Tship)'!$A17,Camplist_Type_Of_Acc,\"Camp\")","v":19697},833,363,833,363,363,363,363]
["Muse",{"$f":"SUMIFS(Camplist_HH,Camplist_Township,'NFI Distribution (by Tship)'!$A18,Camplist_Type_Of_Acc,\"Camp\")","v":208},{"$f":"SUMIFS(Camplist_Popl,Camplist_Township,'NFI Distribution (by Tship)'!$A18,Camplist_Type_Of_Acc,\"Camp\")","v":882},60,30,60,30,30,30,30]
["Myitkyina",{"$f":"SUMIFS(Camplist_HH,Camplist_Township,'NFI Distribution (by Tship)'!$A19,Camplist_Type_Of_Acc,\"Camp\")","v":1378},{"$f":"SUMIFS(Camplist_Popl,Camplist_Township,'NFI Distribution (by Tship)'!$A19,Camplist_Type_Of_Acc,\"Camp\")","v":6503},849,380,849,379,379,379,379]
["Namhkan",{"$f":"SUMIFS(Camplist_HH,Camplist_Township,'NFI Distribution (by Tship)'!$A20,Camplist_Type_Of_Acc,\"Camp\")","v":360},{"$f":"SUMIFS(Camplist_Popl,Camplist_Township,'NFI Distribution (by Tship)'!$A20,Camplist_Type_Of_Acc,\"Camp\")","v":1497},849,371,849,371,371,371,371]
["Namtu",{"$f":"SUMIFS(Camplist_HH,Camplist_Township,'NFI Distribution (by Tship)'!$A21,Camplist_Type_Of_Acc,\"Camp\")","v":177},{"$f":"SUMIFS(Camplist_Popl,Camplist_Township,'NFI Distribution (by Tship)'!$A21,Camplist_Type_Of_Acc,\"Camp\")","v":807},378,160,378,160,160,160,160]
["Puta-O",{"$f":"SUMIFS(Camplist_HH,Camplist_Township,'NFI Distribution (by Tship)'!$A22,Camplist_Type_Of_Acc,\"Camp\")","v":7},{"$f":"SUMIFS(Camplist_Popl,Camplist_Township,'NFI Distribution (by Tship)'!$A22,Camplist_Type_Of_Acc,\"Camp\")","v":15},0,0,0,0,0,{"$f":"SUMIF(NFI_Township,$A22,NFI_Plastic_Bucket_Track)","v":0},0]
["Shwegu",{"$f":"SUMIFS(Camplist_HH,Camplist_Township,'NFI Distribution (by Tship)'!$A23,Camplist_Type_Of_Acc,\"Camp\")","v":526},{"$f":"SUMIFS(Camplist_Popl,Camplist_Township,'NFI Distribution (by Tship)'!$A23,Camplist_Type_Of_Acc,\"Camp\")","v":2128},0,0,83,0,0,0,0]
["Sumprabum",{"$f":"SUMIFS(Camplist_HH,Camplist_Township,'NFI Distribution (by Tship)'!$A24,Camplist_Type_Of_Acc,\"Camp\")","v":8},{"$f":"SUMIFS(Camplist_Popl,Camplist_Township,'NFI Distribution (by Tship)'!$A24,Camplist_Type_Of_Acc,\"Camp\")","v":38},0,0,0,0,0,0,0]
["Waingmaw",{"$f":"SUMIFS(Camplist_HH,Camplist_Township,'NFI Distribution (by Tship)'!$A25,Camplist_Type_Of_Acc,\"Camp\")","v":5245},{"$f":"SUMIFS(Camplist_Popl,Camplist_Township,'NFI Distribution (by Tship)'!$A25,Camplist_Type_Of_Acc,\"Camp\")","v":23482},591,299,591,287,279,279,279]
["Total",{"$f":"SUM(B6:B25)","v":17661},81460,7518,3644,8142,3633,4037,4037,4037]
[]
["Township","Total # of HH","Total # of Population","Hygiene Kit",null,null,null,"NFI Core Kit",null,null,null,"Sanitary Kit"]
[null,null,null,"Dist.","Instock","Pipeline","Gap (HH)","Dist.","Instock","Pipeline","Gap (HH)","Dist.","Instock","Pipeline","Gap (HH)"]
["Bhamo",{"$f":"SUMIF(Camplist_Township,'NFI Distribution (by Tship)'!$A30,Camplist_HH)","v":1286},{"$f":"SUMIF(Camplist_Township,'NFI Distribution (by Tship)'!$A30,Camplist_Popl)","v":5828},{"$f":"SUMIF(NFI_Township,$A30,NFI_Hygiene_Track)","v":0},{"$f":"SUMIF(NFI_Pipeline_Township,$A30,NFI_Hygiene_Stock)","v":0},{"$f":"SUMIF(NFI_Pipeline_Township,$A28,NFI_Hygiene_Pipeline)","v":0},{"$f":"IF(B30-(D30+E30+F30)<0,0,B30-(D30+E30+F30))","v":1286},{"$f":"SUMIF(NFI_Township,$A30,NFI_Core_Track)","v":0},{"$f":"SUMIF(NFI_Pipeline_Township,$A30,NFI_Core_Stock)","v":0},{"$f":"SUMIF(NFI_Pipeline_Township,$A28,NFI_Core_Pipeline)","v":0},{"$f":"IF(B30-(H30+I30+J30)<0,0,B30-(H30+I30+J30))","v":1286},{"$f":"SUMIF(NFI_Township,$A30,NFI_Sanitary_Track)","v":0},{"$f":"SUMIF(NFI_Pipeline_Township,$A30,NFI_Sanitary_Stock)","v":2134},{"$f":"SUMIF(NFI_Pipeline_Township,$A28,NFI_Sanitary_Pipeline)","v":0},{"$f":"IF(B30-(L30+M30+N30)<0,0,B30-(L30+M30+N30))","v":0}]
["Chipwi",{"$f":"SUMIF(Camplist_Township,'NFI Distribution (by Tship)'!$A31,Camplist_HH)","v":637},{"$f":"SUMIF(Camplist_Township,'NFI Distribution (by Tship)'!$A31,Camplist_Popl)","v":3062},545,0,0,92,0,0,0,637,148,0,0,489]
["Hpakant",{"$f":"SUMIF(Camplist_Township,'NFI Distribution (by Tship)'!$A32,Camplist_HH)","v":1330},{"$f":"SUMIF(Camplist_Township,'NFI Distribution (by Tship)'!$A32,Camplist_Popl)","v":5075},920,0,0,410,0,0,0,1330,1614,0,0,0]
["Hseni",{"$f":"SUMIF(Camplist_Township,'NFI Distribution (by Tship)'!$A33,Camplist_HH)","v":50},{"$f":"SUMIF(Camplist_Township,'NFI Distribution (by Tship)'!$A33,Camplist_Popl)","v":258},0,0,0,50,0,0,0,50,94,0,0,0]
["Injangyang",{"$f":"SUMIF(Camplist_Township,'NFI Distribution (by Tship)'!$A34,Camplist_HH)","v":0},{"$f":"SUMIF(Camplist_Township,'NFI Distribution (by Tship)'!$A34,Camplist_Popl)","v":0},0,0,0,0,0,0,0,0,0,0,0,0]
["Khaunglanhpu",{"$f":"SUMIF(Camplist_Township,'NFI Distribution (by Tship)'!$A35,Camplist_HH)","v":22},{"$f":"SUMIF(Camplist_Township,'NFI Distribution (by Tship)'!$A35,Camplist_Popl)","v":107},0,0,0,22,0,0,0,22,0,0,0,22]
["Kutkai",{"$f":"SUMIF(Camplist_Township,'NFI Distribution (by Tship)'!$A36,Camplist_HH)","v":513},{"$f":"SUMIF(Camplist_Township,'NFI Distribution (by Tship)'!$A36,Camplist_Popl)","v":2416},0,0,0,513,0,0,0,513,629,0,0,0]
["Mansi",{"$f":"SUMIF(Camplist_Township,'NFI Distribution (by Tship)'!$A37,Camplist_HH)","v":2574},{"$f":"SUMIF(Camplist_Township,'NFI Distribution (by Tship)'!$A37,Camplist_Popl)","v":12707},0,0,0,2574,0,0,0,2574,221,0,0,2353]
["Manton",{"$f":"SUMIF(Camplist_Township,'NFI Distribution (by Tship)'!$A38,Camplist_HH)","v":69},{"$f":"SUMIF(Camplist_Township,'NFI Distribution (by Tship)'!$A38,Camplist_Popl)","v":330},0,0,0,69,0,0,0,69,142,0,0,0]
["Mogaung",{"$f":"SUMIF(Camplist_Township,'NFI Distribution (by Tship)'!$A39,Camplist_HH)","v":45},{"$f":"SUMIF(Camplist_Township,'NFI Distribution (by Tship)'!$A39,Camplist_Popl)","v":187},0,0,0,45,0,0,0,45,0,0,0,45]
["Mohnyin",{"$f":"SUMIF(Camplist_Township,'NFI Distribution (by Tship)'!$A40,Camplist_HH)","v":34},{"$f":"SUMIF(Camplist_Township,'NFI Distribution (by Tship)'!$A40,Camplist_Popl)","v":144},0,0,0,34,0,0,0,34,0,0,0,34]
["Momauk",{"$f":"SUMIF(Camplist_Township,'NFI Distribution (by Tship)'!$A41,Camplist_HH)","v":4601},{"$f":"SUMIF(Camplist_Township,'NFI Distribution (by Tship)'!$A41,Camplist_Popl)","v":21449},0,0,0,4601,0,0,0,4601,1560,0,0,3041]
["Muse",{"$f":"SUMIF(Camplist_Township,'NFI Distribution (by Tship)'!$A42,Camplist_HH)","v":208},{"$f":"SUMIF(Camplist_Township,'NFI Distribution (by Tship)'!$A42,Camplist_Popl)","v":882},0,0,0,208,0,0,0,208,60,0,0,148]
["Myitkyina",{"$f":"SUMIF(Camplist_Township,'NFI Distribution (by Tship)'!$A43,Camplist_HH)","v":1378},{"$f":"SUMIF(Camplist_Township,'NFI Distribution (by Tship)'!$A43,Camplist_Popl)","v":6503},933,0,0,445,0,0,0,1378,404,6602,0,0]
["Namhkan",{"$f":"SUMIF(Camplist_Township,'NFI Distribution (by Tship)'!$A44,Camplist_HH)","v":360},{"$f":"SUMIF(Camplist_Township,'NFI Distribution (by Tship)'!$A44,Camplist_Popl)","v":1497},0,0,0,360,0,0,0,360,574,0,0,0]
["Namtu",{"$f":"SUMIF(Camplist_Township,'NFI Distribution (by Tship)'!$A45,Camplist_HH)","v":177},{"$f":"SUMIF(Camplist_Township,'NFI Distribution (by Tship)'!$A45,Camplist_Popl)","v":807},0,0,0,177,0,0,0,177,220,0,0,0]
["Puta-O",{"$f":"SUMIF(Camplist_Township,'NFI Distribution (by Tship)'!$A46,Camplist_HH)","v":7},{"$f":"SUMIF(Camplist_Township,'NFI Distribution (by Tship)'!$A46,Camplist_Popl)","v":15},0,0,0,7,0,0,0,7,0,0,0,7]
["Shwegu",{"$f":"SUMIF(Camplist_Township,'NFI Distribution (by Tship)'!$A47,Camplist_HH)","v":535},{"$f":"SUMIF(Camplist_Township,'NFI Distribution (by Tship)'!$A47,Camplist_Popl)","v":2153},0,0,0,535,0,0,0,535,0,0,0,535]
["Sumprabum",{"$f":"SUMIF(Camplist_Township,'NFI Distribution (by Tship)'!$A48,Camplist_HH)","v":8},{"$f":"SUMIF(Camplist_Township,'NFI Distribution (by Tship)'!$A48,Camplist_Popl)","v":38},0,0,0,8,0,0,0,8,0,0,0,8]
["Waingmaw",{"$f":"SUMIF(Camplist_Township,'NFI Distribution (by Tship)'!$A49,Camplist_HH)","v":5611},{"$f":"SUMIF(Camplist_Township,'NFI Distribution (by Tship)'!$A49,Camplist_Popl)","v":27973},2156,0,0,3455,0,0,0,5611,287,0,0,5324]
["Total",{"$f":"SUM(B30:B49)","v":19445},91431,4554,0,0,14891,0,0,0,19445,5953,8736,0,12006]
[]
["State","(All)"]
[]
["Row Labels","Mosquito net ","Tarpaulin ","Blanket ","Kitchen Set ","Complementary Kit ","Plastic Bucket  ","Plastic  Mat"]
["UNHCR",7518,3644,8142,3633,4037,4037,4037]
["Grand Total",7518,3644,8142,3633,4037,4037,4037]
[]
[]
["State","(All)"]
[]
["Row Labels","Mosquito net ","Tarpaulin ","Blanket ","Kitchen Set ","Complementary Kit ","Plastic Bucket  ","Plastic  Mat"]
["Bhamo",334,178,407,178,178,178,178]
["Chipwi",387,152,387,152,152,152,152]
["Hpakant",1784,1035,2252,1037,1449,1449,1449]
["Hseni",133,47,133,47,47,47,47]
["Kutkai",868,345,868,345,345,345,345]
["Mansi",221,183,221,183,183,183,183]
["Manton",231,101,231,101,101,101,101]
["Mogaung",0,0,0,0,0,0,0]
["Mohnyin",0,0,0,0,0,0,0]
["Momauk",833,363,833,363,363,363,363]
["Muse",60,30,60,30,30,30,30]
["Myitkyina",849,380,849,379,379,379,379]
["Namhkan",849,371,849,371,371,371,371]
["Namtu",378,160,378,160,160,160,160]
["Shwegu",0,0,83,0,0,0,0]
["Waingmaw",591,299,591,287,279,279,279]
["Grand Total",7518,3644,8142,3633,4037,4037,4037]

{"sheet":"NFI Covergae & Gaps","index":12,"n_rows":55,"n_cols":16,"rows_kept":55,"cut":false,"hidden":false,"merged":[[1,0,1,7],[2,0,2,7]]}
[null,null,null,null,null,null,null,null,null,null,null,null,null,null,null,1]
["KACHIN & NORTHERN SHAN NFI COVERAGE & GAPS"]
[{"$f":"Report_Date","v":"2013-08-01"}]
[null,"Rakhine",{"$f":"'NFI Distribution (by Tship)'!#REF!","v":{"$error":"#REF!"}},null,null,null,null,null,null,null,null,null,null,null,null,0]
[null,"Main Kits","Quantity/HH","Requirement","Distributed","Distributed","In Stock","In Stock","Requirement","Requirement","Pipeline","Pipeline","Remaining Need","Remaining Need",null,1]
[null,"Hygiene Kit",{"$f":"VLOOKUP($B6,NFI,6,0)","v":1},{"$f":"$C$4*C6","v":{"$error":"#REF!"}},{"$f":"SUMIFS(INDIRECT(VLOOKUP($B6,NFI,2,0)),NFI_State,$B$4)","v":0},{"$f":"IF((E6/D6)>100%,100%,(E6/D6))","v":{"$error":"#REF!"}},{"$f":"SUMIFS(INDIRECT(VLOOKUP($B6,NFI,3,0)),NFI_Pipeline_State,$B$4)","v":0},{"$f":"G6/D6","v":{"$error":"#REF!"}},{"$f":"IF((D6-(SUM(E6:G6)))<0,0,(D6-(SUM(E6:G6))))","v":{"$error":"#REF!"}},{"$f":"I6/D6","v":{"$error":"#REF!"}},{"$f":"SUMIFS(INDIRECT(VLOOKUP($B6,NFI,4,0)),NFI_Pipeline_State,$B$4)","v":0},{"$f":"K6/D6","v":{"$error":"#REF!"}},{"$f":"IF((D6-(E6+G6+K6))<0,0,(D6-(E6+G6+K6)))","v":{"$error":"#REF!"}},{"$f":"M6/D6","v":{"$error":"#REF!"}},null,1]
[null,"NFI Core Kit",{"$f":"VLOOKUP($B7,NFI,6,0)","v":1},{"$f":"$C$4*C7","v":{"$error":"#REF!"}},{"$f":"SUMIFS(INDIRECT(VLOOKUP($B7,NFI,2,0)),NFI_State,$B$4)","v":0},{"$f":"IF((E7/D7)>100%,100%,(E7/D7))","v":{"$error":"#REF!"}},{"$f":"SUMIFS(INDIRECT(VLOOKUP($B7,NFI,3,0)),NFI_Pipeline_State,$B$4)","v":0},{"$f":"G7/D7","v":{"$error":"#REF!"}},{"$f":"IF((D7-(SUM(E7:G7)))<0,0,(D7-(SUM(E7:G7))))","v":{"$error":"#REF!"}},{"$f":"I7/D7","v":{"$error":"#REF!"}},{"$f":"SUMIFS(INDIRECT(VLOOKUP($B7,NFI,4,0)),NFI_Pipeline_State,$B$4)","v":0},{"$f":"K7/D7","v":{"$error":"#REF!"}},{"$f":"IF((D7-(E7+G7+K7))<0,0,(D7-(E7+G7+K7)))","v":{"$error":"#REF!"}},{"$f":"M7/D7","v":{"$error":"#REF!"}},null,1]
[null,"Sanitary Kit",{"$f":"VLOOKUP($B8,NFI,6,0)","v":1},{"$f":"$C$4*C8","v":{"$error":"#REF!"}},{"$f":"SUMIFS(INDIRECT(VLOOKUP($B8,NFI,2,0)),NFI_State,$B$4)","v":0},{"$f":"IF((E8/D8)>100%,100%,(E8/D8))","v":{"$error":"#REF!"}},{"$f":"SUMIFS(INDIRECT(VLOOKUP($B8,NFI,3,0)),NFI_Pipeline_State,$B$4)","v":0},{"$f":"G8/D8","v":{"$error":"#REF!"}},{"$f":"IF((D8-(SUM(E8:G8)))<0,0,(D8-(SUM(E8:G8))))","v":{"$error":"#REF!"}},{"$f":"I8/D8","v":{"$error":"#REF!"}},{"$f":"SUMIFS(INDIRECT(VLOOKUP($B8,NFI,4,0)),NFI_Pipeline_State,$B$4)","v":0},{"$f":"K8/D8","v":{"$error":"#REF!"}},{"$f":"IF((D8-(E8+G8+K8))<0,0,(D8-(E8+G8+K8)))","v":{"$error":"#REF!"}},{"$f":"M8/D8","v":{"$error":"#REF!"}},null,1]
[null,null,null,null,null,null,null,null,null,null,null,null,null,null,null,1]
[null,null,null,null,null,null,null,null,null,null,null,null,null,null,null,1]
[null,"Items (Direct and throug Kits)","Quantity/HH","Requirement","Distributed","Distributed","In Stock","In Stock","Requirement","Requirement","Pipeline","Pipeline","Remaining Need","Remaining Need",null,1]
[null,"Mosquitoe net",{"$f":"VLOOKUP($B12,NFI,6,0)","v":{"$error":"#N/A"}},{"$f":"$C$4*C12","v":{"$error":"#REF!"}},{"$f":"SUMIFS(INDIRECT(VLOOKUP($B12,NFI,2,0)),NFI_State,$B$4)+C12*E$7","v":{"$error":"#N/A"}},{"$f":"IF((E12/D12)>100%,100%,(E12/D12))","v":{"$error":"#N/A"}},{"$f":"SUMIFS(INDIRECT(VLOOKUP($B12,NFI,3,0)),NFI_Pipeline_State,$B$4)+C12*G$7","v":{"$error":"#N/A"}},{"$f":"G12/D12","v":{"$error":"#N/A"}},{"$f":"IF((D12-(SUM(E12:G12)))<0,0,(D12-(SUM(E12:G12))))","v":{"$error":"#REF!"}},{"$f":"I12/D12","v":{"$error":"#REF!"}},{"$f":"SUMIFS(INDIRECT(VLOOKUP($B12,NFI,4,0)),NFI_Pipeline_State,$B$4)++C12*K$7","v":{"$error":"#N/A"}},{"$f":"K12/D12","v":{"$error":"#N/A"}},{"$f":"IF((D12-(E12+G12+K12))<0,0,(D12-(E12+G12+K12)))","v":{"$error":"#REF!"}},{"$f":"M12/D12","v":{"$error":"#REF!"}},null,1]
[null,"Tarpaulin",1,{"$f":"$C$4*C13","v":{"$error":"#REF!"}},{"$f":"SUMIFS(INDIRECT(VLOOKUP($B13,NFI,2,0)),NFI_State,$B$4)+C13*E$7","v":0},{"$error":"#REF!"},0,{"$error":"#REF!"},{"$error":"#REF!"},{"$error":"#REF!"},0,{"$error":"#REF!"},{"$error":"#REF!"},{"$error":"#REF!"},null,1]
[null,"Blanket",2,{"$f":"$C$4*C14","v":{"$error":"#REF!"}},{"$f":"SUMIFS(INDIRECT(VLOOKUP($B14,NFI,2,0)),NFI_State,$B$4)+C14*E$7","v":0},{"$error":"#REF!"},0,{"$error":"#REF!"},{"$error":"#REF!"},{"$error":"#REF!"},0,{"$error":"#REF!"},{"$error":"#REF!"},{"$error":"#REF!"}]
[null,"Kitchen Set",1,{"$f":"$C$4*C15","v":{"$error":"#REF!"}},{"$f":"SUMIFS(INDIRECT(VLOOKUP($B15,NFI,2,0)),NFI_State,$B$4)+C15*E$7","v":0},{"$error":"#REF!"},0,{"$error":"#REF!"},{"$error":"#REF!"},{"$error":"#REF!"},0,{"$error":"#REF!"},{"$error":"#REF!"},{"$error":"#REF!"}]
[null,"Complementary Kit",1,{"$f":"$C$4*C16","v":{"$error":"#REF!"}},{"$f":"SUMIFS(INDIRECT(VLOOKUP($B16,NFI,2,0)),NFI_State,$B$4)","v":0},{"$error":"#REF!"},0,{"$error":"#REF!"},{"$error":"#REF!"},{"$error":"#REF!"},0,{"$error":"#REF!"},{"$error":"#REF!"},{"$error":"#REF!"}]
[null,"Plastic Bucket",1,{"$f":"$C$4*C17","v":{"$error":"#REF!"}},{"$f":"SUMIFS(INDIRECT(VLOOKUP($B17,NFI,2,0)),NFI_State,$B$4)","v":0},{"$error":"#REF!"},0,{"$error":"#REF!"},{"$error":"#REF!"},{"$error":"#REF!"},0,{"$error":"#REF!"},{"$error":"#REF!"},{"$error":"#REF!"}]
[null,"Plastic Mat",1,{"$error":"#REF!"},{"$f":"SUMIFS(INDIRECT(VLOOKUP($B18,NFI,2,0)),NFI_State,$B$4)","v":0},{"$error":"#REF!"},0,{"$error":"#REF!"},{"$error":"#REF!"},{"$error":"#REF!"},0,{"$error":"#REF!"},{"$error":"#REF!"},{"$error":"#REF!"}]
[]
[]
[]
[]
[]
[]
[]
[]
[]
[]
[]
[]
[]
[]
[]
[]
[]
[]
[]
[]
[null,"Kachin",{"$f":"'NFI Distribution (by Tship)'!B26","v":17661}]
[null,"Main Kits","Quantity/HH","Requirement","Distributed","Distributed","In Stock","In Stock","Requirement","Requirement","Pipeline","Pipeline","Remaining Need","Remaining Need",null,1]
[null,"Hygiene Kit",{"$f":"VLOOKUP($B41,NFI,6,0)","v":1},{"$f":"$C$39*C41","v":17661},{"$f":"SUMIFS(INDIRECT(VLOOKUP($B41,NFI,2,0)),NFI_State,\"Kachin\") +SUMIFS(INDIRECT(VLOOKUP($B41,NFI,2,0)),NFI_State,\"Shan (North)\")","v":4554},{"$f":"IF((E41/D41)>100%,100%,(E41/D41))","v":0.25785629352811279},{"$f":"SUMIFS(INDIRECT(VLOOKUP($B41,NFI,3,0)),NFI_Pipeline_State,$B$39)","v":0},{"$f":"G41/D41","v":0},{"$f":"IF((D41-(SUM(E41:G41)))<0,0,(D41-(SUM(E41:G41))))","v":13106.742143706473},{"$f":"I41/D41","v":0.74212910614950867},{"$f":"SUMIFS(INDIRECT(VLOOKUP($B41,NFI,4,0)),NFI_Pipeline_State,$B$39)","v":0},{"$f":"K41/D41","v":0},{"$f":"IF((D41-(E41+G41+K41))<0,0,(D41-(E41+G41+K41)))","v":13107},{"$f":"M41/D41","v":0.74214370647188721},null,1]
[null,"NFI Core Kit",{"$f":"VLOOKUP($B42,NFI,6,0)","v":1},{"$f":"$C$39*C42","v":17661},{"$f":"SUMIFS(INDIRECT(VLOOKUP($B42,NFI,2,0)),NFI_State,\"Kachin\") +SUMIFS(INDIRECT(VLOOKUP($B42,NFI,2,0)),NFI_State,\"Shan (North)\")","v":0},{"$f":"IF((E42/D42)>100%,100%,(E42/D42))","v":0},{"$f":"SUMIFS(INDIRECT(VLOOKUP($B42,NFI,3,0)),NFI_Pipeline_State,$B$39)","v":0},{"$f":"G42/D42","v":0},{"$f":"IF((D42-(SUM(E42:G42)))<0,0,(D42-(SUM(E42:G42))))","v":17661},{"$f":"I42/D42","v":1},{"$f":"SUMIFS(INDIRECT(VLOOKUP($B42,NFI,4,0)),NFI_Pipeline_State,$B$39)","v":0},{"$f":"K42/D42","v":0},{"$f":"IF((D42-(E42+G42+K42))<0,0,(D42-(E42+G42+K42)))","v":17661},{"$f":"M42/D42","v":1},null,1]
[null,"Sanitary Kit",{"$f":"VLOOKUP($B43,NFI,6,0)","v":1},{"$f":"$C$39*C43","v":17661},{"$f":"SUMIFS(INDIRECT(VLOOKUP($B43,NFI,2,0)),NFI_State,\"Kachin\") +SUMIFS(INDIRECT(VLOOKUP($B43,NFI,2,0)),NFI_State,\"Shan (North)\")","v":5174},{"$f":"IF((E43/D43)>100%,100%,(E43/D43))","v":0.29296189343751772},{"$f":"SUMIFS(INDIRECT(VLOOKUP($B43,NFI,3,0)),NFI_Pipeline_State,$B$39)","v":8736},{"$f":"G43/D43","v":0.49464922711058262},{"$f":"IF((D43-(SUM(E43:G43)))<0,0,(D43-(SUM(E43:G43))))","v":3750.7070381065623},{"$f":"I43/D43","v":0.21237229138251301},{"$f":"SUMIFS(INDIRECT(VLOOKUP($B43,NFI,4,0)),NFI_Pipeline_State,$B$39)","v":0},{"$f":"K43/D43","v":0},{"$f":"IF((D43-(E43+G43+K43))<0,0,(D43-(E43+G43+K43)))","v":3751},{"$f":"M43/D43","v":0.21238887945189966},null,1]
[null,null,null,null,null,null,null,null,null,null,null,null,null,null,null,1]
[null,null,null,null,null,null,null,null,null,null,null,null,null,null,null,1]
[null,null,null,null,null,null,null,null,null,null,null,null,null,null,null,1]
[null,null,null,null,null,null,null,null,null,null,null,null,null,null,null,1]
[null,"Items (Direct and through Kits)","Quantity/HH","# Requirement","# Distributed","% Distributed","# In Stock","% In Stock","# Requirement","% Requirement","# Pipeline","% Pipeline","# Remaining Need","% Remaining Need",null,1]
[null,"Mosquito net",{"$f":"VLOOKUP($B49,NFI,6,0)","v":2},{"$f":"$C$39*C49","v":35322},{"$f":"SUMIFS(INDIRECT(VLOOKUP($B49,NFI,2,0)),NFI_State,\"Kachin\") +SUMIFS(INDIRECT(VLOOKUP($B49,NFI,2,0)),NFI_State,\"Shan (North)\")","v":6739},{"$f":"IF((E49/D49)>100%,100%,(E49/D49))","v":0.1907876111205481},{"$f":"SUMIFS(INDIRECT(VLOOKUP($B49,NFI,3,0)),NFI_Pipeline_State,$B$39)","v":9848},{"$f":"G49/D49","v":0.27880640960308023},{"$f":"IF((D49-(SUM(E49:G49)))<0,0,(D49-(SUM(E49:G49))))","v":18734.809212388878},{"$f":"I49/D49","v":0.53040057789448158},{"$f":"SUMIFS(INDIRECT(VLOOKUP($B49,NFI,4,0)),NFI_Pipeline_State,$B$39)","v":1},{"$f":"K49/D49","v":2.8310967668874922E-5},{"$f":"IF((D49-(E49+G49+K49))<0,0,(D49-(E49+G49+K49)))","v":18734},{"$f":"M49/D49","v":0.53037766830870281}]
[null,"Tarpaulin",1,17661,3254,0.18424777758903799,6141,0.34771530490912178,8265.8157522224101,0.4680264850360914,0,0,8266,0.46803691750184023]
[null,"Blanket",2,35322,7363,0.20845365494592605,8489,0.24033180454107922,19469.791546345055,0.55120863898830919,313,8.8613328803578504E-3,19157,0.54235320763263684]
[null,"Kitchen Set",1,17661,3243,0.18362493630032276,4211,0.2384349697072646,10206.8163750637,0.5779296967931431,1,5.6621935337749844E-5,10206,0.57788347205707491]
[null,"Complementary Kit",1,17661,3647,0.20650019817677367,0,0,14013.793499801823,0.79348810938235792,0,0,14014,0.79349980182322633]
[null,"Plastic Bucket",1,17661,3647,0.20650019817677367,0,0,14013.793499801823,0.79348810938235792,0,0,14014,0.79349980182322633]
[null,"Plastic Mat",1,17661,3647,0.20650019817677367,0,0,14013.793499801823,0.79348810938235792,0,0,14014,0.79349980182322633]

{"sheet":"analysis","index":13,"n_rows":7,"n_cols":20,"rows_kept":7,"cut":false,"hidden":true,"merged":[]}
["Rakhine",null,null,null,null,null,null,null,null,null,null,"Kachin"]
["Org","Hygiene Family Kit","NFI Core Kit","Women's Sanitary Kit","Mosquito Nets","Tarpaulins",null,"Blanket","Kitchen Set","Complementary Kit",null,"Org","Hygiene Family Kit","NFI Core Kit","Women's Sanitary Kit","Mosquito Net","Tarpaulin","Blanket","Kitchen Set","Complementary Kit"]
["DRC",{"$f":"SUMIFS(NFI_Hygiene_Track,NFI_Org,A3,NFI_State,\"Rakhine\")","v":0},{"$f":"SUMIFS(NFI_Core_Track,NFI_Org,A3,NFI_State,\"Rakhine\")","v":0},{"$f":"SUMIFS(NFI_Sanitary_Track,NFI_Org,A3,NFI_State,\"Rakhine\")","v":0},{"$f":"SUMIFS(NFI_Mosquito_Track,NFI_Org,A3,NFI_State,\"Rakhine\")","v":0},{"$f":"SUMIFS(NFI_Tarpaulin_Track,NFI_Org,A3,NFI_State,\"Rakhine\")","v":0},null,{"$f":"SUMIFS(NFI_Blanket_Track,NFI_Org,A3,NFI_State,\"Rakhine\")","v":0},{"$f":"SUMIFS(NFI_Kitchen_Track,NFI_Org,A3,NFI_State,\"Rakhine\")","v":0},{"$f":"SUMIFS(NFI_Complementary_Track,NFI_Org,A3,NFI_State,\"Rakhine\")","v":0},null,"UNHCR",{"$f":"SUMIFS(NFI_Hygiene_Track,NFI_Org,L3,NFI_State,\"Kachin\")","v":0},{"$f":"SUMIFS(NFI_Core_Track,NFI_Org,L3,NFI_State,\"Kachin\")","v":0},{"$f":"SUMIFS(NFI_Sanitary_Track,NFI_Org,L3,NFI_State,\"Kachin\")","v":5174},{"$f":"SUMIFS(NFI_Mosquito_Track,NFI_Org,L3,NFI_State,\"Kachin\")","v":6739},{"$f":"SUMIFS(NFI_Tarpaulin_Track,NFI_Org,L3,NFI_State,\"Kachin\")","v":3254},{"$f":"SUMIFS(NFI_Blanket_Track,NFI_Org,L3,NFI_State,\"Kachin\")","v":7363},{"$f":"SUMIFS(NFI_Kitchen_Track,NFI_Org,L3,NFI_State,\"Kachin\")","v":3243},{"$f":"SUMIFS(NFI_Complementary_Track,NFI_Org,L3,NFI_State,\"Kachin\")","v":3647}]
["KOICAT",{"$f":"SUMIFS(NFI_Hygiene_Track,NFI_Org,A4,NFI_State,\"Rakhine\")","v":0},{"$f":"SUMIFS(NFI_Core_Track,NFI_Org,A4,NFI_State,\"Rakhine\")","v":0},{"$f":"SUMIFS(NFI_Sanitary_Track,NFI_Org,A4,NFI_State,\"Rakhine\")","v":0},{"$f":"SUMIFS(NFI_Mosquito_Track,NFI_Org,A4,NFI_State,\"Rakhine\")","v":0},{"$f":"SUMIFS(NFI_Tarpaulin_Track,NFI_Org,A4,NFI_State,\"Rakhine\")","v":0},null,{"$f":"SUMIFS(NFI_Blanket_Track,NFI_Org,A4,NFI_State,\"Rakhine\")","v":0},{"$f":"SUMIFS(NFI_Kitchen_Track,NFI_Org,A4,NFI_State,\"Rakhine\")","v":0},{"$f":"SUMIFS(NFI_Complementary_Track,NFI_Org,A4,NFI_State,\"Rakhine\")","v":0}]
["UNHCR",{"$f":"SUMIFS(NFI_Hygiene_Track,NFI_Org,A5,NFI_State,\"Rakhine\")","v":0},{"$f":"SUMIFS(NFI_Core_Track,NFI_Org,A5,NFI_State,\"Rakhine\")","v":0},{"$f":"SUMIFS(NFI_Sanitary_Track,NFI_Org,A5,NFI_State,\"Rakhine\")","v":0},{"$f":"SUMIFS(NFI_Mosquito_Track,NFI_Org,A5,NFI_State,\"Rakhine\")","v":0},{"$f":"SUMIFS(NFI_Tarpaulin_Track,NFI_Org,A5,NFI_State,\"Rakhine\")","v":0},null,{"$f":"SUMIFS(NFI_Blanket_Track,NFI_Org,A5,NFI_State,\"Rakhine\")","v":0},{"$f":"SUMIFS(NFI_Kitchen_Track,NFI_Org,A5,NFI_State,\"Rakhine\")","v":0},{"$f":"SUMIFS(NFI_Complementary_Track,NFI_Org,A5,NFI_State,\"Rakhine\")","v":0}]
["Muslim Aid",{"$f":"SUMIFS(NFI_Hygiene_Track,NFI_Org,A6,NFI_State,\"Rakhine\")","v":0},{"$f":"SUMIFS(NFI_Core_Track,NFI_Org,A6,NFI_State,\"Rakhine\")","v":0},{"$f":"SUMIFS(NFI_Sanitary_Track,NFI_Org,A6,NFI_State,\"Rakhine\")","v":0},{"$f":"SUMIFS(NFI_Mosquito_Track,NFI_Org,A6,NFI_State,\"Rakhine\")","v":0},{"$f":"SUMIFS(NFI_Tarpaulin_Track,NFI_Org,A6,NFI_State,\"Rakhine\")","v":0},null,{"$f":"SUMIFS(NFI_Blanket_Track,NFI_Org,A6,NFI_State,\"Rakhine\")","v":0},{"$f":"SUMIFS(NFI_Kitchen_Track,NFI_Org,A6,NFI_State,\"Rakhine\")","v":0},{"$f":"SUMIFS(NFI_Complementary_Track,NFI_Org,A6,NFI_State,\"Rakhine\")","v":0}]
["UNICEF",{"$f":"SUMIFS(NFI_Hygiene_Track,NFI_Org,A7,NFI_State,\"Rakhine\")","v":0},{"$f":"SUMIFS(NFI_Core_Track,NFI_Org,A7,NFI_State,\"Rakhine\")","v":0},{"$f":"SUMIFS(NFI_Sanitary_Track,NFI_Org,A7,NFI_State,\"Rakhine\")","v":0},{"$f":"SUMIFS(NFI_Mosquito_Track,NFI_Org,A7,NFI_State,\"Rakhine\")","v":0},{"$f":"SUMIFS(NFI_Tarpaulin_Track,NFI_Org,A7,NFI_State,\"Rakhine\")","v":0},null,{"$f":"SUMIFS(NFI_Blanket_Track,NFI_Org,A7,NFI_State,\"Rakhine\")","v":0},{"$f":"SUMIFS(NFI_Kitchen_Track,NFI_Org,A7,NFI_State,\"Rakhine\")","v":0},{"$f":"SUMIFS(NFI_Complementary_Track,NFI_Org,A7,NFI_State,\"Rakhine\")","v":0}]

{"sheet":"list","index":14,"n_rows":77,"n_cols":36,"rows_kept":77,"cut":false,"hidden":true,"merged":[]}
["State","Kachin","Shan (North)","Rakhine","Type of Accomodation","Camp_Acessibility","Bhamo","China","Chipwi","Hpakant","Injangyang","Khaunglanhpu","Kutkai","Mansi","Manton","Mogaung","Mohnyin","Momauk","Mong Kar","Muse","Myitkyina","Namhkan","Namtu","Puta-O","Shwegu","Waingmaw","Minbya","Mrauk_U","Meybon","Pauktaw","Kyauktaw","Rathedaung","Kyauk_Phyu","Ramree","Sittwe","Maungdaw"]
["Kachin","Bhamo","Kutkai","Kyauk_Phyu","Collective Center","Accessible by All","AD-2000 Tharthana Compound","Chong Shang Pa","Chipwi KBC camp","1 Ward, Sein Yadanar Company(Lon Khin)","Lawk Hkawng Ginwang","La Ja","Kone Khem Camp","Mung Ding Pa  (Boarder)","Howa","Kyun Taw Baptist Church ","Nant Mun","Bum Tsit Pa ","Hka San Camp","Hpai Kawng Mare","Du Kahtawng Qtr. 14","Mung Ding Pa ","Nam Tu","Tote Tan Ward","Host Families","Border Post 10","Aung Taing","Myat Buddha Mandine Monastery","Kan Thar Htwat Wa","Ah Nauk Ywe","Ah Lel","Ah Htet Nan Yar","Kyauk Ta Lone","Ramree Town","Ar Thaw Ka Yone Monastery","Alima Fara"]
["Rakhine","China","Manton","Kyauktaw","Individual (non hosted)","Accessibility Restricted","Daw Hpum Yang Ninghtawn","Da Bang Chi","Gant Gwin","5 Ward Baptist Church(lon Khin)",null,null,"Kutkai downtown (KBC Church)","Lung Kawk  ( Hka Hkye Zup)","Mandung - Jinghpaw","Mang Hawng Baptist Church","Nawng Ing (Indawgyi) Baptist Church  ","Dum Bung ",null,"Munekoe Pa (Giwang) - Hka San (Mung  Go  Pa ) ","Du Kahtawng Qtr. 4","Nam Hkam Malut Jak ",null,null,"Lawk Awng Mare D. (Sinbo Area)","Border Post 8","Nagara Pauktaw","Pa Rein","Taung Paw ","Ba Wan Chaung Wa Su","Ah Lel Kyun","Ah Nauk Pyin","Pha Yar Gyi Kwin","Ramree Ward 6","Bamgalar A Wa Kune","Baw Di Gone"]
["Shan_North","Chipwi","Muse","Maungdaw","Planned Camp","Not Accessible","Host Families","Dingga  - Nga Nawng Pa","Hpare Hkyer - BP6","5 Ward RC Church(lon Khin)",null,null,"Kutkai downtown (RC Church)","Man Wing Baptist Church","Nam Hkyet","Nat Gyi Kone Baptist Church ","St. Patrick Catholic Church ","Host Families",null,"Mung Baw ","Du Kahtawng Qtr. 5","Nam Hkam - Nay Win Ni (Palawng)",null,null,"Shwe Gu Baptist Church","Hkat Cho ","Paik Thay","Raw Ma Ni Sin Oe",null,"Kyein Ni Pyin","Ah Pauk Wa ","Koe Tan Kauk/Chein Khar Li",null,null,"Basare","Bomu Ywa"]
[null,"Hpakant","Namhkan","Meybon","Privately Hosted",null,"Htoi San Church","Hka Dawng Pa ","Lan Jaw ","AG Church, Hmaw Si Sa",null,null,"Mine Yu Lay village","Man Wing Catholic Church",null,null,null,"Hpun Lum Yang ",null,null,"Jan Mai Kawng Baptist Church","Nam Hkam (KBC Jaw Wang)",null,null,"Shwe Gu Catholic Church","Hkau Shau (BP 12)","Sam Ba Le","Yai Thei-Muslim",null,"Nget Chaung","Goke Pi Htaunt","Nyaung Pin Gyi",null,null,"Baw Du Pha","Du Than Dar"]
[null,"Injangyang","Namtu","Minbya","Self Settled Camp",null,"Kannar Yeik Thar","Hpare  ","Lhaovao Baptist Church (LBC)","AG Church, Maw Wan",null,null,"Mungji Pa Dabang (Baptist Church)         ","Man Wing Host Families",null,null,null,"Je Yang Hka ",null,null,"Jan Mai Kawng Catholic Church","Nam Hkam Catholic Church ( St. Thomas I)",null,null,null,"Laiza Market 3 / Laiza Gat","San Htoe Tan",null,null,"Sin Tet Maw","In Bar Yi",null,null,null,"Baw Du Pha 3","Kan Thar Yar"]
[null,"Khaunglanhpu",null,"Mrauk_U",null,null,"Kannar Yeik Thar","Hpare   (Lisu Mare)","Women's Affairs Association Building","Anglican Church, Hmaw Si Sar",null,null,"Mungji Pa Dabang (RC Church)         ","Mansi Baptist Church",null,null,null,"Lana Zup Ja ",null,null,"Kyun Pin Thar Baptist Church","Nam Hkam Catholic Church ( St. Thomas II)",null,null,null,"Laiza Muklum Hpyen  Yen Mungshawa ni","Tha Dar",null,null,null,"Khaung Htoke",null,null,null,"Boke Daw Maw","Kin Chaung"]
[null,"Mansi",null,"Pauktaw",null,null,"Lisu Boarding-House","Jan Shi",null,"Association of Christ, Nam Ma Phyit",null,null,"Nam Hpak Ka Mare ","Nam Hka Mare (west of Man Wing)",null,null,null,"Loi Je Baptist Church",null,null,"Le Kone Bethlehem Church","Nam Hkawng",null,null,null,"Mading Baptist Church","Tha Yet Oak",null,null,null,"Let Saung Kauk",null,null,null,"Bu May Ohn Taw","Kyaing Gyi"]
[null,"Mogaung",null,"Ramree",null,null,"Mu-yin Baptist Church","La Ying",null,"Away Yar Rama Monastery, Ka Day village",null,null,"Zup Aung Camp","Nam Lim Pa - Scattered IDPs in forest",null,null,null,"Loi Je Catholic Church",null,null,"Le Kone Ziun Baptist Church ",null,null,null,null,"Maga Yang ","Thay Kan",null,null,null,"Nidin",null,null,null,"Bu May Ohn Taw Shore","Lamber Gone Nah"]
[null,"Mohnyin",null,"Rathedaung",null,null,"Nant Hlaing Church","Lahta Masat shadaw (6)",null,"Aye Mya Tharyar Church of Christ ",null,null,null,"Mung Ding Pa  (Boarder)",null,null,null,"Loi Je Lisu Camp",null,null,"Maliyang Baptist Church",null,null,null,null,"Maina AG Church",null,null,null,null,"Shwe Hlaing",null,null,null,"Dak Kaung Monastery","Maw Ya Waddy"]
[null,"Momauk",null,"Sittwe",null,null,"Phan Khar Kone","Lau Shang",null,"Baptist Church, Hmaw Si Sar(Lon Khin)",null,null,null,null,null,null,null,"Mai Khat ",null,null,"Man Hkring Baptist Church",null,null,null,null,"Maina Catholic Church (St. Joseph)",null,null,null,null,"Taung Bwe",null,null,null,"Dama Set Kyar Monastery","Myoma Myauk"]
[null,"Mong Kar",null,null,null,null,"Robert Church","Lauhpai ",null,"Baptist Church, Naung Hmee VT",null,null,null,null,null,null,null,"Man Bung Catholic compound",null,null,"Maw Hpawng Hka Nan Baptist Church",null,null,null,null,"Maina KBC (Bawng Ring)",null,null,null,null,"Yun Nyar",null,null,null,"Dama Yar Ma","Nyaung Pin Hla"]
[null,"Myitkyina",null,null,null,null,"Ta Gun Taing Monastery (Shwe Kyi Na)","Lung Kawk ",null,"Baptist Church, Sai Ra village",null,null,null,null,null,null,null,"Man Nawng ",null,null,"Maw Hpawng Lhaovo Baptist Church",null,null,null,null,"Maina Lawang Baptist Church",null,null,null,null,null,null,null,null,"DamaYeikThar","Tha Yay Kone Baung"]
[null,"Puta-O",null,null,null,null,"Yoe Kyi Monastery","Man Hai ",null,"Chin Church, Seik Mu",null,null,null,null,null,null,null,"Man Ting",null,null,"Myay Myint Baptist Church",null,null,null,null,"Manau Compound",null,null,null,null,null,null,null,null,"Danyawaddy Baw Lone Kwin","Thaung Paing Nyar"]
[null,"Shwegu",null,null,null,null,null,"Na Kawng  ",null,"Chin(Zomi) Baptist Church",null,null,null,null,null,null,null,"Mandalay Monestry",null,null,"Nan Kway St. John Catholic Church",null,null,null,null,"Moke Lwe Village / Hkar Shi",null,null,null,null,null,null,null,null,"Dar Pai","Ywa thit Kay"]
[null,"Waingmaw",null,null,null,null,null,"Pang Wa Ten Htan",null,"Dhama Rakhita, Nyein Chan Tar Yar Ward(Lon Khin)",null,null,null,null,null,null,null,"Momauk Baptist Church",null,null,"Njang Dung Baptist Church ",null,null,null,null,"Nawng Hee Village",null,null,null,null,null,null,null,null,"Dohn Taik Kwin","Wai Thar Li"]
[null,null,null,null,null,null,null,"Quen Hau Hti",null,"Ei Wan Gali Asso., Ward 1, Seik Mu",null,null,null,null,null,null,null,"Momauk Catholic Church (St. Patrick)",null,null,"Nong Pong Camp",null,null,null,null,"Nawng Si Paw Village / Inn Lay",null,null,null,null,null,null,null,null,"Gyit Bak Monastery","Shwe Yin Aye"]
[null,null,null,null,null,null,null,"Shinggan  (Nawng Tau)",null,"Free Christian Asso., Ward 1, Seik Mu",null,null,null,null,null,null,null,"Myo Thit ",null,null,"Pa Dauk Myaing(Pa La Na)",null,null,null,null,"Pajau / Jan Mai",null,null,null,null,null,null,null,null,"Gyit Chay Monastery","Kha Yay Myaing( DPA)"]
[null,null,null,null,null,null,null,"Yang Lu  ",null,"Hlaing Naung Baptist",null,null,null,null,null,null,null,"Nhkawng Pa ",null,null,"Shatapru Sut Ngai Tawng",null,null,null,null,"Post 6 Camp",null,null,null,null,null,null,null,null,"Hmanzi Junction","Kan Pyin Thar Si"]
[null,null,null,null,null,null,null,null,null,"Hmaw Wan, Anglican",null,null,null,null,null,null,null,"Ni Thaw Ka Monestry",null,null,"Shatapru Thida Aye Baptist Church",null,null,null,null,"Qtr. 2 Lhaovo Baptist Church",null,null,null,null,null,null,null,null,"Ka Yu Chaung","Kha Yay Myaing(short legged)"]
[null,null,null,null,null,null,null,null,null,"Hmaw Wan, Baptist Christian Church",null,null,null,null,null,null,null,"Nyaung Na Pin ",null,null,"Shwe Zet Baptist Church",null,null,null,null,"Qtr. 2 Myoma Baptist Church",null,null,null,null,null,null,null,null,"Kaw Nyar Na"]
[null,null,null,null,null,null,null,null,null,"Lisu Baptist Church, Maw Shan Vil,. Seik Mu",null,null,null,null,null,null,null,"Pa Kahtawng ",null,null,"Tat Kone Baptist Church",null,null,null,null,"Qtr. 3 Mu-yin  Baptist Church",null,null,null,null,null,null,null,null,"Kha Maung Taw"]
[null,null,null,null,null,null,null,null,null,"Lisu Baptist Church, Maw Wan Ward",null,null,null,null,null,null,null,"Phar Kay/Nant Waing ",null,null,"Tat Kone COC Baptist / Tat Kone Htoi San",null,null,null,null,"Qtr. 4 Monestry (Thargaya Thayett Taw)",null,null,null,null,null,null,null,null,"Kha Maung Taw Monastery"]
[null,null,null,null,null,null,null,null,null,"Ma Mon Buddhist Monastery",null,null,null,null,null,null,null,"Seng Ja ",null,null,"Tat Kone Emanuel Church",null,null,null,null,"Shing Jai",null,null,null,null,null,null,null,null,"Khaung Doke Khar "]
[null,null,null,null,null,null,null,null,null,"Mashi Kahtawng Baptist  Church",null,null,null,null,null,null,null,"Tarli ",null,null,"Tat Kone Galile Baptist Church",null,null,null,null,"Thargaya Lisu Baptist Church",null,null,null,null,null,null,null,null,"Khaung Laung"]
[null,null,null,null,null,null,null,null,null,"Mashi Kahtawng Catholic Church",null,null,null,null,null,null,null,null,null,null,"Tat Kone San Pya Baptist Church",null,null,null,null,"Waingmaw AG Church",null,null,null,null,null,null,null,null,"Khaymarmandine"]
[null,null,null,null,null,null,null,null,null,"Mashi Kahtawng Evangelical Church",null,null,null,null,null,null,null,null,null,null,"Wun Tho Buddhist Monastery",null,null,null,null,"Waingmaw Baptist Zonal Office",null,null,null,null,null,null,null,null,"Kyar Yoke"]
[null,null,null,null,null,null,null,null,null,"Mashi Kahtawng Municipal Dammar Yone",null,null,null,null,null,null,null,null,null,null,null,null,null,null,null,"Woi Chyai ",null,null,null,null,null,null,null,null,"KyaungGyiLan"]
[null,null,null,null,null,null,null,null,null,"Mashi Kahtawng Myo Oo Taw Ya Monestry",null,null,null,null,null,null,null,null,null,null,null,null,null,null,null,"Zai Awng / Mung Ga Zup",null,null,null,null,null,null,null,null,"Layaungwin Monastery"]
[null,null,null,null,null,null,null,null,null,"Mashi Kahtawng Rakhine traditional group",null,null,null,null,null,null,null,null,null,null,null,null,null,null,null,null,null,null,null,null,null,null,null,null,"Ma Gyi Myaing"]
[null,null,null,null,null,null,null,null,null,"Mashi Kahtawng Shan Traditional Monestry",null,null,null,null,null,null,null,null,null,null,null,null,null,null,null,null,null,null,null,null,null,null,null,null,"Ma Ni Yadanar Monastery"]
[null,null,null,null,null,null,null,null,null,"Mashi Kahtawng Yaung Chi Oo Thi la shin Monestry",null,null,null,null,null,null,null,null,null,null,null,null,null,null,null,null,null,null,null,null,null,null,null,null,"MahaKuthaLa"]
[null,null,null,null,null,null,null,null,null,"Maw Si Zar, Thiriyardanar Sein, Damma Compound, Lone Khin",null,null,null,null,null,null,null,null,null,null,null,null,null,null,null,null,null,null,null,null,null,null,null,null,"Mahar Zay Ya Theik"]
[null,null,null,null,null,null,null,null,null,"Maw Wan, Catholic Church",null,null,null,null,null,null,null,null,null,null,null,null,null,null,null,null,null,null,null,null,null,null,null,null,"Maw Ti Ngar (TKP west)"]
[null,null,null,null,null,null,null,null,null,"Maw Wan, Kachin Baptist Church",null,null,null,null,null,null,null,null,null,null,null,null,null,null,null,null,null,null,null,null,null,null,null,null,"MaYarMaGyi-old"]
[null,null,null,null,null,null,null,null,null,"Maw Wan, Kyauk Hlaing Gu Pagoda Compound",null,null,null,null,null,null,null,null,null,null,null,null,null,null,null,null,null,null,null,null,null,null,null,null,"Mingan"]
[null,null,null,null,null,null,null,null,null,"Maw Wan, Mu-yin Baptist Church",null,null,null,null,null,null,null,null,null,null,null,null,null,null,null,null,null,null,null,null,null,null,null,null,"MinnGanHighSchool"]
[null,null,null,null,null,null,null,null,null,"Maw Wan, Myo Oo Pagoda",null,null,null,null,null,null,null,null,null,null,null,null,null,null,null,null,null,null,null,null,null,null,null,null,"MyaTheinTan"]
[null,null,null,null,null,null,null,null,null,"May Di Ka Rama Monastery(Lon Khin)",null,null,null,null,null,null,null,null,null,null,null,null,null,null,null,null,null,null,null,null,null,null,null,null,"Myo Ma Monastery"]
[null,null,null,null,null,null,null,null,null,"Muring Baptist Church, Awng Ra, Wa Ra Zut VT",null,null,null,null,null,null,null,null,null,null,null,null,null,null,null,null,null,null,null,null,null,null,null,null,"Nyar Ni Kar Ya Ma"]
[null,null,null,null,null,null,null,null,null,"Nant Ma Hpit Catholic Church",null,null,null,null,null,null,null,null,null,null,null,null,null,null,null,null,null,null,null,null,null,null,null,null,"Ohn Taw Gyi 1"]
[null,null,null,null,null,null,null,null,null,"Nga Pyaw Taw Baptist Nursery School ",null,null,null,null,null,null,null,null,null,null,null,null,null,null,null,null,null,null,null,null,null,null,null,null,"Ohn Taw Gyi 2"]
[null,null,null,null,null,null,null,null,null,"Nga Pyaw Taw Roman Catholic Church",null,null,null,null,null,null,null,null,null,null,null,null,null,null,null,null,null,null,null,null,null,null,null,null,"Ohn Taw Gyi 3"]
[null,null,null,null,null,null,null,null,null,"Parami, Charity Office, MyoMa Quarter",null,null,null,null,null,null,null,null,null,null,null,null,null,null,null,null,null,null,null,null,null,null,null,null,"Ohn Taw Gyi 4"]
[null,null,null,null,null,null,null,null,null,"Rawan Baptist Church, Maw Shan Vil., Seik Mu",null,null,null,null,null,null,null,null,null,null,null,null,null,null,null,null,null,null,null,null,null,null,null,null,"Ohn Taw Gyi 5"]
[null,null,null,null,null,null,null,null,null,"Sa Baw Sarsana Parla Monastery",null,null,null,null,null,null,null,null,null,null,null,null,null,null,null,null,null,null,null,null,null,null,null,null,"OhnTaPin"]
[null,null,null,null,null,null,null,null,null,"Sai Nai Baptish Church, Maw Shan Vil., Seki Mu",null,null,null,null,null,null,null,null,null,null,null,null,null,null,null,null,null,null,null,null,null,null,null,null,"Pa Lin Pyin Ywar Thit"]
[null,null,null,null,null,null,null,null,null,"San Kyel, Masoe Yein Monestry",null,null,null,null,null,null,null,null,null,null,null,null,null,null,null,null,null,null,null,null,null,null,null,null,"Phon Nyar Yar Ma"]
[null,null,null,null,null,null,null,null,null,"Tar Ma Hkan Buddhist Monastery, Haung Par",null,null,null,null,null,null,null,null,null,null,null,null,null,null,null,null,null,null,null,null,null,null,null,null,"Phwe Yar Kone"]
[null,null,null,null,null,null,null,null,null,"Thiri Mingalar Manizay Yone, Myoma Quarter",null,null,null,null,null,null,null,null,null,null,null,null,null,null,null,null,null,null,null,null,null,null,null,null,"Phyin Nyar Ag Myay"]
[null,null,null,null,null,null,null,null,null,"Ward 2 Cahotlic Church, Seik Mu",null,null,null,null,null,null,null,null,null,null,null,null,null,null,null,null,null,null,null,null,null,null,null,null,"Pyin Nyar Mandine Monastery"]
[null,null,null,null,null,null,null,null,null,"Ward 2 Sai Taung Baptist Church, Seik Mu ",null,null,null,null,null,null,null,null,null,null,null,null,null,null,null,null,null,null,null,null,null,null,null,null,"PyinNyarLinkarya"]
[null,null,null,null,null,null,null,null,null,"Wrad(5) Christian Association",null,null,null,null,null,null,null,null,null,null,null,null,null,null,null,null,null,null,null,null,null,null,null,null,"Say Tha Mar Gyi"]
[null,null,null,null,null,null,null,null,null,"Yumar Baptist Church",null,null,null,null,null,null,null,null,null,null,null,null,null,null,null,null,null,null,null,null,null,null,null,null,"Set Yone Su"]
[null,null,null,null,null,null,null,null,null,null,null,null,null,null,null,null,null,null,null,null,null,null,null,null,null,null,null,null,null,null,null,null,null,null,"Set Yone Su 3"]
[null,null,null,null,null,null,null,null,null,null,null,null,null,null,null,null,null,null,null,null,null,null,null,null,null,null,null,null,null,null,null,null,null,null,"Shwe Pyar"]
[null,null,null,null,null,null,null,null,null,null,null,null,null,null,null,null,null,null,null,null,null,null,null,null,null,null,null,null,null,null,null,null,null,null,"Shwe Zay Ti Monastery"]
[null,null,null,null,null,null,null,null,null,null,null,null,null,null,null,null,null,null,null,null,null,null,null,null,null,null,null,null,null,null,null,null,null,null,"Sin Ku Lann Monastery"]
[null,null,null,null,null,null,null,null,null,null,null,null,null,null,null,null,null,null,null,null,null,null,null,null,null,null,null,null,null,null,null,null,null,null,"Sit Kae Taw Min"]
[null,null,null,null,null,null,null,null,null,null,null,null,null,null,null,null,null,null,null,null,null,null,null,null,null,null,null,null,null,null,null,null,null,null,"Su Taung Pyae Monastery"]
[null,null,null,null,null,null,null,null,null,null,null,null,null,null,null,null,null,null,null,null,null,null,null,null,null,null,null,null,null,null,null,null,null,null,"TanTan"]
[null,null,null,null,null,null,null,null,null,null,null,null,null,null,null,null,null,null,null,null,null,null,null,null,null,null,null,null,null,null,null,null,null,null,"Tayzindayama"]
[null,null,null,null,null,null,null,null,null,null,null,null,null,null,null,null,null,null,null,null,null,null,null,null,null,null,null,null,null,null,null,null,null,null,"Tha Ma Da ZTK"]
[null,null,null,null,null,null,null,null,null,null,null,null,null,null,null,null,null,null,null,null,null,null,null,null,null,null,null,null,null,null,null,null,null,null,"Thae Chaung"]
[null,null,null,null,null,null,null,null,null,null,null,null,null,null,null,null,null,null,null,null,null,null,null,null,null,null,null,null,null,null,null,null,null,null,"Thae Chaung (Kyaukphyu)"]
[null,null,null,null,null,null,null,null,null,null,null,null,null,null,null,null,null,null,null,null,null,null,null,null,null,null,null,null,null,null,null,null,null,null,"Thangga Yarzar Monastery"]
[null,null,null,null,null,null,null,null,null,null,null,null,null,null,null,null,null,null,null,null,null,null,null,null,null,null,null,null,null,null,null,null,null,null,"Theit Di Kar Yone Monastery"]
[null,null,null,null,null,null,null,null,null,null,null,null,null,null,null,null,null,null,null,null,null,null,null,null,null,null,null,null,null,null,null,null,null,null,"Thet Kae Pyin "]
[null,null,null,null,null,null,null,null,null,null,null,null,null,null,null,null,null,null,null,null,null,null,null,null,null,null,null,null,null,null,null,null,null,null,"Thet Kae Pyin Host Family"]
[null,null,null,null,null,null,null,null,null,null,null,null,null,null,null,null,null,null,null,null,null,null,null,null,null,null,null,null,null,null,null,null,null,null,"Thet Kay Pyin School"]
[null,null,null,null,null,null,null,null,null,null,null,null,null,null,null,null,null,null,null,null,null,null,null,null,null,null,null,null,null,null,null,null,null,null,"Thin Pone Tan"]
[null,null,null,null,null,null,null,null,null,null,null,null,null,null,null,null,null,null,null,null,null,null,null,null,null,null,null,null,null,null,null,null,null,null,"U Ye Kyaw Thu"]
[null,null,null,null,null,null,null,null,null,null,null,null,null,null,null,null,null,null,null,null,null,null,null,null,null,null,null,null,null,null,null,null,null,null,"Uwa Ya Ma"]
[null,null,null,null,null,null,null,null,null,null,null,null,null,null,null,null,null,null,null,null,null,null,null,null,null,null,null,null,null,null,null,null,null,null,"Weikzar Thaikdi Monastery"]
[null,null,null,null,null,null,null,null,null,null,null,null,null,null,null,null,null,null,null,null,null,null,null,null,null,null,null,null,null,null,null,null,null,null,"Ya Tayar Monastery"]
[null,null,null,null,null,null,null,null,null,null,null,null,null,null,null,null,null,null,null,null,null,null,null,null,null,null,null,null,null,null,null,null,null,null,"YadaNarMinDaing"]
[null,null,null,null,null,null,null,null,null,null,null,null,null,null,null,null,null,null,null,null,null,null,null,null,null,null,null,null,null,null,null,null,null,null,"Ywar Gyi"]

{"sheet":"camp","index":15,"n_rows":309,"n_cols":7,"rows_kept":309,"cut":false,"hidden":true,"merged":[]}
["State_Region","Township","TS_Pcode","Camp_Name","Camp_Pcode","Longitude","Latitude"]
["Kachin","Bhamo",null,"AD-2000 Tharthana Compound","MMR001CMP050",97.238829999999993,24.260719999999999]
["Kachin","Bhamo",null,"Kannar Yeik Thar","MMR001CMP194"]
["Kachin","Bhamo",null,"Daw Hpum Yang Ninghtawn","MMR001CMP153"]
["Kachin","Bhamo",null,"Host Families","MMR001CMP163"]
["Kachin","Bhamo",null,"Htoi San Church","MMR001CMP052",97.236919999999998,24.24766]
["Kachin","Bhamo",null,"Kannar Yeik Thar","MMR001CMP048"]
["Kachin","Bhamo",null,"Lisu Boarding-House","MMR001CMP049",97.241630000000001,24.266110000000001]
["Kachin","Bhamo",null,"Mu-yin Baptist Church","MMR001CMP051"]
["Kachin","Bhamo",null,"Nant Hlaing Church","MMR001CMP054",97.315860000000001,24.32638]
["Kachin","Bhamo",null,"Phan Khar Kone","MMR001CMP193"]
["Kachin","Bhamo",null,"Robert Church","MMR001CMP047",97.228769999999997,24.26502]
["Kachin","Bhamo",null,"Ta Gun Taing Monastery (Shwe Kyi Na)","MMR001CMP055",97.227789999999999,24.29138]
["Kachin","Bhamo",null,"Yoe Kyi Monastery","MMR001CMP053",97.240639999999999,24.24953]
["Kachin","China",null,"Chong Shang Pa","CHN001CMP017"]
["Kachin","China",null,"Da Bang Chi","CHN001CMP015"]
["Kachin","China",null,"Dingga  - Nga Nawng Pa","CHN001CMP005",97.601944000000003,23.947222]
["Kachin","China",null,"Hka Dawng Pa ","CHN001CMP006",97.528892999999997,23.930278999999999]
["Kachin","China",null,"Hpare  ","CHN001CMP012",98.475538999999998,25.751728]
["Kachin","China",null,"Hpare   (Lisu Mare)","CHN001CMP014",98.441765000000004,25.634277999999998]
["Kachin","China",null,"Jan Shi","CHN001CMP013"]
["Kachin","China",null,"La Ying","CHN001CMP001",97.742413999999997,24.205617]
["Kachin","China",null,"Lahta Masat shadaw (6)","CHN001CMP011",98.444547999999998,25.68412]
["Kachin","China",null,"Lau Shang","CHN001CMP018"]
["Kachin","China",null,"Lauhpai ","CHN001CMP004",97.631943000000007,23.90361]
["Kachin","China",null,"Lung Kawk ","CHN001CMP007",97.587219000000005,23.909165999999999]
["Kachin","China",null,"Man Hai ","CHN001CMP009"]
["Kachin","China",null,"Na Kawng  ","CHN001CMP002",97.570273999999998,23.977222000000001]
["Kachin","China",null,"Pang Wa Ten Htan","CHN001CMP010",97.792427000000004,25.161771000000002]
["Kachin","China",null,"Quen Hau Hti","CHN001CMP016"]
["Kachin","China",null,"Shinggan  (Nawng Tau)","CHN001CMP008",97.620002999999997,23.899721]
["Kachin","China",null,"Yang Lu  ","CHN001CMP003",97.624724999999998,23.888331999999998]
["Kachin","Chipwi",null,"Chipwi KBC camp","MMR001CMP042"]
["Kachin","Chipwi",null,"Gant Gwin","MMR001CMP046"]
["Kachin","Chipwi",null,"Hpare Hkyer - BP6","MMR001CMP043"]
["Kachin","Chipwi",null,"Lan Jaw ","MMR001CMP045",98.354146999999998,25.708763000000001]
["Kachin","Chipwi",null,"Lhaovao Baptist Church (LBC)","MMR001CMP195"]
["Kachin","Chipwi",null,"Women's Affairs Association Building","MMR001CMP044"]
["Kachin","Hpakan",null,"1 Ward, Sein Yadanar Company(Lon Khin)","MMR001CMP171",96.359549999999999,25.658650000000002]
["Kachin","Hpakan",null,"5 Ward Baptist Church(lon Khin)","MMR001CMP179",96.355270000000004,25.656130000000001]
["Kachin","Hpakan",null,"5 Ward RC Church(lon Khin)","MMR001CMP168",96.353070000000002,25.655819999999999]
["Kachin","Hpakan",null,"AG Church, Hmaw Si Sa","MMR001CMP176",96.345569999999995,25.635300000000001]
["Kachin","Hpakan",null,"AG Church, Maw Wan","MMR001CMP190"]
["Kachin","Hpakan",null,"Anglican Church, Hmaw Si Sar","MMR001CMP173"]
["Kachin","Hpakan",null,"Association of Christ, Nam Ma Phyit","MMR001CMP192"]
["Kachin","Hpakan",null,"Away Yar Rama Monastery, Ka Day village","MMR001CMP170",96.339870000000005,25.655989999999999]
["Kachin","Hpakan",null,"Aye Mya Tharyar Church of Christ ","MMR001CMP092"]
["Kachin","Hpakan",null,"Baptist Church, Hmaw Si Sar(Lon Khin)","MMR001CMP169",96.346469999999997,25.647649999999999]
["Kachin","Hpakan",null,"Baptist Church, Naung Hmee VT","MMR001CMP188"]
["Kachin","Hpakan",null,"Baptist Church, Sai Ra village","MMR001CMP172"]
["Kachin","Hpakan",null,"Chin Church, Seik Mu","MMR001CMP109"]
["Kachin","Hpakan",null,"Chin(Zomi) Baptist Church","MMR001CMP086"]
["Kachin","Hpakan",null,"Dhama Rakhita, Nyein Chan Tar Yar Ward(Lon Khin)","MMR001CMP174",96.354929999999996,25.643090000000001]
["Kachin","Hpakan",null,"Ei Wan Gali Asso., Ward 1, Seik Mu","MMR001CMP180"]
["Kachin","Hpakan",null,"Free Christian Asso., Ward 1, Seik Mu","MMR001CMP186"]
["Kachin","Hpakan",null,"Hlaing Naung Baptist","MMR001CMP148",96.705960000000005,25.51352]
["Kachin","Hpakan",null,"Hmaw Wan, Anglican","MMR001CMP191"]
["Kachin","Hpakan",null,"Hmaw Wan, Baptist Christian Church","MMR001CMP189"]
["Kachin","Hpakan",null,"Lisu Baptist Church, Maw Shan Vil,. Seik Mu","MMR001CMP181"]
["Kachin","Hpakan",null,"Lisu Baptist Church, Maw Wan Ward","MMR001CMP167",96.316400000000002,25.61842]
["Kachin","Hpakan",null,"Ma Mon Buddhist Monastery","MMR001CMP107"]
["Kachin","Hpakan",null,"Mashi Kahtawng Baptist  Church","MMR001CMP094"]
["Kachin","Hpakan",null,"Mashi Kahtawng Catholic Church","MMR001CMP093"]
["Kachin","Hpakan",null,"Mashi Kahtawng Evangelical Church","MMR001CMP096"]
["Kachin","Hpakan",null,"Mashi Kahtawng Municipal Dammar Yone","MMR001CMP098"]
["Kachin","Hpakan",null,"Mashi Kahtawng Myo Oo Taw Ya Monestry","MMR001CMP099"]
["Kachin","Hpakan",null,"Mashi Kahtawng Rakhine traditional group","MMR001CMP095"]
["Kachin","Hpakan",null,"Mashi Kahtawng Shan Traditional Monestry","MMR001CMP100"]
["Kachin","Hpakan",null,"Mashi Kahtawng Yaung Chi Oo Thi la shin Monestry","MMR001CMP097"]
["Kachin","Hpakan",null,"Maw Si Zar, Thiriyardanar Sein, Damma Compound, Lone Khin","MMR001CMP106",96.343350000000001,25.6447]
["Kachin","Hpakan",null,"Maw Wan, Catholic Church","MMR001CMP090"]
["Kachin","Hpakan",null,"Maw Wan, Kachin Baptist Church","MMR001CMP085"]
["Kachin","Hpakan",null,"Maw Wan, Kyauk Hlaing Gu Pagoda Compound","MMR001CMP084"]
["Kachin","Hpakan",null,"Maw Wan, Mu-yin Baptist Church","MMR001CMP091"]
["Kachin","Hpakan",null,"Maw Wan, Myo Oo Pagoda","MMR001CMP088"]
["Kachin","Hpakan",null,"May Di Ka Rama Monastery(Lon Khin)","MMR001CMP178",96.359309999999994,25.651440000000001]
["Kachin","Hpakan",null,"Muring Baptist Church, Awng Ra, Wa Ra Zut VT","MMR001CMP177",96.354159999999993,25.658670000000001]
["Kachin","Hpakan",null,"Nant Ma Hpit Catholic Church","MMR001CMP103"]
["Kachin","Hpakan",null,"Nga Pyaw Taw Baptist Nursery School ","MMR001CMP082",96.312790000000007,25.611160000000002]
["Kachin","Hpakan",null,"Nga Pyaw Taw Roman Catholic Church","MMR001CMP083",96.31326,25.611899999999999]
["Kachin","Hpakan",null,"Parami, Charity Office, MyoMa Quarter","MMR001CMP102"]
["Kachin","Hpakan",null,"Rawan Baptist Church, Maw Shan Vil., Seik Mu","MMR001CMP182",96.279200000000003,25.56551]
["Kachin","Hpakan",null,"Sa Baw Sarsana Parla Monastery","MMR001CMP108"]
["Kachin","Hpakan",null,"Sai Nai Baptish Church, Maw Shan Vil., Seki Mu","MMR001CMP183",96.353030000000004,25.668399999999998]
["Kachin","Hpakan",null,"San Kyel, Masoe Yein Monestry","MMR001CMP104"]
["Kachin","Hpakan",null,"Tar Ma Hkan Buddhist Monastery, Haung Par","MMR001CMP110"]
["Kachin","Hpakan",null,"Thiri Mingalar Manizay Yone, Myoma Quarter","MMR001CMP101"]
["Kachin","Hpakan",null,"Ward 2 Cahotlic Church, Seik Mu","MMR001CMP185",96.288250000000005,25.57921]
["Kachin","Hpakan",null,"Ward 2 Sai Taung Baptist Church, Seik Mu ","MMR001CMP184",96.286680000000004,25.577559999999998]
["Kachin","Hpakan",null,"Wrad(5) Christian Association","MMR001CMP175"]
["Kachin","Hpakan",null,"Yumar Baptist Church","MMR001CMP105"]
["Kachin","Injangyang",null,"Lawk Hkawng Ginwang","MMR001CMP146"]
["Kachin","Khaunglanhpu",null,"La Ja","MMR001CMP074"]
["Kachin","Kutkai",null,"Kone Khem Camp","MMR015CMP015"]
["Kachin","Kutkai",null,"Kutkai downtown (KBC Church)","MMR015CMP016"]
["Kachin","Kutkai",null,"Kutkai downtown (RC Church)","MMR015CMP017"]
["Kachin","Kutkai",null,"Mine Yu Lay village","MMR015CMP018"]
["Kachin","Kutkai",null,"Mungji Pa Dabang (Baptist Church)         ","MMR015CMP006"]
["Kachin","Kutkai",null,"Mungji Pa Dabang (RC Church)         ","MMR015CMP019"]
["Kachin","Kutkai",null,"Nam Hpak Ka Mare ","MMR015CMP007"]
["Kachin","Kutkai",null,"Zup Aung Camp","MMR015CMP020"]
["Kachin","Mansi",null,"Host Families","MMR001CMP196"]
["Kachin","Mansi",null,"Lung Kawk  ( Hka Hkye Zup)","MMR001CMP135",97.585667000000001,23.9055]
["Kachin","Mansi",null,"Man Wing Baptist Church","MMR001CMP133"]
["Kachin","Mansi",null,"Man Wing Catholic Church","MMR001CMP132"]
["Kachin","Mansi",null,"Man Wing Host Families","MMR001CMP134"]
["Kachin","Mansi",null,"Mansi Baptist Church","MMR001CMP066",97.291820000000001,24.129059999999999]
["Kachin","Mansi",null,"Nam Hka Mare (west of Man Wing)","MMR001CMP136"]
["Kachin","Mansi",null,"Nam Lim Pa - Scattered IDPs in forest","MMR001CMP137"]
["Kachin","Manton",null,"Mandung - Jinghpaw","MMR015CMP009"]
["Kachin","Manton",null,"Howa","MMR015CMP010"]
["Kachin","Manton",null,"Nam Hkyet","MMR015CMP011"]
["Kachin","Mogaung",null,"Kyun Taw Baptist Church ","MMR001CMP078",96.922619999999995,25.305669999999999]
["Kachin","Mogaung",null,"Mang Hawng Baptist Church","MMR001CMP077",96.942279999999997,25.296579999999999]
["Kachin","Mogaung",null,"Nat Gyi Kone Baptist Church ","MMR001CMP079",96.948740000000001,25.30442]
["Kachin","Mohnyin",null,"Nant Mun","MMR001CMP081",96.364949999999993,24.998349999999999]
["Kachin","Mohnyin",null,"Nawng Ing (Indawgyi) Baptist Church  ","MMR001CMP152"]
["Kachin","Mohnyin",null,"St. Patrick Catholic Church ","MMR001CMP080",96.367059999999995,24.764800000000001]
["Kachin","Momauk",null,"Bum Tsit Pa ","MMR001CMP129",97.609832999999995,24.002433]
["Kachin","Momauk",null,"Dum Bung ","MMR001CMP123",97.537099999999995,24.461033]
["Kachin","Momauk",null,"Hpun Lum Yang ","MMR001CMP122",97.573166999999998,24.661466999999998]
["Kachin","Momauk",null,"Je Yang Hka ","MMR001CMP121",97.568282999999994,24.688167]
["Kachin","Momauk",null,"Lana Zup Ja ","MMR001CMP128",97.625617000000005,24.056132999999999]
["Kachin","Momauk",null,"Nhkawng Pa ","MMR001CMP131",97.669366999999994,24.378167000000001]
["Kachin","Momauk",null,"Pa Kahtawng ","MMR001CMP126",97.752667000000002,24.2744]
["Kachin","Momauk",null,"Host Families","MMR001CMP197"]
["Kachin","Momauk",null,"Loi Je Baptist Church","MMR001CMP071"]
["Kachin","Momauk",null,"Loi Je Catholic Church","MMR001CMP069",97.724566999999993,24.205417000000001]
["Kachin","Momauk",null,"Loi Je Lisu Camp","MMR001CMP070",97.717133000000004,24.200433]
["Kachin","Momauk",null,"Mai Khat ","MMR001CMP064"]
["Kachin","Momauk",null,"Man Bung Catholic compound","MMR001CMP062",97.325019999999995,24.245100000000001]
["Kachin","Momauk",null,"Man Nawng ","MMR001CMP063",97.321659999999994,24.41]
["Kachin","Momauk",null,"Man Ting","MMR001CMP198"]
["Kachin","Momauk",null,"Mandalay Monestry","MMR001CMP058",97.346940000000004,24.251860000000001]
["Kachin","Momauk",null,"Momauk Baptist Church","MMR001CMP056",97.344359999999995,24.250689999999999]
["Kachin","Momauk",null,"Momauk Catholic Church (St. Patrick)","MMR001CMP057",97.346950000000007,24.25177]
["Kachin","Momauk",null,"Myo Thit ","MMR001CMP061"]
["Kachin","Momauk",null,"Ni Thaw Ka Monestry","MMR001CMP059",97.347740000000002,24.253769999999999]
["Kachin","Momauk",null,"Nyaung Na Pin ","MMR001CMP072",97.724483000000006,24.205417000000001]
["Kachin","Momauk",null,"Phar Kay/Nant Waing ","MMR001CMP065",97.429860000000005,24.630859999999998]
["Kachin","Momauk",null,"Seng Ja ","MMR001CMP073"]
["Kachin","Momauk",null,"Tarli ","MMR001CMP060"]
["Kachin","Mong Kar",null,"Hka San Camp","MMR015CMP021"]
["Kachin","Muse",null,"Munekoe Pa (Giwang) - Hka San (Mung  Go  Pa ) ","MMR015CMP012"]
["Kachin","Muse",null,"Hpai Kawng Mare","MMR015CMP022",98.115809999999996,24.08738]
["Kachin","Muse",null,"Mung Baw ","MMR015CMP005"]
["Kachin","Myitkyina",null,"Du Kahtawng Qtr. 14","MMR001CMP012",97.385101000000006,25.399795999999998]
["Kachin","Myitkyina",null,"Du Kahtawng Qtr. 4","MMR001CMP010",97.383056999999994,25.395994000000002]
["Kachin","Myitkyina",null,"Du Kahtawng Qtr. 5","MMR001CMP011",97.381195000000005,25.396363999999998]
["Kachin","Myitkyina",null,"Jan Mai Kawng Baptist Church","MMR001CMP018",97.389778000000007,25.417733999999999]
["Kachin","Myitkyina",null,"Jan Mai Kawng Catholic Church","MMR001CMP019",97.373361000000003,25.403476999999999]
["Kachin","Myitkyina",null,"Kyun Pin Thar Baptist Church","MMR001CMP013",97.405120999999994,25.365891000000001]
["Kachin","Myitkyina",null,"Le Kone Bethlehem Church","MMR001CMP015",97.409317000000001,25.362189999999998]
["Kachin","Myitkyina",null,"Le Kone Ziun Baptist Church ","MMR001CMP014",97.408919999999995,25.355983999999999]
["Kachin","Myitkyina",null,"Maliyang Baptist Church","MMR001CMP016",97.411606000000006,25.360475999999998]
["Kachin","Myitkyina",null,"Man Hkring Baptist Church","MMR001CMP008",97.418694000000002,25.428910999999999]
["Kachin","Myitkyina",null,"Maw Hpawng Hka Nan Baptist Church","MMR001CMP020",97.284729999999996,25.374020000000002]
["Kachin","Myitkyina",null,"Maw Hpawng Lhaovo Baptist Church","MMR001CMP021",97.291079999999994,25.371179999999999]
["Kachin","Myitkyina",null,"Myay Myint Baptist Church","MMR001CMP017",97.376671999999999,25.387862999999999]
["Kachin","Myitkyina",null,"Nan Kway St. John Catholic Church","MMR001CMP024",97.359380000000002,25.411770000000001]
["Kachin","Myitkyina",null,"Njang Dung Baptist Church ","MMR001CMP002",97.394547000000003,25.422194000000001]
["Kachin","Myitkyina",null,"Nong Pong Camp","MMR001CMP158"]
["Kachin","Myitkyina",null,"Pa Dauk Myaing(Pa La Na)","MMR001CMP162"]
["Kachin","Myitkyina",null,"Shatapru Sut Ngai Tawng","MMR001CMP006",97.399628000000007,25.412313000000001]
["Kachin","Myitkyina",null,"Shatapru Thida Aye Baptist Church","MMR001CMP007",97.418004999999994,25.423817]
["Kachin","Myitkyina",null,"Shwe Zet Baptist Church","MMR001CMP009",97.419403000000003,25.440928]
["Kachin","Myitkyina",null,"Tat Kone Baptist Church","MMR001CMP001",97.386718999999999,25.415482000000001]
["Kachin","Myitkyina",null,"Tat Kone COC Baptist / Tat Kone Htoi San","MMR001CMP023",97.388400000000004,25.40982]
["Kachin","Myitkyina",null,"Tat Kone Emanuel Church","MMR001CMP004",97.379272,25.401074999999999]
["Kachin","Myitkyina",null,"Tat Kone Galile Baptist Church","MMR001CMP003",97.377662999999998,25.404752999999999]
["Kachin","Myitkyina",null,"Tat Kone San Pya Baptist Church","MMR001CMP005",97.382192000000003,25.404015000000001]
["Kachin","Myitkyina",null,"Wun Tho Buddhist Monastery","MMR001CMP022",97.403407999999999,25.377545999999999]
["Kachin","Namhkan",null,"Mung Ding Pa ","MMR015CMP023"]
["Kachin","Namhkan",null,"Nam Hkam Malut Jak ","MMR015CMP002"]
["Kachin","Namhkan",null,"Nam Hkam - Nay Win Ni (Palawng)","MMR015CMP004"]
["Kachin","Namhkan",null,"Nam Hkam (KBC Jaw Wang)","MMR015CMP001"]
["Kachin","Namhkan",null,"Nam Hkam Catholic Church ( St. Thomas I)","MMR015CMP003"]
["Kachin","Namhkan",null,"Nam Hkam Catholic Church ( St. Thomas II)","MMR015CMP024"]
["Kachin","Namhkan",null,"Nam Hkawng","MMR001CMP139"]
["Kachin","Namtu",null,"Nam Tu","MMR015CMP014"]
["Kachin","Puta-O",null,"Tote Tan Ward","MMR001CMP075"]
["Kachin","Shwegu",null,"Lawk Awng Mare D. (Sinbo Area)","MMR001CMP147"]
["Kachin","Shwegu",null,"Host Families","MMR001CMP199"]
["Kachin","Shwegu",null,"Shwe Gu Baptist Church","MMR001CMP067"]
["Kachin","Shwegu",null,"Shwe Gu Catholic Church","MMR001CMP068"]
["Kachin","Waingmaw",null,"Moke Lwe Village / Hkar Shi","MMR001CMP035",97.421104,25.328987000000001]
["Kachin","Waingmaw",null,"Nawng Si Paw Village / Inn Lay","MMR001CMP034"]
["Kachin","Waingmaw",null,"Border Post 10","MMR001CMP114",97.837778,25.273333000000001]
["Kachin","Waingmaw",null,"Border Post 8","MMR001CMP113",97.915833000000006,25.220278]
["Kachin","Waingmaw",null,"Hkat Cho ","MMR001CMP028",97.408302000000006,25.324567999999999]
["Kachin","Waingmaw",null,"Hkau Shau (BP 12)","MMR001CMP115",97.807182999999995,25.200333000000001]
["Kachin","Waingmaw",null,"Laiza Market 3 / Laiza Gat","MMR001CMP117",97.551716999999996,24.746817]
["Kachin","Waingmaw",null,"Laiza Muklum Hpyen  Yen Mungshawa ni","MMR001CMP149"]
["Kachin","Waingmaw",null,"Mading Baptist Church","MMR001CMP027",97.451965000000001,25.356632000000001]
["Kachin","Waingmaw",null,"Maga Yang ","MMR001CMP119",97.715230000000005,24.980250000000002]
["Kachin","Waingmaw",null,"Maina AG Church","MMR001CMP031",97.435233999999994,25.425276]
["Kachin","Waingmaw",null,"Maina Catholic Church (St. Joseph)","MMR001CMP029",97.438450000000003,25.415900000000001]
["Kachin","Waingmaw",null,"Maina KBC (Bawng Ring)","MMR001CMP040",97.437434999999994,25.411413]
["Kachin","Waingmaw",null,"Maina Lawang Baptist Church","MMR001CMP039",97.426297000000005,25.409566000000002]
["Kachin","Waingmaw",null,"Manau Compound","MMR001CMP118",97.550267000000005,24.747966999999999]
["Kachin","Waingmaw",null,"Nawng Hee Village","MMR001CMP033",97.345039,25.351965]
["Kachin","Waingmaw",null,"Pajau / Jan Mai","MMR001CMP120",97.751389000000003,24.831944]
["Kachin","Waingmaw",null,"Post 6 Camp","MMR001CMP160",97.990555999999998,25.265277999999999]
["Kachin","Waingmaw",null,"Qtr. 2 Lhaovo Baptist Church","MMR001CMP032",97.441483000000005,25.354883999999998]
["Kachin","Waingmaw",null,"Qtr. 2 Myoma Baptist Church","MMR001CMP025",97.438271,25.351655000000001]
["Kachin","Waingmaw",null,"Qtr. 3 Mu-yin  Baptist Church","MMR001CMP030",97.437568999999996,25.346004000000001]
["Kachin","Waingmaw",null,"Qtr. 4 Monestry (Thargaya Thayett Taw)","MMR001CMP026",97.432495000000003,25.350809000000002]
["Kachin","Waingmaw",null,"Shing Jai","MMR001CMP041",98.025662999999994,25.418084]
["Kachin","Waingmaw",null,"Thargaya Lisu Baptist Church","MMR001CMP037",97.427959999999999,25.33351]
["Kachin","Waingmaw",null,"Waingmaw AG Church","MMR001CMP038",97.443702000000002,25.351241999999999]
["Kachin","Waingmaw",null,"Waingmaw Baptist Zonal Office","MMR001CMP036",97.438259000000002,25.355841999999999]
["Kachin","Waingmaw",null,"Woi Chyai ","MMR001CMP116",97.567116999999996,24.768383]
["Kachin","Waingmaw",null,"Zai Awng / Mung Ga Zup","MMR001CMP111",97.756789999999995,25.106670000000001]
["Rakhine","Minbya",null,"Paik Thay","MMR012CMP001"," 93.271642°"," 20.377523°"]
["Rakhine","Minbya",null,"Tha Dar","MMR012CMP002"," 93.257272°"," 20.392138°"]
["Rakhine","Minbya",null,"San Htoe Tan","MMR012CMP003"," 93.249670°"," 20.399020°"]
["Rakhine","Minbya",null,"Nagara Pauktaw","MMR012CMP004"," 93.258476°"," 20.554084°"]
["Rakhine","Minbya",null,"Tha Yet Oak","MMR012CMP005"," 93.258574°"," 20.587142°"]
["Rakhine","Minbya",null,"Aung Taing","MMR012CMP006"," 93.299485°"," 20.480898°"]
["Rakhine","Minbya",null,"Thay Kan","MMR012CMP007"," 93.321957°"," 20.403736°"]
["Rakhine","Minbya",null,"Sam Ba Le","MMR012CMP008"," 93.313628°"," 20.407971°"]
["Rakhine","Mrauk_U",null,"Pa Rein","MMR012CMP009"," 93.245551°"," 20.576577°"]
["Rakhine","Mrauk_U",null,"Yai Thei-Muslim","MMR012CMP010"," 93.217040°"," 20.501758°"]
["Rakhine","Mrauk_U",null,"Myat Buddha Mandine Monastery","MMR012CMP011"," 93.187996°"," 20.589569°"]
["Rakhine","Mrauk_U",null,"Raw Ma Ni Sin Oe","MMR012CMP012"," 93.239520°"," 20.616920°"]
["Rakhine","Meybon",null,"Kan Thar Htwat Wa","MMR012CMP013"," 93.373951°"," 20.041981°"]
["Rakhine","Meybon",null,"Taung Paw ","MMR012CMP014"," 93.370038°"," 20.037655°"]
["Rakhine","Pauktaw",null,"Ba Wan Chaung Wa Su","MMR012CMP015"," 93.067891°"," 20.173468°"]
["Rakhine","Pauktaw",null,"Ah Nauk Ywe","MMR012CMP016"," 92.985095°"," 20.108102°"]
["Rakhine","Pauktaw",null,"Nget Chaung","MMR012CMP017"," 93.154552°"," 20.073438°"]
["Rakhine","Pauktaw",null,"Kyein Ni Pyin","MMR012CMP018"," 93.010369°"," 20.090183°"]
["Rakhine","Pauktaw",null,"Sin Tet Maw","MMR012CMP019"," 92.993759°"," 20.064226°"]
["Rakhine","Kyauktaw",null,"Let Saung Kauk","MMR012CMP020"," 92.982676°"," 20.805734°"]
["Rakhine","Kyauktaw",null,"Taung Bwe","MMR012CMP021"," 93.000815°"," 20.929649°"]
["Rakhine","Kyauktaw",null,"Ah Lel","MMR012CMP022"," 93.003205°"," 20.921425°"]
["Rakhine","Kyauktaw",null,"Nidin","MMR012CMP023"," 92.965981°"," 20.865687°"]
["Rakhine","Kyauktaw",null,"Ah Pauk Wa ","MMR012CMP024"," 92.961841°"," 20.720213°"]
["Rakhine","Kyauktaw",null,"Ah Lel Kyun","MMR012CMP025"," 93.014350°"," 20.896740°"]
["Rakhine","Kyauktaw",null,"In Bar Yi","MMR012CMP026"," 93.009900°"," 20.696820°"]
["Rakhine","Kyauktaw",null,"Goke Pi Htaunt","MMR012CMP027"," 93.014090°"," 20.713260°"]
["Rakhine","Kyauktaw",null,"Yun Nyar","MMR012CMP028"," 92.969350°"," 20.727590°"]
["Rakhine","Kyauktaw",null,"Shwe Hlaing","MMR012CMP029"," 92.987400°"," 20.783320°"]
["Rakhine","Kyauktaw",null,"Khaung Htoke","MMR012CMP030"," 93.006498°"," 20.886998°"]
["Rakhine","Rathedaung",null,"Nyaung Pin Gyi","MMR012CMP031"," 92.786301°"," 20.336254°"]
["Rakhine","Rathedaung",null,"Ah Nauk Pyin","MMR012CMP032"," 92.780916°"," 20.399271°"]
["Rakhine","Rathedaung",null,"Koe Tan Kauk/Chein Khar Li","MMR012CMP033"," 92.650180°"," 20.432280°"]
["Rakhine","Rathedaung",null,"Ah Htet Nan Yar","MMR012CMP034"," 92.640022°"," 20.569219°"]
["Rakhine","Kyauk_Phyu",null,"Kyauk Ta Lone","MMR012CMP035"," 93.512326°"," 19.424577°"]
["Rakhine","Kyauk_Phyu",null,"Pha Yar Gyi Kwin","MMR012CMP036"," 93.552452°"," 19.421102°"]
["Rakhine","Ramree",null,"Ramree Ward 6","MMR012CMP037"," 93.857593°"," 19.088283°"]
["Rakhine","Ramree",null,"Ramree Town","MMR012CMP038","NA","NA"]
["Rakhine","Sittwe",null,"Basare","MMR012CMP039"," 92.875814°"," 20.128489°"]
["Rakhine","Sittwe",null,"Baw Du Pha","MMR012CMP040"," 92.807419°"," 20.181238°"]
["Rakhine","Sittwe",null,"Dar Pai","MMR012CMP041"," 92.827427°"," 20.168460°"]
["Rakhine","Sittwe",null,"Khaung Doke Khar ","MMR012CMP042"," 92.823167°"," 20.181778°"]
["Rakhine","Sittwe",null,"Ohn Taw Gyi 1","MMR012CMP043"," 92.798677°"," 20.187751°"]
["Rakhine","Sittwe",null,"Phwe Yar Kone","MMR012CMP044"," 92.788177°"," 20.207285°"]
["Rakhine","Sittwe",null,"Say Tha Mar Gyi","MMR012CMP045"," 92.792480°"," 20.202525°"]
["Rakhine","Sittwe",null,"Thae Chaung","MMR012CMP046"," 92.839417°"," 20.158500°"]
["Rakhine","Sittwe",null,"Thae Chaung (Kyaukphyu)","MMR012CMP047"," 92.837577°"," 20.156842°"]
["Rakhine","Sittwe",null,"Thet Kae Pyin ","MMR012CMP048"," 92.842230°"," 20.181742°"]
["Rakhine","Sittwe",null,"Hmanzi Junction","MMR012CMP049"," 92.826407°"," 20.175169°"]
["Rakhine","Sittwe",null,"Pa Lin Pyin Ywar Thit","MMR012CMP050"," 92.792959°"," 20.205295°"]
["Rakhine","Sittwe",null,"Bu May Ohn Taw","MMR012CMP051"," 92.847967°"," 20.147108°"]
["Rakhine","Sittwe",null,"Bu May Ohn Taw Shore","MMR012CMP052"," 92.848348°"," 20.133385°"]
["Rakhine","Sittwe",null,"Ma Gyi Myaing","MMR012CMP053"," 92.886890°"," 20.132695°"]
["Rakhine","Sittwe",null,"Mingan","MMR012CMP054"," 92.860599°"," 20.154343°"]
["Rakhine","Sittwe",null,"Danyawaddy Baw Lone Kwin","MMR012CMP055"," 92.889384°"," 20.135474°"]
["Rakhine","Sittwe",null,"Set Yone Su","MMR012CMP056"," 92.880320°"," 20.148584°"]
["Rakhine","Sittwe",null,"Dohn Taik Kwin","MMR012CMP057"," 92.897178°"," 20.153129°"]
["Rakhine","Sittwe",null,"Thin Pone Tan","MMR012CMP058"," 92.836861°"," 20.226865°"]
["Rakhine","Sittwe",null,"Dak Kaung Monastery","MMR012CMP059"," 92.894568°"," 20.145585°"]
["Rakhine","Sittwe",null,"Dama Set Kyar Monastery","MMR012CMP060"," 92.898398°"," 20.152559°"]
["Rakhine","Sittwe",null,"Gyit Chay Monastery","MMR012CMP061"," 92.896409°"," 20.153754°"]
["Rakhine","Sittwe",null,"Layaungwin Monastery","MMR012CMP062"," 92.896006°"," 20.154331°"]
["Rakhine","Sittwe",null,"Myo Ma Monastery","MMR012CMP063"," 92.897783°"," 20.151050°"]
["Rakhine","Sittwe",null,"Pyin Nyar Mandine Monastery","MMR012CMP064"," 92.896944°"," 20.150892°"]
["Rakhine","Sittwe",null,"Shwe Zay Ti Monastery","MMR012CMP065"," 92.894500°"," 20.146200°"]
["Rakhine","Sittwe",null,"Su Taung Pyae Monastery","MMR012CMP066"," 92.888950°"," 20.125033°"]
["Rakhine","Sittwe",null,"Theit Di Kar Yone Monastery","MMR012CMP067"," 92.896418°"," 20.152895°"]
["Rakhine","Sittwe",null,"Sin Ku Lann Monastery","MMR012CMP068"," 92.897933°"," 20.155850°"]
["Rakhine","Sittwe",null,"Ar Thaw Ka Yone Monastery","MMR012CMP069"," 92.895900°"," 20.153800°"]
["Rakhine","Sittwe",null,"Thangga Yarzar Monastery","MMR012CMP070"," 92.892432°"," 20.146041°"]
["Rakhine","Sittwe",null,"Kha Maung Taw Monastery","MMR012CMP071"," 92.894450°"," 20.147100°"]
["Rakhine","Sittwe",null,"Ma Ni Yadanar Monastery","MMR012CMP072"," 92.893904°"," 20.146673°"]
["Rakhine","Sittwe",null,"Gyit Bak Monastery","MMR012CMP073"," 92.895600°"," 20.146917°"]
["Rakhine","Sittwe",null,"Ya Tayar Monastery","MMR012CMP074"," 92.893333°"," 20.146117°"]
["Rakhine","Sittwe",null,"Weikzar Thaikdi Monastery","MMR012CMP075"," 92.896533°"," 20.154650°"]
["Rakhine","Maungdaw",null,"Maw Ya Waddy","MMR012CMP076"]
["Rakhine","Maungdaw",null,"Tha Yay Kone Baung","MMR012CMP077"," 92.429600°"," 20.729867°"]
["Rakhine","Maungdaw",null,"Kyaing Gyi","MMR012CMP078"]
["Rakhine","Maungdaw",null,"Baw Di Gone","MMR012CMP079"," 92.416264°"," 20.796128°"]
["Rakhine","Maungdaw",null,"Kin Chaung","MMR012CMP080"," 92.424139°"," 20.762731°"]
["Rakhine","Maungdaw",null,"Kan Thar Yar","MMR012CMP081"," 92.423364°"," 20.801544°"]
["Rakhine","Maungdaw",null,"Nyaung Pin Hla","MMR012CMP082"," 92.362197°"," 20.824778°"]
["Rakhine","Maungdaw",null,"Myoma Myauk","MMR012CMP083"," 92.362933°"," 20.827044°"]
["Rakhine","Maungdaw",null,"Bomu Ywa","MMR012CMP084"," 92.365794°"," 20.819958°"]
["Rakhine","Maungdaw",null,"Ywa thit Kay","MMR012CMP085"," 92.367853°"," 20.825306°"]
["Rakhine","Maungdaw",null,"Thaung Paing Nyar","MMR012CMP086"," 92.401294°"," 20.824517°"]
["Rakhine","Maungdaw",null,"Lamber Gone Nah","MMR012CMP087"," 92.426886°"," 20.717331°"]
["Rakhine","Maungdaw",null,"Du Than Dar","MMR012CMP088"," 92.443428°"," 20.714847°"]
["Rakhine","Maungdaw",null,"Alima Fara","MMR012CMP089"," 92.435075°"," 20.714533°"]
["Rakhine","Pauktaw",null,"Sin Tet Maw (Nget Chaung IDP)","MMR012CMP096","NA","NA"]
["Rakhine","Sittwe",null,"Ohn Taw Gyi 3","MMR012CMP090","92.800694°","20.190056°"]
["Rakhine","Sittwe",null,"Thet Kae Pyin Host Family","MMR012CMP091","NA","NA"]
["Rakhine","Sittwe",null,"Maw Ti Ngar (TKP west)","MMR012CMP092","NA","NA"]
["Rakhine","Sittwe",null,"Set Yone Su 3","MMR012CMP093"," 92.879139°","20.155806°"]
["Rakhine","Maungdaw",null,"Sin Thay Pyin","MMR012CMP094"," 92.338031°"," 21.066664°"]
["Rakhine","Maungdaw",null,"Ward-6","MMR012CMP095"," 92.416683°"," 20.833831°"]

{"sheet":"Definition","index":16,"n_rows":23,"n_cols":6,"rows_kept":23,"cut":false,"hidden":true,"merged":[]}
["Label","Distribution","Stock","Pipeline","Expiration (month)","NB"]
["Blanket","NFI_Blanket_Track","NFI_Blanket_Stock","NFI_Blanket_Pipeline",12,2]
["Complementary Kit","NFI_Complementary_Track","NFI_Complementary_Stock","NFI_Complementary_Pipeline",12,1]
["Hygiene Kit","NFI_Hygiene_Track","NFI_Hygiene_Stock","NFI_Hygiene_Pipeline",12,1]
["Kitchen Set","NFI_Kitchen_Track","NFI_Kitchen_Stock","NFI_Kitchen_Pipeline",12,1]
["Mosquito net","NFI_Mosquito_Track","NFI_Mosquito_Stock","NFI_Mosquito_Pipeline",12,2]
["NFI Core Kit","NFI_Core_Track","NFI_Core_Stock","NFI_Core_Pipeline",12,1]
["Sanitary Kit","NFI_Sanitary_Track","NFI_Sanitary_Stock","NFI_Sanitary_Pipeline",12,1]
["Tarpaulin","NFI_Tarpaulin_Track","NFI_Tarpaulin_Stock","NFI_Tarpaulin_Pipeline",12,1]
["Plastic Bucket","NFI_Plastic_Bucket_Track","NFI_Plastic_Bucket_Stock","NFI_Plastic_Bucket_Pipeline",12,1]
["Plastic Mat","NFI_Plastic_Mat_Track","NFI_Plastic_Mat_Stock","NFI_Plastic_Mat_Pipeline",12,1]
[]
[]
[]
[]
[]
[]
[]
[]
[]
[]
[]
["2013-08-01"]